{"text_format":"1","workbook":"xlsx","n_sheets":3,"sheets":["v přípravě a připraveno","náměty na projekční přípravu","data"],"not_rendered":{"charts":0,"images":0,"macros":1,"external_links":2,"defined_names":2,"comments":0,"pivot_tables":0},"unopened":[],"bounds":{"document_bytes":16777216,"sheet_cells":100000,"rows_first":2000,"rows_last":500,"rows_between":2000,"halvings":0,"cell_chars":16384,"cell_head_chars":4096},"cells_cut":0,"cells_raw":0,"read":"whole","date_system":"1900"}

{"sheet":"v přípravě a připraveno","index":0,"n_rows":699,"n_cols":21,"rows_kept":699,"cut":false,"hidden":false,"merged":[]}
["Název projektu","druh stavby","podkategorie","dopravní zatížení","spolufinancování","dopravní význam","technický stav","stavební stav","životní prostředí","regionální význam","jediná přístupová cesta","stav přípravy","hromadná doprava","nehodová lokalita","Výsledné hodnocení","Hodnocení s korekcí","Předpokládané náklady KSÚS (s DPH)","Předpokládaný zdroj spolufinancování","Poznámky",{"$f":"SUM(Q2:Q405)","v":30300392912.269989},"Prosím opravit a zapsat do sloupce R (starý předpokládaný zdroj spolufinancování)"]
["Rekonstrukce místní komunikace ulice Boleslavská Kosmonosy – rekonstrukce křižovatky III/2769 a MK Boleslavská","řešení bodové závady a/nebo bezpečnostního rizika (křižovatky, opěrné zdi, skalní masivy)","-",3,10,7,6,6,10,7,0,10,10,2,{"$f":"IF(B2=data!$B$2,D2*0.7+E2*0.5+F2*0.2+G2*0.8+H2+I2*0.2+J2+K2*0.3+L2+M2*0.5+N2*0.2,IF(B2=data!$B$3,D2*0.1+E2*0.4+F2*0.3+G2*0.1+H2+J2+K2*0.5+L2+M2*0.4,IF(B2=data!$B$4,D2*0.6+E2*0.8+F2*0.7+G2+H2+J2+L2+N2,IF(B2=data!$B$5,D2*0.7+E2*0.8+F2+I2*0.7+J2+L2,\"zvolte typ stavby\"))))","v":45.7},{"$f":"IF(B2=data!$B$2,(O2*10)/6.4,IF(B2=data!$B$3,(O2*10)/4.8,IF(B2=data!$B$4,(O2*10)/7.1,IF(B2=data!$B$5,(O2*10)/5.2,\"zvolte typ stavby\"))))","v":64.366197183098592},15775672]
["II/611 Kostelní Lhota - Přední Lhota","oprava a rekonstrukce","Rekonstrukce",6,0,10,6,6,10,10,0,8,10,4,{"$f":"IF(B3=data!$B$2,D3*0.7+E3*0.5+F3*0.2+G3*0.8+H3+I3*0.2+J3+K3*0.3+L3+M3*0.5+N3*0.2,IF(B3=data!$B$3,D3*0.1+E3*0.4+F3*0.3+G3*0.1+H3+J3+K3*0.5+L3+M3*0.4,IF(B3=data!$B$4,D3*0.6+E3*0.8+F3*0.7+G3+H3+J3+L3+N3,IF(B3=data!$B$5,D3*0.7+E3*0.8+F3+I3*0.7+J3+L3,\"zvolte typ stavby\"))))","v":42.8},{"$f":"IF(B3=data!$B$2,(O3*10)/6.4,IF(B3=data!$B$3,(O3*10)/4.8,IF(B3=data!$B$4,(O3*10)/7.1,IF(B3=data!$B$5,(O3*10)/5.2,\"zvolte typ stavby\"))))","v":66.875},"110  000 000,00",null,"Realizace možná až po opravě sil. II/244 (most na obj. trase)"]
["II/240 a II/101, přeložka silnic v úseku D7 - D8, II. etapa - Obchvat Kralup nad Vltavou   ","novostavba (obchvat, přeložka, propojka)","-",10,10,10,0,0,0,10,0,5,0,0,{"$f":"IF(B4=data!$B$2,D4*0.7+E4*0.5+F4*0.2+G4*0.8+H4+I4*0.2+J4+K4*0.3+L4+M4*0.5+N4*0.2,IF(B4=data!$B$3,D4*0.1+E4*0.4+F4*0.3+G4*0.1+H4+J4+K4*0.5+L4+M4*0.4,IF(B4=data!$B$4,D4*0.6+E4*0.8+F4*0.7+G4+H4+J4+L4+N4,IF(B4=data!$B$5,D4*0.7+E4*0.8+F4+I4*0.7+J4+L4,\"zvolte typ stavby\"))))","v":40},{"$f":"IF(B4=data!$B$2,(O4*10)/6.4,IF(B4=data!$B$3,(O4*10)/4.8,IF(B4=data!$B$4,(O4*10)/7.1,IF(B4=data!$B$5,(O4*10)/5.2,\"zvolte typ stavby\"))))","v":76.92307692307692},1968043000,null,null,null,"SFDI mosty"]
["II/116 Jinočany - Hlásná Třebáň, přeložka silnice","novostavba (obchvat, přeložka, propojka)","-",10,0,10,0,0,10,10,0,2,0,0,{"$f":"IF(B5=data!$B$2,D5*0.7+E5*0.5+F5*0.2+G5*0.8+H5+I5*0.2+J5+K5*0.3+L5+M5*0.5+N5*0.2,IF(B5=data!$B$3,D5*0.1+E5*0.4+F5*0.3+G5*0.1+H5+J5+K5*0.5+L5+M5*0.4,IF(B5=data!$B$4,D5*0.6+E5*0.8+F5*0.7+G5+H5+J5+L5+N5,IF(B5=data!$B$5,D5*0.7+E5*0.8+F5+I5*0.7+J5+L5,\"zvolte typ stavby\"))))","v":36},{"$f":"IF(B5=data!$B$2,(O5*10)/6.4,IF(B5=data!$B$3,(O5*10)/4.8,IF(B5=data!$B$4,(O5*10)/7.1,IF(B5=data!$B$5,(O5*10)/5.2,\"zvolte typ stavby\"))))","v":69.230769230769226},1900000000,null,null,null,"IROP 2"]
["Vestecká spojka II. etapa","novostavba (obchvat, přeložka, propojka)","-",9,10,10,0,0,0,7,0,2,0,0,{"$f":"IF(B6=data!$B$2,D6*0.7+E6*0.5+F6*0.2+G6*0.8+H6+I6*0.2+J6+K6*0.3+L6+M6*0.5+N6*0.2,IF(B6=data!$B$3,D6*0.1+E6*0.4+F6*0.3+G6*0.1+H6+J6+K6*0.5+L6+M6*0.4,IF(B6=data!$B$4,D6*0.6+E6*0.8+F6*0.7+G6+H6+J6+L6+N6,IF(B6=data!$B$5,D6*0.7+E6*0.8+F6+I6*0.7+J6+L6,\"zvolte typ stavby\"))))","v":33.299999999999997},{"$f":"IF(B6=data!$B$2,(O6*10)/6.4,IF(B6=data!$B$3,(O6*10)/4.8,IF(B6=data!$B$4,(O6*10)/7.1,IF(B6=data!$B$5,(O6*10)/5.2,\"zvolte typ stavby\"))))","v":64.038461538461533},1813714280,null,null,null,"SFDI (chybějící SOKP)"]
["II/240 a II/101, přeložka silnic v úseku D7 - D8, I. etapa - D7 MÚK Středokluky - Obchvat Kralup nad Vltavou      ","novostavba (obchvat, přeložka, propojka)","-",10,10,10,0,0,0,10,0,2,0,0,{"$f":"IF(B7=data!$B$2,D7*0.7+E7*0.5+F7*0.2+G7*0.8+H7+I7*0.2+J7+K7*0.3+L7+M7*0.5+N7*0.2,IF(B7=data!$B$3,D7*0.1+E7*0.4+F7*0.3+G7*0.1+H7+J7+K7*0.5+L7+M7*0.4,IF(B7=data!$B$4,D7*0.6+E7*0.8+F7*0.7+G7+H7+J7+L7+N7,IF(B7=data!$B$5,D7*0.7+E7*0.8+F7+I7*0.7+J7+L7,\"zvolte typ stavby\"))))","v":37},{"$f":"IF(B7=data!$B$2,(O7*10)/6.4,IF(B7=data!$B$3,(O7*10)/4.8,IF(B7=data!$B$4,(O7*10)/7.1,IF(B7=data!$B$5,(O7*10)/5.2,\"zvolte typ stavby\"))))","v":71.153846153846146},1723767000,null,null,null,"SFDI mosty"]
["II/101 Úvaly - Říčany","novostavba (obchvat, přeložka, propojka)","-",4,10,10,0,0,10,4,0,5,0,0,{"$f":"IF(B8=data!$B$2,D8*0.7+E8*0.5+F8*0.2+G8*0.8+H8+I8*0.2+J8+K8*0.3+L8+M8*0.5+N8*0.2,IF(B8=data!$B$3,D8*0.1+E8*0.4+F8*0.3+G8*0.1+H8+J8+K8*0.5+L8+M8*0.4,IF(B8=data!$B$4,D8*0.6+E8*0.8+F8*0.7+G8+H8+J8+L8+N8,IF(B8=data!$B$5,D8*0.7+E8*0.8+F8+I8*0.7+J8+L8,\"zvolte typ stavby\"))))","v":36.799999999999997},{"$f":"IF(B8=data!$B$2,(O8*10)/6.4,IF(B8=data!$B$3,(O8*10)/4.8,IF(B8=data!$B$4,(O8*10)/7.1,IF(B8=data!$B$5,(O8*10)/5.2,\"zvolte typ stavby\"))))","v":70.769230769230774},1000000000,"SFDI – UD – účelová dotace",null,null,"SFDI (chybějící SOKP)"]
["II/229 Lišany - obchvat, PD","novostavba (obchvat, přeložka, propojka)","-",4,10,10,0,0,10,4,0,5,0,0,{"$f":"IF(B9=data!$B$2,D9*0.7+E9*0.5+F9*0.2+G9*0.8+H9+I9*0.2+J9+K9*0.3+L9+M9*0.5+N9*0.2,IF(B9=data!$B$3,D9*0.1+E9*0.4+F9*0.3+G9*0.1+H9+J9+K9*0.5+L9+M9*0.4,IF(B9=data!$B$4,D9*0.6+E9*0.8+F9*0.7+G9+H9+J9+L9+N9,IF(B9=data!$B$5,D9*0.7+E9*0.8+F9+I9*0.7+J9+L9,\"zvolte typ stavby\"))))","v":36.799999999999997},{"$f":"IF(B9=data!$B$2,(O9*10)/6.4,IF(B9=data!$B$3,(O9*10)/4.8,IF(B9=data!$B$4,(O9*10)/7.1,IF(B9=data!$B$5,(O9*10)/5.2,\"zvolte typ stavby\"))))","v":70.769230769230774},600000000,null,null,null,"SFDI mosty"]
["II/272  Litol-Lysá nad Labem, 2.stavba","novostavba (obchvat, přeložka, propojka)","-",7,9,10,0,0,10,7,0,5,0,0,{"$f":"IF(B10=data!$B$2,D10*0.7+E10*0.5+F10*0.2+G10*0.8+H10+I10*0.2+J10+K10*0.3+L10+M10*0.5+N10*0.2,IF(B10=data!$B$3,D10*0.1+E10*0.4+F10*0.3+G10*0.1+H10+J10+K10*0.5+L10+M10*0.4,IF(B10=data!$B$4,D10*0.6+E10*0.8+F10*0.7+G10+H10+J10+L10+N10,IF(B10=data!$B$5,D10*0.7+E10*0.8+F10+I10*0.7+J10+L10,\"zvolte typ stavby\"))))","v":41.1},{"$f":"IF(B10=data!$B$2,(O10*10)/6.4,IF(B10=data!$B$3,(O10*10)/4.8,IF(B10=data!$B$4,(O10*10)/7.1,IF(B10=data!$B$5,(O10*10)/5.2,\"zvolte typ stavby\"))))","v":79.038461538461533},570000000,null,"V projekční přípravě (DÚR)"]
["II/240 a II/101, přeložka silnic v úseku D7 - D8, III. etapa - Obchvat Kralup nad Vltavou - D8 MÚK Úžice   ","novostavba (obchvat, přeložka, propojka)","-",10,10,10,0,0,0,10,0,2,0,0,{"$f":"IF(B11=data!$B$2,D11*0.7+E11*0.5+F11*0.2+G11*0.8+H11+I11*0.2+J11+K11*0.3+L11+M11*0.5+N11*0.2,IF(B11=data!$B$3,D11*0.1+E11*0.4+F11*0.3+G11*0.1+H11+J11+K11*0.5+L11+M11*0.4,IF(B11=data!$B$4,D11*0.6+E11*0.8+F11*0.7+G11+H11+J11+L11+N11,IF(B11=data!$B$5,D11*0.7+E11*0.8+F11+I11*0.7+J11+L11,\"zvolte typ stavby\"))))","v":37},{"$f":"IF(B11=data!$B$2,(O11*10)/6.4,IF(B11=data!$B$3,(O11*10)/4.8,IF(B11=data!$B$4,(O11*10)/7.1,IF(B11=data!$B$5,(O11*10)/5.2,\"zvolte typ stavby\"))))","v":71.153846153846146},512514000,null,"V projekční přípravě. Bylo nutné přepracování PD (zařazen do kulturních památek)"]
["II/126 – Propojení D1 se sil. I/2, II. etapa ","oprava a rekonstrukce","Rekonstrukce",4,9,10,6,6,10,10,0,10,10,10,{"$f":"IF(B12=data!$B$2,D12*0.7+E12*0.5+F12*0.2+G12*0.8+H12+I12*0.2+J12+K12*0.3+L12+M12*0.5+N12*0.2,IF(B12=data!$B$3,D12*0.1+E12*0.4+F12*0.3+G12*0.1+H12+J12+K12*0.5+L12+M12*0.4,IF(B12=data!$B$4,D12*0.6+E12*0.8+F12*0.7+G12+H12+J12+L12+N12,IF(B12=data!$B$5,D12*0.7+E12*0.8+F12+I12*0.7+J12+L12,\"zvolte typ stavby\"))))","v":49.1},{"$f":"IF(B12=data!$B$2,(O12*10)/6.4,IF(B12=data!$B$3,(O12*10)/4.8,IF(B12=data!$B$4,(O12*10)/7.1,IF(B12=data!$B$5,(O12*10)/5.2,\"zvolte typ stavby\"))))","v":76.71875},485541572.56,null,"Realizace nutná společně s 276-002 (prozatím nevydáno SP, na 276-001 ano)"]
["II/244 Přezletice, přeložka včetně napojení na dálnici D0","novostavba (obchvat, přeložka, propojka)","-",8,10,10,0,0,10,7,0,2,0,0,{"$f":"IF(B13=data!$B$2,D13*0.7+E13*0.5+F13*0.2+G13*0.8+H13+I13*0.2+J13+K13*0.3+L13+M13*0.5+N13*0.2,IF(B13=data!$B$3,D13*0.1+E13*0.4+F13*0.3+G13*0.1+H13+J13+K13*0.5+L13+M13*0.4,IF(B13=data!$B$4,D13*0.6+E13*0.8+F13*0.7+G13+H13+J13+L13+N13,IF(B13=data!$B$5,D13*0.7+E13*0.8+F13+I13*0.7+J13+L13,\"zvolte typ stavby\"))))","v":39.6},{"$f":"IF(B13=data!$B$2,(O13*10)/6.4,IF(B13=data!$B$3,(O13*10)/4.8,IF(B13=data!$B$4,(O13*10)/7.1,IF(B13=data!$B$5,(O13*10)/5.2,\"zvolte typ stavby\"))))","v":76.153846153846146},467060000,null,null,null,"SFDI (chybějící SOKP)"]
["II/101 Mstětice - Jirny - Úvaly","novostavba (obchvat, přeložka, propojka)","-",5,10,10,0,0,10,7,0,2,0,0,{"$f":"IF(B14=data!$B$2,D14*0.7+E14*0.5+F14*0.2+G14*0.8+H14+I14*0.2+J14+K14*0.3+L14+M14*0.5+N14*0.2,IF(B14=data!$B$3,D14*0.1+E14*0.4+F14*0.3+G14*0.1+H14+J14+K14*0.5+L14+M14*0.4,IF(B14=data!$B$4,D14*0.6+E14*0.8+F14*0.7+G14+H14+J14+L14+N14,IF(B14=data!$B$5,D14*0.7+E14*0.8+F14+I14*0.7+J14+L14,\"zvolte typ stavby\"))))","v":37.5},{"$f":"IF(B14=data!$B$2,(O14*10)/6.4,IF(B14=data!$B$3,(O14*10)/4.8,IF(B14=data!$B$4,(O14*10)/7.1,IF(B14=data!$B$5,(O14*10)/5.2,\"zvolte typ stavby\"))))","v":72.115384615384613},466500000,"-",null,null,"SFDI NZ 2022 - tendrovat, rezerva"]
["Severovýchodní obchvat Benešova I + II etapa","novostavba (obchvat, přeložka, propojka)","-",2,0,10,0,0,10,7,0,0,0,0,{"$f":"IF(B15=data!$B$2,D15*0.7+E15*0.5+F15*0.2+G15*0.8+H15+I15*0.2+J15+K15*0.3+L15+M15*0.5+N15*0.2,IF(B15=data!$B$3,D15*0.1+E15*0.4+F15*0.3+G15*0.1+H15+J15+K15*0.5+L15+M15*0.4,IF(B15=data!$B$4,D15*0.6+E15*0.8+F15*0.7+G15+H15+J15+L15+N15,IF(B15=data!$B$5,D15*0.7+E15*0.8+F15+I15*0.7+J15+L15,\"zvolte typ stavby\"))))","v":25.4},{"$f":"IF(B15=data!$B$2,(O15*10)/6.4,IF(B15=data!$B$3,(O15*10)/4.8,IF(B15=data!$B$4,(O15*10)/7.1,IF(B15=data!$B$5,(O15*10)/5.2,\"zvolte typ stavby\"))))","v":48.846153846153847},387200000,null,null,null,"účelová dotace SFDI (MLADOBOLESLAVSKO)"]
["II/101 Dolní Břežany – Zbraslav","oprava a rekonstrukce","Rekonstrukce",6,10,10,6,10,10,10,0,5,10,7,{"$f":"IF(B16=data!$B$2,D16*0.7+E16*0.5+F16*0.2+G16*0.8+H16+I16*0.2+J16+K16*0.3+L16+M16*0.5+N16*0.2,IF(B16=data!$B$3,D16*0.1+E16*0.4+F16*0.3+G16*0.1+H16+J16+K16*0.5+L16+M16*0.4,IF(B16=data!$B$4,D16*0.6+E16*0.8+F16*0.7+G16+H16+J16+L16+N16,IF(B16=data!$B$5,D16*0.7+E16*0.8+F16+I16*0.7+J16+L16,\"zvolte typ stavby\"))))","v":49.4},{"$f":"IF(B16=data!$B$2,(O16*10)/6.4,IF(B16=data!$B$3,(O16*10)/4.8,IF(B16=data!$B$4,(O16*10)/7.1,IF(B16=data!$B$5,(O16*10)/5.2,\"zvolte typ stavby\"))))","v":77.1875},200000000,null,"Zatím není rozpočet- projekční odhad",null,"SFDI (chybějící SOKP)"]
["II/272 Kounice, obchvat","novostavba (obchvat, přeložka, propojka)","-",4,10,10,0,0,10,4,0,2,0,0,{"$f":"IF(B17=data!$B$2,D17*0.7+E17*0.5+F17*0.2+G17*0.8+H17+I17*0.2+J17+K17*0.3+L17+M17*0.5+N17*0.2,IF(B17=data!$B$3,D17*0.1+E17*0.4+F17*0.3+G17*0.1+H17+J17+K17*0.5+L17+M17*0.4,IF(B17=data!$B$4,D17*0.6+E17*0.8+F17*0.7+G17+H17+J17+L17+N17,IF(B17=data!$B$5,D17*0.7+E17*0.8+F17+I17*0.7+J17+L17,\"zvolte typ stavby\"))))","v":33.799999999999997},{"$f":"IF(B17=data!$B$2,(O17*10)/6.4,IF(B17=data!$B$3,(O17*10)/4.8,IF(B17=data!$B$4,(O17*10)/7.1,IF(B17=data!$B$5,(O17*10)/5.2,\"zvolte typ stavby\"))))","v":65},318481000,null,null,null,"SFDI mosty"]
["II/101 Brandýs nad Labem, přeložka - I. etapa 2. část","novostavba (obchvat, přeložka, propojka)","-",8,10,10,0,0,10,7,0,5,0,0,{"$f":"IF(B18=data!$B$2,D18*0.7+E18*0.5+F18*0.2+G18*0.8+H18+I18*0.2+J18+K18*0.3+L18+M18*0.5+N18*0.2,IF(B18=data!$B$3,D18*0.1+E18*0.4+F18*0.3+G18*0.1+H18+J18+K18*0.5+L18+M18*0.4,IF(B18=data!$B$4,D18*0.6+E18*0.8+F18*0.7+G18+H18+J18+L18+N18,IF(B18=data!$B$5,D18*0.7+E18*0.8+F18+I18*0.7+J18+L18,\"zvolte typ stavby\"))))","v":42.6},{"$f":"IF(B18=data!$B$2,(O18*10)/6.4,IF(B18=data!$B$3,(O18*10)/4.8,IF(B18=data!$B$4,(O18*10)/7.1,IF(B18=data!$B$5,(O18*10)/5.2,\"zvolte typ stavby\"))))","v":81.92307692307692},300000000,"-",null,null,"SFDI mosty"]
["II/229 Rakovník, obchvat, část B1, PD","novostavba (obchvat, přeložka, propojka)","-",5,10,10,0,0,10,7,0,2,0,0,{"$f":"IF(B19=data!$B$2,D19*0.7+E19*0.5+F19*0.2+G19*0.8+H19+I19*0.2+J19+K19*0.3+L19+M19*0.5+N19*0.2,IF(B19=data!$B$3,D19*0.1+E19*0.4+F19*0.3+G19*0.1+H19+J19+K19*0.5+L19+M19*0.4,IF(B19=data!$B$4,D19*0.6+E19*0.8+F19*0.7+G19+H19+J19+L19+N19,IF(B19=data!$B$5,D19*0.7+E19*0.8+F19+I19*0.7+J19+L19,\"zvolte typ stavby\"))))","v":37.5},{"$f":"IF(B19=data!$B$2,(O19*10)/6.4,IF(B19=data!$B$3,(O19*10)/4.8,IF(B19=data!$B$4,(O19*10)/7.1,IF(B19=data!$B$5,(O19*10)/5.2,\"zvolte typ stavby\"))))","v":72.115384615384613},290000000,null,null,null,"SFDI NZ 2022 - tendrovat, rezerva"]
["II/229 Rakovník připojení na II/237 (obchvat města, trasa B3), PD","novostavba (obchvat, přeložka, propojka)","-",5,10,10,0,0,10,7,0,5,0,0,{"$f":"IF(B20=data!$B$2,D20*0.7+E20*0.5+F20*0.2+G20*0.8+H20+I20*0.2+J20+K20*0.3+L20+M20*0.5+N20*0.2,IF(B20=data!$B$3,D20*0.1+E20*0.4+F20*0.3+G20*0.1+H20+J20+K20*0.5+L20+M20*0.4,IF(B20=data!$B$4,D20*0.6+E20*0.8+F20*0.7+G20+H20+J20+L20+N20,IF(B20=data!$B$5,D20*0.7+E20*0.8+F20+I20*0.7+J20+L20,\"zvolte typ stavby\"))))","v":40.5},{"$f":"IF(B20=data!$B$2,(O20*10)/6.4,IF(B20=data!$B$3,(O20*10)/4.8,IF(B20=data!$B$4,(O20*10)/7.1,IF(B20=data!$B$5,(O20*10)/5.2,\"zvolte typ stavby\"))))","v":77.884615384615387},274240000,null,null,null,"SFDI NZ 2022 - tendrovat (vytendrován zhotovitel i TDS)"]
["II/603 Jesenice, obchvat","novostavba (obchvat, přeložka, propojka)","-",7,10,10,0,0,10,7,0,2,0,0,{"$f":"IF(B21=data!$B$2,D21*0.7+E21*0.5+F21*0.2+G21*0.8+H21+I21*0.2+J21+K21*0.3+L21+M21*0.5+N21*0.2,IF(B21=data!$B$3,D21*0.1+E21*0.4+F21*0.3+G21*0.1+H21+J21+K21*0.5+L21+M21*0.4,IF(B21=data!$B$4,D21*0.6+E21*0.8+F21*0.7+G21+H21+J21+L21+N21,IF(B21=data!$B$5,D21*0.7+E21*0.8+F21+I21*0.7+J21+L21,\"zvolte typ stavby\"))))","v":38.9},{"$f":"IF(B21=data!$B$2,(O21*10)/6.4,IF(B21=data!$B$3,(O21*10)/4.8,IF(B21=data!$B$4,(O21*10)/7.1,IF(B21=data!$B$5,(O21*10)/5.2,\"zvolte typ stavby\"))))","v":74.807692307692307},271898000,null,null,null,"SFDI NZ 2022 - tendrovat"]
["II/111 Divišov obchvat, PD","novostavba (obchvat, přeložka, propojka)","-",4,10,10,0,0,10,4,0,2,0,0,{"$f":"IF(B22=data!$B$2,D22*0.7+E22*0.5+F22*0.2+G22*0.8+H22+I22*0.2+J22+K22*0.3+L22+M22*0.5+N22*0.2,IF(B22=data!$B$3,D22*0.1+E22*0.4+F22*0.3+G22*0.1+H22+J22+K22*0.5+L22+M22*0.4,IF(B22=data!$B$4,D22*0.6+E22*0.8+F22*0.7+G22+H22+J22+L22+N22,IF(B22=data!$B$5,D22*0.7+E22*0.8+F22+I22*0.7+J22+L22,\"zvolte typ stavby\"))))","v":33.799999999999997},{"$f":"IF(B22=data!$B$2,(O22*10)/6.4,IF(B22=data!$B$3,(O22*10)/4.8,IF(B22=data!$B$4,(O22*10)/7.1,IF(B22=data!$B$5,(O22*10)/5.2,\"zvolte typ stavby\"))))","v":65},335000000,null,null,null,"SFDI mosty"]
["II/110 Benešov - Ostředek II.tepa","oprava a rekonstrukce","Rekonstrukce",4,10,10,3,10,10,7,0,5,10,4,{"$f":"IF(B23=data!$B$2,D23*0.7+E23*0.5+F23*0.2+G23*0.8+H23+I23*0.2+J23+K23*0.3+L23+M23*0.5+N23*0.2,IF(B23=data!$B$3,D23*0.1+E23*0.4+F23*0.3+G23*0.1+H23+J23+K23*0.5+L23+M23*0.4,IF(B23=data!$B$4,D23*0.6+E23*0.8+F23*0.7+G23+H23+J23+L23+N23,IF(B23=data!$B$5,D23*0.7+E23*0.8+F23+I23*0.7+J23+L23,\"zvolte typ stavby\"))))","v":42},{"$f":"IF(B23=data!$B$2,(O23*10)/6.4,IF(B23=data!$B$3,(O23*10)/4.8,IF(B23=data!$B$4,(O23*10)/7.1,IF(B23=data!$B$5,(O23*10)/5.2,\"zvolte typ stavby\"))))","v":65.625},45000000]
["II/110 Benešov - Ostředek I.tepa","oprava a rekonstrukce","Rekonstrukce",3,10,10,3,10,10,7,0,5,10,10,{"$f":"IF(B24=data!$B$2,D24*0.7+E24*0.5+F24*0.2+G24*0.8+H24+I24*0.2+J24+K24*0.3+L24+M24*0.5+N24*0.2,IF(B24=data!$B$3,D24*0.1+E24*0.4+F24*0.3+G24*0.1+H24+J24+K24*0.5+L24+M24*0.4,IF(B24=data!$B$4,D24*0.6+E24*0.8+F24*0.7+G24+H24+J24+L24+N24,IF(B24=data!$B$5,D24*0.7+E24*0.8+F24+I24*0.7+J24+L24,\"zvolte typ stavby\"))))","v":42.5},{"$f":"IF(B24=data!$B$2,(O24*10)/6.4,IF(B24=data!$B$3,(O24*10)/4.8,IF(B24=data!$B$4,(O24*10)/7.1,IF(B24=data!$B$5,(O24*10)/5.2,\"zvolte typ stavby\"))))","v":66.40625},160000000,null,null,null,"SFDI mosty"]
["II/244 Měšice I/9 – Byšice I/16 II. etapa","oprava a rekonstrukce","Rekonstrukce",5,10,10,6,10,10,7,0,5,10,10,{"$f":"IF(B25=data!$B$2,D25*0.7+E25*0.5+F25*0.2+G25*0.8+H25+I25*0.2+J25+K25*0.3+L25+M25*0.5+N25*0.2,IF(B25=data!$B$3,D25*0.1+E25*0.4+F25*0.3+G25*0.1+H25+J25+K25*0.5+L25+M25*0.4,IF(B25=data!$B$4,D25*0.6+E25*0.8+F25*0.7+G25+H25+J25+L25+N25,IF(B25=data!$B$5,D25*0.7+E25*0.8+F25+I25*0.7+J25+L25,\"zvolte typ stavby\"))))","v":46.3},{"$f":"IF(B25=data!$B$2,(O25*10)/6.4,IF(B25=data!$B$3,(O25*10)/4.8,IF(B25=data!$B$4,(O25*10)/7.1,IF(B25=data!$B$5,(O25*10)/5.2,\"zvolte typ stavby\"))))","v":72.34375},354530000,null,null,null,"SFDI mosty"]
["II/114 - II/117 Hořovice, východní obchvat, PD","novostavba (obchvat, přeložka, propojka)","-",5,10,10,0,0,10,7,0,8,0,0,{"$f":"IF(B26=data!$B$2,D26*0.7+E26*0.5+F26*0.2+G26*0.8+H26+I26*0.2+J26+K26*0.3+L26+M26*0.5+N26*0.2,IF(B26=data!$B$3,D26*0.1+E26*0.4+F26*0.3+G26*0.1+H26+J26+K26*0.5+L26+M26*0.4,IF(B26=data!$B$4,D26*0.6+E26*0.8+F26*0.7+G26+H26+J26+L26+N26,IF(B26=data!$B$5,D26*0.7+E26*0.8+F26+I26*0.7+J26+L26,\"zvolte typ stavby\"))))","v":43.5},{"$f":"IF(B26=data!$B$2,(O26*10)/6.4,IF(B26=data!$B$3,(O26*10)/4.8,IF(B26=data!$B$4,(O26*10)/7.1,IF(B26=data!$B$5,(O26*10)/5.2,\"zvolte typ stavby\"))))","v":83.653846153846146},235000000,null,null,null,"SFDI mosty"]
["II/101 Drahelčice obchvat, připojení ze sjezdu z D5","novostavba (obchvat, přeložka, propojka)","-",5,10,10,0,0,10,10,0,5,0,0,{"$f":"IF(B27=data!$B$2,D27*0.7+E27*0.5+F27*0.2+G27*0.8+H27+I27*0.2+J27+K27*0.3+L27+M27*0.5+N27*0.2,IF(B27=data!$B$3,D27*0.1+E27*0.4+F27*0.3+G27*0.1+H27+J27+K27*0.5+L27+M27*0.4,IF(B27=data!$B$4,D27*0.6+E27*0.8+F27*0.7+G27+H27+J27+L27+N27,IF(B27=data!$B$5,D27*0.7+E27*0.8+F27+I27*0.7+J27+L27,\"zvolte typ stavby\"))))","v":43.5},{"$f":"IF(B27=data!$B$2,(O27*10)/6.4,IF(B27=data!$B$3,(O27*10)/4.8,IF(B27=data!$B$4,(O27*10)/7.1,IF(B27=data!$B$5,(O27*10)/5.2,\"zvolte typ stavby\"))))","v":83.653846153846146},240000000,null,null,null,"SFDI mosty"]
["II/228 Jesenice - Rakovník, rekonstrukce - PD","oprava a rekonstrukce","Rekonstrukce",4,10,10,6,10,10,7,0,8,10,10,{"$f":"IF(B28=data!$B$2,D28*0.7+E28*0.5+F28*0.2+G28*0.8+H28+I28*0.2+J28+K28*0.3+L28+M28*0.5+N28*0.2,IF(B28=data!$B$3,D28*0.1+E28*0.4+F28*0.3+G28*0.1+H28+J28+K28*0.5+L28+M28*0.4,IF(B28=data!$B$4,D28*0.6+E28*0.8+F28*0.7+G28+H28+J28+L28+N28,IF(B28=data!$B$5,D28*0.7+E28*0.8+F28+I28*0.7+J28+L28,\"zvolte typ stavby\"))))","v":48.6},{"$f":"IF(B28=data!$B$2,(O28*10)/6.4,IF(B28=data!$B$3,(O28*10)/4.8,IF(B28=data!$B$4,(O28*10)/7.1,IF(B28=data!$B$5,(O28*10)/5.2,\"zvolte typ stavby\"))))","v":75.9375},215000000,null,null,null,"SFDI mosty"]
["II/118 Hluboš – hr. Okr. Příbram a Lochovice – Rejkovice","oprava a rekonstrukce","Rekonstrukce",4,10,10,3,3,10,10,0,2,10,2,{"$f":"IF(B29=data!$B$2,D29*0.7+E29*0.5+F29*0.2+G29*0.8+H29+I29*0.2+J29+K29*0.3+L29+M29*0.5+N29*0.2,IF(B29=data!$B$3,D29*0.1+E29*0.4+F29*0.3+G29*0.1+H29+J29+K29*0.5+L29+M29*0.4,IF(B29=data!$B$4,D29*0.6+E29*0.8+F29*0.7+G29+H29+J29+L29+N29,IF(B29=data!$B$5,D29*0.7+E29*0.8+F29+I29*0.7+J29+L29,\"zvolte typ stavby\"))))","v":34.6},{"$f":"IF(B29=data!$B$2,(O29*10)/6.4,IF(B29=data!$B$3,(O29*10)/4.8,IF(B29=data!$B$4,(O29*10)/7.1,IF(B29=data!$B$5,(O29*10)/5.2,\"zvolte typ stavby\"))))","v":54.0625},205700000,null,null,null,"SFDI"]
["II/608 – rekonstrukce silnice II. etapa","oprava a rekonstrukce","Rekonstrukce",5,10,10,6,6,10,10,0,5,10,10,{"$f":"IF(B30=data!$B$2,D30*0.7+E30*0.5+F30*0.2+G30*0.8+H30+I30*0.2+J30+K30*0.3+L30+M30*0.5+N30*0.2,IF(B30=data!$B$3,D30*0.1+E30*0.4+F30*0.3+G30*0.1+H30+J30+K30*0.5+L30+M30*0.4,IF(B30=data!$B$4,D30*0.6+E30*0.8+F30*0.7+G30+H30+J30+L30+N30,IF(B30=data!$B$5,D30*0.7+E30*0.8+F30+I30*0.7+J30+L30,\"zvolte typ stavby\"))))","v":45.3},{"$f":"IF(B30=data!$B$2,(O30*10)/6.4,IF(B30=data!$B$3,(O30*10)/4.8,IF(B30=data!$B$4,(O30*10)/7.1,IF(B30=data!$B$5,(O30*10)/5.2,\"zvolte typ stavby\"))))","v":70.78125},202500000]
["II/240 Velvary, obchvat","novostavba (obchvat, přeložka, propojka)","-",3,9,10,0,0,10,4,0,2,0,0,{"$f":"IF(B31=data!$B$2,D31*0.7+E31*0.5+F31*0.2+G31*0.8+H31+I31*0.2+J31+K31*0.3+L31+M31*0.5+N31*0.2,IF(B31=data!$B$3,D31*0.1+E31*0.4+F31*0.3+G31*0.1+H31+J31+K31*0.5+L31+M31*0.4,IF(B31=data!$B$4,D31*0.6+E31*0.8+F31*0.7+G31+H31+J31+L31+N31,IF(B31=data!$B$5,D31*0.7+E31*0.8+F31+I31*0.7+J31+L31,\"zvolte typ stavby\"))))","v":32.299999999999997},{"$f":"IF(B31=data!$B$2,(O31*10)/6.4,IF(B31=data!$B$3,(O31*10)/4.8,IF(B31=data!$B$4,(O31*10)/7.1,IF(B31=data!$B$5,(O31*10)/5.2,\"zvolte typ stavby\"))))","v":62.115384615384613},200000000,"-",null,null,"SFDI NZ 2022 - tendrovat (bude vypsán nový tendr)"]
["II/101 Brandýs nad Labem, přeložka - II.etapa","novostavba (obchvat, přeložka, propojka)","-",7,9,10,0,0,10,7,0,5,0,0,{"$f":"IF(B32=data!$B$2,D32*0.7+E32*0.5+F32*0.2+G32*0.8+H32+I32*0.2+J32+K32*0.3+L32+M32*0.5+N32*0.2,IF(B32=data!$B$3,D32*0.1+E32*0.4+F32*0.3+G32*0.1+H32+J32+K32*0.5+L32+M32*0.4,IF(B32=data!$B$4,D32*0.6+E32*0.8+F32*0.7+G32+H32+J32+L32+N32,IF(B32=data!$B$5,D32*0.7+E32*0.8+F32+I32*0.7+J32+L32,\"zvolte typ stavby\"))))","v":41.1},{"$f":"IF(B32=data!$B$2,(O32*10)/6.4,IF(B32=data!$B$3,(O32*10)/4.8,IF(B32=data!$B$4,(O32*10)/7.1,IF(B32=data!$B$5,(O32*10)/5.2,\"zvolte typ stavby\"))))","v":79.038461538461533},200000000,"-",null,null,"účelová dotace SFDI (MLADOBOLESLAVSKO)"]
["II/261 a III/26124 Liběchov - hr. Kraje","oprava a rekonstrukce","Rekonstrukce",4,10,10,6,10,10,4,10,8,10,10,{"$f":"IF(B33=data!$B$2,D33*0.7+E33*0.5+F33*0.2+G33*0.8+H33+I33*0.2+J33+K33*0.3+L33+M33*0.5+N33*0.2,IF(B33=data!$B$3,D33*0.1+E33*0.4+F33*0.3+G33*0.1+H33+J33+K33*0.5+L33+M33*0.4,IF(B33=data!$B$4,D33*0.6+E33*0.8+F33*0.7+G33+H33+J33+L33+N33,IF(B33=data!$B$5,D33*0.7+E33*0.8+F33+I33*0.7+J33+L33,\"zvolte typ stavby\"))))","v":48.6},{"$f":"IF(B33=data!$B$2,(O33*10)/6.4,IF(B33=data!$B$3,(O33*10)/4.8,IF(B33=data!$B$4,(O33*10)/7.1,IF(B33=data!$B$5,(O33*10)/5.2,\"zvolte typ stavby\"))))","v":75.9375},195000000,null,null,null,"SFDI mosty"]
["II/245 Čelákovice, obchvat ","novostavba (obchvat, přeložka, propojka)","-",4,9,10,0,0,10,7,0,5,0,0,{"$f":"IF(B34=data!$B$2,D34*0.7+E34*0.5+F34*0.2+G34*0.8+H34+I34*0.2+J34+K34*0.3+L34+M34*0.5+N34*0.2,IF(B34=data!$B$3,D34*0.1+E34*0.4+F34*0.3+G34*0.1+H34+J34+K34*0.5+L34+M34*0.4,IF(B34=data!$B$4,D34*0.6+E34*0.8+F34*0.7+G34+H34+J34+L34+N34,IF(B34=data!$B$5,D34*0.7+E34*0.8+F34+I34*0.7+J34+L34,\"zvolte typ stavby\"))))","v":39},{"$f":"IF(B34=data!$B$2,(O34*10)/6.4,IF(B34=data!$B$3,(O34*10)/4.8,IF(B34=data!$B$4,(O34*10)/7.1,IF(B34=data!$B$5,(O34*10)/5.2,\"zvolte typ stavby\"))))","v":75},190000000,"SFDI – UD – účelová dotace",null,null,"SFDI mosty"]
["II/331 Sojovice, obchvat","novostavba (obchvat, přeložka, propojka)","-",3,10,10,0,0,10,4,0,2,0,0,{"$f":"IF(B35=data!$B$2,D35*0.7+E35*0.5+F35*0.2+G35*0.8+H35+I35*0.2+J35+K35*0.3+L35+M35*0.5+N35*0.2,IF(B35=data!$B$3,D35*0.1+E35*0.4+F35*0.3+G35*0.1+H35+J35+K35*0.5+L35+M35*0.4,IF(B35=data!$B$4,D35*0.6+E35*0.8+F35*0.7+G35+H35+J35+L35+N35,IF(B35=data!$B$5,D35*0.7+E35*0.8+F35+I35*0.7+J35+L35,\"zvolte typ stavby\"))))","v":33.1},{"$f":"IF(B35=data!$B$2,(O35*10)/6.4,IF(B35=data!$B$3,(O35*10)/4.8,IF(B35=data!$B$4,(O35*10)/7.1,IF(B35=data!$B$5,(O35*10)/5.2,\"zvolte typ stavby\"))))","v":63.653846153846153},176000000,null,null,null,"SFDI mosty"]
["Velké Přílepy, obchvat","novostavba (obchvat, přeložka, propojka)","-",5,10,10,0,0,10,4,0,2,0,0,{"$f":"IF(B36=data!$B$2,D36*0.7+E36*0.5+F36*0.2+G36*0.8+H36+I36*0.2+J36+K36*0.3+L36+M36*0.5+N36*0.2,IF(B36=data!$B$3,D36*0.1+E36*0.4+F36*0.3+G36*0.1+H36+J36+K36*0.5+L36+M36*0.4,IF(B36=data!$B$4,D36*0.6+E36*0.8+F36*0.7+G36+H36+J36+L36+N36,IF(B36=data!$B$5,D36*0.7+E36*0.8+F36+I36*0.7+J36+L36,\"zvolte typ stavby\"))))","v":34.5},{"$f":"IF(B36=data!$B$2,(O36*10)/6.4,IF(B36=data!$B$3,(O36*10)/4.8,IF(B36=data!$B$4,(O36*10)/7.1,IF(B36=data!$B$5,(O36*10)/5.2,\"zvolte typ stavby\"))))","v":66.34615384615384},102440000,null,null,null,"SFDI NZ 2022 - tendrovat"]
["II/610 Kosmonosy, obchvat - III. etapa ","novostavba (obchvat, přeložka, propojka)","-",4,10,10,0,0,10,4,0,2,0,0,{"$f":"IF(B37=data!$B$2,D37*0.7+E37*0.5+F37*0.2+G37*0.8+H37+I37*0.2+J37+K37*0.3+L37+M37*0.5+N37*0.2,IF(B37=data!$B$3,D37*0.1+E37*0.4+F37*0.3+G37*0.1+H37+J37+K37*0.5+L37+M37*0.4,IF(B37=data!$B$4,D37*0.6+E37*0.8+F37*0.7+G37+H37+J37+L37+N37,IF(B37=data!$B$5,D37*0.7+E37*0.8+F37+I37*0.7+J37+L37,\"zvolte typ stavby\"))))","v":33.799999999999997},{"$f":"IF(B37=data!$B$2,(O37*10)/6.4,IF(B37=data!$B$3,(O37*10)/4.8,IF(B37=data!$B$4,(O37*10)/7.1,IF(B37=data!$B$5,(O37*10)/5.2,\"zvolte typ stavby\"))))","v":65},159720000,null,null,null,"SFDI mosty"]
["II/111 Struhařov - Divišov","oprava a rekonstrukce","Rekonstrukce",4,10,10,10,10,10,7,0,2,10,10,{"$f":"IF(B38=data!$B$2,D38*0.7+E38*0.5+F38*0.2+G38*0.8+H38+I38*0.2+J38+K38*0.3+L38+M38*0.5+N38*0.2,IF(B38=data!$B$3,D38*0.1+E38*0.4+F38*0.3+G38*0.1+H38+J38+K38*0.5+L38+M38*0.4,IF(B38=data!$B$4,D38*0.6+E38*0.8+F38*0.7+G38+H38+J38+L38+N38,IF(B38=data!$B$5,D38*0.7+E38*0.8+F38+I38*0.7+J38+L38,\"zvolte typ stavby\"))))","v":45.8},{"$f":"IF(B38=data!$B$2,(O38*10)/6.4,IF(B38=data!$B$3,(O38*10)/4.8,IF(B38=data!$B$4,(O38*10)/7.1,IF(B38=data!$B$5,(O38*10)/5.2,\"zvolte typ stavby\"))))","v":71.5625},159720000,null,null,null,"SFDI mosty"]
["II/113 Divišov - Vlašim","oprava a rekonstrukce","Rekonstrukce",4,10,10,6,6,10,7,0,10,10,10,{"$f":"IF(B39=data!$B$2,D39*0.7+E39*0.5+F39*0.2+G39*0.8+H39+I39*0.2+J39+K39*0.3+L39+M39*0.5+N39*0.2,IF(B39=data!$B$3,D39*0.1+E39*0.4+F39*0.3+G39*0.1+H39+J39+K39*0.5+L39+M39*0.4,IF(B39=data!$B$4,D39*0.6+E39*0.8+F39*0.7+G39+H39+J39+L39+N39,IF(B39=data!$B$5,D39*0.7+E39*0.8+F39+I39*0.7+J39+L39,\"zvolte typ stavby\"))))","v":46.6},{"$f":"IF(B39=data!$B$2,(O39*10)/6.4,IF(B39=data!$B$3,(O39*10)/4.8,IF(B39=data!$B$4,(O39*10)/7.1,IF(B39=data!$B$5,(O39*10)/5.2,\"zvolte typ stavby\"))))","v":72.8125},163700423.13999999,null,null,null,"SFDI NZ 2022 - tendrovat"]
["Netvořice, obchvat","novostavba (obchvat, přeložka, propojka)",null,5,10,7,0,0,10,7,0,2,0,0,{"$f":"IF(B40=data!$B$2,D40*0.7+E40*0.5+F40*0.2+G40*0.8+H40+I40*0.2+J40+K40*0.3+L40+M40*0.5+N40*0.2,IF(B40=data!$B$3,D40*0.1+E40*0.4+F40*0.3+G40*0.1+H40+J40+K40*0.5+L40+M40*0.4,IF(B40=data!$B$4,D40*0.6+E40*0.8+F40*0.7+G40+H40+J40+L40+N40,IF(B40=data!$B$5,D40*0.7+E40*0.8+F40+I40*0.7+J40+L40,\"zvolte typ stavby\"))))","v":34.5},{"$f":"IF(B40=data!$B$2,(O40*10)/6.4,IF(B40=data!$B$3,(O40*10)/4.8,IF(B40=data!$B$4,(O40*10)/7.1,IF(B40=data!$B$5,(O40*10)/5.2,\"zvolte typ stavby\"))))","v":66.34615384615384},95000000,null,null,null,"SFDI NZ 2022 - tendrovat"]
["III/0031 Dolní Břežany - obchvat","novostavba (obchvat, přeložka, propojka)",null,5,10,7,0,0,10,10,0,2,0,0,{"$f":"IF(B41=data!$B$2,D41*0.7+E41*0.5+F41*0.2+G41*0.8+H41+I41*0.2+J41+K41*0.3+L41+M41*0.5+N41*0.2,IF(B41=data!$B$3,D41*0.1+E41*0.4+F41*0.3+G41*0.1+H41+J41+K41*0.5+L41+M41*0.4,IF(B41=data!$B$4,D41*0.6+E41*0.8+F41*0.7+G41+H41+J41+L41+N41,IF(B41=data!$B$5,D41*0.7+E41*0.8+F41+I41*0.7+J41+L41,\"zvolte typ stavby\"))))","v":37.5},{"$f":"IF(B41=data!$B$2,(O41*10)/6.4,IF(B41=data!$B$3,(O41*10)/4.8,IF(B41=data!$B$4,(O41*10)/7.1,IF(B41=data!$B$5,(O41*10)/5.2,\"zvolte typ stavby\"))))","v":72.115384615384613},120000000,null,null,null,"SFDI NZ 2022 - tendrovat"]
["II/611 Nehvizdy, obchvat","novostavba (obchvat, přeložka, propojka)","-",6,10,10,0,0,10,7,0,5,0,0,{"$f":"IF(B42=data!$B$2,D42*0.7+E42*0.5+F42*0.2+G42*0.8+H42+I42*0.2+J42+K42*0.3+L42+M42*0.5+N42*0.2,IF(B42=data!$B$3,D42*0.1+E42*0.4+F42*0.3+G42*0.1+H42+J42+K42*0.5+L42+M42*0.4,IF(B42=data!$B$4,D42*0.6+E42*0.8+F42*0.7+G42+H42+J42+L42+N42,IF(B42=data!$B$5,D42*0.7+E42*0.8+F42+I42*0.7+J42+L42,\"zvolte typ stavby\"))))","v":41.2},{"$f":"IF(B42=data!$B$2,(O42*10)/6.4,IF(B42=data!$B$3,(O42*10)/4.8,IF(B42=data!$B$4,(O42*10)/7.1,IF(B42=data!$B$5,(O42*10)/5.2,\"zvolte typ stavby\"))))","v":79.230769230769226},150000000,null,null,null,"SFDI mosty"]
["Beroun obchvat - V. etapa nové autobusové nádraží - sjezd na D5 exit 14","novostavba (obchvat, přeložka, propojka)","-",4,10,10,0,0,10,7,0,5,0,0,{"$f":"IF(B43=data!$B$2,D43*0.7+E43*0.5+F43*0.2+G43*0.8+H43+I43*0.2+J43+K43*0.3+L43+M43*0.5+N43*0.2,IF(B43=data!$B$3,D43*0.1+E43*0.4+F43*0.3+G43*0.1+H43+J43+K43*0.5+L43+M43*0.4,IF(B43=data!$B$4,D43*0.6+E43*0.8+F43*0.7+G43+H43+J43+L43+N43,IF(B43=data!$B$5,D43*0.7+E43*0.8+F43+I43*0.7+J43+L43,\"zvolte typ stavby\"))))","v":39.799999999999997},{"$f":"IF(B43=data!$B$2,(O43*10)/6.4,IF(B43=data!$B$3,(O43*10)/4.8,IF(B43=data!$B$4,(O43*10)/7.1,IF(B43=data!$B$5,(O43*10)/5.2,\"zvolte typ stavby\"))))","v":76.538461538461533},150000000,null,null,null,"SFDI mosty"]
["II/503 Nymburk, mosty ev.č. 503-004 přes Labe","mostní objekty a propustky","Most",8,10,10,6,6,10,10,0,5,10,0,{"$f":"IF(B44=data!$B$2,D44*0.7+E44*0.5+F44*0.2+G44*0.8+H44+I44*0.2+J44+K44*0.3+L44+M44*0.5+N44*0.2,IF(B44=data!$B$3,D44*0.1+E44*0.4+F44*0.3+G44*0.1+H44+J44+K44*0.5+L44+M44*0.4,IF(B44=data!$B$4,D44*0.6+E44*0.8+F44*0.7+G44+H44+J44+L44+N44,IF(B44=data!$B$5,D44*0.7+E44*0.8+F44+I44*0.7+J44+L44,\"zvolte typ stavby\"))))","v":33.4},{"$f":"IF(B44=data!$B$2,(O44*10)/6.4,IF(B44=data!$B$3,(O44*10)/4.8,IF(B44=data!$B$4,(O44*10)/7.1,IF(B44=data!$B$5,(O44*10)/5.2,\"zvolte typ stavby\"))))","v":69.583333333333343},147200000,null,"Předpokládaný termmín realizace 06/2023-06/2025",null,"SFDI ( Nymburk)"]
["II/110 Ostředek - Sázava etapa 2","oprava a rekonstrukce","Rekonstrukce",3,10,10,3,10,1,4,10,2,0,10,{"$f":"IF(B45=data!$B$2,D45*0.7+E45*0.5+F45*0.2+G45*0.8+H45+I45*0.2+J45+K45*0.3+L45+M45*0.5+N45*0.2,IF(B45=data!$B$3,D45*0.1+E45*0.4+F45*0.3+G45*0.1+H45+J45+K45*0.5+L45+M45*0.4,IF(B45=data!$B$4,D45*0.6+E45*0.8+F45*0.7+G45+H45+J45+L45+N45,IF(B45=data!$B$5,D45*0.7+E45*0.8+F45+I45*0.7+J45+L45,\"zvolte typ stavby\"))))","v":32.700000000000003},{"$f":"IF(B45=data!$B$2,(O45*10)/6.4,IF(B45=data!$B$3,(O45*10)/4.8,IF(B45=data!$B$4,(O45*10)/7.1,IF(B45=data!$B$5,(O45*10)/5.2,\"zvolte typ stavby\"))))","v":51.09375},140000000,null,"Realizace nutná společně s 276-001"]
["II/111 Český Šternberk, most ev.č. 111-010 přes Sázavu v Českém Šternberku","mostní objekty a propustky","Most",3,10,10,10,6,10,10,10,8,10,0,{"$f":"IF(B46=data!$B$2,D46*0.7+E46*0.5+F46*0.2+G46*0.8+H46+I46*0.2+J46+K46*0.3+L46+M46*0.5+N46*0.2,IF(B46=data!$B$3,D46*0.1+E46*0.4+F46*0.3+G46*0.1+H46+J46+K46*0.5+L46+M46*0.4,IF(B46=data!$B$4,D46*0.6+E46*0.8+F46*0.7+G46+H46+J46+L46+N46,IF(B46=data!$B$5,D46*0.7+E46*0.8+F46+I46*0.7+J46+L46,\"zvolte typ stavby\"))))","v":41.3},{"$f":"IF(B46=data!$B$2,(O46*10)/6.4,IF(B46=data!$B$3,(O46*10)/4.8,IF(B46=data!$B$4,(O46*10)/7.1,IF(B46=data!$B$5,(O46*10)/5.2,\"zvolte typ stavby\"))))","v":86.041666666666671},140000000,null,"Předpokládaný termmín realizace 06/2023-06/2025, přesun stromů v období vegetačního klidu",null,"SFDI mosty"]
["II/110 Ostředek - Sázava etapa 1","oprava a rekonstrukce","Rekonstrukce",3,10,10,3,2,1,4,10,5,0,4,{"$f":"IF(B47=data!$B$2,D47*0.7+E47*0.5+F47*0.2+G47*0.8+H47+I47*0.2+J47+K47*0.3+L47+M47*0.5+N47*0.2,IF(B47=data!$B$3,D47*0.1+E47*0.4+F47*0.3+G47*0.1+H47+J47+K47*0.5+L47+M47*0.4,IF(B47=data!$B$4,D47*0.6+E47*0.8+F47*0.7+G47+H47+J47+L47+N47,IF(B47=data!$B$5,D47*0.7+E47*0.8+F47+I47*0.7+J47+L47,\"zvolte typ stavby\"))))","v":26.5},{"$f":"IF(B47=data!$B$2,(O47*10)/6.4,IF(B47=data!$B$3,(O47*10)/4.8,IF(B47=data!$B$4,(O47*10)/7.1,IF(B47=data!$B$5,(O47*10)/5.2,\"zvolte typ stavby\"))))","v":41.40625},132000000,null,null,null,"SFDI mosty"]
["III/11628 Voznice","oprava a rekonstrukce","Rekonstrukce",3,10,6,6,6,10,7,0,10,10,2,{"$f":"IF(B48=data!$B$2,D48*0.7+E48*0.5+F48*0.2+G48*0.8+H48+I48*0.2+J48+K48*0.3+L48+M48*0.5+N48*0.2,IF(B48=data!$B$3,D48*0.1+E48*0.4+F48*0.3+G48*0.1+H48+J48+K48*0.5+L48+M48*0.4,IF(B48=data!$B$4,D48*0.6+E48*0.8+F48*0.7+G48+H48+J48+L48+N48,IF(B48=data!$B$5,D48*0.7+E48*0.8+F48+I48*0.7+J48+L48,\"zvolte typ stavby\"))))","v":43.5},{"$f":"IF(B48=data!$B$2,(O48*10)/6.4,IF(B48=data!$B$3,(O48*10)/4.8,IF(B48=data!$B$4,(O48*10)/7.1,IF(B48=data!$B$5,(O48*10)/5.2,\"zvolte typ stavby\"))))","v":67.96875},133000000,null,"Komplikace se smlouvou na překládku ČEZ (nereaguje)",null,"SFDI (chybějící SOKP)"]
["II/242, III/2421, III/2422 Roztoky, rekonstrukce silnic","oprava a rekonstrukce","Rekonstrukce",4,10,10,6,6,10,10,10,5,10,7,{"$f":"IF(B49=data!$B$2,D49*0.7+E49*0.5+F49*0.2+G49*0.8+H49+I49*0.2+J49+K49*0.3+L49+M49*0.5+N49*0.2,IF(B49=data!$B$3,D49*0.1+E49*0.4+F49*0.3+G49*0.1+H49+J49+K49*0.5+L49+M49*0.4,IF(B49=data!$B$4,D49*0.6+E49*0.8+F49*0.7+G49+H49+J49+L49+N49,IF(B49=data!$B$5,D49*0.7+E49*0.8+F49+I49*0.7+J49+L49,\"zvolte typ stavby\"))))","v":47},{"$f":"IF(B49=data!$B$2,(O49*10)/6.4,IF(B49=data!$B$3,(O49*10)/4.8,IF(B49=data!$B$4,(O49*10)/7.1,IF(B49=data!$B$5,(O49*10)/5.2,\"zvolte typ stavby\"))))","v":73.4375},130000000,null,null,null,"SFDI NZ 2022 - tendrovat"]
["Chrášťany, přeložka II. etapa","novostavba (obchvat, přeložka, propojka)","-",8,10,10,0,0,10,4,0,2,0,0,{"$f":"IF(B50=data!$B$2,D50*0.7+E50*0.5+F50*0.2+G50*0.8+H50+I50*0.2+J50+K50*0.3+L50+M50*0.5+N50*0.2,IF(B50=data!$B$3,D50*0.1+E50*0.4+F50*0.3+G50*0.1+H50+J50+K50*0.5+L50+M50*0.4,IF(B50=data!$B$4,D50*0.6+E50*0.8+F50*0.7+G50+H50+J50+L50+N50,IF(B50=data!$B$5,D50*0.7+E50*0.8+F50+I50*0.7+J50+L50,\"zvolte typ stavby\"))))","v":36.6},{"$f":"IF(B50=data!$B$2,(O50*10)/6.4,IF(B50=data!$B$3,(O50*10)/4.8,IF(B50=data!$B$4,(O50*10)/7.1,IF(B50=data!$B$5,(O50*10)/5.2,\"zvolte typ stavby\"))))","v":70.384615384615387},130000000]
["Propojení průmyslové zóny Plazy s MÚK Kosmonosy - prodloužení silnice\nIII0164","novostavba (obchvat, přeložka, propojka)","-",5,10,5,0,0,1,2,0,5,0,0,{"$f":"IF(B51=data!$B$2,D51*0.7+E51*0.5+F51*0.2+G51*0.8+H51+I51*0.2+J51+K51*0.3+L51+M51*0.5+N51*0.2,IF(B51=data!$B$3,D51*0.1+E51*0.4+F51*0.3+G51*0.1+H51+J51+K51*0.5+L51+M51*0.4,IF(B51=data!$B$4,D51*0.6+E51*0.8+F51*0.7+G51+H51+J51+L51+N51,IF(B51=data!$B$5,D51*0.7+E51*0.8+F51+I51*0.7+J51+L51,\"zvolte typ stavby\"))))","v":24.2},{"$f":"IF(B51=data!$B$2,(O51*10)/6.4,IF(B51=data!$B$3,(O51*10)/4.8,IF(B51=data!$B$4,(O51*10)/7.1,IF(B51=data!$B$5,(O51*10)/5.2,\"zvolte typ stavby\"))))","v":46.53846153846154},128260000]
["II/105 Kamenný Přívoz mosty ev.č. 105-008 a 105-009","mostní objekty a propustky","Most",4,10,10,6,6,1,7,0,2,10,0,{"$f":"IF(B52=data!$B$2,D52*0.7+E52*0.5+F52*0.2+G52*0.8+H52+I52*0.2+J52+K52*0.3+L52+M52*0.5+N52*0.2,IF(B52=data!$B$3,D52*0.1+E52*0.4+F52*0.3+G52*0.1+H52+J52+K52*0.5+L52+M52*0.4,IF(B52=data!$B$4,D52*0.6+E52*0.8+F52*0.7+G52+H52+J52+L52+N52,IF(B52=data!$B$5,D52*0.7+E52*0.8+F52+I52*0.7+J52+L52,\"zvolte typ stavby\"))))","v":27},{"$f":"IF(B52=data!$B$2,(O52*10)/6.4,IF(B52=data!$B$3,(O52*10)/4.8,IF(B52=data!$B$4,(O52*10)/7.1,IF(B52=data!$B$5,(O52*10)/5.2,\"zvolte typ stavby\"))))","v":56.25},127050000,null,null,null,"SFDI NZ 2022 - tendrovat, rezerva"]
["Lysá nad Labem, obchvat – 3. etapa","novostavba (obchvat, přeložka, propojka)","-",4,9,10,0,0,10,4,0,2,0,0,{"$f":"IF(B53=data!$B$2,D53*0.7+E53*0.5+F53*0.2+G53*0.8+H53+I53*0.2+J53+K53*0.3+L53+M53*0.5+N53*0.2,IF(B53=data!$B$3,D53*0.1+E53*0.4+F53*0.3+G53*0.1+H53+J53+K53*0.5+L53+M53*0.4,IF(B53=data!$B$4,D53*0.6+E53*0.8+F53*0.7+G53+H53+J53+L53+N53,IF(B53=data!$B$5,D53*0.7+E53*0.8+F53+I53*0.7+J53+L53,\"zvolte typ stavby\"))))","v":33},{"$f":"IF(B53=data!$B$2,(O53*10)/6.4,IF(B53=data!$B$3,(O53*10)/4.8,IF(B53=data!$B$4,(O53*10)/7.1,IF(B53=data!$B$5,(O53*10)/5.2,\"zvolte typ stavby\"))))","v":63.46153846153846},127050000]
["II/240 Černý Vůl, opěrná zeď","řešení bodové závady a/nebo bezpečnostního rizika (křižovatky, opěrné zdi, skalní masivy)","-",5,10,10,6,6,0,10,0,5,0,2,{"$f":"IF(B54=data!$B$2,D54*0.7+E54*0.5+F54*0.2+G54*0.8+H54+I54*0.2+J54+K54*0.3+L54+M54*0.5+N54*0.2,IF(B54=data!$B$3,D54*0.1+E54*0.4+F54*0.3+G54*0.1+H54+J54+K54*0.5+L54+M54*0.4,IF(B54=data!$B$4,D54*0.6+E54*0.8+F54*0.7+G54+H54+J54+L54+N54,IF(B54=data!$B$5,D54*0.7+E54*0.8+F54+I54*0.7+J54+L54,\"zvolte typ stavby\"))))","v":47},{"$f":"IF(B54=data!$B$2,(O54*10)/6.4,IF(B54=data!$B$3,(O54*10)/4.8,IF(B54=data!$B$4,(O54*10)/7.1,IF(B54=data!$B$5,(O54*10)/5.2,\"zvolte typ stavby\"))))","v":66.197183098591552},125939745]
["II/121 Heřmaničky - obchvat, PD","novostavba (obchvat, přeložka, propojka)","-",3,10,10,0,0,10,4,0,2,0,0,{"$f":"IF(B55=data!$B$2,D55*0.7+E55*0.5+F55*0.2+G55*0.8+H55+I55*0.2+J55+K55*0.3+L55+M55*0.5+N55*0.2,IF(B55=data!$B$3,D55*0.1+E55*0.4+F55*0.3+G55*0.1+H55+J55+K55*0.5+L55+M55*0.4,IF(B55=data!$B$4,D55*0.6+E55*0.8+F55*0.7+G55+H55+J55+L55+N55,IF(B55=data!$B$5,D55*0.7+E55*0.8+F55+I55*0.7+J55+L55,\"zvolte typ stavby\"))))","v":33.1},{"$f":"IF(B55=data!$B$2,(O55*10)/6.4,IF(B55=data!$B$3,(O55*10)/4.8,IF(B55=data!$B$4,(O55*10)/7.1,IF(B55=data!$B$5,(O55*10)/5.2,\"zvolte typ stavby\"))))","v":63.653846153846153},119185000]
["III/00715, III/00722, III/00723, III/24010, oprava II. etapa","oprava a rekonstrukce","Rekonstrukce",3,10,6,6,6,10,4,0,10,10,10,{"$f":"IF(B56=data!$B$2,D56*0.7+E56*0.5+F56*0.2+G56*0.8+H56+I56*0.2+J56+K56*0.3+L56+M56*0.5+N56*0.2,IF(B56=data!$B$3,D56*0.1+E56*0.4+F56*0.3+G56*0.1+H56+J56+K56*0.5+L56+M56*0.4,IF(B56=data!$B$4,D56*0.6+E56*0.8+F56*0.7+G56+H56+J56+L56+N56,IF(B56=data!$B$5,D56*0.7+E56*0.8+F56+I56*0.7+J56+L56,\"zvolte typ stavby\"))))","v":42.1},{"$f":"IF(B56=data!$B$2,(O56*10)/6.4,IF(B56=data!$B$3,(O56*10)/4.8,IF(B56=data!$B$4,(O56*10)/7.1,IF(B56=data!$B$5,(O56*10)/5.2,\"zvolte typ stavby\"))))","v":65.78125},115148550]
["Obchvat obce Ořech - silnice III třídy","novostavba (obchvat, přeložka, propojka)","-",5,10,5,0,0,10,10,0,5,0,0,{"$f":"IF(B57=data!$B$2,D57*0.7+E57*0.5+F57*0.2+G57*0.8+H57+I57*0.2+J57+K57*0.3+L57+M57*0.5+N57*0.2,IF(B57=data!$B$3,D57*0.1+E57*0.4+F57*0.3+G57*0.1+H57+J57+K57*0.5+L57+M57*0.4,IF(B57=data!$B$4,D57*0.6+E57*0.8+F57*0.7+G57+H57+J57+L57+N57,IF(B57=data!$B$5,D57*0.7+E57*0.8+F57+I57*0.7+J57+L57,\"zvolte typ stavby\"))))","v":38.5},{"$f":"IF(B57=data!$B$2,(O57*10)/6.4,IF(B57=data!$B$3,(O57*10)/4.8,IF(B57=data!$B$4,(O57*10)/7.1,IF(B57=data!$B$5,(O57*10)/5.2,\"zvolte typ stavby\"))))","v":74.038461538461533},115049000,null,null,null,"SFDI"]
["II/237 N. Strašecí - Mšec, rekonstrukce, II. etapa","oprava a rekonstrukce","Rekonstrukce",3,10,10,3,2,10,4,0,10,10,0,{"$f":"IF(B58=data!$B$2,D58*0.7+E58*0.5+F58*0.2+G58*0.8+H58+I58*0.2+J58+K58*0.3+L58+M58*0.5+N58*0.2,IF(B58=data!$B$3,D58*0.1+E58*0.4+F58*0.3+G58*0.1+H58+J58+K58*0.5+L58+M58*0.4,IF(B58=data!$B$4,D58*0.6+E58*0.8+F58*0.7+G58+H58+J58+L58+N58,IF(B58=data!$B$5,D58*0.7+E58*0.8+F58+I58*0.7+J58+L58,\"zvolte typ stavby\"))))","v":34.5},{"$f":"IF(B58=data!$B$2,(O58*10)/6.4,IF(B58=data!$B$3,(O58*10)/4.8,IF(B58=data!$B$4,(O58*10)/7.1,IF(B58=data!$B$5,(O58*10)/5.2,\"zvolte typ stavby\"))))","v":53.90625},110476228.06999999]
["II/272 Benátky nad Jizerou - Zdětín - aktualizace projektové dokumentace","oprava a rekonstrukce","Rekonstrukce",3,10,10,6,6,10,4,0,8,10,0,{"$f":"IF(B59=data!$B$2,D59*0.7+E59*0.5+F59*0.2+G59*0.8+H59+I59*0.2+J59+K59*0.3+L59+M59*0.5+N59*0.2,IF(B59=data!$B$3,D59*0.1+E59*0.4+F59*0.3+G59*0.1+H59+J59+K59*0.5+L59+M59*0.4,IF(B59=data!$B$4,D59*0.6+E59*0.8+F59*0.7+G59+H59+J59+L59+N59,IF(B59=data!$B$5,D59*0.7+E59*0.8+F59+I59*0.7+J59+L59,\"zvolte typ stavby\"))))","v":38.9},{"$f":"IF(B59=data!$B$2,(O59*10)/6.4,IF(B59=data!$B$3,(O59*10)/4.8,IF(B59=data!$B$4,(O59*10)/7.1,IF(B59=data!$B$5,(O59*10)/5.2,\"zvolte typ stavby\"))))","v":60.78125},110000000]
["III/11513 Jíloviště, most ev. č. 11513 – 1 přes D4 v obci Jíloviště  ","mostní objekty a propustky","Most",4,0,5,6,6,0,10,0,5,10,0,{"$f":"IF(B60=data!$B$2,D60*0.7+E60*0.5+F60*0.2+G60*0.8+H60+I60*0.2+J60+K60*0.3+L60+M60*0.5+N60*0.2,IF(B60=data!$B$3,D60*0.1+E60*0.4+F60*0.3+G60*0.1+H60+J60+K60*0.5+L60+M60*0.4,IF(B60=data!$B$4,D60*0.6+E60*0.8+F60*0.7+G60+H60+J60+L60+N60,IF(B60=data!$B$5,D60*0.7+E60*0.8+F60+I60*0.7+J60+L60,\"zvolte typ stavby\"))))","v":27.5},{"$f":"IF(B60=data!$B$2,(O60*10)/6.4,IF(B60=data!$B$3,(O60*10)/4.8,IF(B60=data!$B$4,(O60*10)/7.1,IF(B60=data!$B$5,(O60*10)/5.2,\"zvolte typ stavby\"))))","v":57.291666666666671},110000000,null,"Předpokládaný termmín realizace 03/2024-12/2025"]
["III/1021 a III/1024 Hvozdnice-Bratřínov-PD","oprava a rekonstrukce","Rekonstrukce",3,10,6,6,6,10,4,10,10,10,4,{"$f":"IF(B61=data!$B$2,D61*0.7+E61*0.5+F61*0.2+G61*0.8+H61+I61*0.2+J61+K61*0.3+L61+M61*0.5+N61*0.2,IF(B61=data!$B$3,D61*0.1+E61*0.4+F61*0.3+G61*0.1+H61+J61+K61*0.5+L61+M61*0.4,IF(B61=data!$B$4,D61*0.6+E61*0.8+F61*0.7+G61+H61+J61+L61+N61,IF(B61=data!$B$5,D61*0.7+E61*0.8+F61+I61*0.7+J61+L61,\"zvolte typ stavby\"))))","v":43.9},{"$f":"IF(B61=data!$B$2,(O61*10)/6.4,IF(B61=data!$B$3,(O61*10)/4.8,IF(B61=data!$B$4,(O61*10)/7.1,IF(B61=data!$B$5,(O61*10)/5.2,\"zvolte typ stavby\"))))","v":68.59375},108207751.86]
["III/00715, III/00718, III/00719 Buštěhrad, průtah - PD","oprava a rekonstrukce","Rekonstrukce",4,10,5,3,6,1,4,0,2,10,7,{"$f":"IF(B62=data!$B$2,D62*0.7+E62*0.5+F62*0.2+G62*0.8+H62+I62*0.2+J62+K62*0.3+L62+M62*0.5+N62*0.2,IF(B62=data!$B$3,D62*0.1+E62*0.4+F62*0.3+G62*0.1+H62+J62+K62*0.5+L62+M62*0.4,IF(B62=data!$B$4,D62*0.6+E62*0.8+F62*0.7+G62+H62+J62+L62+N62,IF(B62=data!$B$5,D62*0.7+E62*0.8+F62+I62*0.7+J62+L62,\"zvolte typ stavby\"))))","v":29.8},{"$f":"IF(B62=data!$B$2,(O62*10)/6.4,IF(B62=data!$B$3,(O62*10)/4.8,IF(B62=data!$B$4,(O62*10)/7.1,IF(B62=data!$B$5,(O62*10)/5.2,\"zvolte typ stavby\"))))","v":46.5625},106071780]
["II/329 Pečky, severní obchvat","novostavba (obchvat, přeložka, propojka)","-",4,10,10,0,0,10,4,0,2,0,0,{"$f":"IF(B63=data!$B$2,D63*0.7+E63*0.5+F63*0.2+G63*0.8+H63+I63*0.2+J63+K63*0.3+L63+M63*0.5+N63*0.2,IF(B63=data!$B$3,D63*0.1+E63*0.4+F63*0.3+G63*0.1+H63+J63+K63*0.5+L63+M63*0.4,IF(B63=data!$B$4,D63*0.6+E63*0.8+F63*0.7+G63+H63+J63+L63+N63,IF(B63=data!$B$5,D63*0.7+E63*0.8+F63+I63*0.7+J63+L63,\"zvolte typ stavby\"))))","v":33.799999999999997},{"$f":"IF(B63=data!$B$2,(O63*10)/6.4,IF(B63=data!$B$3,(O63*10)/4.8,IF(B63=data!$B$4,(O63*10)/7.1,IF(B63=data!$B$5,(O63*10)/5.2,\"zvolte typ stavby\"))))","v":65},105000000]
["II/117 a III/23511 Žebrák, zlepšení dopravní obslužnosti","novostavba (obchvat, přeložka, propojka)","-",6,10,10,0,0,10,7,0,2,0,0,{"$f":"IF(B64=data!$B$2,D64*0.7+E64*0.5+F64*0.2+G64*0.8+H64+I64*0.2+J64+K64*0.3+L64+M64*0.5+N64*0.2,IF(B64=data!$B$3,D64*0.1+E64*0.4+F64*0.3+G64*0.1+H64+J64+K64*0.5+L64+M64*0.4,IF(B64=data!$B$4,D64*0.6+E64*0.8+F64*0.7+G64+H64+J64+L64+N64,IF(B64=data!$B$5,D64*0.7+E64*0.8+F64+I64*0.7+J64+L64,\"zvolte typ stavby\"))))","v":38.200000000000003},{"$f":"IF(B64=data!$B$2,(O64*10)/6.4,IF(B64=data!$B$3,(O64*10)/4.8,IF(B64=data!$B$4,(O64*10)/7.1,IF(B64=data!$B$5,(O64*10)/5.2,\"zvolte typ stavby\"))))","v":73.461538461538453},104153412]
["II/608 – rekonstrukce silnice I. etapa","oprava a rekonstrukce","Rekonstrukce",6,10,10,6,6,10,10,0,10,10,10,{"$f":"IF(B65=data!$B$2,D65*0.7+E65*0.5+F65*0.2+G65*0.8+H65+I65*0.2+J65+K65*0.3+L65+M65*0.5+N65*0.2,IF(B65=data!$B$3,D65*0.1+E65*0.4+F65*0.3+G65*0.1+H65+J65+K65*0.5+L65+M65*0.4,IF(B65=data!$B$4,D65*0.6+E65*0.8+F65*0.7+G65+H65+J65+L65+N65,IF(B65=data!$B$5,D65*0.7+E65*0.8+F65+I65*0.7+J65+L65,\"zvolte typ stavby\"))))","v":51},{"$f":"IF(B65=data!$B$2,(O65*10)/6.4,IF(B65=data!$B$3,(O65*10)/4.8,IF(B65=data!$B$4,(O65*10)/7.1,IF(B65=data!$B$5,(O65*10)/5.2,\"zvolte typ stavby\"))))","v":79.6875},415000000,null,"Předpoklad realizace nejdříve 2023",null,"SFDI (chybějící SOKP)"]
["II/331 Brandýs nad Labem - I/9, rekonstrukce silnice\netapa I - III","oprava a rekonstrukce","Rekonstrukce",4,10,10,6,10,10,10,0,0,10,10,{"$f":"IF(B66=data!$B$2,D66*0.7+E66*0.5+F66*0.2+G66*0.8+H66+I66*0.2+J66+K66*0.3+L66+M66*0.5+N66*0.2,IF(B66=data!$B$3,D66*0.1+E66*0.4+F66*0.3+G66*0.1+H66+J66+K66*0.5+L66+M66*0.4,IF(B66=data!$B$4,D66*0.6+E66*0.8+F66*0.7+G66+H66+J66+L66+N66,IF(B66=data!$B$5,D66*0.7+E66*0.8+F66+I66*0.7+J66+L66,\"zvolte typ stavby\"))))","v":43.6},{"$f":"IF(B66=data!$B$2,(O66*10)/6.4,IF(B66=data!$B$3,(O66*10)/4.8,IF(B66=data!$B$4,(O66*10)/7.1,IF(B66=data!$B$5,(O66*10)/5.2,\"zvolte typ stavby\"))))","v":68.125},100000000]
["II/331 Brandýs nad Labem - I/9, rekonstrukce silnice\netapa VI","oprava a rekonstrukce","Rekonstrukce",4,10,10,6,10,10,10,0,5,10,10,{"$f":"IF(B67=data!$B$2,D67*0.7+E67*0.5+F67*0.2+G67*0.8+H67+I67*0.2+J67+K67*0.3+L67+M67*0.5+N67*0.2,IF(B67=data!$B$3,D67*0.1+E67*0.4+F67*0.3+G67*0.1+H67+J67+K67*0.5+L67+M67*0.4,IF(B67=data!$B$4,D67*0.6+E67*0.8+F67*0.7+G67+H67+J67+L67+N67,IF(B67=data!$B$5,D67*0.7+E67*0.8+F67+I67*0.7+J67+L67,\"zvolte typ stavby\"))))","v":48.6},{"$f":"IF(B67=data!$B$2,(O67*10)/6.4,IF(B67=data!$B$3,(O67*10)/4.8,IF(B67=data!$B$4,(O67*10)/7.1,IF(B67=data!$B$5,(O67*10)/5.2,\"zvolte typ stavby\"))))","v":75.9375},100000000]
["III/2444 a III/0105a Přezletice, průtah I etapa","oprava a rekonstrukce","Rekonstrukce",5,10,5,6,10,1,7,0,5,10,2,{"$f":"IF(B68=data!$B$2,D68*0.7+E68*0.5+F68*0.2+G68*0.8+H68+I68*0.2+J68+K68*0.3+L68+M68*0.5+N68*0.2,IF(B68=data!$B$3,D68*0.1+E68*0.4+F68*0.3+G68*0.1+H68+J68+K68*0.5+L68+M68*0.4,IF(B68=data!$B$4,D68*0.6+E68*0.8+F68*0.7+G68+H68+J68+L68+N68,IF(B68=data!$B$5,D68*0.7+E68*0.8+F68+I68*0.7+J68+L68,\"zvolte typ stavby\"))))","v":41.9},{"$f":"IF(B68=data!$B$2,(O68*10)/6.4,IF(B68=data!$B$3,(O68*10)/4.8,IF(B68=data!$B$4,(O68*10)/7.1,IF(B68=data!$B$5,(O68*10)/5.2,\"zvolte typ stavby\"))))","v":65.46875},95456000]
["II/118 Želevčice - Zlonice","oprava a rekonstrukce","Rekonstrukce",4,10,10,3,10,1,2,10,2,0,2,{"$f":"IF(B69=data!$B$2,D69*0.7+E69*0.5+F69*0.2+G69*0.8+H69+I69*0.2+J69+K69*0.3+L69+M69*0.5+N69*0.2,IF(B69=data!$B$3,D69*0.1+E69*0.4+F69*0.3+G69*0.1+H69+J69+K69*0.5+L69+M69*0.4,IF(B69=data!$B$4,D69*0.6+E69*0.8+F69*0.7+G69+H69+J69+L69+N69,IF(B69=data!$B$5,D69*0.7+E69*0.8+F69+I69*0.7+J69+L69,\"zvolte typ stavby\"))))","v":29.8},{"$f":"IF(B69=data!$B$2,(O69*10)/6.4,IF(B69=data!$B$3,(O69*10)/4.8,IF(B69=data!$B$4,(O69*10)/7.1,IF(B69=data!$B$5,(O69*10)/5.2,\"zvolte typ stavby\"))))","v":46.5625},95000000,"-"]
["II/610 Tuřice - Kbel (Benátky nad Jizerou průtah II. etapa)","oprava a rekonstrukce","Rekonstrukce",3,10,10,3,10,1,4,0,2,10,4,{"$f":"IF(B70=data!$B$2,D70*0.7+E70*0.5+F70*0.2+G70*0.8+H70+I70*0.2+J70+K70*0.3+L70+M70*0.5+N70*0.2,IF(B70=data!$B$3,D70*0.1+E70*0.4+F70*0.3+G70*0.1+H70+J70+K70*0.5+L70+M70*0.4,IF(B70=data!$B$4,D70*0.6+E70*0.8+F70*0.7+G70+H70+J70+L70+N70,IF(B70=data!$B$5,D70*0.7+E70*0.8+F70+I70*0.7+J70+L70,\"zvolte typ stavby\"))))","v":33.5},{"$f":"IF(B70=data!$B$2,(O70*10)/6.4,IF(B70=data!$B$3,(O70*10)/4.8,IF(B70=data!$B$4,(O70*10)/7.1,IF(B70=data!$B$5,(O70*10)/5.2,\"zvolte typ stavby\"))))","v":52.34375},90750000]
["II/328 Sloveč - Kněžice","oprava a rekonstrukce","Rekonstrukce",2,10,10,6,6,10,7,0,10,10,4,{"$f":"IF(B71=data!$B$2,D71*0.7+E71*0.5+F71*0.2+G71*0.8+H71+I71*0.2+J71+K71*0.3+L71+M71*0.5+N71*0.2,IF(B71=data!$B$3,D71*0.1+E71*0.4+F71*0.3+G71*0.1+H71+J71+K71*0.5+L71+M71*0.4,IF(B71=data!$B$4,D71*0.6+E71*0.8+F71*0.7+G71+H71+J71+L71+N71,IF(B71=data!$B$5,D71*0.7+E71*0.8+F71+I71*0.7+J71+L71,\"zvolte typ stavby\"))))","v":44},{"$f":"IF(B71=data!$B$2,(O71*10)/6.4,IF(B71=data!$B$3,(O71*10)/4.8,IF(B71=data!$B$4,(O71*10)/7.1,IF(B71=data!$B$5,(O71*10)/5.2,\"zvolte typ stavby\"))))","v":68.75},90525137.109999999]
["II/332 Zbožíčko, obchvat","novostavba (obchvat, přeložka, propojka)","-",3,9,8,0,0,10,4,0,5,0,0,{"$f":"IF(B72=data!$B$2,D72*0.7+E72*0.5+F72*0.2+G72*0.8+H72+I72*0.2+J72+K72*0.3+L72+M72*0.5+N72*0.2,IF(B72=data!$B$3,D72*0.1+E72*0.4+F72*0.3+G72*0.1+H72+J72+K72*0.5+L72+M72*0.4,IF(B72=data!$B$4,D72*0.6+E72*0.8+F72*0.7+G72+H72+J72+L72+N72,IF(B72=data!$B$5,D72*0.7+E72*0.8+F72+I72*0.7+J72+L72,\"zvolte typ stavby\"))))","v":33.299999999999997},{"$f":"IF(B72=data!$B$2,(O72*10)/6.4,IF(B72=data!$B$3,(O72*10)/4.8,IF(B72=data!$B$4,(O72*10)/7.1,IF(B72=data!$B$5,(O72*10)/5.2,\"zvolte typ stavby\"))))","v":64.038461538461533},90000000,"-"]
["II/125 Louňovice - Kamberk","oprava a rekonstrukce","Rekonstrukce",2,10,10,6,10,10,2,0,5,10,2,{"$f":"IF(B73=data!$B$2,D73*0.7+E73*0.5+F73*0.2+G73*0.8+H73+I73*0.2+J73+K73*0.3+L73+M73*0.5+N73*0.2,IF(B73=data!$B$3,D73*0.1+E73*0.4+F73*0.3+G73*0.1+H73+J73+K73*0.5+L73+M73*0.4,IF(B73=data!$B$4,D73*0.6+E73*0.8+F73*0.7+G73+H73+J73+L73+N73,IF(B73=data!$B$5,D73*0.7+E73*0.8+F73+I73*0.7+J73+L73,\"zvolte typ stavby\"))))","v":37.6},{"$f":"IF(B73=data!$B$2,(O73*10)/6.4,IF(B73=data!$B$3,(O73*10)/4.8,IF(B73=data!$B$4,(O73*10)/7.1,IF(B73=data!$B$5,(O73*10)/5.2,\"zvolte typ stavby\"))))","v":58.75},89999999.650000006]
["III/11510 Všenory, průtah - PD","oprava a rekonstrukce","Rekonstrukce",7,10,6,6,6,10,7,0,8,10,2,{"$f":"IF(B74=data!$B$2,D74*0.7+E74*0.5+F74*0.2+G74*0.8+H74+I74*0.2+J74+K74*0.3+L74+M74*0.5+N74*0.2,IF(B74=data!$B$3,D74*0.1+E74*0.4+F74*0.3+G74*0.1+H74+J74+K74*0.5+L74+M74*0.4,IF(B74=data!$B$4,D74*0.6+E74*0.8+F74*0.7+G74+H74+J74+L74+N74,IF(B74=data!$B$5,D74*0.7+E74*0.8+F74+I74*0.7+J74+L74,\"zvolte typ stavby\"))))","v":44.3},{"$f":"IF(B74=data!$B$2,(O74*10)/6.4,IF(B74=data!$B$3,(O74*10)/4.8,IF(B74=data!$B$4,(O74*10)/7.1,IF(B74=data!$B$5,(O74*10)/5.2,\"zvolte typ stavby\"))))","v":69.21875},88680900]
["III/2365 Trubská,nestabilní svah-PD","řešení bodové závady a/nebo bezpečnostního rizika (křižovatky, opěrné zdi, skalní masivy)","-",4,10,5,10,10,0,4,0,8,0,2,{"$f":"IF(B75=data!$B$2,D75*0.7+E75*0.5+F75*0.2+G75*0.8+H75+I75*0.2+J75+K75*0.3+L75+M75*0.5+N75*0.2,IF(B75=data!$B$3,D75*0.1+E75*0.4+F75*0.3+G75*0.1+H75+J75+K75*0.5+L75+M75*0.4,IF(B75=data!$B$4,D75*0.6+E75*0.8+F75*0.7+G75+H75+J75+L75+N75,IF(B75=data!$B$5,D75*0.7+E75*0.8+F75+I75*0.7+J75+L75,\"zvolte typ stavby\"))))","v":47.9},{"$f":"IF(B75=data!$B$2,(O75*10)/6.4,IF(B75=data!$B$3,(O75*10)/4.8,IF(B75=data!$B$4,(O75*10)/7.1,IF(B75=data!$B$5,(O75*10)/5.2,\"zvolte typ stavby\"))))","v":67.464788732394368},88509773,null,"Předpoklad SFDI nebo IROP dle možností v době dokončení"]
["III/00324 Otice - Všechromy, PD","oprava a rekonstrukce","Rekonstrukce",3,10,5,6,6,10,4,0,10,0,0,{"$f":"IF(B76=data!$B$2,D76*0.7+E76*0.5+F76*0.2+G76*0.8+H76+I76*0.2+J76+K76*0.3+L76+M76*0.5+N76*0.2,IF(B76=data!$B$3,D76*0.1+E76*0.4+F76*0.3+G76*0.1+H76+J76+K76*0.5+L76+M76*0.4,IF(B76=data!$B$4,D76*0.6+E76*0.8+F76*0.7+G76+H76+J76+L76+N76,IF(B76=data!$B$5,D76*0.7+E76*0.8+F76+I76*0.7+J76+L76,\"zvolte typ stavby\"))))","v":34.9},{"$f":"IF(B76=data!$B$2,(O76*10)/6.4,IF(B76=data!$B$3,(O76*10)/4.8,IF(B76=data!$B$4,(O76*10)/7.1,IF(B76=data!$B$5,(O76*10)/5.2,\"zvolte typ stavby\"))))","v":54.53125},85000000]
["II/244 Měšice I/9 – Byšice I/16 I. etapa","oprava a rekonstrukce","Rekonstrukce",6,10,10,6,6,10,10,0,8,10,7,{"$f":"IF(B77=data!$B$2,D77*0.7+E77*0.5+F77*0.2+G77*0.8+H77+I77*0.2+J77+K77*0.3+L77+M77*0.5+N77*0.2,IF(B77=data!$B$3,D77*0.1+E77*0.4+F77*0.3+G77*0.1+H77+J77+K77*0.5+L77+M77*0.4,IF(B77=data!$B$4,D77*0.6+E77*0.8+F77*0.7+G77+H77+J77+L77+N77,IF(B77=data!$B$5,D77*0.7+E77*0.8+F77+I77*0.7+J77+L77,\"zvolte typ stavby\"))))","v":48.4},{"$f":"IF(B77=data!$B$2,(O77*10)/6.4,IF(B77=data!$B$3,(O77*10)/4.8,IF(B77=data!$B$4,(O77*10)/7.1,IF(B77=data!$B$5,(O77*10)/5.2,\"zvolte typ stavby\"))))","v":75.625},108900000]
["Rekonstrukce silnic III/0083 a III/0084 v k.ú. Sedlec u Líbeznic","oprava a rekonstrukce","Rekonstrukce",5,10,5,6,10,10,7,0,10,10,7,{"$f":"IF(B78=data!$B$2,D78*0.7+E78*0.5+F78*0.2+G78*0.8+H78+I78*0.2+J78+K78*0.3+L78+M78*0.5+N78*0.2,IF(B78=data!$B$3,D78*0.1+E78*0.4+F78*0.3+G78*0.1+H78+J78+K78*0.5+L78+M78*0.4,IF(B78=data!$B$4,D78*0.6+E78*0.8+F78*0.7+G78+H78+J78+L78+N78,IF(B78=data!$B$5,D78*0.7+E78*0.8+F78+I78*0.7+J78+L78,\"zvolte typ stavby\"))))","v":49.699999999999996},{"$f":"IF(B78=data!$B$2,(O78*10)/6.4,IF(B78=data!$B$3,(O78*10)/4.8,IF(B78=data!$B$4,(O78*10)/7.1,IF(B78=data!$B$5,(O78*10)/5.2,\"zvolte typ stavby\"))))","v":77.656249999999986},82000000]
["II/272 Lysá  nad Labem, průtah (ul. Jedličkova)","oprava a rekonstrukce","Rekonstrukce",6,0,10,6,6,10,7,0,2,10,10,{"$f":"IF(B79=data!$B$2,D79*0.7+E79*0.5+F79*0.2+G79*0.8+H79+I79*0.2+J79+K79*0.3+L79+M79*0.5+N79*0.2,IF(B79=data!$B$3,D79*0.1+E79*0.4+F79*0.3+G79*0.1+H79+J79+K79*0.5+L79+M79*0.4,IF(B79=data!$B$4,D79*0.6+E79*0.8+F79*0.7+G79+H79+J79+L79+N79,IF(B79=data!$B$5,D79*0.7+E79*0.8+F79+I79*0.7+J79+L79,\"zvolte typ stavby\"))))","v":35},{"$f":"IF(B79=data!$B$2,(O79*10)/6.4,IF(B79=data!$B$3,(O79*10)/4.8,IF(B79=data!$B$4,(O79*10)/7.1,IF(B79=data!$B$5,(O79*10)/5.2,\"zvolte typ stavby\"))))","v":54.6875},80000000]
["II/111 Nechyba I - Český Šternberk","oprava a rekonstrukce","Rekonstrukce",3,10,10,6,6,10,10,0,10,10,7,{"$f":"IF(B80=data!$B$2,D80*0.7+E80*0.5+F80*0.2+G80*0.8+H80+I80*0.2+J80+K80*0.3+L80+M80*0.5+N80*0.2,IF(B80=data!$B$3,D80*0.1+E80*0.4+F80*0.3+G80*0.1+H80+J80+K80*0.5+L80+M80*0.4,IF(B80=data!$B$4,D80*0.6+E80*0.8+F80*0.7+G80+H80+J80+L80+N80,IF(B80=data!$B$5,D80*0.7+E80*0.8+F80+I80*0.7+J80+L80,\"zvolte typ stavby\"))))","v":48.3},{"$f":"IF(B80=data!$B$2,(O80*10)/6.4,IF(B80=data!$B$3,(O80*10)/4.8,IF(B80=data!$B$4,(O80*10)/7.1,IF(B80=data!$B$5,(O80*10)/5.2,\"zvolte typ stavby\"))))","v":75.46875},167447921.16999999]
["III/6111 Jirny, most ev.č. 6111-1","mostní objekty a propustky","Most",6,0,7,6,6,0,10,0,5,10,0,{"$f":"IF(B81=data!$B$2,D81*0.7+E81*0.5+F81*0.2+G81*0.8+H81+I81*0.2+J81+K81*0.3+L81+M81*0.5+N81*0.2,IF(B81=data!$B$3,D81*0.1+E81*0.4+F81*0.3+G81*0.1+H81+J81+K81*0.5+L81+M81*0.4,IF(B81=data!$B$4,D81*0.6+E81*0.8+F81*0.7+G81+H81+J81+L81+N81,IF(B81=data!$B$5,D81*0.7+E81*0.8+F81+I81*0.7+J81+L81,\"zvolte typ stavby\"))))","v":28.3},{"$f":"IF(B81=data!$B$2,(O81*10)/6.4,IF(B81=data!$B$3,(O81*10)/4.8,IF(B81=data!$B$4,(O81*10)/7.1,IF(B81=data!$B$5,(O81*10)/5.2,\"zvolte typ stavby\"))))","v":58.958333333333336},70000000]
[",,II/610 Stará Boleslav, most ev.č. 610-018 přes D10 za obcí St.Boleslav\"","mostní objekty a propustky","Most",6,0,10,6,6,0,10,0,8,10,0,{"$f":"IF(B82=data!$B$2,D82*0.7+E82*0.5+F82*0.2+G82*0.8+H82+I82*0.2+J82+K82*0.3+L82+M82*0.5+N82*0.2,IF(B82=data!$B$3,D82*0.1+E82*0.4+F82*0.3+G82*0.1+H82+J82+K82*0.5+L82+M82*0.4,IF(B82=data!$B$4,D82*0.6+E82*0.8+F82*0.7+G82+H82+J82+L82+N82,IF(B82=data!$B$5,D82*0.7+E82*0.8+F82+I82*0.7+J82+L82,\"zvolte typ stavby\"))))","v":32.200000000000003},{"$f":"IF(B82=data!$B$2,(O82*10)/6.4,IF(B82=data!$B$3,(O82*10)/4.8,IF(B82=data!$B$4,(O82*10)/7.1,IF(B82=data!$B$5,(O82*10)/5.2,\"zvolte typ stavby\"))))","v":67.083333333333343},80000000,null,"Předpokládaný termmín realizace 03/2024-12/2024. "]
["II/603 Sulice - Želivec, rekonstrukce silnice a mostů - PD","oprava a rekonstrukce","Rekonstrukce",7,10,10,6,10,10,7,0,8,10,10,{"$f":"IF(B83=data!$B$2,D83*0.7+E83*0.5+F83*0.2+G83*0.8+H83+I83*0.2+J83+K83*0.3+L83+M83*0.5+N83*0.2,IF(B83=data!$B$3,D83*0.1+E83*0.4+F83*0.3+G83*0.1+H83+J83+K83*0.5+L83+M83*0.4,IF(B83=data!$B$4,D83*0.6+E83*0.8+F83*0.7+G83+H83+J83+L83+N83,IF(B83=data!$B$5,D83*0.7+E83*0.8+F83+I83*0.7+J83+L83,\"zvolte typ stavby\"))))","v":50.7},{"$f":"IF(B83=data!$B$2,(O83*10)/6.4,IF(B83=data!$B$3,(O83*10)/4.8,IF(B83=data!$B$4,(O83*10)/7.1,IF(B83=data!$B$5,(O83*10)/5.2,\"zvolte typ stavby\"))))","v":79.21875},120000000]
["III/1025 Bojov – Klínec, rekonstrukce silnice\nstavba I - silnice III/1025 a III/0042 Jíloviště -Líšnice","oprava a rekonstrukce","Rekonstrukce",5,10,5,10,10,10,10,0,8,10,4,{"$f":"IF(B84=data!$B$2,D84*0.7+E84*0.5+F84*0.2+G84*0.8+H84+I84*0.2+J84+K84*0.3+L84+M84*0.5+N84*0.2,IF(B84=data!$B$3,D84*0.1+E84*0.4+F84*0.3+G84*0.1+H84+J84+K84*0.5+L84+M84*0.4,IF(B84=data!$B$4,D84*0.6+E84*0.8+F84*0.7+G84+H84+J84+L84+N84,IF(B84=data!$B$5,D84*0.7+E84*0.8+F84+I84*0.7+J84+L84,\"zvolte typ stavby\"))))","v":53.3},{"$f":"IF(B84=data!$B$2,(O84*10)/6.4,IF(B84=data!$B$3,(O84*10)/4.8,IF(B84=data!$B$4,(O84*10)/7.1,IF(B84=data!$B$5,(O84*10)/5.2,\"zvolte typ stavby\"))))","v":83.28125},66000000]
["II/116 a III/11614 Srbsko, průtah","oprava a rekonstrukce","Rekonstrukce",4,10,7,10,10,1,7,0,2,0,4,{"$f":"IF(B85=data!$B$2,D85*0.7+E85*0.5+F85*0.2+G85*0.8+H85+I85*0.2+J85+K85*0.3+L85+M85*0.5+N85*0.2,IF(B85=data!$B$3,D85*0.1+E85*0.4+F85*0.3+G85*0.1+H85+J85+K85*0.5+L85+M85*0.4,IF(B85=data!$B$4,D85*0.6+E85*0.8+F85*0.7+G85+H85+J85+L85+N85,IF(B85=data!$B$5,D85*0.7+E85*0.8+F85+I85*0.7+J85+L85,\"zvolte typ stavby\"))))","v":37.199999999999996},{"$f":"IF(B85=data!$B$2,(O85*10)/6.4,IF(B85=data!$B$3,(O85*10)/4.8,IF(B85=data!$B$4,(O85*10)/7.1,IF(B85=data!$B$5,(O85*10)/5.2,\"zvolte typ stavby\"))))","v":58.124999999999986},79052564.5]
["II/118 Třebichovice, průtah","oprava a rekonstrukce","Rekonstrukce",3,10,10,3,10,10,4,0,2,10,0,{"$f":"IF(B86=data!$B$2,D86*0.7+E86*0.5+F86*0.2+G86*0.8+H86+I86*0.2+J86+K86*0.3+L86+M86*0.5+N86*0.2,IF(B86=data!$B$3,D86*0.1+E86*0.4+F86*0.3+G86*0.1+H86+J86+K86*0.5+L86+M86*0.4,IF(B86=data!$B$4,D86*0.6+E86*0.8+F86*0.7+G86+H86+J86+L86+N86,IF(B86=data!$B$5,D86*0.7+E86*0.8+F86+I86*0.7+J86+L86,\"zvolte typ stavby\"))))","v":34.5},{"$f":"IF(B86=data!$B$2,(O86*10)/6.4,IF(B86=data!$B$3,(O86*10)/4.8,IF(B86=data!$B$4,(O86*10)/7.1,IF(B86=data!$B$5,(O86*10)/5.2,\"zvolte typ stavby\"))))","v":53.90625},78650000]
["II/106 přeložka k sjezdu z D3 u Hostěradic - PD","novostavba (obchvat, přeložka, propojka)","-",5,10,10,0,0,1,2,0,2,0,0,{"$f":"IF(B87=data!$B$2,D87*0.7+E87*0.5+F87*0.2+G87*0.8+H87+I87*0.2+J87+K87*0.3+L87+M87*0.5+N87*0.2,IF(B87=data!$B$3,D87*0.1+E87*0.4+F87*0.3+G87*0.1+H87+J87+K87*0.5+L87+M87*0.4,IF(B87=data!$B$4,D87*0.6+E87*0.8+F87*0.7+G87+H87+J87+L87+N87,IF(B87=data!$B$5,D87*0.7+E87*0.8+F87+I87*0.7+J87+L87,\"zvolte typ stavby\"))))","v":26.2},{"$f":"IF(B87=data!$B$2,(O87*10)/6.4,IF(B87=data!$B$3,(O87*10)/4.8,IF(B87=data!$B$4,(O87*10)/7.1,IF(B87=data!$B$5,(O87*10)/5.2,\"zvolte typ stavby\"))))","v":50.38461538461538},78512000]
["Oprava silnic II/116  a II/236, kruhový objezd Lány, mikrokoberec","oprava a rekonstrukce",null,1,10,9,6,6,1,7,0,10,10,4,{"$f":"IF(B88=data!$B$2,D88*0.7+E88*0.5+F88*0.2+G88*0.8+H88+I88*0.2+J88+K88*0.3+L88+M88*0.5+N88*0.2,IF(B88=data!$B$3,D88*0.1+E88*0.4+F88*0.3+G88*0.1+H88+J88+K88*0.5+L88+M88*0.4,IF(B88=data!$B$4,D88*0.6+E88*0.8+F88*0.7+G88+H88+J88+L88+N88,IF(B88=data!$B$5,D88*0.7+E88*0.8+F88+I88*0.7+J88+L88,\"zvolte typ stavby\"))))","v":41.3},{"$f":"IF(B88=data!$B$2,(O88*10)/6.4,IF(B88=data!$B$3,(O88*10)/4.8,IF(B88=data!$B$4,(O88*10)/7.1,IF(B88=data!$B$5,(O88*10)/5.2,\"zvolte typ stavby\"))))","v":64.53125},77882889.349999994]
["II/335,II/508,III/1014 a III/1012 Mnichovice průtah II. etapa","oprava a rekonstrukce","Rekonstrukce",4,10,10,6,10,10,4,0,2,10,4,{"$f":"IF(B89=data!$B$2,D89*0.7+E89*0.5+F89*0.2+G89*0.8+H89+I89*0.2+J89+K89*0.3+L89+M89*0.5+N89*0.2,IF(B89=data!$B$3,D89*0.1+E89*0.4+F89*0.3+G89*0.1+H89+J89+K89*0.5+L89+M89*0.4,IF(B89=data!$B$4,D89*0.6+E89*0.8+F89*0.7+G89+H89+J89+L89+N89,IF(B89=data!$B$5,D89*0.7+E89*0.8+F89+I89*0.7+J89+L89,\"zvolte typ stavby\"))))","v":38.4},{"$f":"IF(B89=data!$B$2,(O89*10)/6.4,IF(B89=data!$B$3,(O89*10)/4.8,IF(B89=data!$B$4,(O89*10)/7.1,IF(B89=data!$B$5,(O89*10)/5.2,\"zvolte typ stavby\"))))","v":60},72850000]
["II/106 Krňany, obchvat","novostavba (obchvat, přeložka, propojka)","-",3,10,10,0,0,10,4,0,2,0,0,{"$f":"IF(B90=data!$B$2,D90*0.7+E90*0.5+F90*0.2+G90*0.8+H90+I90*0.2+J90+K90*0.3+L90+M90*0.5+N90*0.2,IF(B90=data!$B$3,D90*0.1+E90*0.4+F90*0.3+G90*0.1+H90+J90+K90*0.5+L90+M90*0.4,IF(B90=data!$B$4,D90*0.6+E90*0.8+F90*0.7+G90+H90+J90+L90+N90,IF(B90=data!$B$5,D90*0.7+E90*0.8+F90+I90*0.7+J90+L90,\"zvolte typ stavby\"))))","v":33.1},{"$f":"IF(B90=data!$B$2,(O90*10)/6.4,IF(B90=data!$B$3,(O90*10)/4.8,IF(B90=data!$B$4,(O90*10)/7.1,IF(B90=data!$B$5,(O90*10)/5.2,\"zvolte typ stavby\"))))","v":63.653846153846153},71750000]
["II/106, most ev.č. 106 – 001 Štěchovice","mostní objekty a propustky","Most",5,10,10,6,6,10,10,10,10,10,0,{"$f":"IF(B91=data!$B$2,D91*0.7+E91*0.5+F91*0.2+G91*0.8+H91+I91*0.2+J91+K91*0.3+L91+M91*0.5+N91*0.2,IF(B91=data!$B$3,D91*0.1+E91*0.4+F91*0.3+G91*0.1+H91+J91+K91*0.5+L91+M91*0.4,IF(B91=data!$B$4,D91*0.6+E91*0.8+F91*0.7+G91+H91+J91+L91+N91,IF(B91=data!$B$5,D91*0.7+E91*0.8+F91+I91*0.7+J91+L91,\"zvolte typ stavby\"))))","v":43.1},{"$f":"IF(B91=data!$B$2,(O91*10)/6.4,IF(B91=data!$B$3,(O91*10)/4.8,IF(B91=data!$B$4,(O91*10)/7.1,IF(B91=data!$B$5,(O91*10)/5.2,\"zvolte typ stavby\"))))","v":89.791666666666671},140000000,null,"Předpokládaný termmín realizace 06/2023-12/2024"]
["II/111 Šternov - Český Šternbek","oprava a rekonstrukce","Rekonstrukce",3,0,10,10,10,10,7,0,2,10,10,{"$f":"IF(B92=data!$B$2,D92*0.7+E92*0.5+F92*0.2+G92*0.8+H92+I92*0.2+J92+K92*0.3+L92+M92*0.5+N92*0.2,IF(B92=data!$B$3,D92*0.1+E92*0.4+F92*0.3+G92*0.1+H92+J92+K92*0.5+L92+M92*0.4,IF(B92=data!$B$4,D92*0.6+E92*0.8+F92*0.7+G92+H92+J92+L92+N92,IF(B92=data!$B$5,D92*0.7+E92*0.8+F92+I92*0.7+J92+L92,\"zvolte typ stavby\"))))","v":40.1},{"$f":"IF(B92=data!$B$2,(O92*10)/6.4,IF(B92=data!$B$3,(O92*10)/4.8,IF(B92=data!$B$4,(O92*10)/7.1,IF(B92=data!$B$5,(O92*10)/5.2,\"zvolte typ stavby\"))))","v":62.65625},70000000]
["II/331 Brandýs nad Labem - I/9, rekonstrukce silnice\netapa IV","oprava a rekonstrukce","Rekonstrukce",4,10,10,6,10,10,10,0,5,10,10,{"$f":"IF(B93=data!$B$2,D93*0.7+E93*0.5+F93*0.2+G93*0.8+H93+I93*0.2+J93+K93*0.3+L93+M93*0.5+N93*0.2,IF(B93=data!$B$3,D93*0.1+E93*0.4+F93*0.3+G93*0.1+H93+J93+K93*0.5+L93+M93*0.4,IF(B93=data!$B$4,D93*0.6+E93*0.8+F93*0.7+G93+H93+J93+L93+N93,IF(B93=data!$B$5,D93*0.7+E93*0.8+F93+I93*0.7+J93+L93,\"zvolte typ stavby\"))))","v":48.6},{"$f":"IF(B93=data!$B$2,(O93*10)/6.4,IF(B93=data!$B$3,(O93*10)/4.8,IF(B93=data!$B$4,(O93*10)/7.1,IF(B93=data!$B$5,(O93*10)/5.2,\"zvolte typ stavby\"))))","v":75.9375},70000000]
["III/2722 Semice, rekonstrukce","oprava a rekonstrukce","Rekonstrukce",3,0,5,10,10,10,10,10,8,10,0,{"$f":"IF(B94=data!$B$2,D94*0.7+E94*0.5+F94*0.2+G94*0.8+H94+I94*0.2+J94+K94*0.3+L94+M94*0.5+N94*0.2,IF(B94=data!$B$3,D94*0.1+E94*0.4+F94*0.3+G94*0.1+H94+J94+K94*0.5+L94+M94*0.4,IF(B94=data!$B$4,D94*0.6+E94*0.8+F94*0.7+G94+H94+J94+L94+N94,IF(B94=data!$B$5,D94*0.7+E94*0.8+F94+I94*0.7+J94+L94,\"zvolte typ stavby\"))))","v":49.1},{"$f":"IF(B94=data!$B$2,(O94*10)/6.4,IF(B94=data!$B$3,(O94*10)/4.8,IF(B94=data!$B$4,(O94*10)/7.1,IF(B94=data!$B$5,(O94*10)/5.2,\"zvolte typ stavby\"))))","v":76.71875},70000000]
["II/107 Kamenice, II. etapa","oprava a rekonstrukce","Rekonstrukce",3,10,10,6,6,10,7,0,5,10,4,{"$f":"IF(B95=data!$B$2,D95*0.7+E95*0.5+F95*0.2+G95*0.8+H95+I95*0.2+J95+K95*0.3+L95+M95*0.5+N95*0.2,IF(B95=data!$B$3,D95*0.1+E95*0.4+F95*0.3+G95*0.1+H95+J95+K95*0.5+L95+M95*0.4,IF(B95=data!$B$4,D95*0.6+E95*0.8+F95*0.7+G95+H95+J95+L95+N95,IF(B95=data!$B$5,D95*0.7+E95*0.8+F95+I95*0.7+J95+L95,\"zvolte typ stavby\"))))","v":39.699999999999996},{"$f":"IF(B95=data!$B$2,(O95*10)/6.4,IF(B95=data!$B$3,(O95*10)/4.8,IF(B95=data!$B$4,(O95*10)/7.1,IF(B95=data!$B$5,(O95*10)/5.2,\"zvolte typ stavby\"))))","v":62.031249999999986},69000000]
["II/610 Svijany, most ev.č. 610-035 přes Jizeru před obcí Svijany","mostní objekty a propustky","Most",3,0,10,6,6,0,7,0,5,10,0,{"$f":"IF(B96=data!$B$2,D96*0.7+E96*0.5+F96*0.2+G96*0.8+H96+I96*0.2+J96+K96*0.3+L96+M96*0.5+N96*0.2,IF(B96=data!$B$3,D96*0.1+E96*0.4+F96*0.3+G96*0.1+H96+J96+K96*0.5+L96+M96*0.4,IF(B96=data!$B$4,D96*0.6+E96*0.8+F96*0.7+G96+H96+J96+L96+N96,IF(B96=data!$B$5,D96*0.7+E96*0.8+F96+I96*0.7+J96+L96,\"zvolte typ stavby\"))))","v":25.9},{"$f":"IF(B96=data!$B$2,(O96*10)/6.4,IF(B96=data!$B$3,(O96*10)/4.8,IF(B96=data!$B$4,(O96*10)/7.1,IF(B96=data!$B$5,(O96*10)/5.2,\"zvolte typ stavby\"))))","v":53.958333333333336},68546000,null,"Předpokládaný termmín realizace 03/2024-12/2024"]
["III/33355 Kutná Hora, ul. Gruntecká","oprava a rekonstrukce","Rekonstrukce",3,10,6,6,6,10,7,0,10,10,4,{"$f":"IF(B97=data!$B$2,D97*0.7+E97*0.5+F97*0.2+G97*0.8+H97+I97*0.2+J97+K97*0.3+L97+M97*0.5+N97*0.2,IF(B97=data!$B$3,D97*0.1+E97*0.4+F97*0.3+G97*0.1+H97+J97+K97*0.5+L97+M97*0.4,IF(B97=data!$B$4,D97*0.6+E97*0.8+F97*0.7+G97+H97+J97+L97+N97,IF(B97=data!$B$5,D97*0.7+E97*0.8+F97+I97*0.7+J97+L97,\"zvolte typ stavby\"))))","v":43.9},{"$f":"IF(B97=data!$B$2,(O97*10)/6.4,IF(B97=data!$B$3,(O97*10)/4.8,IF(B97=data!$B$4,(O97*10)/7.1,IF(B97=data!$B$5,(O97*10)/5.2,\"zvolte typ stavby\"))))","v":68.59375},67196795.629999995]
["II/272 Chotětov - Bezno","oprava a rekonstrukce","Souvislá údržba",3,10,10,6,6,10,7,0,10,10,4,{"$f":"IF(B98=data!$B$2,D98*0.7+E98*0.5+F98*0.2+G98*0.8+H98+I98*0.2+J98+K98*0.3+L98+M98*0.5+N98*0.2,IF(B98=data!$B$3,D98*0.1+E98*0.4+F98*0.3+G98*0.1+H98+J98+K98*0.5+L98+M98*0.4,IF(B98=data!$B$4,D98*0.6+E98*0.8+F98*0.7+G98+H98+J98+L98+N98,IF(B98=data!$B$5,D98*0.7+E98*0.8+F98+I98*0.7+J98+L98,\"zvolte typ stavby\"))))","v":44.699999999999996},{"$f":"IF(B98=data!$B$2,(O98*10)/6.4,IF(B98=data!$B$3,(O98*10)/4.8,IF(B98=data!$B$4,(O98*10)/7.1,IF(B98=data!$B$5,(O98*10)/5.2,\"zvolte typ stavby\"))))","v":69.843749999999986},67088737.170000002]
[" III/0066, III/00711, III/00716 Hřebeč, rekonstrukce silnic I.etapa","oprava a rekonstrukce","Souvislá údržba",4,10,6,6,6,10,7,0,10,10,2,{"$f":"IF(B99=data!$B$2,D99*0.7+E99*0.5+F99*0.2+G99*0.8+H99+I99*0.2+J99+K99*0.3+L99+M99*0.5+N99*0.2,IF(B99=data!$B$3,D99*0.1+E99*0.4+F99*0.3+G99*0.1+H99+J99+K99*0.5+L99+M99*0.4,IF(B99=data!$B$4,D99*0.6+E99*0.8+F99*0.7+G99+H99+J99+L99+N99,IF(B99=data!$B$5,D99*0.7+E99*0.8+F99+I99*0.7+J99+L99,\"zvolte typ stavby\"))))","v":44.199999999999996},{"$f":"IF(B99=data!$B$2,(O99*10)/6.4,IF(B99=data!$B$3,(O99*10)/4.8,IF(B99=data!$B$4,(O99*10)/7.1,IF(B99=data!$B$5,(O99*10)/5.2,\"zvolte typ stavby\"))))","v":69.062499999999986},25000000]
[" III/0066, III/00711, III/00716 Hřebeč, rekonstrukce silnic II.etapa","oprava a rekonstrukce","Rekonstrukce",4,10,6,6,6,10,7,0,10,10,2,{"$f":"IF(B100=data!$B$2,D100*0.7+E100*0.5+F100*0.2+G100*0.8+H100+I100*0.2+J100+K100*0.3+L100+M100*0.5+N100*0.2,IF(B100=data!$B$3,D100*0.1+E100*0.4+F100*0.3+G100*0.1+H100+J100+K100*0.5+L100+M100*0.4,IF(B100=data!$B$4,D100*0.6+E100*0.8+F100*0.7+G100+H100+J100+L100+N100,IF(B100=data!$B$5,D100*0.7+E100*0.8+F100+I100*0.7+J100+L100,\"zvolte typ stavby\"))))","v":44.199999999999996},{"$f":"IF(B100=data!$B$2,(O100*10)/6.4,IF(B100=data!$B$3,(O100*10)/4.8,IF(B100=data!$B$4,(O100*10)/7.1,IF(B100=data!$B$5,(O100*10)/5.2,\"zvolte typ stavby\"))))","v":69.062499999999986},45000000]
["II/240,III/2404 Horoměřice-PD","oprava a rekonstrukce","Rekonstrukce",6,10,10,3,6,1,10,0,2,10,7,{"$f":"IF(B101=data!$B$2,D101*0.7+E101*0.5+F101*0.2+G101*0.8+H101+I101*0.2+J101+K101*0.3+L101+M101*0.5+N101*0.2,IF(B101=data!$B$3,D101*0.1+E101*0.4+F101*0.3+G101*0.1+H101+J101+K101*0.5+L101+M101*0.4,IF(B101=data!$B$4,D101*0.6+E101*0.8+F101*0.7+G101+H101+J101+L101+N101,IF(B101=data!$B$5,D101*0.7+E101*0.8+F101+I101*0.7+J101+L101,\"zvolte typ stavby\"))))","v":38.199999999999996},{"$f":"IF(B101=data!$B$2,(O101*10)/6.4,IF(B101=data!$B$3,(O101*10)/4.8,IF(B101=data!$B$4,(O101*10)/7.1,IF(B101=data!$B$5,(O101*10)/5.2,\"zvolte typ stavby\"))))","v":59.687499999999986},66754000]
["III/3399 a III/33914 Vlastějovice - Pavlovice","oprava a rekonstrukce","Rekonstrukce",3,0,5,3,6,1,4,0,10,10,2,{"$f":"IF(B102=data!$B$2,D102*0.7+E102*0.5+F102*0.2+G102*0.8+H102+I102*0.2+J102+K102*0.3+L102+M102*0.5+N102*0.2,IF(B102=data!$B$3,D102*0.1+E102*0.4+F102*0.3+G102*0.1+H102+J102+K102*0.5+L102+M102*0.4,IF(B102=data!$B$4,D102*0.6+E102*0.8+F102*0.7+G102+H102+J102+L102+N102,IF(B102=data!$B$5,D102*0.7+E102*0.8+F102+I102*0.7+J102+L102,\"zvolte typ stavby\"))))","v":31.099999999999998},{"$f":"IF(B102=data!$B$2,(O102*10)/6.4,IF(B102=data!$B$3,(O102*10)/4.8,IF(B102=data!$B$4,(O102*10)/7.1,IF(B102=data!$B$5,(O102*10)/5.2,\"zvolte typ stavby\"))))","v":48.59375},115000000,null,null,null,"IROP 2"]
[" III/1024 a III/1025 Čisovice, mosty ev.č. 1024-2, 1024-4 a 1025-2","mostní objekty a propustky","Most",2,0,5,6,6,0,4,0,5,10,0,{"$f":"IF(B103=data!$B$2,D103*0.7+E103*0.5+F103*0.2+G103*0.8+H103+I103*0.2+J103+K103*0.3+L103+M103*0.5+N103*0.2,IF(B103=data!$B$3,D103*0.1+E103*0.4+F103*0.3+G103*0.1+H103+J103+K103*0.5+L103+M103*0.4,IF(B103=data!$B$4,D103*0.6+E103*0.8+F103*0.7+G103+H103+J103+L103+N103,IF(B103=data!$B$5,D103*0.7+E103*0.8+F103+I103*0.7+J103+L103,\"zvolte typ stavby\"))))","v":21.3},{"$f":"IF(B103=data!$B$2,(O103*10)/6.4,IF(B103=data!$B$3,(O103*10)/4.8,IF(B103=data!$B$4,(O103*10)/7.1,IF(B103=data!$B$5,(O103*10)/5.2,\"zvolte typ stavby\"))))","v":44.375},65000000,null,"Předpokládaný termmín realizace 03/2024-12/2024",null,"IROP 2"]
["II/120 Sedlec - Prčice - hr. Kraje 16,976-11,566 km ","oprava a rekonstrukce","Rekonstrukce",4,10,10,6,6,10,7,0,10,10,7,{"$f":"IF(B104=data!$B$2,D104*0.7+E104*0.5+F104*0.2+G104*0.8+H104+I104*0.2+J104+K104*0.3+L104+M104*0.5+N104*0.2,IF(B104=data!$B$3,D104*0.1+E104*0.4+F104*0.3+G104*0.1+H104+J104+K104*0.5+L104+M104*0.4,IF(B104=data!$B$4,D104*0.6+E104*0.8+F104*0.7+G104+H104+J104+L104+N104,IF(B104=data!$B$5,D104*0.7+E104*0.8+F104+I104*0.7+J104+L104,\"zvolte typ stavby\"))))","v":46},{"$f":"IF(B104=data!$B$2,(O104*10)/6.4,IF(B104=data!$B$3,(O104*10)/4.8,IF(B104=data!$B$4,(O104*10)/7.1,IF(B104=data!$B$5,(O104*10)/5.2,\"zvolte typ stavby\"))))","v":71.875},159500000,null,"Předpoklad SFDI nebo IROP dle možností v době dokončení"]
["III/1025 Čísovice - Bojov, havarijní stav silnice - PD","oprava a rekonstrukce","Rekonstrukce",1,10,5,6,6,0,2,10,5,10,2,{"$f":"IF(B105=data!$B$2,D105*0.7+E105*0.5+F105*0.2+G105*0.8+H105+I105*0.2+J105+K105*0.3+L105+M105*0.5+N105*0.2,IF(B105=data!$B$3,D105*0.1+E105*0.4+F105*0.3+G105*0.1+H105+J105+K105*0.5+L105+M105*0.4,IF(B105=data!$B$4,D105*0.6+E105*0.8+F105*0.7+G105+H105+J105+L105+N105,IF(B105=data!$B$5,D105*0.7+E105*0.8+F105+I105*0.7+J105+L105,\"zvolte typ stavby\"))))","v":32.9},{"$f":"IF(B105=data!$B$2,(O105*10)/6.4,IF(B105=data!$B$3,(O105*10)/4.8,IF(B105=data!$B$4,(O105*10)/7.1,IF(B105=data!$B$5,(O105*10)/5.2,\"zvolte typ stavby\"))))","v":51.40625},65000000]
["II/116 Hostim a Nižbor a II/201 Višňová - Nezabudice, nestabilní skalní masiv","řešení bodové závady a/nebo bezpečnostního rizika (křižovatky, opěrné zdi, skalní masivy)","-",4,10,10,10,10,0,2,0,2,0,4,{"$f":"IF(B106=data!$B$2,D106*0.7+E106*0.5+F106*0.2+G106*0.8+H106+I106*0.2+J106+K106*0.3+L106+M106*0.5+N106*0.2,IF(B106=data!$B$3,D106*0.1+E106*0.4+F106*0.3+G106*0.1+H106+J106+K106*0.5+L106+M106*0.4,IF(B106=data!$B$4,D106*0.6+E106*0.8+F106*0.7+G106+H106+J106+L106+N106,IF(B106=data!$B$5,D106*0.7+E106*0.8+F106+I106*0.7+J106+L106,\"zvolte typ stavby\"))))","v":45.4},{"$f":"IF(B106=data!$B$2,(O106*10)/6.4,IF(B106=data!$B$3,(O106*10)/4.8,IF(B106=data!$B$4,(O106*10)/7.1,IF(B106=data!$B$5,(O106*10)/5.2,\"zvolte typ stavby\"))))","v":63.943661971830991},64130000,null,null,null,"IROP 2"]
["III/0042 Líšnice, rekonstrukce silnice","oprava a rekonstrukce","Rekonstrukce",5,10,7,6,6,10,10,0,10,10,2,{"$f":"IF(B107=data!$B$2,D107*0.7+E107*0.5+F107*0.2+G107*0.8+H107+I107*0.2+J107+K107*0.3+L107+M107*0.5+N107*0.2,IF(B107=data!$B$3,D107*0.1+E107*0.4+F107*0.3+G107*0.1+H107+J107+K107*0.5+L107+M107*0.4,IF(B107=data!$B$4,D107*0.6+E107*0.8+F107*0.7+G107+H107+J107+L107+N107,IF(B107=data!$B$5,D107*0.7+E107*0.8+F107+I107*0.7+J107+L107,\"zvolte typ stavby\"))))","v":48.1},{"$f":"IF(B107=data!$B$2,(O107*10)/6.4,IF(B107=data!$B$3,(O107*10)/4.8,IF(B107=data!$B$4,(O107*10)/7.1,IF(B107=data!$B$5,(O107*10)/5.2,\"zvolte typ stavby\"))))","v":75.15625},64000000,null,"Předpoklad SFDI nebo IROP dle možností v době dokončení"]
["II/116,III/1164 a III/1164A, průtah obcí Hýskov-PD","oprava a rekonstrukce","Rekonstrukce",4,10,10,6,6,10,7,0,8,10,2,{"$f":"IF(B108=data!$B$2,D108*0.7+E108*0.5+F108*0.2+G108*0.8+H108+I108*0.2+J108+K108*0.3+L108+M108*0.5+N108*0.2,IF(B108=data!$B$3,D108*0.1+E108*0.4+F108*0.3+G108*0.1+H108+J108+K108*0.5+L108+M108*0.4,IF(B108=data!$B$4,D108*0.6+E108*0.8+F108*0.7+G108+H108+J108+L108+N108,IF(B108=data!$B$5,D108*0.7+E108*0.8+F108+I108*0.7+J108+L108,\"zvolte typ stavby\"))))","v":43},{"$f":"IF(B108=data!$B$2,(O108*10)/6.4,IF(B108=data!$B$3,(O108*10)/4.8,IF(B108=data!$B$4,(O108*10)/7.1,IF(B108=data!$B$5,(O108*10)/5.2,\"zvolte typ stavby\"))))","v":67.1875},63024287.380000003,null,null,null,"IROP 2"]
["III-00315,III-10113 Radlík-Kostelec u Křížků - I. Etapa","oprava a rekonstrukce","Souvislá údržba",3,10,5,6,6,1,7,0,10,10,7,{"$f":"IF(B109=data!$B$2,D109*0.7+E109*0.5+F109*0.2+G109*0.8+H109+I109*0.2+J109+K109*0.3+L109+M109*0.5+N109*0.2,IF(B109=data!$B$3,D109*0.1+E109*0.4+F109*0.3+G109*0.1+H109+J109+K109*0.5+L109+M109*0.4,IF(B109=data!$B$4,D109*0.6+E109*0.8+F109*0.7+G109+H109+J109+L109+N109,IF(B109=data!$B$5,D109*0.7+E109*0.8+F109+I109*0.7+J109+L109,\"zvolte typ stavby\"))))","v":42.499999999999993},{"$f":"IF(B109=data!$B$2,(O109*10)/6.4,IF(B109=data!$B$3,(O109*10)/4.8,IF(B109=data!$B$4,(O109*10)/7.1,IF(B109=data!$B$5,(O109*10)/5.2,\"zvolte typ stavby\"))))","v":66.406249999999986},61185500.450000003]
["II/110 Ostředek - Sázava etapa 3","oprava a rekonstrukce","Rekonstrukce",3,10,10,3,6,1,4,10,2,0,0,{"$f":"IF(B110=data!$B$2,D110*0.7+E110*0.5+F110*0.2+G110*0.8+H110+I110*0.2+J110+K110*0.3+L110+M110*0.5+N110*0.2,IF(B110=data!$B$3,D110*0.1+E110*0.4+F110*0.3+G110*0.1+H110+J110+K110*0.5+L110+M110*0.4,IF(B110=data!$B$4,D110*0.6+E110*0.8+F110*0.7+G110+H110+J110+L110+N110,IF(B110=data!$B$5,D110*0.7+E110*0.8+F110+I110*0.7+J110+L110,\"zvolte typ stavby\"))))","v":26.7},{"$f":"IF(B110=data!$B$2,(O110*10)/6.4,IF(B110=data!$B$3,(O110*10)/4.8,IF(B110=data!$B$4,(O110*10)/7.1,IF(B110=data!$B$5,(O110*10)/5.2,\"zvolte typ stavby\"))))","v":41.71875},61000000,null,"Nutné realizovat s Lysá obchvat 2. stavba",null,"IROP 2"]
["II/334 Sadská - Milčice","oprava a rekonstrukce","Rekonstrukce",2,10,10,3,6,10,4,0,5,10,4,{"$f":"IF(B111=data!$B$2,D111*0.7+E111*0.5+F111*0.2+G111*0.8+H111+I111*0.2+J111+K111*0.3+L111+M111*0.5+N111*0.2,IF(B111=data!$B$3,D111*0.1+E111*0.4+F111*0.3+G111*0.1+H111+J111+K111*0.5+L111+M111*0.4,IF(B111=data!$B$4,D111*0.6+E111*0.8+F111*0.7+G111+H111+J111+L111+N111,IF(B111=data!$B$5,D111*0.7+E111*0.8+F111+I111*0.7+J111+L111,\"zvolte typ stavby\"))))","v":33.599999999999994},{"$f":"IF(B111=data!$B$2,(O111*10)/6.4,IF(B111=data!$B$3,(O111*10)/4.8,IF(B111=data!$B$4,(O111*10)/7.1,IF(B111=data!$B$5,(O111*10)/5.2,\"zvolte typ stavby\"))))","v":52.499999999999986},60000000]
["III/1057 Oprava komunikace na hrázi Dunávického rybníka, PD ","oprava a rekonstrukce","Rekonstrukce",1,0,5,10,10,10,7,0,10,10,4,{"$f":"IF(B112=data!$B$2,D112*0.7+E112*0.5+F112*0.2+G112*0.8+H112+I112*0.2+J112+K112*0.3+L112+M112*0.5+N112*0.2,IF(B112=data!$B$3,D112*0.1+E112*0.4+F112*0.3+G112*0.1+H112+J112+K112*0.5+L112+M112*0.4,IF(B112=data!$B$4,D112*0.6+E112*0.8+F112*0.7+G112+H112+J112+L112+N112,IF(B112=data!$B$5,D112*0.7+E112*0.8+F112+I112*0.7+J112+L112,\"zvolte typ stavby\"))))","v":44.5},{"$f":"IF(B112=data!$B$2,(O112*10)/6.4,IF(B112=data!$B$3,(O112*10)/4.8,IF(B112=data!$B$4,(O112*10)/7.1,IF(B112=data!$B$5,(O112*10)/5.2,\"zvolte typ stavby\"))))","v":69.53125},60000000,null,null,null,"IROP 2"]
[",,II/610 Předměřice, most ev.č. 610-020 inundaci Jizery u Předměřic - PD\"","mostní objekty a propustky","Most",3,10,10,6,6,10,10,0,8,10,0,{"$f":"IF(B113=data!$B$2,D113*0.7+E113*0.5+F113*0.2+G113*0.8+H113+I113*0.2+J113+K113*0.3+L113+M113*0.5+N113*0.2,IF(B113=data!$B$3,D113*0.1+E113*0.4+F113*0.3+G113*0.1+H113+J113+K113*0.5+L113+M113*0.4,IF(B113=data!$B$4,D113*0.6+E113*0.8+F113*0.7+G113+H113+J113+L113+N113,IF(B113=data!$B$5,D113*0.7+E113*0.8+F113+I113*0.7+J113+L113,\"zvolte typ stavby\"))))","v":35.9},{"$f":"IF(B113=data!$B$2,(O113*10)/6.4,IF(B113=data!$B$3,(O113*10)/4.8,IF(B113=data!$B$4,(O113*10)/7.1,IF(B113=data!$B$5,(O113*10)/5.2,\"zvolte typ stavby\"))))","v":74.791666666666671},60000000,null,"Předpokládaný termmín realizace 07/2024-07/2025. V případě komplpikací s NPÚ realizace 2024."]
[",,II/276 Bakov, most ev.č. 276-006 přes Jizeru před Bakovem n/J “","mostní objekty a propustky","Most",4,0,10,6,6,0,10,0,5,10,0,{"$f":"IF(B114=data!$B$2,D114*0.7+E114*0.5+F114*0.2+G114*0.8+H114+I114*0.2+J114+K114*0.3+L114+M114*0.5+N114*0.2,IF(B114=data!$B$3,D114*0.1+E114*0.4+F114*0.3+G114*0.1+H114+J114+K114*0.5+L114+M114*0.4,IF(B114=data!$B$4,D114*0.6+E114*0.8+F114*0.7+G114+H114+J114+L114+N114,IF(B114=data!$B$5,D114*0.7+E114*0.8+F114+I114*0.7+J114+L114,\"zvolte typ stavby\"))))","v":29},{"$f":"IF(B114=data!$B$2,(O114*10)/6.4,IF(B114=data!$B$3,(O114*10)/4.8,IF(B114=data!$B$4,(O114*10)/7.1,IF(B114=data!$B$5,(O114*10)/5.2,\"zvolte typ stavby\"))))","v":60.416666666666671},59800000,null,"Předpokládaný termmín realizace 03/2024-06/2025"]
["III/1023 Masečín","oprava a rekonstrukce","Souvislá údržba",2,10,5,6,6,10,4,10,10,10,2,{"$f":"IF(B115=data!$B$2,D115*0.7+E115*0.5+F115*0.2+G115*0.8+H115+I115*0.2+J115+K115*0.3+L115+M115*0.5+N115*0.2,IF(B115=data!$B$3,D115*0.1+E115*0.4+F115*0.3+G115*0.1+H115+J115+K115*0.5+L115+M115*0.4,IF(B115=data!$B$4,D115*0.6+E115*0.8+F115*0.7+G115+H115+J115+L115+N115,IF(B115=data!$B$5,D115*0.7+E115*0.8+F115+I115*0.7+J115+L115,\"zvolte typ stavby\"))))","v":42.6},{"$f":"IF(B115=data!$B$2,(O115*10)/6.4,IF(B115=data!$B$3,(O115*10)/4.8,IF(B115=data!$B$4,(O115*10)/7.1,IF(B115=data!$B$5,(O115*10)/5.2,\"zvolte typ stavby\"))))","v":66.5625},57765622.049999997,null,"Předpokiládaný termín realizace během stavební sezony 2023"]
["III/1021 Měchenice, rekonstrukce silnice","oprava a rekonstrukce","Rekonstrukce",3,10,5,6,6,10,4,0,10,10,2,{"$f":"IF(B116=data!$B$2,D116*0.7+E116*0.5+F116*0.2+G116*0.8+H116+I116*0.2+J116+K116*0.3+L116+M116*0.5+N116*0.2,IF(B116=data!$B$3,D116*0.1+E116*0.4+F116*0.3+G116*0.1+H116+J116+K116*0.5+L116+M116*0.4,IF(B116=data!$B$4,D116*0.6+E116*0.8+F116*0.7+G116+H116+J116+L116+N116,IF(B116=data!$B$5,D116*0.7+E116*0.8+F116+I116*0.7+J116+L116,\"zvolte typ stavby\"))))","v":40.299999999999997},{"$f":"IF(B116=data!$B$2,(O116*10)/6.4,IF(B116=data!$B$3,(O116*10)/4.8,IF(B116=data!$B$4,(O116*10)/7.1,IF(B116=data!$B$5,(O116*10)/5.2,\"zvolte typ stavby\"))))","v":62.96875},56466520]
["III/10140 Cvrčovice, rekonstrukce silnice","oprava a rekonstrukce","Souvislá údržba",3,10,6,6,6,10,7,10,10,10,7,{"$f":"IF(B117=data!$B$2,D117*0.7+E117*0.5+F117*0.2+G117*0.8+H117+I117*0.2+J117+K117*0.3+L117+M117*0.5+N117*0.2,IF(B117=data!$B$3,D117*0.1+E117*0.4+F117*0.3+G117*0.1+H117+J117+K117*0.5+L117+M117*0.4,IF(B117=data!$B$4,D117*0.6+E117*0.8+F117*0.7+G117+H117+J117+L117+N117,IF(B117=data!$B$5,D117*0.7+E117*0.8+F117+I117*0.7+J117+L117,\"zvolte typ stavby\"))))","v":47.5},{"$f":"IF(B117=data!$B$2,(O117*10)/6.4,IF(B117=data!$B$3,(O117*10)/4.8,IF(B117=data!$B$4,(O117*10)/7.1,IF(B117=data!$B$5,(O117*10)/5.2,\"zvolte typ stavby\"))))","v":74.21875},79000000]
["Černuc - obchvat","novostavba (obchvat, přeložka, propojka)","-",3,10,10,0,0,10,4,0,2,0,0,{"$f":"IF(B118=data!$B$2,D118*0.7+E118*0.5+F118*0.2+G118*0.8+H118+I118*0.2+J118+K118*0.3+L118+M118*0.5+N118*0.2,IF(B118=data!$B$3,D118*0.1+E118*0.4+F118*0.3+G118*0.1+H118+J118+K118*0.5+L118+M118*0.4,IF(B118=data!$B$4,D118*0.6+E118*0.8+F118*0.7+G118+H118+J118+L118+N118,IF(B118=data!$B$5,D118*0.7+E118*0.8+F118+I118*0.7+J118+L118,\"zvolte typ stavby\"))))","v":33.1},{"$f":"IF(B118=data!$B$2,(O118*10)/6.4,IF(B118=data!$B$3,(O118*10)/4.8,IF(B118=data!$B$4,(O118*10)/7.1,IF(B118=data!$B$5,(O118*10)/5.2,\"zvolte typ stavby\"))))","v":63.653846153846153},55000000]
["II/115 Praha - Lety, rekonstrukce","oprava a rekonstrukce","Rekonstrukce",7,10,10,6,10,10,10,0,5,10,10,{"$f":"IF(B119=data!$B$2,D119*0.7+E119*0.5+F119*0.2+G119*0.8+H119+I119*0.2+J119+K119*0.3+L119+M119*0.5+N119*0.2,IF(B119=data!$B$3,D119*0.1+E119*0.4+F119*0.3+G119*0.1+H119+J119+K119*0.5+L119+M119*0.4,IF(B119=data!$B$4,D119*0.6+E119*0.8+F119*0.7+G119+H119+J119+L119+N119,IF(B119=data!$B$5,D119*0.7+E119*0.8+F119+I119*0.7+J119+L119,\"zvolte typ stavby\"))))","v":50.7},{"$f":"IF(B119=data!$B$2,(O119*10)/6.4,IF(B119=data!$B$3,(O119*10)/4.8,IF(B119=data!$B$4,(O119*10)/7.1,IF(B119=data!$B$5,(O119*10)/5.2,\"zvolte typ stavby\"))))","v":79.21875},54999999.450000003]
["III/23915 Dřínov - Drchkov","oprava a rekonstrukce","Rekonstrukce",3,10,5,3,10,10,2,0,8,10,4,{"$f":"IF(B120=data!$B$2,D120*0.7+E120*0.5+F120*0.2+G120*0.8+H120+I120*0.2+J120+K120*0.3+L120+M120*0.5+N120*0.2,IF(B120=data!$B$3,D120*0.1+E120*0.4+F120*0.3+G120*0.1+H120+J120+K120*0.5+L120+M120*0.4,IF(B120=data!$B$4,D120*0.6+E120*0.8+F120*0.7+G120+H120+J120+L120+N120,IF(B120=data!$B$5,D120*0.7+E120*0.8+F120+I120*0.7+J120+L120,\"zvolte typ stavby\"))))","v":38.299999999999997},{"$f":"IF(B120=data!$B$2,(O120*10)/6.4,IF(B120=data!$B$3,(O120*10)/4.8,IF(B120=data!$B$4,(O120*10)/7.1,IF(B120=data!$B$5,(O120*10)/5.2,\"zvolte typ stavby\"))))","v":59.84375},56000000,null,"Předpoklad SFDI nebo IROP dle možností v době dokončení"]
["III/24513 Rostoklaty, most ev.č. 24513-1 přes trať","mostní objekty a propustky","Most",2,0,5,6,6,0,7,10,5,10,0,{"$f":"IF(B121=data!$B$2,D121*0.7+E121*0.5+F121*0.2+G121*0.8+H121+I121*0.2+J121+K121*0.3+L121+M121*0.5+N121*0.2,IF(B121=data!$B$3,D121*0.1+E121*0.4+F121*0.3+G121*0.1+H121+J121+K121*0.5+L121+M121*0.4,IF(B121=data!$B$4,D121*0.6+E121*0.8+F121*0.7+G121+H121+J121+L121+N121,IF(B121=data!$B$5,D121*0.7+E121*0.8+F121+I121*0.7+J121+L121,\"zvolte typ stavby\"))))","v":29.3},{"$f":"IF(B121=data!$B$2,(O121*10)/6.4,IF(B121=data!$B$3,(O121*10)/4.8,IF(B121=data!$B$4,(O121*10)/7.1,IF(B121=data!$B$5,(O121*10)/5.2,\"zvolte typ stavby\"))))","v":61.041666666666671},54269000,null,"Předpokládaný termmín realizace 03/2024-12/2024",null,"IROP 2"]
["II/338 Žehušice - hr. Obl.","oprava a rekonstrukce","Rekonstrukce",2,0,10,6,6,10,7,0,2,10,2,{"$f":"IF(B122=data!$B$2,D122*0.7+E122*0.5+F122*0.2+G122*0.8+H122+I122*0.2+J122+K122*0.3+L122+M122*0.5+N122*0.2,IF(B122=data!$B$3,D122*0.1+E122*0.4+F122*0.3+G122*0.1+H122+J122+K122*0.5+L122+M122*0.4,IF(B122=data!$B$4,D122*0.6+E122*0.8+F122*0.7+G122+H122+J122+L122+N122,IF(B122=data!$B$5,D122*0.7+E122*0.8+F122+I122*0.7+J122+L122,\"zvolte typ stavby\"))))","v":30.6},{"$f":"IF(B122=data!$B$2,(O122*10)/6.4,IF(B122=data!$B$3,(O122*10)/4.8,IF(B122=data!$B$4,(O122*10)/7.1,IF(B122=data!$B$5,(O122*10)/5.2,\"zvolte typ stavby\"))))","v":47.8125},52000000]
["II/116 Nová Ves pod Pleší","oprava a rekonstrukce","Rekonstrukce",3,10,10,6,10,10,4,0,10,10,2,{"$f":"IF(B123=data!$B$2,D123*0.7+E123*0.5+F123*0.2+G123*0.8+H123+I123*0.2+J123+K123*0.3+L123+M123*0.5+N123*0.2,IF(B123=data!$B$3,D123*0.1+E123*0.4+F123*0.3+G123*0.1+H123+J123+K123*0.5+L123+M123*0.4,IF(B123=data!$B$4,D123*0.6+E123*0.8+F123*0.7+G123+H123+J123+L123+N123,IF(B123=data!$B$5,D123*0.7+E123*0.8+F123+I123*0.7+J123+L123,\"zvolte typ stavby\"))))","v":45.3},{"$f":"IF(B123=data!$B$2,(O123*10)/6.4,IF(B123=data!$B$3,(O123*10)/4.8,IF(B123=data!$B$4,(O123*10)/7.1,IF(B123=data!$B$5,(O123*10)/5.2,\"zvolte typ stavby\"))))","v":70.78125},64207000]
["II/106 Týnec nad Sázavou - Benešov - PD","oprava a rekonstrukce","Rekonstrukce",5,10,10,3,10,1,4,0,2,0,2,{"$f":"IF(B124=data!$B$2,D124*0.7+E124*0.5+F124*0.2+G124*0.8+H124+I124*0.2+J124+K124*0.3+L124+M124*0.5+N124*0.2,IF(B124=data!$B$3,D124*0.1+E124*0.4+F124*0.3+G124*0.1+H124+J124+K124*0.5+L124+M124*0.4,IF(B124=data!$B$4,D124*0.6+E124*0.8+F124*0.7+G124+H124+J124+L124+N124,IF(B124=data!$B$5,D124*0.7+E124*0.8+F124+I124*0.7+J124+L124,\"zvolte typ stavby\"))))","v":29.499999999999996},{"$f":"IF(B124=data!$B$2,(O124*10)/6.4,IF(B124=data!$B$3,(O124*10)/4.8,IF(B124=data!$B$4,(O124*10)/7.1,IF(B124=data!$B$5,(O124*10)/5.2,\"zvolte typ stavby\"))))","v":46.093749999999986},50000000,"-"]
["III/3321 Milovice (ul. Družstevní), rekonstrukce komunikace","oprava a rekonstrukce","Rekonstrukce",3,0,5,10,6,10,10,0,2,0,2,{"$f":"IF(B125=data!$B$2,D125*0.7+E125*0.5+F125*0.2+G125*0.8+H125+I125*0.2+J125+K125*0.3+L125+M125*0.5+N125*0.2,IF(B125=data!$B$3,D125*0.1+E125*0.4+F125*0.3+G125*0.1+H125+J125+K125*0.5+L125+M125*0.4,IF(B125=data!$B$4,D125*0.6+E125*0.8+F125*0.7+G125+H125+J125+L125+N125,IF(B125=data!$B$5,D125*0.7+E125*0.8+F125+I125*0.7+J125+L125,\"zvolte typ stavby\"))))","v":31.5},{"$f":"IF(B125=data!$B$2,(O125*10)/6.4,IF(B125=data!$B$3,(O125*10)/4.8,IF(B125=data!$B$4,(O125*10)/7.1,IF(B125=data!$B$5,(O125*10)/5.2,\"zvolte typ stavby\"))))","v":49.21875},50000000]
["II/111 Bystřice – křižovatka s III/11112","oprava a rekonstrukce","Rekonstrukce",2,10,10,3,3,10,4,0,8,10,4,{"$f":"IF(B126=data!$B$2,D126*0.7+E126*0.5+F126*0.2+G126*0.8+H126+I126*0.2+J126+K126*0.3+L126+M126*0.5+N126*0.2,IF(B126=data!$B$3,D126*0.1+E126*0.4+F126*0.3+G126*0.1+H126+J126+K126*0.5+L126+M126*0.4,IF(B126=data!$B$4,D126*0.6+E126*0.8+F126*0.7+G126+H126+J126+L126+N126,IF(B126=data!$B$5,D126*0.7+E126*0.8+F126+I126*0.7+J126+L126,\"zvolte typ stavby\"))))","v":33.599999999999994},{"$f":"IF(B126=data!$B$2,(O126*10)/6.4,IF(B126=data!$B$3,(O126*10)/4.8,IF(B126=data!$B$4,(O126*10)/7.1,IF(B126=data!$B$5,(O126*10)/5.2,\"zvolte typ stavby\"))))","v":52.499999999999986},96000000]
["II/335 Uhlířské Janovice – Staňkovice, rekonstrukce vozovky a  odstranění bodové závady_PD - II. etapa","oprava a rekonstrukce","Rekonstrukce",3,10,10,6,10,10,2,0,2,10,4,{"$f":"IF(B127=data!$B$2,D127*0.7+E127*0.5+F127*0.2+G127*0.8+H127+I127*0.2+J127+K127*0.3+L127+M127*0.5+N127*0.2,IF(B127=data!$B$3,D127*0.1+E127*0.4+F127*0.3+G127*0.1+H127+J127+K127*0.5+L127+M127*0.4,IF(B127=data!$B$4,D127*0.6+E127*0.8+F127*0.7+G127+H127+J127+L127+N127,IF(B127=data!$B$5,D127*0.7+E127*0.8+F127+I127*0.7+J127+L127,\"zvolte typ stavby\"))))","v":35.699999999999996},{"$f":"IF(B127=data!$B$2,(O127*10)/6.4,IF(B127=data!$B$3,(O127*10)/4.8,IF(B127=data!$B$4,(O127*10)/7.1,IF(B127=data!$B$5,(O127*10)/5.2,\"zvolte typ stavby\"))))","v":55.781249999999986},65000000]
["II/115 Řevnice - Vižina, rekonstrukce I. Etapa 2. část.  - PD","oprava a rekonstrukce","Rekonstrukce",3,10,10,3,6,10,4,0,5,10,0,{"$f":"IF(B128=data!$B$2,D128*0.7+E128*0.5+F128*0.2+G128*0.8+H128+I128*0.2+J128+K128*0.3+L128+M128*0.5+N128*0.2,IF(B128=data!$B$3,D128*0.1+E128*0.4+F128*0.3+G128*0.1+H128+J128+K128*0.5+L128+M128*0.4,IF(B128=data!$B$4,D128*0.6+E128*0.8+F128*0.7+G128+H128+J128+L128+N128,IF(B128=data!$B$5,D128*0.7+E128*0.8+F128+I128*0.7+J128+L128,\"zvolte typ stavby\"))))","v":33.5},{"$f":"IF(B128=data!$B$2,(O128*10)/6.4,IF(B128=data!$B$3,(O128*10)/4.8,IF(B128=data!$B$4,(O128*10)/7.1,IF(B128=data!$B$5,(O128*10)/5.2,\"zvolte typ stavby\"))))","v":52.34375},50000000]
["II/111 křižovatka s III/11112 - křižovatka s II/112","oprava a rekonstrukce","Rekonstrukce",3,10,9,3,10,1,4,0,10,10,0,{"$f":"IF(B129=data!$B$2,D129*0.7+E129*0.5+F129*0.2+G129*0.8+H129+I129*0.2+J129+K129*0.3+L129+M129*0.5+N129*0.2,IF(B129=data!$B$3,D129*0.1+E129*0.4+F129*0.3+G129*0.1+H129+J129+K129*0.5+L129+M129*0.4,IF(B129=data!$B$4,D129*0.6+E129*0.8+F129*0.7+G129+H129+J129+L129+N129,IF(B129=data!$B$5,D129*0.7+E129*0.8+F129+I129*0.7+J129+L129,\"zvolte typ stavby\"))))","v":40.5},{"$f":"IF(B129=data!$B$2,(O129*10)/6.4,IF(B129=data!$B$3,(O129*10)/4.8,IF(B129=data!$B$4,(O129*10)/7.1,IF(B129=data!$B$5,(O129*10)/5.2,\"zvolte typ stavby\"))))","v":63.28125},50000000,"-"]
["„III/27938 Obrubce – Dolní Bousov“, ","oprava a rekonstrukce","Rekonstrukce",4,10,5,6,6,10,4,0,8,10,10,{"$f":"IF(B130=data!$B$2,D130*0.7+E130*0.5+F130*0.2+G130*0.8+H130+I130*0.2+J130+K130*0.3+L130+M130*0.5+N130*0.2,IF(B130=data!$B$3,D130*0.1+E130*0.4+F130*0.3+G130*0.1+H130+J130+K130*0.5+L130+M130*0.4,IF(B130=data!$B$4,D130*0.6+E130*0.8+F130*0.7+G130+H130+J130+L130+N130,IF(B130=data!$B$5,D130*0.7+E130*0.8+F130+I130*0.7+J130+L130,\"zvolte typ stavby\"))))","v":40.6},{"$f":"IF(B130=data!$B$2,(O130*10)/6.4,IF(B130=data!$B$3,(O130*10)/4.8,IF(B130=data!$B$4,(O130*10)/7.1,IF(B130=data!$B$5,(O130*10)/5.2,\"zvolte typ stavby\"))))","v":63.4375},113991000]
["II/275 Luštěnice průtah, rekonstrukce","oprava a rekonstrukce","Rekonstrukce",5,0,10,10,10,10,10,0,2,10,2,{"$f":"IF(B131=data!$B$2,D131*0.7+E131*0.5+F131*0.2+G131*0.8+H131+I131*0.2+J131+K131*0.3+L131+M131*0.5+N131*0.2,IF(B131=data!$B$3,D131*0.1+E131*0.4+F131*0.3+G131*0.1+H131+J131+K131*0.5+L131+M131*0.4,IF(B131=data!$B$4,D131*0.6+E131*0.8+F131*0.7+G131+H131+J131+L131+N131,IF(B131=data!$B$5,D131*0.7+E131*0.8+F131+I131*0.7+J131+L131,\"zvolte typ stavby\"))))","v":42.9},{"$f":"IF(B131=data!$B$2,(O131*10)/6.4,IF(B131=data!$B$3,(O131*10)/4.8,IF(B131=data!$B$4,(O131*10)/7.1,IF(B131=data!$B$5,(O131*10)/5.2,\"zvolte typ stavby\"))))","v":67.03125},50000000]
["II/331 Dvorce - Lysá nad Labem, rekonstrukce, PD","oprava a rekonstrukce","Rekonstrukce",3,10,9,3,10,10,4,0,10,10,4,{"$f":"IF(B132=data!$B$2,D132*0.7+E132*0.5+F132*0.2+G132*0.8+H132+I132*0.2+J132+K132*0.3+L132+M132*0.5+N132*0.2,IF(B132=data!$B$3,D132*0.1+E132*0.4+F132*0.3+G132*0.1+H132+J132+K132*0.5+L132+M132*0.4,IF(B132=data!$B$4,D132*0.6+E132*0.8+F132*0.7+G132+H132+J132+L132+N132,IF(B132=data!$B$5,D132*0.7+E132*0.8+F132+I132*0.7+J132+L132,\"zvolte typ stavby\"))))","v":43.099999999999994},{"$f":"IF(B132=data!$B$2,(O132*10)/6.4,IF(B132=data!$B$3,(O132*10)/4.8,IF(B132=data!$B$4,(O132*10)/7.1,IF(B132=data!$B$5,(O132*10)/5.2,\"zvolte typ stavby\"))))","v":67.343749999999986},50000000]
["II/125 Vlašim – příčná spára u mostu 125-012","oprava a rekonstrukce","Rekonstrukce",3,9,9,6,10,10,4,10,10,10,0,{"$f":"IF(B133=data!$B$2,D133*0.7+E133*0.5+F133*0.2+G133*0.8+H133+I133*0.2+J133+K133*0.3+L133+M133*0.5+N133*0.2,IF(B133=data!$B$3,D133*0.1+E133*0.4+F133*0.3+G133*0.1+H133+J133+K133*0.5+L133+M133*0.4,IF(B133=data!$B$4,D133*0.6+E133*0.8+F133*0.7+G133+H133+J133+L133+N133,IF(B133=data!$B$5,D133*0.7+E133*0.8+F133+I133*0.7+J133+L133,\"zvolte typ stavby\"))))","v":47.2},{"$f":"IF(B133=data!$B$2,(O133*10)/6.4,IF(B133=data!$B$3,(O133*10)/4.8,IF(B133=data!$B$4,(O133*10)/7.1,IF(B133=data!$B$5,(O133*10)/5.2,\"zvolte typ stavby\"))))","v":73.75},50000000,"IROP 2"]
["III/2451 Stará Boleslav, most ev.č.2451-1","mostní objekty a propustky","Most",2,10,5,6,6,0,4,0,5,0,0,{"$f":"IF(B134=data!$B$2,D134*0.7+E134*0.5+F134*0.2+G134*0.8+H134+I134*0.2+J134+K134*0.3+L134+M134*0.5+N134*0.2,IF(B134=data!$B$3,D134*0.1+E134*0.4+F134*0.3+G134*0.1+H134+J134+K134*0.5+L134+M134*0.4,IF(B134=data!$B$4,D134*0.6+E134*0.8+F134*0.7+G134+H134+J134+L134+N134,IF(B134=data!$B$5,D134*0.7+E134*0.8+F134+I134*0.7+J134+L134,\"zvolte typ stavby\"))))","v":21.3},{"$f":"IF(B134=data!$B$2,(O134*10)/6.4,IF(B134=data!$B$3,(O134*10)/4.8,IF(B134=data!$B$4,(O134*10)/7.1,IF(B134=data!$B$5,(O134*10)/5.2,\"zvolte typ stavby\"))))","v":44.375},49760000,null,"Předpoklad SFDI nebo IROP dle možností v době dokončení",null,"IROP"]
["II/327 Záboří nad Labem","oprava a rekonstrukce","Rekonstrukce",2,10,9,3,10,10,2,0,8,10,0,{"$f":"IF(B135=data!$B$2,D135*0.7+E135*0.5+F135*0.2+G135*0.8+H135+I135*0.2+J135+K135*0.3+L135+M135*0.5+N135*0.2,IF(B135=data!$B$3,D135*0.1+E135*0.4+F135*0.3+G135*0.1+H135+J135+K135*0.5+L135+M135*0.4,IF(B135=data!$B$4,D135*0.6+E135*0.8+F135*0.7+G135+H135+J135+L135+N135,IF(B135=data!$B$5,D135*0.7+E135*0.8+F135+I135*0.7+J135+L135,\"zvolte typ stavby\"))))","v":37.6},{"$f":"IF(B135=data!$B$2,(O135*10)/6.4,IF(B135=data!$B$3,(O135*10)/4.8,IF(B135=data!$B$4,(O135*10)/7.1,IF(B135=data!$B$5,(O135*10)/5.2,\"zvolte typ stavby\"))))","v":58.75},104400000]
["II/101 x III/33312 Okružní křižovatka, Říčany","oprava a rekonstrukce","Rekonstrukce",10,10,9,3,3,10,10,0,0,10,2,{"$f":"IF(B136=data!$B$2,D136*0.7+E136*0.5+F136*0.2+G136*0.8+H136+I136*0.2+J136+K136*0.3+L136+M136*0.5+N136*0.2,IF(B136=data!$B$3,D136*0.1+E136*0.4+F136*0.3+G136*0.1+H136+J136+K136*0.5+L136+M136*0.4,IF(B136=data!$B$4,D136*0.6+E136*0.8+F136*0.7+G136+H136+J136+L136+N136,IF(B136=data!$B$5,D136*0.7+E136*0.8+F136+I136*0.7+J136+L136,\"zvolte typ stavby\"))))","v":36.6},{"$f":"IF(B136=data!$B$2,(O136*10)/6.4,IF(B136=data!$B$3,(O136*10)/4.8,IF(B136=data!$B$4,(O136*10)/7.1,IF(B136=data!$B$5,(O136*10)/5.2,\"zvolte typ stavby\"))))","v":57.1875},25000000]
["III00710 Lichoceves, havarijní stav komunikace","oprava a rekonstrukce","Rekonstrukce",2,10,4,10,10,10,2,0,2,10,2,{"$f":"IF(B137=data!$B$2,D137*0.7+E137*0.5+F137*0.2+G137*0.8+H137+I137*0.2+J137+K137*0.3+L137+M137*0.5+N137*0.2,IF(B137=data!$B$3,D137*0.1+E137*0.4+F137*0.3+G137*0.1+H137+J137+K137*0.5+L137+M137*0.4,IF(B137=data!$B$4,D137*0.6+E137*0.8+F137*0.7+G137+H137+J137+L137+N137,IF(B137=data!$B$5,D137*0.7+E137*0.8+F137+I137*0.7+J137+L137,\"zvolte typ stavby\"))))","v":36.6},{"$f":"IF(B137=data!$B$2,(O137*10)/6.4,IF(B137=data!$B$3,(O137*10)/4.8,IF(B137=data!$B$4,(O137*10)/7.1,IF(B137=data!$B$5,(O137*10)/5.2,\"zvolte typ stavby\"))))","v":57.1875},60000000]
["III/10114 Vestec-Libeň","oprava a rekonstrukce","Rekonstrukce",4,10,6,6,6,10,7,0,10,10,2,{"$f":"IF(B138=data!$B$2,D138*0.7+E138*0.5+F138*0.2+G138*0.8+H138+I138*0.2+J138+K138*0.3+L138+M138*0.5+N138*0.2,IF(B138=data!$B$3,D138*0.1+E138*0.4+F138*0.3+G138*0.1+H138+J138+K138*0.5+L138+M138*0.4,IF(B138=data!$B$4,D138*0.6+E138*0.8+F138*0.7+G138+H138+J138+L138+N138,IF(B138=data!$B$5,D138*0.7+E138*0.8+F138+I138*0.7+J138+L138,\"zvolte typ stavby\"))))","v":44.199999999999996},{"$f":"IF(B138=data!$B$2,(O138*10)/6.4,IF(B138=data!$B$3,(O138*10)/4.8,IF(B138=data!$B$4,(O138*10)/7.1,IF(B138=data!$B$5,(O138*10)/5.2,\"zvolte typ stavby\"))))","v":69.062499999999986},48528844,null,"předpoklad možné realizace v roce 2023 z fi. zdrojů SFDI "]
["III/2444 a III/0105a Přezletice, průtah II etapa","oprava a rekonstrukce","Rekonstrukce",5,10,5,6,10,1,7,0,5,10,2,{"$f":"IF(B139=data!$B$2,D139*0.7+E139*0.5+F139*0.2+G139*0.8+H139+I139*0.2+J139+K139*0.3+L139+M139*0.5+N139*0.2,IF(B139=data!$B$3,D139*0.1+E139*0.4+F139*0.3+G139*0.1+H139+J139+K139*0.5+L139+M139*0.4,IF(B139=data!$B$4,D139*0.6+E139*0.8+F139*0.7+G139+H139+J139+L139+N139,IF(B139=data!$B$5,D139*0.7+E139*0.8+F139+I139*0.7+J139+L139,\"zvolte typ stavby\"))))","v":41.9},{"$f":"IF(B139=data!$B$2,(O139*10)/6.4,IF(B139=data!$B$3,(O139*10)/4.8,IF(B139=data!$B$4,(O139*10)/7.1,IF(B139=data!$B$5,(O139*10)/5.2,\"zvolte typ stavby\"))))","v":65.46875},31744000]
["III/27513 Mladá Boleslav, most ev.č. 27513-1a přes dálnici D10 u Mladé Boleslavi","mostní objekty a propustky","Most",3,10,5,6,6,0,4,0,5,10,0,{"$f":"IF(B140=data!$B$2,D140*0.7+E140*0.5+F140*0.2+G140*0.8+H140+I140*0.2+J140+K140*0.3+L140+M140*0.5+N140*0.2,IF(B140=data!$B$3,D140*0.1+E140*0.4+F140*0.3+G140*0.1+H140+J140+K140*0.5+L140+M140*0.4,IF(B140=data!$B$4,D140*0.6+E140*0.8+F140*0.7+G140+H140+J140+L140+N140,IF(B140=data!$B$5,D140*0.7+E140*0.8+F140+I140*0.7+J140+L140,\"zvolte typ stavby\"))))","v":25.4},{"$f":"IF(B140=data!$B$2,(O140*10)/6.4,IF(B140=data!$B$3,(O140*10)/4.8,IF(B140=data!$B$4,(O140*10)/7.1,IF(B140=data!$B$5,(O140*10)/5.2,\"zvolte typ stavby\"))))","v":52.916666666666671},48000000]
["II/101 Jirny, most ev.č. 101-076 most přes Jirenský potok za obcí Jirny","mostní objekty a propustky","Most",7,10,8,10,10,0,7,0,2,10,0,{"$f":"IF(B141=data!$B$2,D141*0.7+E141*0.5+F141*0.2+G141*0.8+H141+I141*0.2+J141+K141*0.3+L141+M141*0.5+N141*0.2,IF(B141=data!$B$3,D141*0.1+E141*0.4+F141*0.3+G141*0.1+H141+J141+K141*0.5+L141+M141*0.4,IF(B141=data!$B$4,D141*0.6+E141*0.8+F141*0.7+G141+H141+J141+L141+N141,IF(B141=data!$B$5,D141*0.7+E141*0.8+F141+I141*0.7+J141+L141,\"zvolte typ stavby\"))))","v":31.1},{"$f":"IF(B141=data!$B$2,(O141*10)/6.4,IF(B141=data!$B$3,(O141*10)/4.8,IF(B141=data!$B$4,(O141*10)/7.1,IF(B141=data!$B$5,(O141*10)/5.2,\"zvolte typ stavby\"))))","v":64.791666666666671},10000000]
["II/150 Loket - Brzotice","oprava a rekonstrukce","Rekonstrukce",3,0,10,10,10,10,7,0,2,10,4,{"$f":"IF(B142=data!$B$2,D142*0.7+E142*0.5+F142*0.2+G142*0.8+H142+I142*0.2+J142+K142*0.3+L142+M142*0.5+N142*0.2,IF(B142=data!$B$3,D142*0.1+E142*0.4+F142*0.3+G142*0.1+H142+J142+K142*0.5+L142+M142*0.4,IF(B142=data!$B$4,D142*0.6+E142*0.8+F142*0.7+G142+H142+J142+L142+N142,IF(B142=data!$B$5,D142*0.7+E142*0.8+F142+I142*0.7+J142+L142,\"zvolte typ stavby\"))))","v":38.9},{"$f":"IF(B142=data!$B$2,(O142*10)/6.4,IF(B142=data!$B$3,(O142*10)/4.8,IF(B142=data!$B$4,(O142*10)/7.1,IF(B142=data!$B$5,(O142*10)/5.2,\"zvolte typ stavby\"))))","v":60.78125},48000000]
["III/11447  - křižovatka s III/11447a - křižovatka s III/11438","oprava a rekonstrukce","Rekonstrukce",5,10,10,10,6,1,10,0,10,10,7,{"$f":"IF(B143=data!$B$2,D143*0.7+E143*0.5+F143*0.2+G143*0.8+H143+I143*0.2+J143+K143*0.3+L143+M143*0.5+N143*0.2,IF(B143=data!$B$3,D143*0.1+E143*0.4+F143*0.3+G143*0.1+H143+J143+K143*0.5+L143+M143*0.4,IF(B143=data!$B$4,D143*0.6+E143*0.8+F143*0.7+G143+H143+J143+L143+N143,IF(B143=data!$B$5,D143*0.7+E143*0.8+F143+I143*0.7+J143+L143,\"zvolte typ stavby\"))))","v":51.1},{"$f":"IF(B143=data!$B$2,(O143*10)/6.4,IF(B143=data!$B$3,(O143*10)/4.8,IF(B143=data!$B$4,(O143*10)/7.1,IF(B143=data!$B$5,(O143*10)/5.2,\"zvolte typ stavby\"))))","v":79.84375},47000000]
["III-00315,III-10113 Radlík-Kostelec u Křížků - II. etapa","oprava a rekonstrukce","Rekonstrukce",3,10,5,6,6,0,7,0,8,10,2,{"$f":"IF(B144=data!$B$2,D144*0.7+E144*0.5+F144*0.2+G144*0.8+H144+I144*0.2+J144+K144*0.3+L144+M144*0.5+N144*0.2,IF(B144=data!$B$3,D144*0.1+E144*0.4+F144*0.3+G144*0.1+H144+J144+K144*0.5+L144+M144*0.4,IF(B144=data!$B$4,D144*0.6+E144*0.8+F144*0.7+G144+H144+J144+L144+N144,IF(B144=data!$B$5,D144*0.7+E144*0.8+F144+I144*0.7+J144+L144,\"zvolte typ stavby\"))))","v":39.299999999999997},{"$f":"IF(B144=data!$B$2,(O144*10)/6.4,IF(B144=data!$B$3,(O144*10)/4.8,IF(B144=data!$B$4,(O144*10)/7.1,IF(B144=data!$B$5,(O144*10)/5.2,\"zvolte typ stavby\"))))","v":61.40625},46217234,null,"Předpoklad SFDI nebo IROP dle možností v době dokončení"]
["III/1016 Kunice","oprava a rekonstrukce","Rekonstrukce",3,10,5,3,6,10,4,0,5,10,4,{"$f":"IF(B145=data!$B$2,D145*0.7+E145*0.5+F145*0.2+G145*0.8+H145+I145*0.2+J145+K145*0.3+L145+M145*0.5+N145*0.2,IF(B145=data!$B$3,D145*0.1+E145*0.4+F145*0.3+G145*0.1+H145+J145+K145*0.5+L145+M145*0.4,IF(B145=data!$B$4,D145*0.6+E145*0.8+F145*0.7+G145+H145+J145+L145+N145,IF(B145=data!$B$5,D145*0.7+E145*0.8+F145+I145*0.7+J145+L145,\"zvolte typ stavby\"))))","v":33.299999999999997},{"$f":"IF(B145=data!$B$2,(O145*10)/6.4,IF(B145=data!$B$3,(O145*10)/4.8,IF(B145=data!$B$4,(O145*10)/7.1,IF(B145=data!$B$5,(O145*10)/5.2,\"zvolte typ stavby\"))))","v":52.03125},45000000]
["III/1025 Bojov Klínec, rekonstrukce silnice etapa 2","oprava a rekonstrukce","Rekonstrukce",5,0,5,10,10,1,7,0,2,10,2,{"$f":"IF(B146=data!$B$2,D146*0.7+E146*0.5+F146*0.2+G146*0.8+H146+I146*0.2+J146+K146*0.3+L146+M146*0.5+N146*0.2,IF(B146=data!$B$3,D146*0.1+E146*0.4+F146*0.3+G146*0.1+H146+J146+K146*0.5+L146+M146*0.4,IF(B146=data!$B$4,D146*0.6+E146*0.8+F146*0.7+G146+H146+J146+L146+N146,IF(B146=data!$B$5,D146*0.7+E146*0.8+F146+I146*0.7+J146+L146,\"zvolte typ stavby\"))))","v":37.1},{"$f":"IF(B146=data!$B$2,(O146*10)/6.4,IF(B146=data!$B$3,(O146*10)/4.8,IF(B146=data!$B$4,(O146*10)/7.1,IF(B146=data!$B$5,(O146*10)/5.2,\"zvolte typ stavby\"))))","v":57.96875},45000000]
["II/108 Kostelec nad Černými lesy","oprava a rekonstrukce","Rekonstrukce",3,0,10,6,6,10,10,0,5,10,4,{"$f":"IF(B147=data!$B$2,D147*0.7+E147*0.5+F147*0.2+G147*0.8+H147+I147*0.2+J147+K147*0.3+L147+M147*0.5+N147*0.2,IF(B147=data!$B$3,D147*0.1+E147*0.4+F147*0.3+G147*0.1+H147+J147+K147*0.5+L147+M147*0.4,IF(B147=data!$B$4,D147*0.6+E147*0.8+F147*0.7+G147+H147+J147+L147+N147,IF(B147=data!$B$5,D147*0.7+E147*0.8+F147+I147*0.7+J147+L147,\"zvolte typ stavby\"))))","v":37.699999999999996},{"$f":"IF(B147=data!$B$2,(O147*10)/6.4,IF(B147=data!$B$3,(O147*10)/4.8,IF(B147=data!$B$4,(O147*10)/7.1,IF(B147=data!$B$5,(O147*10)/5.2,\"zvolte typ stavby\"))))","v":58.906249999999986},45000000,null,"Předpoklad SFDI nebo IROP dle možností v době dokončení",null,"IROP"]
["II/322 Kolín, ul. Třídvorská, okružní křižovatka - PD","oprava a rekonstrukce","Rekonstrukce",5,10,10,6,10,10,7,0,5,10,0,{"$f":"IF(B148=data!$B$2,D148*0.7+E148*0.5+F148*0.2+G148*0.8+H148+I148*0.2+J148+K148*0.3+L148+M148*0.5+N148*0.2,IF(B148=data!$B$3,D148*0.1+E148*0.4+F148*0.3+G148*0.1+H148+J148+K148*0.5+L148+M148*0.4,IF(B148=data!$B$4,D148*0.6+E148*0.8+F148*0.7+G148+H148+J148+L148+N148,IF(B148=data!$B$5,D148*0.7+E148*0.8+F148+I148*0.7+J148+L148,\"zvolte typ stavby\"))))","v":44.3},{"$f":"IF(B148=data!$B$2,(O148*10)/6.4,IF(B148=data!$B$3,(O148*10)/4.8,IF(B148=data!$B$4,(O148*10)/7.1,IF(B148=data!$B$5,(O148*10)/5.2,\"zvolte typ stavby\"))))","v":69.21875},42350000]
["II/113 Ostředek - Třemošnice - PD","oprava a rekonstrukce","Rekonstrukce",3,8,10,6,6,10,7,0,10,10,4,{"$f":"IF(B149=data!$B$2,D149*0.7+E149*0.5+F149*0.2+G149*0.8+H149+I149*0.2+J149+K149*0.3+L149+M149*0.5+N149*0.2,IF(B149=data!$B$3,D149*0.1+E149*0.4+F149*0.3+G149*0.1+H149+J149+K149*0.5+L149+M149*0.4,IF(B149=data!$B$4,D149*0.6+E149*0.8+F149*0.7+G149+H149+J149+L149+N149,IF(B149=data!$B$5,D149*0.7+E149*0.8+F149+I149*0.7+J149+L149,\"zvolte typ stavby\"))))","v":43.699999999999996},{"$f":"IF(B149=data!$B$2,(O149*10)/6.4,IF(B149=data!$B$3,(O149*10)/4.8,IF(B149=data!$B$4,(O149*10)/7.1,IF(B149=data!$B$5,(O149*10)/5.2,\"zvolte typ stavby\"))))","v":68.281249999999986},42000000,null,null,null,"SFDI (SOKP)"]
["III/23642 Brandýsek-Pchery","oprava a rekonstrukce","Rekonstrukce",2,10,6,10,10,10,4,0,10,10,2,{"$f":"IF(B150=data!$B$2,D150*0.7+E150*0.5+F150*0.2+G150*0.8+H150+I150*0.2+J150+K150*0.3+L150+M150*0.5+N150*0.2,IF(B150=data!$B$3,D150*0.1+E150*0.4+F150*0.3+G150*0.1+H150+J150+K150*0.5+L150+M150*0.4,IF(B150=data!$B$4,D150*0.6+E150*0.8+F150*0.7+G150+H150+J150+L150+N150,IF(B150=data!$B$5,D150*0.7+E150*0.8+F150+I150*0.7+J150+L150,\"zvolte typ stavby\"))))","v":47},{"$f":"IF(B150=data!$B$2,(O150*10)/6.4,IF(B150=data!$B$3,(O150*10)/4.8,IF(B150=data!$B$4,(O150*10)/7.1,IF(B150=data!$B$5,(O150*10)/5.2,\"zvolte typ stavby\"))))","v":73.4375},41148290,null,"možno realizovat v roce 2023, spolupráce s obcemi Brandýsek a Pchery (smlouvy o spočném zadání VŘ)",null,"IROP 2"]
["III/2388 Brandýsek,havarijní stav silnice-PD","oprava a rekonstrukce","Rekonstrukce",1,10,5,6,3,0,4,0,5,0,10,{"$f":"IF(B151=data!$B$2,D151*0.7+E151*0.5+F151*0.2+G151*0.8+H151+I151*0.2+J151+K151*0.3+L151+M151*0.5+N151*0.2,IF(B151=data!$B$3,D151*0.1+E151*0.4+F151*0.3+G151*0.1+H151+J151+K151*0.5+L151+M151*0.4,IF(B151=data!$B$4,D151*0.6+E151*0.8+F151*0.7+G151+H151+J151+L151+N151,IF(B151=data!$B$5,D151*0.7+E151*0.8+F151+I151*0.7+J151+L151,\"zvolte typ stavby\"))))","v":25.5},{"$f":"IF(B151=data!$B$2,(O151*10)/6.4,IF(B151=data!$B$3,(O151*10)/4.8,IF(B151=data!$B$4,(O151*10)/7.1,IF(B151=data!$B$5,(O151*10)/5.2,\"zvolte typ stavby\"))))","v":39.84375},40000000]
["III/1015 Všestary, rekonstrukce silnice","oprava a rekonstrukce","Rekonstrukce",3,10,4,3,3,10,4,0,5,10,2,{"$f":"IF(B152=data!$B$2,D152*0.7+E152*0.5+F152*0.2+G152*0.8+H152+I152*0.2+J152+K152*0.3+L152+M152*0.5+N152*0.2,IF(B152=data!$B$3,D152*0.1+E152*0.4+F152*0.3+G152*0.1+H152+J152+K152*0.5+L152+M152*0.4,IF(B152=data!$B$4,D152*0.6+E152*0.8+F152*0.7+G152+H152+J152+L152+N152,IF(B152=data!$B$5,D152*0.7+E152*0.8+F152+I152*0.7+J152+L152,\"zvolte typ stavby\"))))","v":29.7},{"$f":"IF(B152=data!$B$2,(O152*10)/6.4,IF(B152=data!$B$3,(O152*10)/4.8,IF(B152=data!$B$4,(O152*10)/7.1,IF(B152=data!$B$5,(O152*10)/5.2,\"zvolte typ stavby\"))))","v":46.40625},40000000]
["III/1012 Všestary, rekonstrukce silnice","oprava a rekonstrukce","Rekonstrukce",3,10,4,3,3,10,4,0,10,10,4,{"$f":"IF(B153=data!$B$2,D153*0.7+E153*0.5+F153*0.2+G153*0.8+H153+I153*0.2+J153+K153*0.3+L153+M153*0.5+N153*0.2,IF(B153=data!$B$3,D153*0.1+E153*0.4+F153*0.3+G153*0.1+H153+J153+K153*0.5+L153+M153*0.4,IF(B153=data!$B$4,D153*0.6+E153*0.8+F153*0.7+G153+H153+J153+L153+N153,IF(B153=data!$B$5,D153*0.7+E153*0.8+F153+I153*0.7+J153+L153,\"zvolte typ stavby\"))))","v":35.099999999999994},{"$f":"IF(B153=data!$B$2,(O153*10)/6.4,IF(B153=data!$B$3,(O153*10)/4.8,IF(B153=data!$B$4,(O153*10)/7.1,IF(B153=data!$B$5,(O153*10)/5.2,\"zvolte typ stavby\"))))","v":54.843749999999986},40000000]
["Okružní křižovatka II/110 a II/112 a silnice II/112","oprava a rekonstrukce","Rekonstrukce",7,9,10,6,6,1,4,0,2,10,10,{"$f":"IF(B154=data!$B$2,D154*0.7+E154*0.5+F154*0.2+G154*0.8+H154+I154*0.2+J154+K154*0.3+L154+M154*0.5+N154*0.2,IF(B154=data!$B$3,D154*0.1+E154*0.4+F154*0.3+G154*0.1+H154+J154+K154*0.5+L154+M154*0.4,IF(B154=data!$B$4,D154*0.6+E154*0.8+F154*0.7+G154+H154+J154+L154+N154,IF(B154=data!$B$5,D154*0.7+E154*0.8+F154+I154*0.7+J154+L154,\"zvolte typ stavby\"))))","v":35.4},{"$f":"IF(B154=data!$B$2,(O154*10)/6.4,IF(B154=data!$B$3,(O154*10)/4.8,IF(B154=data!$B$4,(O154*10)/7.1,IF(B154=data!$B$5,(O154*10)/5.2,\"zvolte typ stavby\"))))","v":55.3125},40000000,"-"]
["II/275 Zábrdovice - Dymokury","oprava a rekonstrukce","Rekonstrukce",3,10,10,6,6,10,7,0,8,10,4,{"$f":"IF(B155=data!$B$2,D155*0.7+E155*0.5+F155*0.2+G155*0.8+H155+I155*0.2+J155+K155*0.3+L155+M155*0.5+N155*0.2,IF(B155=data!$B$3,D155*0.1+E155*0.4+F155*0.3+G155*0.1+H155+J155+K155*0.5+L155+M155*0.4,IF(B155=data!$B$4,D155*0.6+E155*0.8+F155*0.7+G155+H155+J155+L155+N155,IF(B155=data!$B$5,D155*0.7+E155*0.8+F155+I155*0.7+J155+L155,\"zvolte typ stavby\"))))","v":42.699999999999996},{"$f":"IF(B155=data!$B$2,(O155*10)/6.4,IF(B155=data!$B$3,(O155*10)/4.8,IF(B155=data!$B$4,(O155*10)/7.1,IF(B155=data!$B$5,(O155*10)/5.2,\"zvolte typ stavby\"))))","v":66.718749999999986},40000000,null,null,null,"SFDI NZ 2022 - tendrovat"]
["Obchvat Králův Dvůr - IV. etapa vrátnice ČMC až katastr Beroun (C2)","novostavba (obchvat, přeložka, propojka)","-",3,9,9,0,0,10,4,0,2,0,0,{"$f":"IF(B156=data!$B$2,D156*0.7+E156*0.5+F156*0.2+G156*0.8+H156+I156*0.2+J156+K156*0.3+L156+M156*0.5+N156*0.2,IF(B156=data!$B$3,D156*0.1+E156*0.4+F156*0.3+G156*0.1+H156+J156+K156*0.5+L156+M156*0.4,IF(B156=data!$B$4,D156*0.6+E156*0.8+F156*0.7+G156+H156+J156+L156+N156,IF(B156=data!$B$5,D156*0.7+E156*0.8+F156+I156*0.7+J156+L156,\"zvolte typ stavby\"))))","v":31.3},{"$f":"IF(B156=data!$B$2,(O156*10)/6.4,IF(B156=data!$B$3,(O156*10)/4.8,IF(B156=data!$B$4,(O156*10)/7.1,IF(B156=data!$B$5,(O156*10)/5.2,\"zvolte typ stavby\"))))","v":60.192307692307693},40000000,"-",null,null,"SFDI NZ 2022 - tendrovat"]
["III/12537 Sobočice - Zásmuky","oprava a rekonstrukce","Rekonstrukce",2,10,6,6,6,10,4,0,5,10,0,{"$f":"IF(B157=data!$B$2,D157*0.7+E157*0.5+F157*0.2+G157*0.8+H157+I157*0.2+J157+K157*0.3+L157+M157*0.5+N157*0.2,IF(B157=data!$B$3,D157*0.1+E157*0.4+F157*0.3+G157*0.1+H157+J157+K157*0.5+L157+M157*0.4,IF(B157=data!$B$4,D157*0.6+E157*0.8+F157*0.7+G157+H157+J157+L157+N157,IF(B157=data!$B$5,D157*0.7+E157*0.8+F157+I157*0.7+J157+L157,\"zvolte typ stavby\"))))","v":34.400000000000006},{"$f":"IF(B157=data!$B$2,(O157*10)/6.4,IF(B157=data!$B$3,(O157*10)/4.8,IF(B157=data!$B$4,(O157*10)/7.1,IF(B157=data!$B$5,(O157*10)/5.2,\"zvolte typ stavby\"))))","v":53.750000000000007},38000000,null,null,null,"SFDI NZ 2022 - tendrovat"]
["III/0069, Unhošť-Pletený Újezd - PD","oprava a rekonstrukce","Rekonstrukce",4,10,6,6,6,10,4,0,10,10,2,{"$f":"IF(B158=data!$B$2,D158*0.7+E158*0.5+F158*0.2+G158*0.8+H158+I158*0.2+J158+K158*0.3+L158+M158*0.5+N158*0.2,IF(B158=data!$B$3,D158*0.1+E158*0.4+F158*0.3+G158*0.1+H158+J158+K158*0.5+L158+M158*0.4,IF(B158=data!$B$4,D158*0.6+E158*0.8+F158*0.7+G158+H158+J158+L158+N158,IF(B158=data!$B$5,D158*0.7+E158*0.8+F158+I158*0.7+J158+L158,\"zvolte typ stavby\"))))","v":41.199999999999996},{"$f":"IF(B158=data!$B$2,(O158*10)/6.4,IF(B158=data!$B$3,(O158*10)/4.8,IF(B158=data!$B$4,(O158*10)/7.1,IF(B158=data!$B$5,(O158*10)/5.2,\"zvolte typ stavby\"))))","v":64.374999999999986},37743476]
["III/27922 Loukov, most ev.č. 27922-1a přes D10 u obce Loukov","mostní objekty a propustky","Most",3,10,5,6,10,0,4,0,5,10,0,{"$f":"IF(B159=data!$B$2,D159*0.7+E159*0.5+F159*0.2+G159*0.8+H159+I159*0.2+J159+K159*0.3+L159+M159*0.5+N159*0.2,IF(B159=data!$B$3,D159*0.1+E159*0.4+F159*0.3+G159*0.1+H159+J159+K159*0.5+L159+M159*0.4,IF(B159=data!$B$4,D159*0.6+E159*0.8+F159*0.7+G159+H159+J159+L159+N159,IF(B159=data!$B$5,D159*0.7+E159*0.8+F159+I159*0.7+J159+L159,\"zvolte typ stavby\"))))","v":29.4},{"$f":"IF(B159=data!$B$2,(O159*10)/6.4,IF(B159=data!$B$3,(O159*10)/4.8,IF(B159=data!$B$4,(O159*10)/7.1,IF(B159=data!$B$5,(O159*10)/5.2,\"zvolte typ stavby\"))))","v":61.25},37000000]
["III/1024 Řitka, rekonstrukce silnice a řešení křižovatek","řešení bodové závady a/nebo bezpečnostního rizika (křižovatky, opěrné zdi, skalní masivy)","-",4,10,5,10,3,10,4,0,8,10,4,{"$f":"IF(B160=data!$B$2,D160*0.7+E160*0.5+F160*0.2+G160*0.8+H160+I160*0.2+J160+K160*0.3+L160+M160*0.5+N160*0.2,IF(B160=data!$B$3,D160*0.1+E160*0.4+F160*0.3+G160*0.1+H160+J160+K160*0.5+L160+M160*0.4,IF(B160=data!$B$4,D160*0.6+E160*0.8+F160*0.7+G160+H160+J160+L160+N160,IF(B160=data!$B$5,D160*0.7+E160*0.8+F160+I160*0.7+J160+L160,\"zvolte typ stavby\"))))","v":42.9},{"$f":"IF(B160=data!$B$2,(O160*10)/6.4,IF(B160=data!$B$3,(O160*10)/4.8,IF(B160=data!$B$4,(O160*10)/7.1,IF(B160=data!$B$5,(O160*10)/5.2,\"zvolte typ stavby\"))))","v":60.422535211267608},36900000]
["II/125 Vlašim - Pavlovice","novostavba (obchvat, přeložka, propojka)","-",5,10,10,0,0,10,7,0,2,0,0,{"$f":"IF(B161=data!$B$2,D161*0.7+E161*0.5+F161*0.2+G161*0.8+H161+I161*0.2+J161+K161*0.3+L161+M161*0.5+N161*0.2,IF(B161=data!$B$3,D161*0.1+E161*0.4+F161*0.3+G161*0.1+H161+J161+K161*0.5+L161+M161*0.4,IF(B161=data!$B$4,D161*0.6+E161*0.8+F161*0.7+G161+H161+J161+L161+N161,IF(B161=data!$B$5,D161*0.7+E161*0.8+F161+I161*0.7+J161+L161,\"zvolte typ stavby\"))))","v":37.5},{"$f":"IF(B161=data!$B$2,(O161*10)/6.4,IF(B161=data!$B$3,(O161*10)/4.8,IF(B161=data!$B$4,(O161*10)/7.1,IF(B161=data!$B$5,(O161*10)/5.2,\"zvolte typ stavby\"))))","v":72.115384615384613},35695000]
["III/3294 Velim","oprava a rekonstrukce","Rekonstrukce",3,10,7,10,6,10,7,0,10,10,4,{"$f":"IF(B162=data!$B$2,D162*0.7+E162*0.5+F162*0.2+G162*0.8+H162+I162*0.2+J162+K162*0.3+L162+M162*0.5+N162*0.2,IF(B162=data!$B$3,D162*0.1+E162*0.4+F162*0.3+G162*0.1+H162+J162+K162*0.5+L162+M162*0.4,IF(B162=data!$B$4,D162*0.6+E162*0.8+F162*0.7+G162+H162+J162+L162+N162,IF(B162=data!$B$5,D162*0.7+E162*0.8+F162+I162*0.7+J162+L162,\"zvolte typ stavby\"))))","v":47.3},{"$f":"IF(B162=data!$B$2,(O162*10)/6.4,IF(B162=data!$B$3,(O162*10)/4.8,IF(B162=data!$B$4,(O162*10)/7.1,IF(B162=data!$B$5,(O162*10)/5.2,\"zvolte typ stavby\"))))","v":73.90625},35000000,null,null,null,"IROP 2"]
["III/1025 Bojov Klínec, rekonstrukce silnice \r\netapa 3","oprava a rekonstrukce","Rekonstrukce",5,0,5,10,10,1,7,0,2,10,2,{"$f":"IF(B163=data!$B$2,D163*0.7+E163*0.5+F163*0.2+G163*0.8+H163+I163*0.2+J163+K163*0.3+L163+M163*0.5+N163*0.2,IF(B163=data!$B$3,D163*0.1+E163*0.4+F163*0.3+G163*0.1+H163+J163+K163*0.5+L163+M163*0.4,IF(B163=data!$B$4,D163*0.6+E163*0.8+F163*0.7+G163+H163+J163+L163+N163,IF(B163=data!$B$5,D163*0.7+E163*0.8+F163+I163*0.7+J163+L163,\"zvolte typ stavby\"))))","v":37.1},{"$f":"IF(B163=data!$B$2,(O163*10)/6.4,IF(B163=data!$B$3,(O163*10)/4.8,IF(B163=data!$B$4,(O163*10)/7.1,IF(B163=data!$B$5,(O163*10)/5.2,\"zvolte typ stavby\"))))","v":57.96875},35000000]
["II/174 Lazsko - Tochovice - PD","oprava a rekonstrukce","Rekonstrukce",2,10,10,6,6,10,7,10,8,10,4,{"$f":"IF(B164=data!$B$2,D164*0.7+E164*0.5+F164*0.2+G164*0.8+H164+I164*0.2+J164+K164*0.3+L164+M164*0.5+N164*0.2,IF(B164=data!$B$3,D164*0.1+E164*0.4+F164*0.3+G164*0.1+H164+J164+K164*0.5+L164+M164*0.4,IF(B164=data!$B$4,D164*0.6+E164*0.8+F164*0.7+G164+H164+J164+L164+N164,IF(B164=data!$B$5,D164*0.7+E164*0.8+F164+I164*0.7+J164+L164,\"zvolte typ stavby\"))))","v":45},{"$f":"IF(B164=data!$B$2,(O164*10)/6.4,IF(B164=data!$B$3,(O164*10)/4.8,IF(B164=data!$B$4,(O164*10)/7.1,IF(B164=data!$B$5,(O164*10)/5.2,\"zvolte typ stavby\"))))","v":70.3125},35000000]
["II/331 Brandýs nad Labem - I/9, rekonstrukce silnice\netapa V","oprava a rekonstrukce","Rekonstrukce",4,10,10,6,10,10,10,0,2,10,10,{"$f":"IF(B165=data!$B$2,D165*0.7+E165*0.5+F165*0.2+G165*0.8+H165+I165*0.2+J165+K165*0.3+L165+M165*0.5+N165*0.2,IF(B165=data!$B$3,D165*0.1+E165*0.4+F165*0.3+G165*0.1+H165+J165+K165*0.5+L165+M165*0.4,IF(B165=data!$B$4,D165*0.6+E165*0.8+F165*0.7+G165+H165+J165+L165+N165,IF(B165=data!$B$5,D165*0.7+E165*0.8+F165+I165*0.7+J165+L165,\"zvolte typ stavby\"))))","v":45.6},{"$f":"IF(B165=data!$B$2,(O165*10)/6.4,IF(B165=data!$B$3,(O165*10)/4.8,IF(B165=data!$B$4,(O165*10)/7.1,IF(B165=data!$B$5,(O165*10)/5.2,\"zvolte typ stavby\"))))","v":71.25},35000000,null,null,null,"IROP 2"]
["II/335,II/508,III/1014 a III/1012 Mnichovice průtah I. etapa","oprava a rekonstrukce","Rekonstrukce",4,10,10,6,10,10,10,0,8,10,4,{"$f":"IF(B166=data!$B$2,D166*0.7+E166*0.5+F166*0.2+G166*0.8+H166+I166*0.2+J166+K166*0.3+L166+M166*0.5+N166*0.2,IF(B166=data!$B$3,D166*0.1+E166*0.4+F166*0.3+G166*0.1+H166+J166+K166*0.5+L166+M166*0.4,IF(B166=data!$B$4,D166*0.6+E166*0.8+F166*0.7+G166+H166+J166+L166+N166,IF(B166=data!$B$5,D166*0.7+E166*0.8+F166+I166*0.7+J166+L166,\"zvolte typ stavby\"))))","v":50.4},{"$f":"IF(B166=data!$B$2,(O166*10)/6.4,IF(B166=data!$B$3,(O166*10)/4.8,IF(B166=data!$B$4,(O166*10)/7.1,IF(B166=data!$B$5,(O166*10)/5.2,\"zvolte typ stavby\"))))","v":78.75},35000000]
["Obchvat Králův Dvůr - III. etapa (napojení ul. Fučíkova)","novostavba (obchvat, přeložka, propojka)","-",3,9,9,0,0,1,2,0,2,0,0,{"$f":"IF(B167=data!$B$2,D167*0.7+E167*0.5+F167*0.2+G167*0.8+H167+I167*0.2+J167+K167*0.3+L167+M167*0.5+N167*0.2,IF(B167=data!$B$3,D167*0.1+E167*0.4+F167*0.3+G167*0.1+H167+J167+K167*0.5+L167+M167*0.4,IF(B167=data!$B$4,D167*0.6+E167*0.8+F167*0.7+G167+H167+J167+L167+N167,IF(B167=data!$B$5,D167*0.7+E167*0.8+F167+I167*0.7+J167+L167,\"zvolte typ stavby\"))))","v":23},{"$f":"IF(B167=data!$B$2,(O167*10)/6.4,IF(B167=data!$B$3,(O167*10)/4.8,IF(B167=data!$B$4,(O167*10)/7.1,IF(B167=data!$B$5,(O167*10)/5.2,\"zvolte typ stavby\"))))","v":44.230769230769226},33000000,"-",null,null,"IROP 2"]
["II/105 Kamenný Přívoz, opěrná zeď-PD","řešení bodové závady a/nebo bezpečnostního rizika (křižovatky, opěrné zdi, skalní masivy)","-",1,10,9,6,6,0,4,0,5,10,0,{"$f":"IF(B168=data!$B$2,D168*0.7+E168*0.5+F168*0.2+G168*0.8+H168+I168*0.2+J168+K168*0.3+L168+M168*0.5+N168*0.2,IF(B168=data!$B$3,D168*0.1+E168*0.4+F168*0.3+G168*0.1+H168+J168+K168*0.5+L168+M168*0.4,IF(B168=data!$B$4,D168*0.6+E168*0.8+F168*0.7+G168+H168+J168+L168+N168,IF(B168=data!$B$5,D168*0.7+E168*0.8+F168+I168*0.7+J168+L168,\"zvolte typ stavby\"))))","v":35.9},{"$f":"IF(B168=data!$B$2,(O168*10)/6.4,IF(B168=data!$B$3,(O168*10)/4.8,IF(B168=data!$B$4,(O168*10)/7.1,IF(B168=data!$B$5,(O168*10)/5.2,\"zvolte typ stavby\"))))","v":50.563380281690144},33000000]
["II/102 Davle","oprava a rekonstrukce","Rekonstrukce",6,10,10,6,10,10,10,0,10,10,10,{"$f":"IF(B169=data!$B$2,D169*0.7+E169*0.5+F169*0.2+G169*0.8+H169+I169*0.2+J169+K169*0.3+L169+M169*0.5+N169*0.2,IF(B169=data!$B$3,D169*0.1+E169*0.4+F169*0.3+G169*0.1+H169+J169+K169*0.5+L169+M169*0.4,IF(B169=data!$B$4,D169*0.6+E169*0.8+F169*0.7+G169+H169+J169+L169+N169,IF(B169=data!$B$5,D169*0.7+E169*0.8+F169+I169*0.7+J169+L169,\"zvolte typ stavby\"))))","v":55},{"$f":"IF(B169=data!$B$2,(O169*10)/6.4,IF(B169=data!$B$3,(O169*10)/4.8,IF(B169=data!$B$4,(O169*10)/7.1,IF(B169=data!$B$5,(O169*10)/5.2,\"zvolte typ stavby\"))))","v":85.9375},32483662.559999999,null,null,null,"IROP 2"]
["III/33721 Močovice","oprava a rekonstrukce","Rekonstrukce",2,10,5,6,10,10,4,0,10,10,0,{"$f":"IF(B170=data!$B$2,D170*0.7+E170*0.5+F170*0.2+G170*0.8+H170+I170*0.2+J170+K170*0.3+L170+M170*0.5+N170*0.2,IF(B170=data!$B$3,D170*0.1+E170*0.4+F170*0.3+G170*0.1+H170+J170+K170*0.5+L170+M170*0.4,IF(B170=data!$B$4,D170*0.6+E170*0.8+F170*0.7+G170+H170+J170+L170+N170,IF(B170=data!$B$5,D170*0.7+E170*0.8+F170+I170*0.7+J170+L170,\"zvolte typ stavby\"))))","v":43.2},{"$f":"IF(B170=data!$B$2,(O170*10)/6.4,IF(B170=data!$B$3,(O170*10)/4.8,IF(B170=data!$B$4,(O170*10)/7.1,IF(B170=data!$B$5,(O170*10)/5.2,\"zvolte typ stavby\"))))","v":67.5},30911582.530000001,null,null,null,"IROP 2"]
["III/26828 Dolní Krupá - Bělá pod Bezdězem","oprava a rekonstrukce","Souvislá údržba",3,0,4,10,10,10,7,0,10,0,2,{"$f":"IF(B171=data!$B$2,D171*0.7+E171*0.5+F171*0.2+G171*0.8+H171+I171*0.2+J171+K171*0.3+L171+M171*0.5+N171*0.2,IF(B171=data!$B$3,D171*0.1+E171*0.4+F171*0.3+G171*0.1+H171+J171+K171*0.5+L171+M171*0.4,IF(B171=data!$B$4,D171*0.6+E171*0.8+F171*0.7+G171+H171+J171+L171+N171,IF(B171=data!$B$5,D171*0.7+E171*0.8+F171+I171*0.7+J171+L171,\"zvolte typ stavby\"))))","v":40.299999999999997},{"$f":"IF(B171=[1]data!$B$2,(O171*10)/6.4,IF(B171=[1]data!$B$3,(O171*10)/4.8,IF(B171=[1]data!$B$4,(O171*10)/7.1,IF(B171=[1]data!$B$5,(O171*10)/5.2,\"zvolte typ stavby\"))))","v":62.96875},30878979.129999999,null,"připraveno k soutěži a realizaci 2023"]
["Pyšely – okružní křižovatka III/6031 × III/1096","řešení bodové závady a/nebo bezpečnostního rizika (křižovatky, opěrné zdi, skalní masivy)","-",3,10,5,10,3,0,4,0,10,10,4,{"$f":"IF(B172=data!$B$2,D172*0.7+E172*0.5+F172*0.2+G172*0.8+H172+I172*0.2+J172+K172*0.3+L172+M172*0.5+N172*0.2,IF(B172=data!$B$3,D172*0.1+E172*0.4+F172*0.3+G172*0.1+H172+J172+K172*0.5+L172+M172*0.4,IF(B172=data!$B$4,D172*0.6+E172*0.8+F172*0.7+G172+H172+J172+L172+N172,IF(B172=data!$B$5,D172*0.7+E172*0.8+F172+I172*0.7+J172+L172,\"zvolte typ stavby\"))))","v":44.3},{"$f":"IF(B172=data!$B$2,(O172*10)/6.4,IF(B172=data!$B$3,(O172*10)/4.8,IF(B172=data!$B$4,(O172*10)/7.1,IF(B172=data!$B$5,(O172*10)/5.2,\"zvolte typ stavby\"))))","v":62.394366197183103},30250000]
["II/279 Rabakov – Prodašice, II. etapa","oprava a rekonstrukce","Rekonstrukce",3,10,10,6,6,10,4,0,0,0,2,{"$f":"IF(B173=data!$B$2,D173*0.7+E173*0.5+F173*0.2+G173*0.8+H173+I173*0.2+J173+K173*0.3+L173+M173*0.5+N173*0.2,IF(B173=data!$B$3,D173*0.1+E173*0.4+F173*0.3+G173*0.1+H173+J173+K173*0.5+L173+M173*0.4,IF(B173=data!$B$4,D173*0.6+E173*0.8+F173*0.7+G173+H173+J173+L173+N173,IF(B173=data!$B$5,D173*0.7+E173*0.8+F173+I173*0.7+J173+L173,\"zvolte typ stavby\"))))","v":26.299999999999997},{"$f":"IF(B173=data!$B$2,(O173*10)/6.4,IF(B173=data!$B$3,(O173*10)/4.8,IF(B173=data!$B$4,(O173*10)/7.1,IF(B173=data!$B$5,(O173*10)/5.2,\"zvolte typ stavby\"))))","v":41.09375},30000000]
["II/611 Poděbrady, most ev.č. 611-014","mostní objekty a propustky","Most",7,8,10,6,6,0,7,0,0,0,0,{"$f":"IF(B174=data!$B$2,D174*0.7+E174*0.5+F174*0.2+G174*0.8+H174+I174*0.2+J174+K174*0.3+L174+M174*0.5+N174*0.2,IF(B174=data!$B$3,D174*0.1+E174*0.4+F174*0.3+G174*0.1+H174+J174+K174*0.5+L174+M174*0.4,IF(B174=data!$B$4,D174*0.6+E174*0.8+F174*0.7+G174+H174+J174+L174+N174,IF(B174=data!$B$5,D174*0.7+E174*0.8+F174+I174*0.7+J174+L174,\"zvolte typ stavby\"))))","v":20.5},{"$f":"IF(B174=data!$B$2,(O174*10)/6.4,IF(B174=data!$B$3,(O174*10)/4.8,IF(B174=data!$B$4,(O174*10)/7.1,IF(B174=data!$B$5,(O174*10)/5.2,\"zvolte typ stavby\"))))","v":42.708333333333336},30000000]
["III/00325 Jažlovice, PD","oprava a rekonstrukce","Rekonstrukce",4,8,5,6,6,10,4,0,5,10,2,{"$f":"IF(B175=data!$B$2,D175*0.7+E175*0.5+F175*0.2+G175*0.8+H175+I175*0.2+J175+K175*0.3+L175+M175*0.5+N175*0.2,IF(B175=data!$B$3,D175*0.1+E175*0.4+F175*0.3+G175*0.1+H175+J175+K175*0.5+L175+M175*0.4,IF(B175=data!$B$4,D175*0.6+E175*0.8+F175*0.7+G175+H175+J175+L175+N175,IF(B175=data!$B$5,D175*0.7+E175*0.8+F175+I175*0.7+J175+L175,\"zvolte typ stavby\"))))","v":35},{"$f":"IF(B175=data!$B$2,(O175*10)/6.4,IF(B175=data!$B$3,(O175*10)/4.8,IF(B175=data!$B$4,(O175*10)/7.1,IF(B175=data!$B$5,(O175*10)/5.2,\"zvolte typ stavby\"))))","v":54.6875},30000000]
["II/105 Velběhy - Spolí","oprava a rekonstrukce","Rekonstrukce",3,10,10,3,3,10,4,0,10,10,2,{"$f":"IF(B176=data!$B$2,D176*0.7+E176*0.5+F176*0.2+G176*0.8+H176+I176*0.2+J176+K176*0.3+L176+M176*0.5+N176*0.2,IF(B176=data!$B$3,D176*0.1+E176*0.4+F176*0.3+G176*0.1+H176+J176+K176*0.5+L176+M176*0.4,IF(B176=data!$B$4,D176*0.6+E176*0.8+F176*0.7+G176+H176+J176+L176+N176,IF(B176=data!$B$5,D176*0.7+E176*0.8+F176+I176*0.7+J176+L176,\"zvolte typ stavby\"))))","v":35.9},{"$f":"IF(B176=data!$B$2,(O176*10)/6.4,IF(B176=data!$B$3,(O176*10)/4.8,IF(B176=data!$B$4,(O176*10)/7.1,IF(B176=data!$B$5,(O176*10)/5.2,\"zvolte typ stavby\"))))","v":56.09375},30000000,null,null,null,"IROP 2"]
[" II/610 x II/245 Brandýs nad Labem, křižovatka ","řešení bodové závady a/nebo bezpečnostního rizika (křižovatky, opěrné zdi, skalní masivy)","-",8,8,10,6,3,0,2,0,0,10,7,{"$f":"IF(B177=data!$B$2,D177*0.7+E177*0.5+F177*0.2+G177*0.8+H177+I177*0.2+J177+K177*0.3+L177+M177*0.5+N177*0.2,IF(B177=data!$B$3,D177*0.1+E177*0.4+F177*0.3+G177*0.1+H177+J177+K177*0.5+L177+M177*0.4,IF(B177=data!$B$4,D177*0.6+E177*0.8+F177*0.7+G177+H177+J177+L177+N177,IF(B177=data!$B$5,D177*0.7+E177*0.8+F177+I177*0.7+J177+L177,\"zvolte typ stavby\"))))","v":36.200000000000003},{"$f":"IF(B177=data!$B$2,(O177*10)/6.4,IF(B177=data!$B$3,(O177*10)/4.8,IF(B177=data!$B$4,(O177*10)/7.1,IF(B177=data!$B$5,(O177*10)/5.2,\"zvolte typ stavby\"))))","v":50.985915492957751},30000000,"-",null,null,"plán investic KU, tendrovat"]
["II/101 Třebotov - Rudná, rekonstrukce II. Etapa","oprava a rekonstrukce","Rekonstrukce",3,10,10,3,10,10,4,0,5,10,0,{"$f":"IF(B178=data!$B$2,D178*0.7+E178*0.5+F178*0.2+G178*0.8+H178+I178*0.2+J178+K178*0.3+L178+M178*0.5+N178*0.2,IF(B178=data!$B$3,D178*0.1+E178*0.4+F178*0.3+G178*0.1+H178+J178+K178*0.5+L178+M178*0.4,IF(B178=data!$B$4,D178*0.6+E178*0.8+F178*0.7+G178+H178+J178+L178+N178,IF(B178=data!$B$5,D178*0.7+E178*0.8+F178+I178*0.7+J178+L178,\"zvolte typ stavby\"))))","v":37.5},{"$f":"IF(B178=data!$B$2,(O178*10)/6.4,IF(B178=data!$B$3,(O178*10)/4.8,IF(B178=data!$B$4,(O178*10)/7.1,IF(B178=data!$B$5,(O178*10)/5.2,\"zvolte typ stavby\"))))","v":58.59375},30000000,null,null,null,"plán investic KU"]
["II/112 Struhařov, okružní křižovatka a silnice, II. etapa (okružní křižovatka)","řešení bodové závady a/nebo bezpečnostního rizika (křižovatky, opěrné zdi, skalní masivy)","-",6,10,10,6,10,0,7,0,8,0,10,{"$f":"IF(B179=data!$B$2,D179*0.7+E179*0.5+F179*0.2+G179*0.8+H179+I179*0.2+J179+K179*0.3+L179+M179*0.5+N179*0.2,IF(B179=data!$B$3,D179*0.1+E179*0.4+F179*0.3+G179*0.1+H179+J179+K179*0.5+L179+M179*0.4,IF(B179=data!$B$4,D179*0.6+E179*0.8+F179*0.7+G179+H179+J179+L179+N179,IF(B179=data!$B$5,D179*0.7+E179*0.8+F179+I179*0.7+J179+L179,\"zvolte typ stavby\"))))","v":59.6},{"$f":"IF(B179=data!$B$2,(O179*10)/6.4,IF(B179=data!$B$3,(O179*10)/4.8,IF(B179=data!$B$4,(O179*10)/7.1,IF(B179=data!$B$5,(O179*10)/5.2,\"zvolte typ stavby\"))))","v":83.943661971830991},30000000,"IROP 2"]
["Hostivice – rekonstrukce silnice III/0064, ul. Litovická","oprava a rekonstrukce","Rekonstrukce",1,10,5,3,10,10,2,0,0,10,7,{"$f":"IF(B180=data!$B$2,D180*0.7+E180*0.5+F180*0.2+G180*0.8+H180+I180*0.2+J180+K180*0.3+L180+M180*0.5+N180*0.2,IF(B180=data!$B$3,D180*0.1+E180*0.4+F180*0.3+G180*0.1+H180+J180+K180*0.5+L180+M180*0.4,IF(B180=data!$B$4,D180*0.6+E180*0.8+F180*0.7+G180+H180+J180+L180+N180,IF(B180=data!$B$5,D180*0.7+E180*0.8+F180+I180*0.7+J180+L180,\"zvolte typ stavby\"))))","v":29.5},{"$f":"IF(B180=data!$B$2,(O180*10)/6.4,IF(B180=data!$B$3,(O180*10)/4.8,IF(B180=data!$B$4,(O180*10)/7.1,IF(B180=data!$B$5,(O180*10)/5.2,\"zvolte typ stavby\"))))","v":46.09375},29782739.140000001,null,"k 11/2022 Odhad našich nákladů- projektanta soutěží město"]
["II/245 Český Brod - Žižkova ulice - celková rekonstrukce ulice II etapa","oprava a rekonstrukce","Rekonstrukce",4,10,10,3,10,10,7,0,8,10,0,{"$f":"IF(B181=data!$B$2,D181*0.7+E181*0.5+F181*0.2+G181*0.8+H181+I181*0.2+J181+K181*0.3+L181+M181*0.5+N181*0.2,IF(B181=data!$B$3,D181*0.1+E181*0.4+F181*0.3+G181*0.1+H181+J181+K181*0.5+L181+M181*0.4,IF(B181=data!$B$4,D181*0.6+E181*0.8+F181*0.7+G181+H181+J181+L181+N181,IF(B181=data!$B$5,D181*0.7+E181*0.8+F181+I181*0.7+J181+L181,\"zvolte typ stavby\"))))","v":44.2},{"$f":"IF(B181=data!$B$2,(O181*10)/6.4,IF(B181=data!$B$3,(O181*10)/4.8,IF(B181=data!$B$4,(O181*10)/7.1,IF(B181=data!$B$5,(O181*10)/5.2,\"zvolte typ stavby\"))))","v":69.0625},29491361.41,null,null,null,"IROP 2"]
["III/0172 Opatovice I, most ev.č. 0172-1","oprava a rekonstrukce","Rekonstrukce",2,10,5,6,10,10,4,0,10,10,2,{"$f":"IF(B182=data!$B$2,D182*0.7+E182*0.5+F182*0.2+G182*0.8+H182+I182*0.2+J182+K182*0.3+L182+M182*0.5+N182*0.2,IF(B182=data!$B$3,D182*0.1+E182*0.4+F182*0.3+G182*0.1+H182+J182+K182*0.5+L182+M182*0.4,IF(B182=data!$B$4,D182*0.6+E182*0.8+F182*0.7+G182+H182+J182+L182+N182,IF(B182=data!$B$5,D182*0.7+E182*0.8+F182+I182*0.7+J182+L182,\"zvolte typ stavby\"))))","v":43.6},{"$f":"IF(B182=data!$B$2,(O182*10)/6.4,IF(B182=data!$B$3,(O182*10)/4.8,IF(B182=data!$B$4,(O182*10)/7.1,IF(B182=data!$B$5,(O182*10)/5.2,\"zvolte typ stavby\"))))","v":68.125},29248546.359999999]
["II/605 Levín, rekonstrukde mostu ev.č. 605-034","mostní objekty a propustky","Most",5,10,10,6,6,0,10,0,10,10,0,{"$f":"IF(B183=data!$B$2,D183*0.7+E183*0.5+F183*0.2+G183*0.8+H183+I183*0.2+J183+K183*0.3+L183+M183*0.5+N183*0.2,IF(B183=data!$B$3,D183*0.1+E183*0.4+F183*0.3+G183*0.1+H183+J183+K183*0.5+L183+M183*0.4,IF(B183=data!$B$4,D183*0.6+E183*0.8+F183*0.7+G183+H183+J183+L183+N183,IF(B183=data!$B$5,D183*0.7+E183*0.8+F183+I183*0.7+J183+L183,\"zvolte typ stavby\"))))","v":38.1},{"$f":"IF(B183=data!$B$2,(O183*10)/6.4,IF(B183=data!$B$3,(O183*10)/4.8,IF(B183=data!$B$4,(O183*10)/7.1,IF(B183=data!$B$5,(O183*10)/5.2,\"zvolte typ stavby\"))))","v":79.375},29900000]
["III/2444 a III/105a Přezletice, průtah III etapa","oprava a rekonstrukce","Rekonstrukce",5,10,5,6,10,1,7,0,5,10,2,{"$f":"IF(B184=data!$B$2,D184*0.7+E184*0.5+F184*0.2+G184*0.8+H184+I184*0.2+J184+K184*0.3+L184+M184*0.5+N184*0.2,IF(B184=data!$B$3,D184*0.1+E184*0.4+F184*0.3+G184*0.1+H184+J184+K184*0.5+L184+M184*0.4,IF(B184=data!$B$4,D184*0.6+E184*0.8+F184*0.7+G184+H184+J184+L184+N184,IF(B184=data!$B$5,D184*0.7+E184*0.8+F184+I184*0.7+J184+L184,\"zvolte typ stavby\"))))","v":41.9},{"$f":"IF(B184=data!$B$2,(O184*10)/6.4,IF(B184=data!$B$3,(O184*10)/4.8,IF(B184=data!$B$4,(O184*10)/7.1,IF(B184=data!$B$5,(O184*10)/5.2,\"zvolte typ stavby\"))))","v":65.46875},48400000,null,null,null,"IROP 2"]
["II/277 Mohelnice nad Jizerou / Podhora – zajištění nestabilní skalní stěny","řešení bodové závady a/nebo bezpečnostního rizika (křižovatky, opěrné zdi, skalní masivy)",null,3,0,10,10,10,1,10,0,10,10,0,{"$f":"IF(B185=data!$B$2,D185*0.7+E185*0.5+F185*0.2+G185*0.8+H185+I185*0.2+J185+K185*0.3+L185+M185*0.5+N185*0.2,IF(B185=data!$B$3,D185*0.1+E185*0.4+F185*0.3+G185*0.1+H185+J185+K185*0.5+L185+M185*0.4,IF(B185=data!$B$4,D185*0.6+E185*0.8+F185*0.7+G185+H185+J185+L185+N185,IF(B185=data!$B$5,D185*0.7+E185*0.8+F185+I185*0.7+J185+L185,\"zvolte typ stavby\"))))","v":48.8},{"$f":"IF(B185=data!$B$2,(O185*10)/6.4,IF(B185=data!$B$3,(O185*10)/4.8,IF(B185=data!$B$4,(O185*10)/7.1,IF(B185=data!$B$5,(O185*10)/5.2,\"zvolte typ stavby\"))))","v":68.732394366197184},27777916.719999999,"SFDI – NZ – národní zdroje"," SFDI – NZ – národní zdroje 2023 - v soutěži!"]
["III/0098 Byškovice - Korycany","oprava a rekonstrukce","Souvislá údržba",2,0,5,6,10,1,4,0,10,10,10,{"$f":"IF(B186=data!$B$2,D186*0.7+E186*0.5+F186*0.2+G186*0.8+H186+I186*0.2+J186+K186*0.3+L186+M186*0.5+N186*0.2,IF(B186=data!$B$3,D186*0.1+E186*0.4+F186*0.3+G186*0.1+H186+J186+K186*0.5+L186+M186*0.4,IF(B186=data!$B$4,D186*0.6+E186*0.8+F186*0.7+G186+H186+J186+L186+N186,IF(B186=data!$B$5,D186*0.7+E186*0.8+F186+I186*0.7+J186+L186,\"zvolte typ stavby\"))))","v":38.400000000000006},{"$f":"IF(B186=data!$B$2,(O186*10)/6.4,IF(B186=data!$B$3,(O186*10)/4.8,IF(B186=data!$B$4,(O186*10)/7.1,IF(B186=data!$B$5,(O186*10)/5.2,\"zvolte typ stavby\"))))","v":60.000000000000007},26930524.239999998,null,"připraveno k soutěži a realizaci 2023, lze zařadit do ÚD-SOKP",null,"SFDI NZ 2022 - tendrovat"]
["Okružní křižovatka II/610 x II/275 Horky nad Jizerou_PD","řešení bodové závady a/nebo bezpečnostního rizika (křižovatky, opěrné zdi, skalní masivy)","-",4,10,10,10,10,0,4,0,2,10,0,{"$f":"IF(B187=data!$B$2,D187*0.7+E187*0.5+F187*0.2+G187*0.8+H187+I187*0.2+J187+K187*0.3+L187+M187*0.5+N187*0.2,IF(B187=data!$B$3,D187*0.1+E187*0.4+F187*0.3+G187*0.1+H187+J187+K187*0.5+L187+M187*0.4,IF(B187=data!$B$4,D187*0.6+E187*0.8+F187*0.7+G187+H187+J187+L187+N187,IF(B187=data!$B$5,D187*0.7+E187*0.8+F187+I187*0.7+J187+L187,\"zvolte typ stavby\"))))","v":43.4},{"$f":"IF(B187=data!$B$2,(O187*10)/6.4,IF(B187=data!$B$3,(O187*10)/4.8,IF(B187=data!$B$4,(O187*10)/7.1,IF(B187=data!$B$5,(O187*10)/5.2,\"zvolte typ stavby\"))))","v":61.126760563380287},30000000,null,null,null,"SFDI NZ 2022 - tendrovat"]
["II/101 Břežanské údolí, sanace skalního svahu","řešení bodové závady a/nebo bezpečnostního rizika (křižovatky, opěrné zdi, skalní masivy)","-",5,10,10,10,10,0,10,0,5,0,7,{"$f":"IF(B188=data!$B$2,D188*0.7+E188*0.5+F188*0.2+G188*0.8+H188+I188*0.2+J188+K188*0.3+L188+M188*0.5+N188*0.2,IF(B188=data!$B$3,D188*0.1+E188*0.4+F188*0.3+G188*0.1+H188+J188+K188*0.5+L188+M188*0.4,IF(B188=data!$B$4,D188*0.6+E188*0.8+F188*0.7+G188+H188+J188+L188+N188,IF(B188=data!$B$5,D188*0.7+E188*0.8+F188+I188*0.7+J188+L188,\"zvolte typ stavby\"))))","v":60},{"$f":"IF(B188=data!$B$2,(O188*10)/6.4,IF(B188=data!$B$3,(O188*10)/4.8,IF(B188=data!$B$4,(O188*10)/7.1,IF(B188=data!$B$5,(O188*10)/5.2,\"zvolte typ stavby\"))))","v":84.507042253521135},26341700]
["II/245 Český Brod - Žižkova ulice - celková rekonstrukce ulice I etapa","oprava a rekonstrukce","Rekonstrukce",4,10,10,3,10,10,7,0,8,10,0,{"$f":"IF(B189=data!$B$2,D189*0.7+E189*0.5+F189*0.2+G189*0.8+H189+I189*0.2+J189+K189*0.3+L189+M189*0.5+N189*0.2,IF(B189=data!$B$3,D189*0.1+E189*0.4+F189*0.3+G189*0.1+H189+J189+K189*0.5+L189+M189*0.4,IF(B189=data!$B$4,D189*0.6+E189*0.8+F189*0.7+G189+H189+J189+L189+N189,IF(B189=data!$B$5,D189*0.7+E189*0.8+F189+I189*0.7+J189+L189,\"zvolte typ stavby\"))))","v":44.2},{"$f":"IF(B189=data!$B$2,(O189*10)/6.4,IF(B189=data!$B$3,(O189*10)/4.8,IF(B189=data!$B$4,(O189*10)/7.1,IF(B189=data!$B$5,(O189*10)/5.2,\"zvolte typ stavby\"))))","v":69.0625},26157361.41]
["II/107 Všechromy - rekonstrukce silnice a okružních křižovatek","oprava a rekonstrukce","Rekonstrukce",7,10,10,10,6,10,10,10,5,10,4,{"$f":"IF(B190=data!$B$2,D190*0.7+E190*0.5+F190*0.2+G190*0.8+H190+I190*0.2+J190+K190*0.3+L190+M190*0.5+N190*0.2,IF(B190=data!$B$3,D190*0.1+E190*0.4+F190*0.3+G190*0.1+H190+J190+K190*0.5+L190+M190*0.4,IF(B190=data!$B$4,D190*0.6+E190*0.8+F190*0.7+G190+H190+J190+L190+N190,IF(B190=data!$B$5,D190*0.7+E190*0.8+F190+I190*0.7+J190+L190,\"zvolte typ stavby\"))))","v":51.699999999999996},{"$f":"IF(B190=data!$B$2,(O190*10)/6.4,IF(B190=data!$B$3,(O190*10)/4.8,IF(B190=data!$B$4,(O190*10)/7.1,IF(B190=data!$B$5,(O190*10)/5.2,\"zvolte typ stavby\"))))","v":80.78125},25410000,null,null,null,"IROP 2"]
["II/101 Kováry - Zákolany a III/00710 Lichoceves, úprava podjezdů","řešení bodové závady a/nebo bezpečnostního rizika (křižovatky, opěrné zdi, skalní masivy)","-",3,10,10,6,6,0,2,0,2,0,0,{"$f":"IF(B191=data!$B$2,D191*0.7+E191*0.5+F191*0.2+G191*0.8+H191+I191*0.2+J191+K191*0.3+L191+M191*0.5+N191*0.2,IF(B191=data!$B$3,D191*0.1+E191*0.4+F191*0.3+G191*0.1+H191+J191+K191*0.5+L191+M191*0.4,IF(B191=data!$B$4,D191*0.6+E191*0.8+F191*0.7+G191+H191+J191+L191+N191,IF(B191=data!$B$5,D191*0.7+E191*0.8+F191+I191*0.7+J191+L191,\"zvolte typ stavby\"))))","v":32.799999999999997},{"$f":"IF(B191=data!$B$2,(O191*10)/6.4,IF(B191=data!$B$3,(O191*10)/4.8,IF(B191=data!$B$4,(O191*10)/7.1,IF(B191=data!$B$5,(O191*10)/5.2,\"zvolte typ stavby\"))))","v":46.197183098591552},25000000,null,null,null,"SFDI NZ 2022 - tendrovat"]
["III/11533 Beroun, okružní křižovatka","řešení bodové závady a/nebo bezpečnostního rizika (křižovatky, opěrné zdi, skalní masivy)","-",5,10,5,6,3,0,7,0,2,0,4,{"$f":"IF(B192=data!$B$2,D192*0.7+E192*0.5+F192*0.2+G192*0.8+H192+I192*0.2+J192+K192*0.3+L192+M192*0.5+N192*0.2,IF(B192=data!$B$3,D192*0.1+E192*0.4+F192*0.3+G192*0.1+H192+J192+K192*0.5+L192+M192*0.4,IF(B192=data!$B$4,D192*0.6+E192*0.8+F192*0.7+G192+H192+J192+L192+N192,IF(B192=data!$B$5,D192*0.7+E192*0.8+F192+I192*0.7+J192+L192,\"zvolte typ stavby\"))))","v":36.5},{"$f":"IF(B192=data!$B$2,(O192*10)/6.4,IF(B192=data!$B$3,(O192*10)/4.8,IF(B192=data!$B$4,(O192*10)/7.1,IF(B192=data!$B$5,(O192*10)/5.2,\"zvolte typ stavby\"))))","v":51.408450704225352},25000000]
["III/12144 Střezimíř, most ev.č. 12144-3","mostní objekty a propustky","Most",2,0,5,6,6,0,10,0,5,10,0,{"$f":"IF(B193=data!$B$2,D193*0.7+E193*0.5+F193*0.2+G193*0.8+H193+I193*0.2+J193+K193*0.3+L193+M193*0.5+N193*0.2,IF(B193=data!$B$3,D193*0.1+E193*0.4+F193*0.3+G193*0.1+H193+J193+K193*0.5+L193+M193*0.4,IF(B193=data!$B$4,D193*0.6+E193*0.8+F193*0.7+G193+H193+J193+L193+N193,IF(B193=data!$B$5,D193*0.7+E193*0.8+F193+I193*0.7+J193+L193,\"zvolte typ stavby\"))))","v":27.3},{"$f":"IF(B193=data!$B$2,(O193*10)/6.4,IF(B193=data!$B$3,(O193*10)/4.8,IF(B193=data!$B$4,(O193*10)/7.1,IF(B193=data!$B$5,(O193*10)/5.2,\"zvolte typ stavby\"))))","v":56.875},25000000,null,"Předpokládaný termmín realizace 03/2024-12/2024"]
["II/113 Bílkovice, most ev. č. 113-015","mostní objekty a propustky","Most",4,0,10,3,6,0,10,0,5,10,0,{"$f":"IF(B194=data!$B$2,D194*0.7+E194*0.5+F194*0.2+G194*0.8+H194+I194*0.2+J194+K194*0.3+L194+M194*0.5+N194*0.2,IF(B194=data!$B$3,D194*0.1+E194*0.4+F194*0.3+G194*0.1+H194+J194+K194*0.5+L194+M194*0.4,IF(B194=data!$B$4,D194*0.6+E194*0.8+F194*0.7+G194+H194+J194+L194+N194,IF(B194=data!$B$5,D194*0.7+E194*0.8+F194+I194*0.7+J194+L194,\"zvolte typ stavby\"))))","v":28.7},{"$f":"IF(B194=data!$B$2,(O194*10)/6.4,IF(B194=data!$B$3,(O194*10)/4.8,IF(B194=data!$B$4,(O194*10)/7.1,IF(B194=data!$B$5,(O194*10)/5.2,\"zvolte typ stavby\"))))","v":59.791666666666671},25000000,null,"Předpokládaný termmín realizace 03/2024-12/2024"]
["Okružní křižovatka silnic II/112 a II/127 Zdislavice - PD","řešení bodové závady a/nebo bezpečnostního rizika (křižovatky, opěrné zdi, skalní masivy)","-",6,10,10,3,10,0,2,0,2,0,10,{"$f":"IF(B195=data!$B$2,D195*0.7+E195*0.5+F195*0.2+G195*0.8+H195+I195*0.2+J195+K195*0.3+L195+M195*0.5+N195*0.2,IF(B195=data!$B$3,D195*0.1+E195*0.4+F195*0.3+G195*0.1+H195+J195+K195*0.5+L195+M195*0.4,IF(B195=data!$B$4,D195*0.6+E195*0.8+F195*0.7+G195+H195+J195+L195+N195,IF(B195=data!$B$5,D195*0.7+E195*0.8+F195+I195*0.7+J195+L195,\"zvolte typ stavby\"))))","v":45.6},{"$f":"IF(B195=data!$B$2,(O195*10)/6.4,IF(B195=data!$B$3,(O195*10)/4.8,IF(B195=data!$B$4,(O195*10)/7.1,IF(B195=data!$B$5,(O195*10)/5.2,\"zvolte typ stavby\"))))","v":64.225352112676063},25000000,"-"]
["Okružní křižovatka silnic II/106 x III/1065 x III/1066-Krhanice","řešení bodové závady a/nebo bezpečnostního rizika (křižovatky, opěrné zdi, skalní masivy)","-",3,8,10,6,6,10,7,0,10,10,2,{"$f":"IF(B196=data!$B$2,D196*0.7+E196*0.5+F196*0.2+G196*0.8+H196+I196*0.2+J196+K196*0.3+L196+M196*0.5+N196*0.2,IF(B196=data!$B$3,D196*0.1+E196*0.4+F196*0.3+G196*0.1+H196+J196+K196*0.5+L196+M196*0.4,IF(B196=data!$B$4,D196*0.6+E196*0.8+F196*0.7+G196+H196+J196+L196+N196,IF(B196=data!$B$5,D196*0.7+E196*0.8+F196+I196*0.7+J196+L196,\"zvolte typ stavby\"))))","v":46.2},{"$f":"IF(B196=data!$B$2,(O196*10)/6.4,IF(B196=data!$B$3,(O196*10)/4.8,IF(B196=data!$B$4,(O196*10)/7.1,IF(B196=data!$B$5,(O196*10)/5.2,\"zvolte typ stavby\"))))","v":65.070422535211264},25000000]
["II/174 Březnice, most ev.č. 174-006 PD","mostní objekty a propustky","Most",3,0,10,6,6,0,10,0,8,10,0,{"$f":"IF(B197=data!$B$2,D197*0.7+E197*0.5+F197*0.2+G197*0.8+H197+I197*0.2+J197+K197*0.3+L197+M197*0.5+N197*0.2,IF(B197=data!$B$3,D197*0.1+E197*0.4+F197*0.3+G197*0.1+H197+J197+K197*0.5+L197+M197*0.4,IF(B197=data!$B$4,D197*0.6+E197*0.8+F197*0.7+G197+H197+J197+L197+N197,IF(B197=data!$B$5,D197*0.7+E197*0.8+F197+I197*0.7+J197+L197,\"zvolte typ stavby\"))))","v":31.9},{"$f":"IF(B197=data!$B$2,(O197*10)/6.4,IF(B197=data!$B$3,(O197*10)/4.8,IF(B197=data!$B$4,(O197*10)/7.1,IF(B197=data!$B$5,(O197*10)/5.2,\"zvolte typ stavby\"))))","v":66.458333333333343},25000000,null,"Předpokládaný termmín realizace 03/2024-12/2024"]
["II/240, III/2404 Horoměřice, dešťová a splašková kanalizace - PD","oprava a rekonstrukce","Rekonstrukce",5,10,10,10,10,10,7,0,2,10,4,{"$f":"IF(B198=data!$B$2,D198*0.7+E198*0.5+F198*0.2+G198*0.8+H198+I198*0.2+J198+K198*0.3+L198+M198*0.5+N198*0.2,IF(B198=data!$B$3,D198*0.1+E198*0.4+F198*0.3+G198*0.1+H198+J198+K198*0.5+L198+M198*0.4,IF(B198=data!$B$4,D198*0.6+E198*0.8+F198*0.7+G198+H198+J198+L198+N198,IF(B198=data!$B$5,D198*0.7+E198*0.8+F198+I198*0.7+J198+L198,\"zvolte typ stavby\"))))","v":45.3},{"$f":"IF(B198=data!$B$2,(O198*10)/6.4,IF(B198=data!$B$3,(O198*10)/4.8,IF(B198=data!$B$4,(O198*10)/7.1,IF(B198=data!$B$5,(O198*10)/5.2,\"zvolte typ stavby\"))))","v":70.78125},24163294]
["III/23627 Nové Strašecí, oprava mostu ev.č. 23627-2 přes D6","mostní objekty a propustky","Most",3,10,7,3,10,1,4,0,10,0,0,{"$f":"IF(B199=data!$B$2,D199*0.7+E199*0.5+F199*0.2+G199*0.8+H199+I199*0.2+J199+K199*0.3+L199+M199*0.5+N199*0.2,IF(B199=data!$B$3,D199*0.1+E199*0.4+F199*0.3+G199*0.1+H199+J199+K199*0.5+L199+M199*0.4,IF(B199=data!$B$4,D199*0.6+E199*0.8+F199*0.7+G199+H199+J199+L199+N199,IF(B199=data!$B$5,D199*0.7+E199*0.8+F199+I199*0.7+J199+L199,\"zvolte typ stavby\"))))","v":30.7},{"$f":"IF(B199=data!$B$2,(O199*10)/6.4,IF(B199=data!$B$3,(O199*10)/4.8,IF(B199=data!$B$4,(O199*10)/7.1,IF(B199=data!$B$5,(O199*10)/5.2,\"zvolte typ stavby\"))))","v":63.958333333333336},{"$f":"19500000*1.21","v":23595000},"SFDI – NZ – národní zdroje"]
["III/10163 Nehvizdy - Horoušany","oprava a rekonstrukce","Souvislá údržba",4,0,5,6,6,10,7,0,10,10,7,{"$f":"IF(B200=data!$B$2,D200*0.7+E200*0.5+F200*0.2+G200*0.8+H200+I200*0.2+J200+K200*0.3+L200+M200*0.5+N200*0.2,IF(B200=data!$B$3,D200*0.1+E200*0.4+F200*0.3+G200*0.1+H200+J200+K200*0.5+L200+M200*0.4,IF(B200=data!$B$4,D200*0.6+E200*0.8+F200*0.7+G200+H200+J200+L200+N200,IF(B200=data!$B$5,D200*0.7+E200*0.8+F200+I200*0.7+J200+L200,\"zvolte typ stavby\"))))","v":40},{"$f":"IF(B200=data!$B$2,(O200*10)/6.4,IF(B200=data!$B$3,(O200*10)/4.8,IF(B200=data!$B$4,(O200*10)/7.1,IF(B200=data!$B$5,(O200*10)/5.2,\"zvolte typ stavby\"))))","v":62.5},23361149.350000001,null,"připraveno k soutěži a realizaci 2023"]
[",,III/27515 Kolomuty, most ev.č. 27515-7 přes Klenici za Kolomuty\"","mostní objekty a propustky","Most",2,0,5,6,6,0,10,0,5,10,0,{"$f":"IF(B201=data!$B$2,D201*0.7+E201*0.5+F201*0.2+G201*0.8+H201+I201*0.2+J201+K201*0.3+L201+M201*0.5+N201*0.2,IF(B201=data!$B$3,D201*0.1+E201*0.4+F201*0.3+G201*0.1+H201+J201+K201*0.5+L201+M201*0.4,IF(B201=data!$B$4,D201*0.6+E201*0.8+F201*0.7+G201+H201+J201+L201+N201,IF(B201=data!$B$5,D201*0.7+E201*0.8+F201+I201*0.7+J201+L201,\"zvolte typ stavby\"))))","v":27.3},{"$f":"IF(B201=data!$B$2,(O201*10)/6.4,IF(B201=data!$B$3,(O201*10)/4.8,IF(B201=data!$B$4,(O201*10)/7.1,IF(B201=data!$B$5,(O201*10)/5.2,\"zvolte typ stavby\"))))","v":56.875},22000000,null,"Předpokládaný termmín realizace 03/2024-12/2024",null,"IROP 2"]
["III/27937 Dolní Bousov - Vlčí Pole","oprava a rekonstrukce","Souvislá údržba",2,0,3,10,10,10,10,10,10,10,7,{"$f":"IF(B202=data!$B$2,D202*0.7+E202*0.5+F202*0.2+G202*0.8+H202+I202*0.2+J202+K202*0.3+L202+M202*0.5+N202*0.2,IF(B202=data!$B$3,D202*0.1+E202*0.4+F202*0.3+G202*0.1+H202+J202+K202*0.5+L202+M202*0.4,IF(B202=data!$B$4,D202*0.6+E202*0.8+F202*0.7+G202+H202+J202+L202+N202,IF(B202=data!$B$5,D202*0.7+E202*0.8+F202+I202*0.7+J202+L202,\"zvolte typ stavby\"))))","v":51.4},{"$f":"IF(B202=data!$B$2,(O202*10)/6.4,IF(B202=data!$B$3,(O202*10)/4.8,IF(B202=data!$B$4,(O202*10)/7.1,IF(B202=data!$B$5,(O202*10)/5.2,\"zvolte typ stavby\"))))","v":80.3125},21743685.48,null,"připraveno k soutěži a realizaci 2023",null,"SFDI NZ 2022 - tendrovat"]
["III/2802 Březno rekonstrukce silnice - chodník ve směru na Novou Telib","oprava a rekonstrukce","Rekonstrukce",4,10,10,10,6,1,10,0,10,10,7,{"$f":"IF(B203=data!$B$2,D203*0.7+E203*0.5+F203*0.2+G203*0.8+H203+I203*0.2+J203+K203*0.3+L203+M203*0.5+N203*0.2,IF(B203=data!$B$3,D203*0.1+E203*0.4+F203*0.3+G203*0.1+H203+J203+K203*0.5+L203+M203*0.4,IF(B203=data!$B$4,D203*0.6+E203*0.8+F203*0.7+G203+H203+J203+L203+N203,IF(B203=data!$B$5,D203*0.7+E203*0.8+F203+I203*0.7+J203+L203,\"zvolte typ stavby\"))))","v":50.4},{"$f":"IF(B203=data!$B$2,(O203*10)/6.4,IF(B203=data!$B$3,(O203*10)/4.8,IF(B203=data!$B$4,(O203*10)/7.1,IF(B203=data!$B$5,(O203*10)/5.2,\"zvolte typ stavby\"))))","v":78.75},21165979.91,"SFDI – NZ – národní zdroje","dle Smlouvy o spolupráci KSUS bude platit pouze 7 213 528,14 Kč s DPH za stavbu a 640tis Kč s DPH za svého TDS",null,"SFDI (SOKP)"]
["III/24012 Tursko - Kozinec","oprava a rekonstrukce","Rekonstrukce",1,10,6,10,10,1,4,0,10,10,0,{"$f":"IF(B204=data!$B$2,D204*0.7+E204*0.5+F204*0.2+G204*0.8+H204+I204*0.2+J204+K204*0.3+L204+M204*0.5+N204*0.2,IF(B204=data!$B$3,D204*0.1+E204*0.4+F204*0.3+G204*0.1+H204+J204+K204*0.5+L204+M204*0.4,IF(B204=data!$B$4,D204*0.6+E204*0.8+F204*0.7+G204+H204+J204+L204+N204,IF(B204=data!$B$5,D204*0.7+E204*0.8+F204+I204*0.7+J204+L204,\"zvolte typ stavby\"))))","v":44.099999999999994},{"$f":"IF(B204=data!$B$2,(O204*10)/6.4,IF(B204=data!$B$3,(O204*10)/4.8,IF(B204=data!$B$4,(O204*10)/7.1,IF(B204=data!$B$5,(O204*10)/5.2,\"zvolte typ stavby\"))))","v":68.906249999999986},20784690.300000001,null,null,null,"SFDI NZ 2022 - tendrovat"]
["III/00323, III/00322 Říčany - Voděrádky, PD","oprava a rekonstrukce","Rekonstrukce",3,10,5,6,6,10,4,0,8,10,2,{"$f":"IF(B205=data!$B$2,D205*0.7+E205*0.5+F205*0.2+G205*0.8+H205+I205*0.2+J205+K205*0.3+L205+M205*0.5+N205*0.2,IF(B205=data!$B$3,D205*0.1+E205*0.4+F205*0.3+G205*0.1+H205+J205+K205*0.5+L205+M205*0.4,IF(B205=data!$B$4,D205*0.6+E205*0.8+F205*0.7+G205+H205+J205+L205+N205,IF(B205=data!$B$5,D205*0.7+E205*0.8+F205+I205*0.7+J205+L205,\"zvolte typ stavby\"))))","v":38.299999999999997},{"$f":"IF(B205=data!$B$2,(O205*10)/6.4,IF(B205=data!$B$3,(O205*10)/4.8,IF(B205=data!$B$4,(O205*10)/7.1,IF(B205=data!$B$5,(O205*10)/5.2,\"zvolte typ stavby\"))))","v":59.84375},20000000]
["III/0056 Břve , most ev. č. 0056 – 1 přes výpusť z rybníka v obci Břve  ","mostní objekty a propustky","Most",3,0,5,6,6,0,4,0,8,10,0,{"$f":"IF(B206=data!$B$2,D206*0.7+E206*0.5+F206*0.2+G206*0.8+H206+I206*0.2+J206+K206*0.3+L206+M206*0.5+N206*0.2,IF(B206=data!$B$3,D206*0.1+E206*0.4+F206*0.3+G206*0.1+H206+J206+K206*0.5+L206+M206*0.4,IF(B206=data!$B$4,D206*0.6+E206*0.8+F206*0.7+G206+H206+J206+L206+N206,IF(B206=data!$B$5,D206*0.7+E206*0.8+F206+I206*0.7+J206+L206,\"zvolte typ stavby\"))))","v":24.4},{"$f":"IF(B206=data!$B$2,(O206*10)/6.4,IF(B206=data!$B$3,(O206*10)/4.8,IF(B206=data!$B$4,(O206*10)/7.1,IF(B206=data!$B$5,(O206*10)/5.2,\"zvolte typ stavby\"))))","v":50.833333333333336},20000000,null,"Předpokládaný termmín realizace 03/2024-12/2024. V případě dovyřešení smlouvy s vlastníkem možné zahájení 2023."]
["Obec Postřižín – rekonstrukce povrchů komunikací včetně chodníků – ulice Pražská, ulice Máslovická","oprava a rekonstrukce","Rekonstrukce",3,10,6,6,6,10,10,0,10,10,2,{"$f":"IF(B207=data!$B$2,D207*0.7+E207*0.5+F207*0.2+G207*0.8+H207+I207*0.2+J207+K207*0.3+L207+M207*0.5+N207*0.2,IF(B207=data!$B$3,D207*0.1+E207*0.4+F207*0.3+G207*0.1+H207+J207+K207*0.5+L207+M207*0.4,IF(B207=data!$B$4,D207*0.6+E207*0.8+F207*0.7+G207+H207+J207+L207+N207,IF(B207=data!$B$5,D207*0.7+E207*0.8+F207+I207*0.7+J207+L207,\"zvolte typ stavby\"))))","v":46.5},{"$f":"IF(B207=data!$B$2,(O207*10)/6.4,IF(B207=data!$B$3,(O207*10)/4.8,IF(B207=data!$B$4,(O207*10)/7.1,IF(B207=data!$B$5,(O207*10)/5.2,\"zvolte typ stavby\"))))","v":72.65625},39000000,null,"Rozpočet je 50 mil. dohromady s obcí, nyní je rozdělován projektantem, přepoklad pro nás je 39 mil., bude upřesněno",null,"SFDI NZ 2022 - tendrovat"]
["II/115 Řevnice - Vižina, rekonstrukce II. etapa - PD","oprava a rekonstrukce","Rekonstrukce",3,10,10,3,6,10,4,0,8,10,0,{"$f":"IF(B208=data!$B$2,D208*0.7+E208*0.5+F208*0.2+G208*0.8+H208+I208*0.2+J208+K208*0.3+L208+M208*0.5+N208*0.2,IF(B208=data!$B$3,D208*0.1+E208*0.4+F208*0.3+G208*0.1+H208+J208+K208*0.5+L208+M208*0.4,IF(B208=data!$B$4,D208*0.6+E208*0.8+F208*0.7+G208+H208+J208+L208+N208,IF(B208=data!$B$5,D208*0.7+E208*0.8+F208+I208*0.7+J208+L208,\"zvolte typ stavby\"))))","v":36.5},{"$f":"IF(B208=data!$B$2,(O208*10)/6.4,IF(B208=data!$B$3,(O208*10)/4.8,IF(B208=data!$B$4,(O208*10)/7.1,IF(B208=data!$B$5,(O208*10)/5.2,\"zvolte typ stavby\"))))","v":57.03125},81648427]
["II/120 Dobrošovice - rek. opěrné zdi","oprava a rekonstrukce","Rekonstrukce",3,0,10,6,10,10,10,0,5,10,4,{"$f":"IF(B209=data!$B$2,D209*0.7+E209*0.5+F209*0.2+G209*0.8+H209+I209*0.2+J209+K209*0.3+L209+M209*0.5+N209*0.2,IF(B209=data!$B$3,D209*0.1+E209*0.4+F209*0.3+G209*0.1+H209+J209+K209*0.5+L209+M209*0.4,IF(B209=data!$B$4,D209*0.6+E209*0.8+F209*0.7+G209+H209+J209+L209+N209,IF(B209=data!$B$5,D209*0.7+E209*0.8+F209+I209*0.7+J209+L209,\"zvolte typ stavby\"))))","v":41.699999999999996},{"$f":"IF(B209=data!$B$2,(O209*10)/6.4,IF(B209=data!$B$3,(O209*10)/4.8,IF(B209=data!$B$4,(O209*10)/7.1,IF(B209=data!$B$5,(O209*10)/5.2,\"zvolte typ stavby\"))))","v":65.156249999999986},3176761,null,null,null,"SFDI NZ 2022 - tendrovat"]
["III/1124 Nespery, mosty ev.č. 1124-2 a 1124-3 před obcí Nespery","mostní objekty a propustky","Most",2,10,5,6,6,10,10,0,8,10,0,{"$f":"IF(B210=data!$B$2,D210*0.7+E210*0.5+F210*0.2+G210*0.8+H210+I210*0.2+J210+K210*0.3+L210+M210*0.5+N210*0.2,IF(B210=data!$B$3,D210*0.1+E210*0.4+F210*0.3+G210*0.1+H210+J210+K210*0.5+L210+M210*0.4,IF(B210=data!$B$4,D210*0.6+E210*0.8+F210*0.7+G210+H210+J210+L210+N210,IF(B210=data!$B$5,D210*0.7+E210*0.8+F210+I210*0.7+J210+L210,\"zvolte typ stavby\"))))","v":34.299999999999997},{"$f":"IF(B210=data!$B$2,(O210*10)/6.4,IF(B210=data!$B$3,(O210*10)/4.8,IF(B210=data!$B$4,(O210*10)/7.1,IF(B210=data!$B$5,(O210*10)/5.2,\"zvolte typ stavby\"))))","v":71.458333333333343},20000000,null,"Předpokládaný termmín realizace 04/2023-12/2023",null,"SFDI NZ 2022 - tendrovat"]
["Rekonstrukce komunikace, zvýšení bezpečnosti provozu a zklidnění dopravy na komunikace II/101 v obci Modletice ","oprava a rekonstrukce","Rekonstrukce",5,10,10,3,10,10,7,0,2,10,4,{"$f":"IF(B211=data!$B$2,D211*0.7+E211*0.5+F211*0.2+G211*0.8+H211+I211*0.2+J211+K211*0.3+L211+M211*0.5+N211*0.2,IF(B211=data!$B$3,D211*0.1+E211*0.4+F211*0.3+G211*0.1+H211+J211+K211*0.5+L211+M211*0.4,IF(B211=data!$B$4,D211*0.6+E211*0.8+F211*0.7+G211+H211+J211+L211+N211,IF(B211=data!$B$5,D211*0.7+E211*0.8+F211+I211*0.7+J211+L211,\"zvolte typ stavby\"))))","v":39.699999999999996},{"$f":"IF(B211=data!$B$2,(O211*10)/6.4,IF(B211=data!$B$3,(O211*10)/4.8,IF(B211=data!$B$4,(O211*10)/7.1,IF(B211=data!$B$5,(O211*10)/5.2,\"zvolte typ stavby\"))))","v":62.031249999999986},20000000]
["Velká Dobrá - okružní křižovatka Berounská a rekonstrukce III/0063","řešení bodové závady a/nebo bezpečnostního rizika (křižovatky, opěrné zdi, skalní masivy)","-",4,10,7,10,10,0,10,0,8,0,4,{"$f":"IF(B212=data!$B$2,D212*0.7+E212*0.5+F212*0.2+G212*0.8+H212+I212*0.2+J212+K212*0.3+L212+M212*0.5+N212*0.2,IF(B212=data!$B$3,D212*0.1+E212*0.4+F212*0.3+G212*0.1+H212+J212+K212*0.5+L212+M212*0.4,IF(B212=data!$B$4,D212*0.6+E212*0.8+F212*0.7+G212+H212+J212+L212+N212,IF(B212=data!$B$5,D212*0.7+E212*0.8+F212+I212*0.7+J212+L212,\"zvolte typ stavby\"))))","v":57.3},{"$f":"IF(B212=data!$B$2,(O212*10)/6.4,IF(B212=data!$B$3,(O212*10)/4.8,IF(B212=data!$B$4,(O212*10)/7.1,IF(B212=data!$B$5,(O212*10)/5.2,\"zvolte typ stavby\"))))","v":80.704225352112687},20000000]
["II/118 Krašovice – most ev.č. 118-001 a opěrná zeď - PD","mostní objekty a propustky","Most",2,0,10,10,10,10,7,0,5,10,2,{"$f":"IF(B213=data!$B$2,D213*0.7+E213*0.5+F213*0.2+G213*0.8+H213+I213*0.2+J213+K213*0.3+L213+M213*0.5+N213*0.2,IF(B213=data!$B$3,D213*0.1+E213*0.4+F213*0.3+G213*0.1+H213+J213+K213*0.5+L213+M213*0.4,IF(B213=data!$B$4,D213*0.6+E213*0.8+F213*0.7+G213+H213+J213+L213+N213,IF(B213=data!$B$5,D213*0.7+E213*0.8+F213+I213*0.7+J213+L213,\"zvolte typ stavby\"))))","v":30.2},{"$f":"IF(B213=data!$B$2,(O213*10)/6.4,IF(B213=data!$B$3,(O213*10)/4.8,IF(B213=data!$B$4,(O213*10)/7.1,IF(B213=data!$B$5,(O213*10)/5.2,\"zvolte typ stavby\"))))","v":62.916666666666671},20000000]
["II/114  Dobříš,  most ev.č. 114-017","mostní objekty a propustky","Most",7,10,10,10,10,10,10,0,8,10,0,{"$f":"IF(B214=data!$B$2,D214*0.7+E214*0.5+F214*0.2+G214*0.8+H214+I214*0.2+J214+K214*0.3+L214+M214*0.5+N214*0.2,IF(B214=data!$B$3,D214*0.1+E214*0.4+F214*0.3+G214*0.1+H214+J214+K214*0.5+L214+M214*0.4,IF(B214=data!$B$4,D214*0.6+E214*0.8+F214*0.7+G214+H214+J214+L214+N214,IF(B214=data!$B$5,D214*0.7+E214*0.8+F214+I214*0.7+J214+L214,\"zvolte typ stavby\"))))","v":40.700000000000003},{"$f":"IF(B214=data!$B$2,(O214*10)/6.4,IF(B214=data!$B$3,(O214*10)/4.8,IF(B214=data!$B$4,(O214*10)/7.1,IF(B214=data!$B$5,(O214*10)/5.2,\"zvolte typ stavby\"))))","v":84.791666666666671},25000000,null,"Předpokládaný termmín realizace 05/2023-05/2024",null,"SFDI NZ 2022 - tendrovat, rezerva"]
["II/113 Třemošnice - Divišov","oprava a rekonstrukce","Souvislá údržba",2,10,8,10,10,0,7,0,10,10,10,{"$f":"IF(B215=data!$B$2,D215*0.7+E215*0.5+F215*0.2+G215*0.8+H215+I215*0.2+J215+K215*0.3+L215+M215*0.5+N215*0.2,IF(B215=data!$B$3,D215*0.1+E215*0.4+F215*0.3+G215*0.1+H215+J215+K215*0.5+L215+M215*0.4,IF(B215=data!$B$4,D215*0.6+E215*0.8+F215*0.7+G215+H215+J215+L215+N215,IF(B215=data!$B$5,D215*0.7+E215*0.8+F215+I215*0.7+J215+L215,\"zvolte typ stavby\"))))","v":50},{"$f":"IF(B215=data!$B$2,(O215*10)/6.4,IF(B215=data!$B$3,(O215*10)/4.8,IF(B215=data!$B$4,(O215*10)/7.1,IF(B215=data!$B$5,(O215*10)/5.2,\"zvolte typ stavby\"))))","v":78.125},19936000]
["II/279 Žehrov - hr. kraje HK","oprava a rekonstrukce","Souvislá údržba",2,0,10,10,6,10,7,0,10,10,2,{"$f":"IF(B216=[1]data!$B$2,D216*0.7+E216*0.5+F216*0.2+G216*0.8+H216+I216*0.2+J216+K216*0.3+L216+M216*0.5+N216*0.2,IF(B216=[1]data!$B$3,D216*0.1+E216*0.4+F216*0.3+G216*0.1+H216+J216+K216*0.5+L216+M216*0.4,IF(B216=[1]data!$B$4,D216*0.6+E216*0.8+F216*0.7+G216+H216+J216+L216+N216,IF(B216=[1]data!$B$5,D216*0.7+E216*0.8+F216+I216*0.7+J216+L216,\"zvolte typ stavby\"))))","v":41.8},{"$f":"IF(B216=[1]data!$B$2,(O216*10)/6.4,IF(B216=[1]data!$B$3,(O216*10)/4.8,IF(B216=[1]data!$B$4,(O216*10)/7.1,IF(B216=[1]data!$B$5,(O216*10)/5.2,\"zvolte typ stavby\"))))","v":65.3125},19570949.649999999,null,"připraveno k soutěži a realizaci 2023",null,"SFDI NZ 2022 - tendrovat, rezerva"]
["II/101 Veltrusy","oprava a rekonstrukce","Souvislá údržba",3,0,10,6,6,10,7,0,10,10,2,{"$f":"IF(B217=[1]data!$B$2,D217*0.7+E217*0.5+F217*0.2+G217*0.8+H217+I217*0.2+J217+K217*0.3+L217+M217*0.5+N217*0.2,IF(B217=[1]data!$B$3,D217*0.1+E217*0.4+F217*0.3+G217*0.1+H217+J217+K217*0.5+L217+M217*0.4,IF(B217=[1]data!$B$4,D217*0.6+E217*0.8+F217*0.7+G217+H217+J217+L217+N217,IF(B217=[1]data!$B$5,D217*0.7+E217*0.8+F217+I217*0.7+J217+L217,\"zvolte typ stavby\"))))","v":39.299999999999997},{"$f":"IF(B217=[1]data!$B$2,(O217*10)/6.4,IF(B217=[1]data!$B$3,(O217*10)/4.8,IF(B217=[1]data!$B$4,(O217*10)/7.1,IF(B217=[1]data!$B$5,(O217*10)/5.2,\"zvolte typ stavby\"))))","v":61.40625},19099879.52,null,"připraveno k soutěži a realizaci 2023, lze zařadit do ÚD-SOKP",null,"SFDI NZ 2022 - tendrovat, rezerva"]
["III/26817 Strážiště – hranice kraje","oprava a rekonstrukce","Souvislá údržba",2,0,5,6,6,10,4,10,10,10,2,{"$f":"IF(B218=[1]data!$B$2,D218*0.7+E218*0.5+F218*0.2+G218*0.8+H218+I218*0.2+J218+K218*0.3+L218+M218*0.5+N218*0.2,IF(B218=[1]data!$B$3,D218*0.1+E218*0.4+F218*0.3+G218*0.1+H218+J218+K218*0.5+L218+M218*0.4,IF(B218=[1]data!$B$4,D218*0.6+E218*0.8+F218*0.7+G218+H218+J218+L218+N218,IF(B218=[1]data!$B$5,D218*0.7+E218*0.8+F218+I218*0.7+J218+L218,\"zvolte typ stavby\"))))","v":37.6},{"$f":"IF(B218=[1]data!$B$2,(O218*10)/6.4,IF(B218=[1]data!$B$3,(O218*10)/4.8,IF(B218=[1]data!$B$4,(O218*10)/7.1,IF(B218=[1]data!$B$5,(O218*10)/5.2,\"zvolte typ stavby\"))))","v":58.75},19088485.050000001,null,"připraveno k soutěži a realizaci 2023"]
["III/11410, Rpety mosty ev.č. 11410 - 1,2,3,","mostní objekty a propustky","Most",2,0,5,6,6,0,4,0,5,10,0,{"$f":"IF(B219=data!$B$2,D219*0.7+E219*0.5+F219*0.2+G219*0.8+H219+I219*0.2+J219+K219*0.3+L219+M219*0.5+N219*0.2,IF(B219=data!$B$3,D219*0.1+E219*0.4+F219*0.3+G219*0.1+H219+J219+K219*0.5+L219+M219*0.4,IF(B219=data!$B$4,D219*0.6+E219*0.8+F219*0.7+G219+H219+J219+L219+N219,IF(B219=data!$B$5,D219*0.7+E219*0.8+F219+I219*0.7+J219+L219,\"zvolte typ stavby\"))))","v":21.3},{"$f":"IF(B219=data!$B$2,(O219*10)/6.4,IF(B219=data!$B$3,(O219*10)/4.8,IF(B219=data!$B$4,(O219*10)/7.1,IF(B219=data!$B$5,(O219*10)/5.2,\"zvolte typ stavby\"))))","v":44.375},19000000,null,"Předpokládaný termmín realizace 04/2024-12/2024, v případě dokončení vodoprávního řízení možnost zahájení 06/2023"]
["III1063  kř. II106 Krňany -  kř. Nedvězí","oprava a rekonstrukce","Souvislá údržba",1,0,5,10,10,10,4,0,10,10,7,{"$f":"IF(B220=data!$B$2,D220*0.7+E220*0.5+F220*0.2+G220*0.8+H220+I220*0.2+J220+K220*0.3+L220+M220*0.5+N220*0.2,IF(B220=data!$B$3,D220*0.1+E220*0.4+F220*0.3+G220*0.1+H220+J220+K220*0.5+L220+M220*0.4,IF(B220=data!$B$4,D220*0.6+E220*0.8+F220*0.7+G220+H220+J220+L220+N220,IF(B220=data!$B$5,D220*0.7+E220*0.8+F220+I220*0.7+J220+L220,\"zvolte typ stavby\"))))","v":42.1},{"$f":"IF(B220=data!$B$2,(O220*10)/6.4,IF(B220=data!$B$3,(O220*10)/4.8,IF(B220=data!$B$4,(O220*10)/7.1,IF(B220=data!$B$5,(O220*10)/5.2,\"zvolte typ stavby\"))))","v":65.78125},20923985.5]
["III/26823 Klášter nad Jizerou - Rečkov","oprava a rekonstrukce","Souvislá údržba",1,0,5,6,6,1,4,0,10,10,2,{"$f":"IF(B221=[1]data!$B$2,D221*0.7+E221*0.5+F221*0.2+G221*0.8+H221+I221*0.2+J221+K221*0.3+L221+M221*0.5+N221*0.2,IF(B221=[1]data!$B$3,D221*0.1+E221*0.4+F221*0.3+G221*0.1+H221+J221+K221*0.5+L221+M221*0.4,IF(B221=[1]data!$B$4,D221*0.6+E221*0.8+F221*0.7+G221+H221+J221+L221+N221,IF(B221=[1]data!$B$5,D221*0.7+E221*0.8+F221+I221*0.7+J221+L221,\"zvolte typ stavby\"))))","v":32.1},{"$f":"IF(B221=[1]data!$B$2,(O221*10)/6.4,IF(B221=[1]data!$B$3,(O221*10)/4.8,IF(B221=[1]data!$B$4,(O221*10)/7.1,IF(B221=[1]data!$B$5,(O221*10)/5.2,\"zvolte typ stavby\"))))","v":50.15625},18557657.879999999,null,"připraveno k soutěži a realizaci 2023"]
["III/2742 Mělnické Vtelno - Zamachy","oprava a rekonstrukce","Souvislá údržba",3,0,5,6,10,10,4,0,10,0,2,{"$f":"IF(B222=[1]data!$B$2,D222*0.7+E222*0.5+F222*0.2+G222*0.8+H222+I222*0.2+J222+K222*0.3+L222+M222*0.5+N222*0.2,IF(B222=[1]data!$B$3,D222*0.1+E222*0.4+F222*0.3+G222*0.1+H222+J222+K222*0.5+L222+M222*0.4,IF(B222=[1]data!$B$4,D222*0.6+E222*0.8+F222*0.7+G222+H222+J222+L222+N222,IF(B222=[1]data!$B$5,D222*0.7+E222*0.8+F222+I222*0.7+J222+L222,\"zvolte typ stavby\"))))","v":34.299999999999997},{"$f":"IF(B222=[1]data!$B$2,(O222*10)/6.4,IF(B222=[1]data!$B$3,(O222*10)/4.8,IF(B222=[1]data!$B$4,(O222*10)/7.1,IF(B222=[1]data!$B$5,(O222*10)/5.2,\"zvolte typ stavby\"))))","v":53.59375},18431253.609999999,null,"připraveno k soutěži a realizaci 2023"]
["II/116 most ev.č.116-023 Nový Knín","oprava a rekonstrukce","Rekonstrukce",4,0,8,3,3,0,4,0,10,10,4,{"$f":"IF(B223=data!$B$2,D223*0.7+E223*0.5+F223*0.2+G223*0.8+H223+I223*0.2+J223+K223*0.3+L223+M223*0.5+N223*0.2,IF(B223=data!$B$3,D223*0.1+E223*0.4+F223*0.3+G223*0.1+H223+J223+K223*0.5+L223+M223*0.4,IF(B223=data!$B$4,D223*0.6+E223*0.8+F223*0.7+G223+H223+J223+L223+N223,IF(B223=data!$B$5,D223*0.7+E223*0.8+F223+I223*0.7+J223+L223,\"zvolte typ stavby\"))))","v":29.6},{"$f":"IF(B223=data!$B$2,(O223*10)/6.4,IF(B223=data!$B$3,(O223*10)/4.8,IF(B223=data!$B$4,(O223*10)/7.1,IF(B223=data!$B$5,(O223*10)/5.2,\"zvolte typ stavby\"))))","v":46.25},18000000]
["III/1101 Benešov, most ev.č. 1101-2 přes přepad rybníku u Benešova","mostní objekty a propustky","Most",2,0,5,6,6,0,7,0,8,10,0,{"$f":"IF(B224=data!$B$2,D224*0.7+E224*0.5+F224*0.2+G224*0.8+H224+I224*0.2+J224+K224*0.3+L224+M224*0.5+N224*0.2,IF(B224=data!$B$3,D224*0.1+E224*0.4+F224*0.3+G224*0.1+H224+J224+K224*0.5+L224+M224*0.4,IF(B224=data!$B$4,D224*0.6+E224*0.8+F224*0.7+G224+H224+J224+L224+N224,IF(B224=data!$B$5,D224*0.7+E224*0.8+F224+I224*0.7+J224+L224,\"zvolte typ stavby\"))))","v":27.3},{"$f":"IF(B224=data!$B$2,(O224*10)/6.4,IF(B224=data!$B$3,(O224*10)/4.8,IF(B224=data!$B$4,(O224*10)/7.1,IF(B224=data!$B$5,(O224*10)/5.2,\"zvolte typ stavby\"))))","v":56.875},18000000,null,"Předpokládaný termmín realizace 04/2024-12/2024",null,"SFDI"]
["ULICE VÍTA NEJEDLÉHO – STAVEBNÍ ÚPRAVY ULIČNÍHO PROSTORU (II/610 Mnichovo Hradiště)","oprava a rekonstrukce","Rekonstrukce",6,0,10,10,10,10,7,0,8,10,4,{"$f":"IF(B225=data!$B$2,D225*0.7+E225*0.5+F225*0.2+G225*0.8+H225+I225*0.2+J225+K225*0.3+L225+M225*0.5+N225*0.2,IF(B225=data!$B$3,D225*0.1+E225*0.4+F225*0.3+G225*0.1+H225+J225+K225*0.5+L225+M225*0.4,IF(B225=data!$B$4,D225*0.6+E225*0.8+F225*0.7+G225+H225+J225+L225+N225,IF(B225=data!$B$5,D225*0.7+E225*0.8+F225+I225*0.7+J225+L225,\"zvolte typ stavby\"))))","v":47},{"$f":"IF(B225=data!$B$2,(O225*10)/6.4,IF(B225=data!$B$3,(O225*10)/4.8,IF(B225=data!$B$4,(O225*10)/7.1,IF(B225=data!$B$5,(O225*10)/5.2,\"zvolte typ stavby\"))))","v":73.4375},18000000,null,null,null,"SFDI NZ 2022 - tendrovat, rezerva"]
["II/101 Kralupy nad Vltavou (MERO) – křiž. II/608","oprava a rekonstrukce","Souvislá údržba",5,0,10,6,10,1,4,0,10,10,2,{"$f":"IF(B226=[1]data!$B$2,D226*0.7+E226*0.5+F226*0.2+G226*0.8+H226+I226*0.2+J226+K226*0.3+L226+M226*0.5+N226*0.2,IF(B226=[1]data!$B$3,D226*0.1+E226*0.4+F226*0.3+G226*0.1+H226+J226+K226*0.5+L226+M226*0.4,IF(B226=[1]data!$B$4,D226*0.6+E226*0.8+F226*0.7+G226+H226+J226+L226+N226,IF(B226=[1]data!$B$5,D226*0.7+E226*0.8+F226+I226*0.7+J226+L226,\"zvolte typ stavby\"))))","v":39.9},{"$f":"IF(B226=[1]data!$B$2,(O226*10)/6.4,IF(B226=[1]data!$B$3,(O226*10)/4.8,IF(B226=[1]data!$B$4,(O226*10)/7.1,IF(B226=[1]data!$B$5,(O226*10)/5.2,\"zvolte typ stavby\"))))","v":62.34375},17585340.670000002,null,"připraveno k soutěži a realizaci 2023, lze zařadit do ÚD-SOKP"]
["III/0097 Horňátky","oprava a rekonstrukce","Souvislá údržba",1,0,5,10,10,10,4,0,10,10,2,{"$f":"IF(B227=[1]data!$B$2,D227*0.7+E227*0.5+F227*0.2+G227*0.8+H227+I227*0.2+J227+K227*0.3+L227+M227*0.5+N227*0.2,IF(B227=[1]data!$B$3,D227*0.1+E227*0.4+F227*0.3+G227*0.1+H227+J227+K227*0.5+L227+M227*0.4,IF(B227=[1]data!$B$4,D227*0.6+E227*0.8+F227*0.7+G227+H227+J227+L227+N227,IF(B227=[1]data!$B$5,D227*0.7+E227*0.8+F227+I227*0.7+J227+L227,\"zvolte typ stavby\"))))","v":41.1},{"$f":"IF(B227=[1]data!$B$2,(O227*10)/6.4,IF(B227=[1]data!$B$3,(O227*10)/4.8,IF(B227=[1]data!$B$4,(O227*10)/7.1,IF(B227=[1]data!$B$5,(O227*10)/5.2,\"zvolte typ stavby\"))))","v":64.21875},17273806.57,null,"připraveno k soutěži a realizaci 2023, lze zařadit do ÚD-SOKP"]
["III/2458 Vyšehořovice","oprava a rekonstrukce","Souvislá údržba",2,0,5,3,6,1,2,0,10,10,4,{"$f":"IF(B228=[1]data!$B$2,D228*0.7+E228*0.5+F228*0.2+G228*0.8+H228+I228*0.2+J228+K228*0.3+L228+M228*0.5+N228*0.2,IF(B228=[1]data!$B$3,D228*0.1+E228*0.4+F228*0.3+G228*0.1+H228+J228+K228*0.5+L228+M228*0.4,IF(B228=[1]data!$B$4,D228*0.6+E228*0.8+F228*0.7+G228+H228+J228+L228+N228,IF(B228=[1]data!$B$5,D228*0.7+E228*0.8+F228+I228*0.7+J228+L228,\"zvolte typ stavby\"))))","v":28.8},{"$f":"IF(B228=[1]data!$B$2,(O228*10)/6.4,IF(B228=[1]data!$B$3,(O228*10)/4.8,IF(B228=[1]data!$B$4,(O228*10)/7.1,IF(B228=[1]data!$B$5,(O228*10)/5.2,\"zvolte typ stavby\"))))","v":45},17270042.140000001,null,"připraveno k soutěži a realizaci 2023"]
["III/2016 Doksy - Družec","oprava a rekonstrukce","Souvislá údržba",3,10,4,3,6,0,4,0,8,0,2,{"$f":"IF(B229=data!$B$2,D229*0.7+E229*0.5+F229*0.2+G229*0.8+H229+I229*0.2+J229+K229*0.3+L229+M229*0.5+N229*0.2,IF(B229=data!$B$3,D229*0.1+E229*0.4+F229*0.3+G229*0.1+H229+J229+K229*0.5+L229+M229*0.4,IF(B229=data!$B$4,D229*0.6+E229*0.8+F229*0.7+G229+H229+J229+L229+N229,IF(B229=data!$B$5,D229*0.7+E229*0.8+F229+I229*0.7+J229+L229,\"zvolte typ stavby\"))))","v":28.7},{"$f":"IF(B229=data!$B$2,(O229*10)/6.4,IF(B229=data!$B$3,(O229*10)/4.8,IF(B229=data!$B$4,(O229*10)/7.1,IF(B229=data!$B$5,(O229*10)/5.2,\"zvolte typ stavby\"))))","v":44.84375},17201968.629999999]
["III/0054 Hostivice, most ev. č. 0054 – 1 přes potok v obci Hostivice","mostní objekty a propustky","Most",4,0,5,6,6,0,7,0,2,10,0,{"$f":"IF(B230=data!$B$2,D230*0.7+E230*0.5+F230*0.2+G230*0.8+H230+I230*0.2+J230+K230*0.3+L230+M230*0.5+N230*0.2,IF(B230=data!$B$3,D230*0.1+E230*0.4+F230*0.3+G230*0.1+H230+J230+K230*0.5+L230+M230*0.4,IF(B230=data!$B$4,D230*0.6+E230*0.8+F230*0.7+G230+H230+J230+L230+N230,IF(B230=data!$B$5,D230*0.7+E230*0.8+F230+I230*0.7+J230+L230,\"zvolte typ stavby\"))))","v":21.5},{"$f":"IF(B230=data!$B$2,(O230*10)/6.4,IF(B230=data!$B$3,(O230*10)/4.8,IF(B230=data!$B$4,(O230*10)/7.1,IF(B230=data!$B$5,(O230*10)/5.2,\"zvolte typ stavby\"))))","v":44.791666666666671},17000000,null,"Předpokládaný termmín realizace 04/2024-12/2024"]
["II/276 Bělá pod Bezdězem, most ev.č. 276 - 001  přes rokli za obcí Bělá pod Bezdězem ","mostní objekty a propustky","Most",3,10,10,10,10,10,10,0,8,10,0,{"$f":"IF(B231=data!$B$2,D231*0.7+E231*0.5+F231*0.2+G231*0.8+H231+I231*0.2+J231+K231*0.3+L231+M231*0.5+N231*0.2,IF(B231=data!$B$3,D231*0.1+E231*0.4+F231*0.3+G231*0.1+H231+J231+K231*0.5+L231+M231*0.4,IF(B231=data!$B$4,D231*0.6+E231*0.8+F231*0.7+G231+H231+J231+L231+N231,IF(B231=data!$B$5,D231*0.7+E231*0.8+F231+I231*0.7+J231+L231,\"zvolte typ stavby\"))))","v":40.299999999999997},{"$f":"IF(B231=data!$B$2,(O231*10)/6.4,IF(B231=data!$B$3,(O231*10)/4.8,IF(B231=data!$B$4,(O231*10)/7.1,IF(B231=data!$B$5,(O231*10)/5.2,\"zvolte typ stavby\"))))","v":83.958333333333343},17000000,null,"Předpokládaný termmín realizace 04/2023-12/2023. Nutno společně s mostem 276-002 ."]
["Lysá nad Labem propojení II/272 a III/2725","novostavba (obchvat, přeložka, propojka)","-",3,9,10,0,0,10,4,0,10,0,0,{"$f":"IF(B232=data!$B$2,D232*0.7+E232*0.5+F232*0.2+G232*0.8+H232+I232*0.2+J232+K232*0.3+L232+M232*0.5+N232*0.2,IF(B232=data!$B$3,D232*0.1+E232*0.4+F232*0.3+G232*0.1+H232+J232+K232*0.5+L232+M232*0.4,IF(B232=data!$B$4,D232*0.6+E232*0.8+F232*0.7+G232+H232+J232+L232+N232,IF(B232=data!$B$5,D232*0.7+E232*0.8+F232+I232*0.7+J232+L232,\"zvolte typ stavby\"))))","v":40.299999999999997},{"$f":"IF(B232=data!$B$2,(O232*10)/6.4,IF(B232=data!$B$3,(O232*10)/4.8,IF(B232=data!$B$4,(O232*10)/7.1,IF(B232=data!$B$5,(O232*10)/5.2,\"zvolte typ stavby\"))))","v":77.5},17000000,"-"]
["III/10148 Kralupy nad Vltavou, ul. Přemyslova","oprava a rekonstrukce","Souvislá údržba",6,0,6,6,10,10,10,0,10,10,2,{"$f":"IF(B233=[1]data!$B$2,D233*0.7+E233*0.5+F233*0.2+G233*0.8+H233+I233*0.2+J233+K233*0.3+L233+M233*0.5+N233*0.2,IF(B233=[1]data!$B$3,D233*0.1+E233*0.4+F233*0.3+G233*0.1+H233+J233+K233*0.5+L233+M233*0.4,IF(B233=[1]data!$B$4,D233*0.6+E233*0.8+F233*0.7+G233+H233+J233+L233+N233,IF(B233=[1]data!$B$5,D233*0.7+E233*0.8+F233+I233*0.7+J233+L233,\"zvolte typ stavby\"))))","v":47.6},{"$f":"IF(B233=[1]data!$B$2,(O233*10)/6.4,IF(B233=[1]data!$B$3,(O233*10)/4.8,IF(B233=[1]data!$B$4,(O233*10)/7.1,IF(B233=[1]data!$B$5,(O233*10)/5.2,\"zvolte typ stavby\"))))","v":74.375},16847784.449999999,"SFDI – NZ – národní zdroje"," SFDI – NZ – národní zdroje   dohoda s panem ředitelem zařadit do r. 2023 / PRIORITA p. Lesák, připraveno k soutěži a realizaci 2023"]
["III/27940 Domousnice - Bačálka","oprava a rekonstrukce","Souvislá údržba",2,0,5,6,10,10,7,10,10,10,4,{"$f":"IF(B234=[1]data!$B$2,D234*0.7+E234*0.5+F234*0.2+G234*0.8+H234+I234*0.2+J234+K234*0.3+L234+M234*0.5+N234*0.2,IF(B234=[1]data!$B$3,D234*0.1+E234*0.4+F234*0.3+G234*0.1+H234+J234+K234*0.5+L234+M234*0.4,IF(B234=[1]data!$B$4,D234*0.6+E234*0.8+F234*0.7+G234+H234+J234+L234+N234,IF(B234=[1]data!$B$5,D234*0.7+E234*0.8+F234+I234*0.7+J234+L234,\"zvolte typ stavby\"))))","v":45},{"$f":"IF(B234=[1]data!$B$2,(O234*10)/6.4,IF(B234=[1]data!$B$3,(O234*10)/4.8,IF(B234=[1]data!$B$4,(O234*10)/7.1,IF(B234=[1]data!$B$5,(O234*10)/5.2,\"zvolte typ stavby\"))))","v":70.3125},16828554.16,null,"připraveno k soutěži a realizaci 2023"]
["II/101 Chlumín, most ev.č. 101-064 za obcí Chlumín ","mostní objekty a propustky","Most",3,0,10,3,6,0,10,0,5,10,0,{"$f":"IF(B235=data!$B$2,D235*0.7+E235*0.5+F235*0.2+G235*0.8+H235+I235*0.2+J235+K235*0.3+L235+M235*0.5+N235*0.2,IF(B235=data!$B$3,D235*0.1+E235*0.4+F235*0.3+G235*0.1+H235+J235+K235*0.5+L235+M235*0.4,IF(B235=data!$B$4,D235*0.6+E235*0.8+F235*0.7+G235+H235+J235+L235+N235,IF(B235=data!$B$5,D235*0.7+E235*0.8+F235+I235*0.7+J235+L235,\"zvolte typ stavby\"))))","v":28.6},{"$f":"IF(B235=data!$B$2,(O235*10)/6.4,IF(B235=data!$B$3,(O235*10)/4.8,IF(B235=data!$B$4,(O235*10)/7.1,IF(B235=data!$B$5,(O235*10)/5.2,\"zvolte typ stavby\"))))","v":59.583333333333336},16460000,null,"Předpokládaný termmín realizace 04/2024-12/2024"]
["III-24011 - III-24010 – Kozinec – III-24015","oprava a rekonstrukce","Souvislá údržba",1,10,6,10,10,1,4,0,10,10,0,{"$f":"IF(B236=data!$B$2,D236*0.7+E236*0.5+F236*0.2+G236*0.8+H236+I236*0.2+J236+K236*0.3+L236+M236*0.5+N236*0.2,IF(B236=data!$B$3,D236*0.1+E236*0.4+F236*0.3+G236*0.1+H236+J236+K236*0.5+L236+M236*0.4,IF(B236=data!$B$4,D236*0.6+E236*0.8+F236*0.7+G236+H236+J236+L236+N236,IF(B236=data!$B$5,D236*0.7+E236*0.8+F236+I236*0.7+J236+L236,\"zvolte typ stavby\"))))","v":44.099999999999994},{"$f":"IF(B236=data!$B$2,(O236*10)/6.4,IF(B236=data!$B$3,(O236*10)/4.8,IF(B236=data!$B$4,(O236*10)/7.1,IF(B236=data!$B$5,(O236*10)/5.2,\"zvolte typ stavby\"))))","v":68.906249999999986},16418930.439999999]
["III/00520 a 00521  Úhonice - Hájek","oprava a rekonstrukce","Souvislá údržba",4,0,4,6,10,0,4,0,10,0,2,{"$f":"IF(B237=data!$B$2,D237*0.7+E237*0.5+F237*0.2+G237*0.8+H237+I237*0.2+J237+K237*0.3+L237+M237*0.5+N237*0.2,IF(B237=data!$B$3,D237*0.1+E237*0.4+F237*0.3+G237*0.1+H237+J237+K237*0.5+L237+M237*0.4,IF(B237=data!$B$4,D237*0.6+E237*0.8+F237*0.7+G237+H237+J237+L237+N237,IF(B237=data!$B$5,D237*0.7+E237*0.8+F237+I237*0.7+J237+L237,\"zvolte typ stavby\"))))","v":32.799999999999997},{"$f":"IF(B237=data!$B$2,(O237*10)/6.4,IF(B237=data!$B$3,(O237*10)/4.8,IF(B237=data!$B$4,(O237*10)/7.1,IF(B237=data!$B$5,(O237*10)/5.2,\"zvolte typ stavby\"))))","v":51.25},16347947]
["III/3319 Kostomlaty nad Labem, ul. Doubravská - zklidnění dopravy","oprava a rekonstrukce","Rekonstrukce",2,10,5,6,6,10,4,10,10,10,0,{"$f":"IF(B238=data!$B$2,D238*0.7+E238*0.5+F238*0.2+G238*0.8+H238+I238*0.2+J238+K238*0.3+L238+M238*0.5+N238*0.2,IF(B238=data!$B$3,D238*0.1+E238*0.4+F238*0.3+G238*0.1+H238+J238+K238*0.5+L238+M238*0.4,IF(B238=data!$B$4,D238*0.6+E238*0.8+F238*0.7+G238+H238+J238+L238+N238,IF(B238=data!$B$5,D238*0.7+E238*0.8+F238+I238*0.7+J238+L238,\"zvolte typ stavby\"))))","v":42.2},{"$f":"IF(B238=data!$B$2,(O238*10)/6.4,IF(B238=data!$B$3,(O238*10)/4.8,IF(B238=data!$B$4,(O238*10)/7.1,IF(B238=data!$B$5,(O238*10)/5.2,\"zvolte typ stavby\"))))","v":65.9375},16284426.689999999]
["III/10124 Nučice","oprava a rekonstrukce","Souvislá údržba",4,0,4,3,3,0,4,0,10,0,2,{"$f":"IF(B239=data!$B$2,D239*0.7+E239*0.5+F239*0.2+G239*0.8+H239+I239*0.2+J239+K239*0.3+L239+M239*0.5+N239*0.2,IF(B239=data!$B$3,D239*0.1+E239*0.4+F239*0.3+G239*0.1+H239+J239+K239*0.5+L239+M239*0.4,IF(B239=data!$B$4,D239*0.6+E239*0.8+F239*0.7+G239+H239+J239+L239+N239,IF(B239=data!$B$5,D239*0.7+E239*0.8+F239+I239*0.7+J239+L239,\"zvolte typ stavby\"))))","v":23.4},{"$f":"IF(B239=data!$B$2,(O239*10)/6.4,IF(B239=data!$B$3,(O239*10)/4.8,IF(B239=data!$B$4,(O239*10)/7.1,IF(B239=data!$B$5,(O239*10)/5.2,\"zvolte typ stavby\"))))","v":36.5625},16132685.58]
["II/273 Chloumek - Lhotka","oprava a rekonstrukce","Souvislá údržba",5,10,10,6,6,10,7,0,10,10,7,{"$f":"IF(B240=data!$B$2,D240*0.7+E240*0.5+F240*0.2+G240*0.8+H240+I240*0.2+J240+K240*0.3+L240+M240*0.5+N240*0.2,IF(B240=data!$B$3,D240*0.1+E240*0.4+F240*0.3+G240*0.1+H240+J240+K240*0.5+L240+M240*0.4,IF(B240=data!$B$4,D240*0.6+E240*0.8+F240*0.7+G240+H240+J240+L240+N240,IF(B240=data!$B$5,D240*0.7+E240*0.8+F240+I240*0.7+J240+L240,\"zvolte typ stavby\"))))","v":46.699999999999996},{"$f":"IF(B240=data!$B$2,(O240*10)/6.4,IF(B240=data!$B$3,(O240*10)/4.8,IF(B240=data!$B$4,(O240*10)/7.1,IF(B240=data!$B$5,(O240*10)/5.2,\"zvolte typ stavby\"))))","v":72.968749999999986},21200000]
["III/2731 Hostín - Liblice","oprava a rekonstrukce","Souvislá údržba",1,0,5,3,10,0,2,0,10,0,2,{"$f":"IF(B241=[1]data!$B$2,D241*0.7+E241*0.5+F241*0.2+G241*0.8+H241+I241*0.2+J241+K241*0.3+L241+M241*0.5+N241*0.2,IF(B241=[1]data!$B$3,D241*0.1+E241*0.4+F241*0.3+G241*0.1+H241+J241+K241*0.5+L241+M241*0.4,IF(B241=[1]data!$B$4,D241*0.6+E241*0.8+F241*0.7+G241+H241+J241+L241+N241,IF(B241=[1]data!$B$5,D241*0.7+E241*0.8+F241+I241*0.7+J241+L241,\"zvolte typ stavby\"))))","v":26.5},{"$f":"IF(B241=[1]data!$B$2,(O241*10)/6.4,IF(B241=[1]data!$B$3,(O241*10)/4.8,IF(B241=[1]data!$B$4,(O241*10)/7.1,IF(B241=[1]data!$B$5,(O241*10)/5.2,\"zvolte typ stavby\"))))","v":41.40625},15787719.42,null,"připraveno k soutěži a realizaci 2023"]
["III/24510 Mochov ","oprava a rekonstrukce","Souvislá údržba",3,0,5,3,10,1,2,0,10,10,10,{"$f":"IF(B242=[1]data!$B$2,D242*0.7+E242*0.5+F242*0.2+G242*0.8+H242+I242*0.2+J242+K242*0.3+L242+M242*0.5+N242*0.2,IF(B242=[1]data!$B$3,D242*0.1+E242*0.4+F242*0.3+G242*0.1+H242+J242+K242*0.5+L242+M242*0.4,IF(B242=[1]data!$B$4,D242*0.6+E242*0.8+F242*0.7+G242+H242+J242+L242+N242,IF(B242=[1]data!$B$5,D242*0.7+E242*0.8+F242+I242*0.7+J242+L242,\"zvolte typ stavby\"))))","v":34.700000000000003},{"$f":"IF(B242=[1]data!$B$2,(O242*10)/6.4,IF(B242=[1]data!$B$3,(O242*10)/4.8,IF(B242=[1]data!$B$4,(O242*10)/7.1,IF(B242=[1]data!$B$5,(O242*10)/5.2,\"zvolte typ stavby\"))))","v":54.21875},15688218.699999999,null,"připraveno k soutěži a realizaci 2023"]
["III/3316 Milovice - Stratov","oprava a rekonstrukce","Souvislá údržba",3,0,7,10,10,1,7,0,10,0,2,{"$f":"IF(B243=[1]data!$B$2,D243*0.7+E243*0.5+F243*0.2+G243*0.8+H243+I243*0.2+J243+K243*0.3+L243+M243*0.5+N243*0.2,IF(B243=[1]data!$B$3,D243*0.1+E243*0.4+F243*0.3+G243*0.1+H243+J243+K243*0.5+L243+M243*0.4,IF(B243=[1]data!$B$4,D243*0.6+E243*0.8+F243*0.7+G243+H243+J243+L243+N243,IF(B243=[1]data!$B$5,D243*0.7+E243*0.8+F243+I243*0.7+J243+L243,\"zvolte typ stavby\"))))","v":39.1},{"$f":"IF(B243=[1]data!$B$2,(O243*10)/6.4,IF(B243=[1]data!$B$3,(O243*10)/4.8,IF(B243=[1]data!$B$4,(O243*10)/7.1,IF(B243=[1]data!$B$5,(O243*10)/5.2,\"zvolte typ stavby\"))))","v":61.09375},15574834.439999999,null,"připraveno k soutěži a realizaci 2023; návrh do plánu investic KÚ 2023"]
["II/237 N. Strašecí - Mšec, rekonstrukce - II.b etapa","mostní objekty a propustky","Most",4,10,10,6,6,0,7,0,10,10,0,{"$f":"IF(B244=data!$B$2,D244*0.7+E244*0.5+F244*0.2+G244*0.8+H244+I244*0.2+J244+K244*0.3+L244+M244*0.5+N244*0.2,IF(B244=data!$B$3,D244*0.1+E244*0.4+F244*0.3+G244*0.1+H244+J244+K244*0.5+L244+M244*0.4,IF(B244=data!$B$4,D244*0.6+E244*0.8+F244*0.7+G244+H244+J244+L244+N244,IF(B244=data!$B$5,D244*0.7+E244*0.8+F244+I244*0.7+J244+L244,\"zvolte typ stavby\"))))","v":35},{"$f":"IF(B244=data!$B$2,(O244*10)/6.4,IF(B244=data!$B$3,(O244*10)/4.8,IF(B244=data!$B$4,(O244*10)/7.1,IF(B244=data!$B$5,(O244*10)/5.2,\"zvolte typ stavby\"))))","v":72.916666666666671},17000000]
["Karlštejn - oprava silnice III/11619","oprava a rekonstrukce","Rekonstrukce",1,10,5,10,6,1,4,0,10,0,2,{"$f":"IF(B245=data!$B$2,D245*0.7+E245*0.5+F245*0.2+G245*0.8+H245+I245*0.2+J245+K245*0.3+L245+M245*0.5+N245*0.2,IF(B245=data!$B$3,D245*0.1+E245*0.4+F245*0.3+G245*0.1+H245+J245+K245*0.5+L245+M245*0.4,IF(B245=data!$B$4,D245*0.6+E245*0.8+F245*0.7+G245+H245+J245+L245+N245,IF(B245=data!$B$5,D245*0.7+E245*0.8+F245+I245*0.7+J245+L245,\"zvolte typ stavby\"))))","v":35.299999999999997},{"$f":"IF(B245=data!$B$2,(O245*10)/6.4,IF(B245=data!$B$3,(O245*10)/4.8,IF(B245=data!$B$4,(O245*10)/7.1,IF(B245=data!$B$5,(O245*10)/5.2,\"zvolte typ stavby\"))))","v":55.15625},15289005]
["III/20112 Zbečno, oprava mostu ev.č. 20112-1 přes Berounku","mostní objekty a propustky","Most",2,10,7,6,6,10,10,0,10,10,0,{"$f":"IF(B246=data!$B$2,D246*0.7+E246*0.5+F246*0.2+G246*0.8+H246+I246*0.2+J246+K246*0.3+L246+M246*0.5+N246*0.2,IF(B246=data!$B$3,D246*0.1+E246*0.4+F246*0.3+G246*0.1+H246+J246+K246*0.5+L246+M246*0.4,IF(B246=data!$B$4,D246*0.6+E246*0.8+F246*0.7+G246+H246+J246+L246+N246,IF(B246=data!$B$5,D246*0.7+E246*0.8+F246+I246*0.7+J246+L246,\"zvolte typ stavby\"))))","v":36.9},{"$f":"IF(B246=data!$B$2,(O246*10)/6.4,IF(B246=data!$B$3,(O246*10)/4.8,IF(B246=data!$B$4,(O246*10)/7.1,IF(B246=data!$B$5,(O246*10)/5.2,\"zvolte typ stavby\"))))","v":76.875},15125000,null,"Předpokládaný termmín realizace 04/2023-12/2023"]
["III/10811 Vitice, most ev.č. 10811-1","mostní objekty a propustky","Most",2,10,7,10,6,10,10,0,10,10,0,{"$f":"IF(B247=data!$B$2,D247*0.7+E247*0.5+F247*0.2+G247*0.8+H247+I247*0.2+J247+K247*0.3+L247+M247*0.5+N247*0.2,IF(B247=data!$B$3,D247*0.1+E247*0.4+F247*0.3+G247*0.1+H247+J247+K247*0.5+L247+M247*0.4,IF(B247=data!$B$4,D247*0.6+E247*0.8+F247*0.7+G247+H247+J247+L247+N247,IF(B247=data!$B$5,D247*0.7+E247*0.8+F247+I247*0.7+J247+L247,\"zvolte typ stavby\"))))","v":37.299999999999997},{"$f":"IF(B247=data!$B$2,(O247*10)/6.4,IF(B247=data!$B$3,(O247*10)/4.8,IF(B247=data!$B$4,(O247*10)/7.1,IF(B247=data!$B$5,(O247*10)/5.2,\"zvolte typ stavby\"))))","v":77.708333333333343},15100000,null,"Předpokládaný termmín realizace 04/2023-12/2023"]
["Odtranění bodové závady na silnici III/01212 v obci Květnice","oprava a rekonstrukce","Rekonstrukce",2,10,5,1,2,10,2,0,8,10,0,{"$f":"IF(B248=data!$B$2,D248*0.7+E248*0.5+F248*0.2+G248*0.8+H248+I248*0.2+J248+K248*0.3+L248+M248*0.5+N248*0.2,IF(B248=data!$B$3,D248*0.1+E248*0.4+F248*0.3+G248*0.1+H248+J248+K248*0.5+L248+M248*0.4,IF(B248=data!$B$4,D248*0.6+E248*0.8+F248*0.7+G248+H248+J248+L248+N248,IF(B248=data!$B$5,D248*0.7+E248*0.8+F248+I248*0.7+J248+L248,\"zvolte typ stavby\"))))","v":27.200000000000003},{"$f":"IF(B248=data!$B$2,(O248*10)/6.4,IF(B248=data!$B$3,(O248*10)/4.8,IF(B248=data!$B$4,(O248*10)/7.1,IF(B248=data!$B$5,(O248*10)/5.2,\"zvolte typ stavby\"))))","v":42.5},15000000]
["II/113 Český Brod, Jana Kouly , OK","oprava a rekonstrukce","Rekonstrukce",5,10,10,6,3,10,7,0,8,10,4,{"$f":"IF(B249=data!$B$2,D249*0.7+E249*0.5+F249*0.2+G249*0.8+H249+I249*0.2+J249+K249*0.3+L249+M249*0.5+N249*0.2,IF(B249=data!$B$3,D249*0.1+E249*0.4+F249*0.3+G249*0.1+H249+J249+K249*0.5+L249+M249*0.4,IF(B249=data!$B$4,D249*0.6+E249*0.8+F249*0.7+G249+H249+J249+L249+N249,IF(B249=data!$B$5,D249*0.7+E249*0.8+F249+I249*0.7+J249+L249,\"zvolte typ stavby\"))))","v":41.099999999999994},{"$f":"IF(B249=data!$B$2,(O249*10)/6.4,IF(B249=data!$B$3,(O249*10)/4.8,IF(B249=data!$B$4,(O249*10)/7.1,IF(B249=data!$B$5,(O249*10)/5.2,\"zvolte typ stavby\"))))","v":64.218749999999986},15000000]
["II/334 Chotouň - x I/12","oprava a rekonstrukce","Souvislá údržba",2,0,10,3,6,10,7,0,8,10,0,{"$f":"IF(B250=data!$B$2,D250*0.7+E250*0.5+F250*0.2+G250*0.8+H250+I250*0.2+J250+K250*0.3+L250+M250*0.5+N250*0.2,IF(B250=data!$B$3,D250*0.1+E250*0.4+F250*0.3+G250*0.1+H250+J250+K250*0.5+L250+M250*0.4,IF(B250=data!$B$4,D250*0.6+E250*0.8+F250*0.7+G250+H250+J250+L250+N250,IF(B250=data!$B$5,D250*0.7+E250*0.8+F250+I250*0.7+J250+L250,\"zvolte typ stavby\"))))","v":33.799999999999997},{"$f":"IF(B250=data!$B$2,(O250*10)/6.4,IF(B250=data!$B$3,(O250*10)/4.8,IF(B250=data!$B$4,(O250*10)/7.1,IF(B250=data!$B$5,(O250*10)/5.2,\"zvolte typ stavby\"))))","v":52.8125},15000000]
["Květnice, křižovatka silnic III/01211, III/01212 a III/01215","řešení bodové závady a/nebo bezpečnostního rizika (křižovatky, opěrné zdi, skalní masivy)","-",3,10,5,10,3,0,7,0,8,0,0,{"$f":"IF(B251=data!$B$2,D251*0.7+E251*0.5+F251*0.2+G251*0.8+H251+I251*0.2+J251+K251*0.3+L251+M251*0.5+N251*0.2,IF(B251=data!$B$3,D251*0.1+E251*0.4+F251*0.3+G251*0.1+H251+J251+K251*0.5+L251+M251*0.4,IF(B251=data!$B$4,D251*0.6+E251*0.8+F251*0.7+G251+H251+J251+L251+N251,IF(B251=data!$B$5,D251*0.7+E251*0.8+F251+I251*0.7+J251+L251,\"zvolte typ stavby\"))))","v":41.3},{"$f":"IF(B251=data!$B$2,(O251*10)/6.4,IF(B251=data!$B$3,(O251*10)/4.8,IF(B251=data!$B$4,(O251*10)/7.1,IF(B251=data!$B$5,(O251*10)/5.2,\"zvolte typ stavby\"))))","v":58.169014084507047},15000000]
["II-116 Srbsko, II/201 Velké Buková, havárie sklalního masivu","řešení bodové závady a/nebo bezpečnostního rizika (křižovatky, opěrné zdi, skalní masivy)","-",2,7,8,10,10,0,4,0,2,0,0,{"$f":"IF(B252=data!$B$2,D252*0.7+E252*0.5+F252*0.2+G252*0.8+H252+I252*0.2+J252+K252*0.3+L252+M252*0.5+N252*0.2,IF(B252=data!$B$3,D252*0.1+E252*0.4+F252*0.3+G252*0.1+H252+J252+K252*0.5+L252+M252*0.4,IF(B252=data!$B$4,D252*0.6+E252*0.8+F252*0.7+G252+H252+J252+L252+N252,IF(B252=data!$B$5,D252*0.7+E252*0.8+F252+I252*0.7+J252+L252,\"zvolte typ stavby\"))))","v":38.4},{"$f":"IF(B252=data!$B$2,(O252*10)/6.4,IF(B252=data!$B$3,(O252*10)/4.8,IF(B252=data!$B$4,(O252*10)/7.1,IF(B252=data!$B$5,(O252*10)/5.2,\"zvolte typ stavby\"))))","v":54.084507042253527},15000000]
["III/10614 Konopiště, most ev.č. 10614-2","mostní objekty a propustky","Most",2,0,5,6,6,0,10,0,5,10,0,{"$f":"IF(B253=data!$B$2,D253*0.7+E253*0.5+F253*0.2+G253*0.8+H253+I253*0.2+J253+K253*0.3+L253+M253*0.5+N253*0.2,IF(B253=data!$B$3,D253*0.1+E253*0.4+F253*0.3+G253*0.1+H253+J253+K253*0.5+L253+M253*0.4,IF(B253=data!$B$4,D253*0.6+E253*0.8+F253*0.7+G253+H253+J253+L253+N253,IF(B253=data!$B$5,D253*0.7+E253*0.8+F253+I253*0.7+J253+L253,\"zvolte typ stavby\"))))","v":27.3},{"$f":"IF(B253=data!$B$2,(O253*10)/6.4,IF(B253=data!$B$3,(O253*10)/4.8,IF(B253=data!$B$4,(O253*10)/7.1,IF(B253=data!$B$5,(O253*10)/5.2,\"zvolte typ stavby\"))))","v":56.875},15000000,null,"Předpokládaný termmín realizace 04/2024-12/2024. V případě dořešení majetkoprávních smluv lze zahájit 06/2023"]
["III/00332 Manělovice, most ev.č. 00332-1 přes odpad před obcí Manělovice","mostní objekty a propustky","Most",2,0,5,6,6,0,4,10,8,10,0,{"$f":"IF(B254=data!$B$2,D254*0.7+E254*0.5+F254*0.2+G254*0.8+H254+I254*0.2+J254+K254*0.3+L254+M254*0.5+N254*0.2,IF(B254=data!$B$3,D254*0.1+E254*0.4+F254*0.3+G254*0.1+H254+J254+K254*0.5+L254+M254*0.4,IF(B254=data!$B$4,D254*0.6+E254*0.8+F254*0.7+G254+H254+J254+L254+N254,IF(B254=data!$B$5,D254*0.7+E254*0.8+F254+I254*0.7+J254+L254,\"zvolte typ stavby\"))))","v":29.3},{"$f":"IF(B254=data!$B$2,(O254*10)/6.4,IF(B254=data!$B$3,(O254*10)/4.8,IF(B254=data!$B$4,(O254*10)/7.1,IF(B254=data!$B$5,(O254*10)/5.2,\"zvolte typ stavby\"))))","v":61.041666666666671},15000000,null,"Předpokládaný termmín realizace 04/2024-12/2024"]
["Oprava II. poloviny  II/337 a II/339 Čáslav - kooor. objízdné trasy s ŘSD","oprava a rekonstrukce","Souvislá údržba",6,10,10,6,6,10,10,0,10,10,4,{"$f":"IF(B255=data!$B$2,D255*0.7+E255*0.5+F255*0.2+G255*0.8+H255+I255*0.2+J255+K255*0.3+L255+M255*0.5+N255*0.2,IF(B255=data!$B$3,D255*0.1+E255*0.4+F255*0.3+G255*0.1+H255+J255+K255*0.5+L255+M255*0.4,IF(B255=data!$B$4,D255*0.6+E255*0.8+F255*0.7+G255+H255+J255+L255+N255,IF(B255=data!$B$5,D255*0.7+E255*0.8+F255+I255*0.7+J255+L255,\"zvolte typ stavby\"))))","v":49.8},{"$f":"IF(B255=data!$B$2,(O255*10)/6.4,IF(B255=data!$B$3,(O255*10)/4.8,IF(B255=data!$B$4,(O255*10)/7.1,IF(B255=data!$B$5,(O255*10)/5.2,\"zvolte typ stavby\"))))","v":77.8125},15000000]
["III/11423, Dobříš oprava sinice a mosty ev.č. 11423-1 a 11423-2","mostní objekty a propustky","Most",2,0,5,6,6,0,10,0,5,10,0,{"$f":"IF(B256=data!$B$2,D256*0.7+E256*0.5+F256*0.2+G256*0.8+H256+I256*0.2+J256+K256*0.3+L256+M256*0.5+N256*0.2,IF(B256=data!$B$3,D256*0.1+E256*0.4+F256*0.3+G256*0.1+H256+J256+K256*0.5+L256+M256*0.4,IF(B256=data!$B$4,D256*0.6+E256*0.8+F256*0.7+G256+H256+J256+L256+N256,IF(B256=data!$B$5,D256*0.7+E256*0.8+F256+I256*0.7+J256+L256,\"zvolte typ stavby\"))))","v":27.3},{"$f":"IF(B256=data!$B$2,(O256*10)/6.4,IF(B256=data!$B$3,(O256*10)/4.8,IF(B256=data!$B$4,(O256*10)/7.1,IF(B256=data!$B$5,(O256*10)/5.2,\"zvolte typ stavby\"))))","v":56.875},17000000,null,"Předpokládaný termmín realizace 04/2024-12/2024"]
["III/10515 Jablonná, mosty ev.č. 10515-2,3","mostní objekty a propustky","Most",1,0,5,6,6,0,7,10,8,10,0,{"$f":"IF(B257=data!$B$2,D257*0.7+E257*0.5+F257*0.2+G257*0.8+H257+I257*0.2+J257+K257*0.3+L257+M257*0.5+N257*0.2,IF(B257=data!$B$3,D257*0.1+E257*0.4+F257*0.3+G257*0.1+H257+J257+K257*0.5+L257+M257*0.4,IF(B257=data!$B$4,D257*0.6+E257*0.8+F257*0.7+G257+H257+J257+L257+N257,IF(B257=data!$B$5,D257*0.7+E257*0.8+F257+I257*0.7+J257+L257,\"zvolte typ stavby\"))))","v":32.200000000000003},{"$f":"IF(B257=data!$B$2,(O257*10)/6.4,IF(B257=data!$B$3,(O257*10)/4.8,IF(B257=data!$B$4,(O257*10)/7.1,IF(B257=data!$B$5,(O257*10)/5.2,\"zvolte typ stavby\"))))","v":67.083333333333343},14000000,null,"Předpokládaný termmín realizace 04/2024-12/2024"]
["III/10515 Jablonná, mosty ev.č. 10515-2,3","mostní objekty a propustky","Most",2,10,7,10,6,10,10,0,10,10,0,{"$f":"IF(B258=data!$B$2,D258*0.7+E258*0.5+F258*0.2+G258*0.8+H258+I258*0.2+J258+K258*0.3+L258+M258*0.5+N258*0.2,IF(B258=data!$B$3,D258*0.1+E258*0.4+F258*0.3+G258*0.1+H258+J258+K258*0.5+L258+M258*0.4,IF(B258=data!$B$4,D258*0.6+E258*0.8+F258*0.7+G258+H258+J258+L258+N258,IF(B258=data!$B$5,D258*0.7+E258*0.8+F258+I258*0.7+J258+L258,\"zvolte typ stavby\"))))","v":37.299999999999997},{"$f":"IF(B258=data!$B$2,(O258*10)/6.4,IF(B258=data!$B$3,(O258*10)/4.8,IF(B258=data!$B$4,(O258*10)/7.1,IF(B258=data!$B$5,(O258*10)/5.2,\"zvolte typ stavby\"))))","v":77.708333333333343},18000000,null,"Předpokládaný termmín realizace 04/2023-12/2023"]
["III/1138 Tismice - Vrátkov","oprava a rekonstrukce","Souvislá údržba",1,0,5,3,6,10,2,0,8,10,2,{"$f":"IF(B259=data!$B$2,D259*0.7+E259*0.5+F259*0.2+G259*0.8+H259+I259*0.2+J259+K259*0.3+L259+M259*0.5+N259*0.2,IF(B259=data!$B$3,D259*0.1+E259*0.4+F259*0.3+G259*0.1+H259+J259+K259*0.5+L259+M259*0.4,IF(B259=data!$B$4,D259*0.6+E259*0.8+F259*0.7+G259+H259+J259+L259+N259,IF(B259=data!$B$5,D259*0.7+E259*0.8+F259+I259*0.7+J259+L259,\"zvolte typ stavby\"))))","v":27.5},{"$f":"IF(B259=data!$B$2,(O259*10)/6.4,IF(B259=data!$B$3,(O259*10)/4.8,IF(B259=data!$B$4,(O259*10)/7.1,IF(B259=data!$B$5,(O259*10)/5.2,\"zvolte typ stavby\"))))","v":42.96875},13881492.68]
["III/0075 Hostouň - Běloky","oprava a rekonstrukce","Souvislá údržba",4,0,4,3,3,0,4,0,10,0,2,{"$f":"IF(B260=data!$B$2,D260*0.7+E260*0.5+F260*0.2+G260*0.8+H260+I260*0.2+J260+K260*0.3+L260+M260*0.5+N260*0.2,IF(B260=data!$B$3,D260*0.1+E260*0.4+F260*0.3+G260*0.1+H260+J260+K260*0.5+L260+M260*0.4,IF(B260=data!$B$4,D260*0.6+E260*0.8+F260*0.7+G260+H260+J260+L260+N260,IF(B260=data!$B$5,D260*0.7+E260*0.8+F260+I260*0.7+J260+L260,\"zvolte typ stavby\"))))","v":23.4},{"$f":"IF(B260=data!$B$2,(O260*10)/6.4,IF(B260=data!$B$3,(O260*10)/4.8,IF(B260=data!$B$4,(O260*10)/7.1,IF(B260=data!$B$5,(O260*10)/5.2,\"zvolte typ stavby\"))))","v":36.5625},13433695.880000001]
["III/0093 Zlonín - Jiřice","oprava a rekonstrukce","Souvislá údržba",3,0,5,6,10,10,4,0,10,10,2,{"$f":"IF(B261=data!$B$2,D261*0.7+E261*0.5+F261*0.2+G261*0.8+H261+I261*0.2+J261+K261*0.3+L261+M261*0.5+N261*0.2,IF(B261=data!$B$3,D261*0.1+E261*0.4+F261*0.3+G261*0.1+H261+J261+K261*0.5+L261+M261*0.4,IF(B261=data!$B$4,D261*0.6+E261*0.8+F261*0.7+G261+H261+J261+L261+N261,IF(B261=data!$B$5,D261*0.7+E261*0.8+F261+I261*0.7+J261+L261,\"zvolte typ stavby\"))))","v":39.299999999999997},{"$f":"IF(B261=[1]data!$B$2,(O261*10)/6.4,IF(B261=[1]data!$B$3,(O261*10)/4.8,IF(B261=[1]data!$B$4,(O261*10)/7.1,IF(B261=[1]data!$B$5,(O261*10)/5.2,\"zvolte typ stavby\"))))","v":61.40625},20588173.050000001,null,"připraveno k soutěži a realizaci 2023, lze zařadit do ÚD-SOKP"]
["III/12145 Nazdice - Bučovice","oprava a rekonstrukce","Souvislá údržba",1,0,5,10,10,10,4,0,10,10,4,{"$f":"IF(B262=data!$B$2,D262*0.7+E262*0.5+F262*0.2+G262*0.8+H262+I262*0.2+J262+K262*0.3+L262+M262*0.5+N262*0.2,IF(B262=data!$B$3,D262*0.1+E262*0.4+F262*0.3+G262*0.1+H262+J262+K262*0.5+L262+M262*0.4,IF(B262=data!$B$4,D262*0.6+E262*0.8+F262*0.7+G262+H262+J262+L262+N262,IF(B262=data!$B$5,D262*0.7+E262*0.8+F262+I262*0.7+J262+L262,\"zvolte typ stavby\"))))","v":41.5},{"$f":"IF(B262=data!$B$2,(O262*10)/6.4,IF(B262=data!$B$3,(O262*10)/4.8,IF(B262=data!$B$4,(O262*10)/7.1,IF(B262=data!$B$5,(O262*10)/5.2,\"zvolte typ stavby\"))))","v":64.84375},13333086.32]
["III/33420 Oleška - Nučice","oprava a rekonstrukce","Souvislá údržba",3,0,5,3,6,10,7,0,8,10,0,{"$f":"IF(B263=data!$B$2,D263*0.7+E263*0.5+F263*0.2+G263*0.8+H263+I263*0.2+J263+K263*0.3+L263+M263*0.5+N263*0.2,IF(B263=data!$B$3,D263*0.1+E263*0.4+F263*0.3+G263*0.1+H263+J263+K263*0.5+L263+M263*0.4,IF(B263=data!$B$4,D263*0.6+E263*0.8+F263*0.7+G263+H263+J263+L263+N263,IF(B263=data!$B$5,D263*0.7+E263*0.8+F263+I263*0.7+J263+L263,\"zvolte typ stavby\"))))","v":33.5},{"$f":"IF(B263=data!$B$2,(O263*10)/6.4,IF(B263=data!$B$3,(O263*10)/4.8,IF(B263=data!$B$4,(O263*10)/7.1,IF(B263=data!$B$5,(O263*10)/5.2,\"zvolte typ stavby\"))))","v":52.34375},13125259.619999999]
["Drahelčice, ulice Polní","oprava a rekonstrukce","Rekonstrukce",1,10,5,6,10,1,2,10,8,0,0,{"$f":"IF(B264=data!$B$2,D264*0.7+E264*0.5+F264*0.2+G264*0.8+H264+I264*0.2+J264+K264*0.3+L264+M264*0.5+N264*0.2,IF(B264=data!$B$3,D264*0.1+E264*0.4+F264*0.3+G264*0.1+H264+J264+K264*0.5+L264+M264*0.4,IF(B264=data!$B$4,D264*0.6+E264*0.8+F264*0.7+G264+H264+J264+L264+N264,IF(B264=data!$B$5,D264*0.7+E264*0.8+F264+I264*0.7+J264+L264,\"zvolte typ stavby\"))))","v":34.700000000000003},{"$f":"IF(B264=data!$B$2,(O264*10)/6.4,IF(B264=data!$B$3,(O264*10)/4.8,IF(B264=data!$B$4,(O264*10)/7.1,IF(B264=data!$B$5,(O264*10)/5.2,\"zvolte typ stavby\"))))","v":54.21875},13006236]
["II/276 Bělá pod Bezdězem, most ev.č. 276 - 002  přes rokli za obcí Bělá pod Bezdězem ","mostní objekty a propustky","Most",3,10,10,10,10,10,10,0,5,10,0,{"$f":"IF(B265=data!$B$2,D265*0.7+E265*0.5+F265*0.2+G265*0.8+H265+I265*0.2+J265+K265*0.3+L265+M265*0.5+N265*0.2,IF(B265=data!$B$3,D265*0.1+E265*0.4+F265*0.3+G265*0.1+H265+J265+K265*0.5+L265+M265*0.4,IF(B265=data!$B$4,D265*0.6+E265*0.8+F265*0.7+G265+H265+J265+L265+N265,IF(B265=data!$B$5,D265*0.7+E265*0.8+F265+I265*0.7+J265+L265,\"zvolte typ stavby\"))))","v":37.299999999999997},{"$f":"IF(B265=data!$B$2,(O265*10)/6.4,IF(B265=data!$B$3,(O265*10)/4.8,IF(B265=data!$B$4,(O265*10)/7.1,IF(B265=data!$B$5,(O265*10)/5.2,\"zvolte typ stavby\"))))","v":77.708333333333343},12800000,null,"Předpokládaný termmín realizace 04/2023-12/2023, společně s mostem ev.č. 276-001"]
["III/23645 Drnov, oprava komunikace a rekonstrukce mostu ev.č. 23645-1","mostní objekty a propustky","Most",3,0,5,6,6,0,2,0,2,0,0,{"$f":"IF(B266=data!$B$2,D266*0.7+E266*0.5+F266*0.2+G266*0.8+H266+I266*0.2+J266+K266*0.3+L266+M266*0.5+N266*0.2,IF(B266=data!$B$3,D266*0.1+E266*0.4+F266*0.3+G266*0.1+H266+J266+K266*0.5+L266+M266*0.4,IF(B266=data!$B$4,D266*0.6+E266*0.8+F266*0.7+G266+H266+J266+L266+N266,IF(B266=data!$B$5,D266*0.7+E266*0.8+F266+I266*0.7+J266+L266,\"zvolte typ stavby\"))))","v":12.4},{"$f":"IF(B266=data!$B$2,(O266*10)/6.4,IF(B266=data!$B$3,(O266*10)/4.8,IF(B266=data!$B$4,(O266*10)/7.1,IF(B266=data!$B$5,(O266*10)/5.2,\"zvolte typ stavby\"))))","v":25.833333333333336},12705000,null,"Pravděpodobně ukončení projektu bez náhrady novým mostem (úspora nákladů)"]
["III/27515 Semčice - Holé Vrchy","oprava a rekonstrukce","Souvislá údržba",3,0,6,10,10,10,10,0,10,10,4,{"$f":"IF(B267=data!$B$2,D267*0.7+E267*0.5+F267*0.2+G267*0.8+H267+I267*0.2+J267+K267*0.3+L267+M267*0.5+N267*0.2,IF(B267=data!$B$3,D267*0.1+E267*0.4+F267*0.3+G267*0.1+H267+J267+K267*0.5+L267+M267*0.4,IF(B267=data!$B$4,D267*0.6+E267*0.8+F267*0.7+G267+H267+J267+L267+N267,IF(B267=data!$B$5,D267*0.7+E267*0.8+F267+I267*0.7+J267+L267,\"zvolte typ stavby\"))))","v":49.099999999999994},{"$f":"IF(B267=[1]data!$B$2,(O267*10)/6.4,IF(B267=[1]data!$B$3,(O267*10)/4.8,IF(B267=[1]data!$B$4,(O267*10)/7.1,IF(B267=[1]data!$B$5,(O267*10)/5.2,\"zvolte typ stavby\"))))","v":76.718749999999986},12439247.699999999,null,"připraveno k soutěži a realizaci 2023"]
["III/1011 Tehov, odstranění bodové závady  - PD","řešení bodové závady a/nebo bezpečnostního rizika (křižovatky, opěrné zdi, skalní masivy)","-",3,10,5,3,3,0,2,0,2,0,2,{"$f":"IF(B268=data!$B$2,D268*0.7+E268*0.5+F268*0.2+G268*0.8+H268+I268*0.2+J268+K268*0.3+L268+M268*0.5+N268*0.2,IF(B268=data!$B$3,D268*0.1+E268*0.4+F268*0.3+G268*0.1+H268+J268+K268*0.5+L268+M268*0.4,IF(B268=data!$B$4,D268*0.6+E268*0.8+F268*0.7+G268+H268+J268+L268+N268,IF(B268=data!$B$5,D268*0.7+E268*0.8+F268+I268*0.7+J268+L268,\"zvolte typ stavby\"))))","v":25.3},{"$f":"IF(B268=data!$B$2,(O268*10)/6.4,IF(B268=data!$B$3,(O268*10)/4.8,IF(B268=data!$B$4,(O268*10)/7.1,IF(B268=data!$B$5,(O268*10)/5.2,\"zvolte typ stavby\"))))","v":35.633802816901408},12000000,null,"Předpoklad SFDI nebo IROP dle možností v době dokončení",null,"IROP"]
["III/03317 kř. II/126 - Želivec I","oprava a rekonstrukce","Souvislá údržba",1,0,5,3,6,10,2,10,8,10,2,{"$f":"IF(B269=data!$B$2,D269*0.7+E269*0.5+F269*0.2+G269*0.8+H269+I269*0.2+J269+K269*0.3+L269+M269*0.5+N269*0.2,IF(B269=data!$B$3,D269*0.1+E269*0.4+F269*0.3+G269*0.1+H269+J269+K269*0.5+L269+M269*0.4,IF(B269=data!$B$4,D269*0.6+E269*0.8+F269*0.7+G269+H269+J269+L269+N269,IF(B269=data!$B$5,D269*0.7+E269*0.8+F269+I269*0.7+J269+L269,\"zvolte typ stavby\"))))","v":30.5},{"$f":"IF(B269=data!$B$2,(O269*10)/6.4,IF(B269=data!$B$3,(O269*10)/4.8,IF(B269=data!$B$4,(O269*10)/7.1,IF(B269=data!$B$5,(O269*10)/5.2,\"zvolte typ stavby\"))))","v":47.65625},12000000]
["II/111 Líšno, most ev.č. 111-003 ","mostní objekty a propustky","Most",3,10,9,6,6,10,4,0,8,10,2,{"$f":"IF(B270=data!$B$2,D270*0.7+E270*0.5+F270*0.2+G270*0.8+H270+I270*0.2+J270+K270*0.3+L270+M270*0.5+N270*0.2,IF(B270=data!$B$3,D270*0.1+E270*0.4+F270*0.3+G270*0.1+H270+J270+K270*0.5+L270+M270*0.4,IF(B270=data!$B$4,D270*0.6+E270*0.8+F270*0.7+G270+H270+J270+L270+N270,IF(B270=data!$B$5,D270*0.7+E270*0.8+F270+I270*0.7+J270+L270,\"zvolte typ stavby\"))))","v":29.6},{"$f":"IF(B270=data!$B$2,(O270*10)/6.4,IF(B270=data!$B$3,(O270*10)/4.8,IF(B270=data!$B$4,(O270*10)/7.1,IF(B270=data!$B$5,(O270*10)/5.2,\"zvolte typ stavby\"))))","v":61.666666666666671},12000000,null,"Předpokládaný termmín realizace 04/2023-12/2023. Investiční odd."]
["III/12513 Rataje","oprava a rekonstrukce","Souvislá údržba",1,0,5,10,10,10,4,0,10,10,10,{"$f":"IF(B271=data!$B$2,D271*0.7+E271*0.5+F271*0.2+G271*0.8+H271+I271*0.2+J271+K271*0.3+L271+M271*0.5+N271*0.2,IF(B271=data!$B$3,D271*0.1+E271*0.4+F271*0.3+G271*0.1+H271+J271+K271*0.5+L271+M271*0.4,IF(B271=data!$B$4,D271*0.6+E271*0.8+F271*0.7+G271+H271+J271+L271+N271,IF(B271=data!$B$5,D271*0.7+E271*0.8+F271+I271*0.7+J271+L271,\"zvolte typ stavby\"))))","v":42.7},{"$f":"IF(B271=data!$B$2,(O271*10)/6.4,IF(B271=data!$B$3,(O271*10)/4.8,IF(B271=data!$B$4,(O271*10)/7.1,IF(B271=data!$B$5,(O271*10)/5.2,\"zvolte typ stavby\"))))","v":66.71875},12000000]
["III/2438 Hovorčovice","oprava a rekonstrukce","Souvislá údržba",5,0,5,6,6,10,10,0,10,10,4,{"$f":"IF(B272=[1]data!$B$2,D272*0.7+E272*0.5+F272*0.2+G272*0.8+H272+I272*0.2+J272+K272*0.3+L272+M272*0.5+N272*0.2,IF(B272=[1]data!$B$3,D272*0.1+E272*0.4+F272*0.3+G272*0.1+H272+J272+K272*0.5+L272+M272*0.4,IF(B272=[1]data!$B$4,D272*0.6+E272*0.8+F272*0.7+G272+H272+J272+L272+N272,IF(B272=[1]data!$B$5,D272*0.7+E272*0.8+F272+I272*0.7+J272+L272,\"zvolte typ stavby\"))))","v":43.099999999999994},{"$f":"IF(B272=[1]data!$B$2,(O272*10)/6.4,IF(B272=[1]data!$B$3,(O272*10)/4.8,IF(B272=[1]data!$B$4,(O272*10)/7.1,IF(B272=[1]data!$B$5,(O272*10)/5.2,\"zvolte typ stavby\"))))","v":67.343749999999986},7898103.1799999997,null,"připraveno k soutěži a realizaci 2023, lze zařadit do ÚD-SOKP"]
["III/2457 Mochov -  Císařská Kuchyně ","oprava a rekonstrukce","Souvislá údržba",2,0,5,3,10,1,2,0,10,10,2,{"$f":"IF(B273=[1]data!$B$2,D273*0.7+E273*0.5+F273*0.2+G273*0.8+H273+I273*0.2+J273+K273*0.3+L273+M273*0.5+N273*0.2,IF(B273=[1]data!$B$3,D273*0.1+E273*0.4+F273*0.3+G273*0.1+H273+J273+K273*0.5+L273+M273*0.4,IF(B273=[1]data!$B$4,D273*0.6+E273*0.8+F273*0.7+G273+H273+J273+L273+N273,IF(B273=[1]data!$B$5,D273*0.7+E273*0.8+F273+I273*0.7+J273+L273,\"zvolte typ stavby\"))))","v":32.4},{"$f":"IF(B273=[1]data!$B$2,(O273*10)/6.4,IF(B273=[1]data!$B$3,(O273*10)/4.8,IF(B273=[1]data!$B$4,(O273*10)/7.1,IF(B273=[1]data!$B$5,(O273*10)/5.2,\"zvolte typ stavby\"))))","v":50.625},11878476.539999999,null,"připraveno k soutěži a realizaci 2023"]
["III/0103 Zápy","oprava a rekonstrukce","Souvislá údržba",2,0,5,6,10,10,7,0,10,10,4,{"$f":"IF(B274=[1]data!$B$2,D274*0.7+E274*0.5+F274*0.2+G274*0.8+H274+I274*0.2+J274+K274*0.3+L274+M274*0.5+N274*0.2,IF(B274=[1]data!$B$3,D274*0.1+E274*0.4+F274*0.3+G274*0.1+H274+J274+K274*0.5+L274+M274*0.4,IF(B274=[1]data!$B$4,D274*0.6+E274*0.8+F274*0.7+G274+H274+J274+L274+N274,IF(B274=[1]data!$B$5,D274*0.7+E274*0.8+F274+I274*0.7+J274+L274,\"zvolte typ stavby\"))))","v":42},{"$f":"IF(B274=[1]data!$B$2,(O274*10)/6.4,IF(B274=[1]data!$B$3,(O274*10)/4.8,IF(B274=[1]data!$B$4,(O274*10)/7.1,IF(B274=[1]data!$B$5,(O274*10)/5.2,\"zvolte typ stavby\"))))","v":65.625},11793423.51,null,"připraveno k soutěži a realizaci 2023, lze zařadit do ÚD-SOKP"]
["II/101 Kostelec nad Labem,  most ev.č.  101-072 přes potok v obci Kostelec nad Labem","mostní objekty a propustky","Most",5,0,10,3,6,0,10,0,8,10,0,{"$f":"IF(B275=data!$B$2,D275*0.7+E275*0.5+F275*0.2+G275*0.8+H275+I275*0.2+J275+K275*0.3+L275+M275*0.5+N275*0.2,IF(B275=data!$B$3,D275*0.1+E275*0.4+F275*0.3+G275*0.1+H275+J275+K275*0.5+L275+M275*0.4,IF(B275=data!$B$4,D275*0.6+E275*0.8+F275*0.7+G275+H275+J275+L275+N275,IF(B275=data!$B$5,D275*0.7+E275*0.8+F275+I275*0.7+J275+L275,\"zvolte typ stavby\"))))","v":31.8},{"$f":"IF(B275=data!$B$2,(O275*10)/6.4,IF(B275=data!$B$3,(O275*10)/4.8,IF(B275=data!$B$4,(O275*10)/7.1,IF(B275=data!$B$5,(O275*10)/5.2,\"zvolte typ stavby\"))))","v":66.25},12800000,null,"Předpokládaný termmín realizace 04/2024-12/2024"]
[null,null,null,null,null,null,null,null,null,null,null,null,null,null,{"$f":"IF(B276=data!$B$2,D276*0.7+E276*0.5+F276*0.2+G276*0.8+H276+I276*0.2+J276+K276*0.3+L276+M276*0.5+N276*0.2,IF(B276=data!$B$3,D276*0.1+E276*0.4+F276*0.3+G276*0.1+H276+J276+K276*0.5+L276+M276*0.4,IF(B276=data!$B$4,D276*0.6+E276*0.8+F276*0.7+G276+H276+J276+L276+N276,IF(B276=data!$B$5,D276*0.7+E276*0.8+F276+I276*0.7+J276+L276,\"zvolte typ stavby\"))))","v":"zvolte typ stavby"},{"$f":"IF(B276=data!$B$2,(O276*10)/6.4,IF(B276=data!$B$3,(O276*10)/4.8,IF(B276=data!$B$4,(O276*10)/7.1,IF(B276=data!$B$5,(O276*10)/5.2,\"zvolte typ stavby\"))))","v":"zvolte typ stavby"}]
["III/10148 Kralupy nad Vltavou, V Růžovém údolí","oprava a rekonstrukce","Souvislá údržba",4,0,5,3,10,10,7,0,10,10,2,{"$f":"IF(B277=data!$B$2,D277*0.7+E277*0.5+F277*0.2+G277*0.8+H277+I277*0.2+J277+K277*0.3+L277+M277*0.5+N277*0.2,IF(B277=data!$B$3,D277*0.1+E277*0.4+F277*0.3+G277*0.1+H277+J277+K277*0.5+L277+M277*0.4,IF(B277=data!$B$4,D277*0.6+E277*0.8+F277*0.7+G277+H277+J277+L277+N277,IF(B277=data!$B$5,D277*0.7+E277*0.8+F277+I277*0.7+J277+L277,\"zvolte typ stavby\"))))","v":40.6},{"$f":"IF(B277=data!$B$2,(O277*10)/6.4,IF(B277=data!$B$3,(O277*10)/4.8,IF(B277=data!$B$4,(O277*10)/7.1,IF(B277=data!$B$5,(O277*10)/5.2,\"zvolte typ stavby\"))))","v":63.4375},11195357.289999999,null,"připraveno k soutěži a realizaci 2023"]
["III/2399 Páleč, rekonstrukce mostu ev.č. 2399-1 přes Pálečský potok","mostní objekty a propustky","Most",2,10,7,10,6,10,10,0,10,10,0,{"$f":"IF(B278=data!$B$2,D278*0.7+E278*0.5+F278*0.2+G278*0.8+H278+I278*0.2+J278+K278*0.3+L278+M278*0.5+N278*0.2,IF(B278=data!$B$3,D278*0.1+E278*0.4+F278*0.3+G278*0.1+H278+J278+K278*0.5+L278+M278*0.4,IF(B278=data!$B$4,D278*0.6+E278*0.8+F278*0.7+G278+H278+J278+L278+N278,IF(B278=data!$B$5,D278*0.7+E278*0.8+F278+I278*0.7+J278+L278,\"zvolte typ stavby\"))))","v":37.299999999999997},{"$f":"IF(B278=data!$B$2,(O278*10)/6.4,IF(B278=data!$B$3,(O278*10)/4.8,IF(B278=data!$B$4,(O278*10)/7.1,IF(B278=data!$B$5,(O278*10)/5.2,\"zvolte typ stavby\"))))","v":77.708333333333343},11000000,null,"Předpokládaný termmín realizace 04/2023-12/2023"]
["III/2734  II/273 - Střednice","oprava a rekonstrukce","Souvislá údržba",2,0,5,3,6,1,4,0,10,10,2,{"$f":"IF(B279=[1]data!$B$2,D279*0.7+E279*0.5+F279*0.2+G279*0.8+H279+I279*0.2+J279+K279*0.3+L279+M279*0.5+N279*0.2,IF(B279=[1]data!$B$3,D279*0.1+E279*0.4+F279*0.3+G279*0.1+H279+J279+K279*0.5+L279+M279*0.4,IF(B279=[1]data!$B$4,D279*0.6+E279*0.8+F279*0.7+G279+H279+J279+L279+N279,IF(B279=[1]data!$B$5,D279*0.7+E279*0.8+F279+I279*0.7+J279+L279,\"zvolte typ stavby\"))))","v":30.4},{"$f":"IF(B279=[1]data!$B$2,(O279*10)/6.4,IF(B279=[1]data!$B$3,(O279*10)/4.8,IF(B279=[1]data!$B$4,(O279*10)/7.1,IF(B279=[1]data!$B$5,(O279*10)/5.2,\"zvolte typ stavby\"))))","v":47.5},8996260.4600000009,null,"připraveno k soutěži a realizaci 2023"]
["III/2771 Mohelnice nad Jizerou - Neveklovice","oprava a rekonstrukce","Souvislá údržba",1,0,5,3,3,10,4,0,10,0,2,{"$f":"IF(B280=[1]data!$B$2,D280*0.7+E280*0.5+F280*0.2+G280*0.8+H280+I280*0.2+J280+K280*0.3+L280+M280*0.5+N280*0.2,IF(B280=[1]data!$B$3,D280*0.1+E280*0.4+F280*0.3+G280*0.1+H280+J280+K280*0.5+L280+M280*0.4,IF(B280=[1]data!$B$4,D280*0.6+E280*0.8+F280*0.7+G280+H280+J280+L280+N280,IF(B280=[1]data!$B$5,D280*0.7+E280*0.8+F280+I280*0.7+J280+L280,\"zvolte typ stavby\"))))","v":23.5},{"$f":"IF(B280=[1]data!$B$2,(O280*10)/6.4,IF(B280=[1]data!$B$3,(O280*10)/4.8,IF(B280=[1]data!$B$4,(O280*10)/7.1,IF(B280=[1]data!$B$5,(O280*10)/5.2,\"zvolte typ stavby\"))))","v":36.71875},10799025.359999999,null,"připraveno k soutěži a realizaci 2023"]
["III/24419  Sudovo Hlavno - Dřísy","oprava a rekonstrukce","Souvislá údržba",2,0,5,3,6,1,4,0,10,10,2,{"$f":"IF(B281=[1]data!$B$2,D281*0.7+E281*0.5+F281*0.2+G281*0.8+H281+I281*0.2+J281+K281*0.3+L281+M281*0.5+N281*0.2,IF(B281=[1]data!$B$3,D281*0.1+E281*0.4+F281*0.3+G281*0.1+H281+J281+K281*0.5+L281+M281*0.4,IF(B281=[1]data!$B$4,D281*0.6+E281*0.8+F281*0.7+G281+H281+J281+L281+N281,IF(B281=[1]data!$B$5,D281*0.7+E281*0.8+F281+I281*0.7+J281+L281,\"zvolte typ stavby\"))))","v":30.4},{"$f":"IF(B281=[1]data!$B$2,(O281*10)/6.4,IF(B281=[1]data!$B$3,(O281*10)/4.8,IF(B281=[1]data!$B$4,(O281*10)/7.1,IF(B281=[1]data!$B$5,(O281*10)/5.2,\"zvolte typ stavby\"))))","v":47.5},10788180.92,null,"připraveno k soutěži a realizaci 2023"]
["II/331 Sojovice - Dvorce","oprava a rekonstrukce","Souvislá údržba",4,0,10,6,6,10,10,10,10,10,2,{"$f":"IF(B282=[1]data!$B$2,D282*0.7+E282*0.5+F282*0.2+G282*0.8+H282+I282*0.2+J282+K282*0.3+L282+M282*0.5+N282*0.2,IF(B282=[1]data!$B$3,D282*0.1+E282*0.4+F282*0.3+G282*0.1+H282+J282+K282*0.5+L282+M282*0.4,IF(B282=[1]data!$B$4,D282*0.6+E282*0.8+F282*0.7+G282+H282+J282+L282+N282,IF(B282=[1]data!$B$5,D282*0.7+E282*0.8+F282+I282*0.7+J282+L282,\"zvolte typ stavby\"))))","v":46},{"$f":"IF(B282=[1]data!$B$2,(O282*10)/6.4,IF(B282=[1]data!$B$3,(O282*10)/4.8,IF(B282=[1]data!$B$4,(O282*10)/7.1,IF(B282=[1]data!$B$5,(O282*10)/5.2,\"zvolte typ stavby\"))))","v":71.875},10761633.4,null,"připraveno k soutěži a realizaci 2023"]
["III/10169 Škvorec ","oprava a rekonstrukce","Souvislá údržba",3,0,5,3,10,10,4,0,10,10,2,{"$f":"IF(B283=[1]data!$B$2,D283*0.7+E283*0.5+F283*0.2+G283*0.8+H283+I283*0.2+J283+K283*0.3+L283+M283*0.5+N283*0.2,IF(B283=[1]data!$B$3,D283*0.1+E283*0.4+F283*0.3+G283*0.1+H283+J283+K283*0.5+L283+M283*0.4,IF(B283=[1]data!$B$4,D283*0.6+E283*0.8+F283*0.7+G283+H283+J283+L283+N283,IF(B283=[1]data!$B$5,D283*0.7+E283*0.8+F283+I283*0.7+J283+L283,\"zvolte typ stavby\"))))","v":36.9},{"$f":"IF(B283=[1]data!$B$2,(O283*10)/6.4,IF(B283=[1]data!$B$3,(O283*10)/4.8,IF(B283=[1]data!$B$4,(O283*10)/7.1,IF(B283=[1]data!$B$5,(O283*10)/5.2,\"zvolte typ stavby\"))))","v":57.65625},10682560.75,null,"připraveno k soutěži a realizaci 2023"]
["III/27229 Rokytovec - Vinec","oprava a rekonstrukce","Souvislá údržba",2,0,5,6,10,10,4,10,10,10,4,{"$f":"IF(B284=[1]data!$B$2,D284*0.7+E284*0.5+F284*0.2+G284*0.8+H284+I284*0.2+J284+K284*0.3+L284+M284*0.5+N284*0.2,IF(B284=[1]data!$B$3,D284*0.1+E284*0.4+F284*0.3+G284*0.1+H284+J284+K284*0.5+L284+M284*0.4,IF(B284=[1]data!$B$4,D284*0.6+E284*0.8+F284*0.7+G284+H284+J284+L284+N284,IF(B284=[1]data!$B$5,D284*0.7+E284*0.8+F284+I284*0.7+J284+L284,\"zvolte typ stavby\"))))","v":42},{"$f":"IF(B284=[1]data!$B$2,(O284*10)/6.4,IF(B284=[1]data!$B$3,(O284*10)/4.8,IF(B284=[1]data!$B$4,(O284*10)/7.1,IF(B284=[1]data!$B$5,(O284*10)/5.2,\"zvolte typ stavby\"))))","v":65.625},10667241.42,null,"připraveno k soutěži a realizaci 2023"]
["III/1158 Solopisky, nestabilní svah","řešení bodové závady a/nebo bezpečnostního rizika (křižovatky, opěrné zdi, skalní masivy)","-",2,10,5,6,10,0,2,0,2,0,0,{"$f":"IF(B285=data!$B$2,D285*0.7+E285*0.5+F285*0.2+G285*0.8+H285+I285*0.2+J285+K285*0.3+L285+M285*0.5+N285*0.2,IF(B285=data!$B$3,D285*0.1+E285*0.4+F285*0.3+G285*0.1+H285+J285+K285*0.5+L285+M285*0.4,IF(B285=data!$B$4,D285*0.6+E285*0.8+F285*0.7+G285+H285+J285+L285+N285,IF(B285=data!$B$5,D285*0.7+E285*0.8+F285+I285*0.7+J285+L285,\"zvolte typ stavby\"))))","v":32.700000000000003},{"$f":"IF(B285=data!$B$2,(O285*10)/6.4,IF(B285=data!$B$3,(O285*10)/4.8,IF(B285=data!$B$4,(O285*10)/7.1,IF(B285=data!$B$5,(O285*10)/5.2,\"zvolte typ stavby\"))))","v":46.056338028169016},10497068]
["III/22913 Olešná, rekonstrukce mostu ev.č. 22913-1 přes potok Olešná","mostní objekty a propustky","Most",2,0,5,6,6,0,4,10,8,10,0,{"$f":"IF(B286=data!$B$2,D286*0.7+E286*0.5+F286*0.2+G286*0.8+H286+I286*0.2+J286+K286*0.3+L286+M286*0.5+N286*0.2,IF(B286=data!$B$3,D286*0.1+E286*0.4+F286*0.3+G286*0.1+H286+J286+K286*0.5+L286+M286*0.4,IF(B286=data!$B$4,D286*0.6+E286*0.8+F286*0.7+G286+H286+J286+L286+N286,IF(B286=data!$B$5,D286*0.7+E286*0.8+F286+I286*0.7+J286+L286,\"zvolte typ stavby\"))))","v":29.3},{"$f":"IF(B286=data!$B$2,(O286*10)/6.4,IF(B286=data!$B$3,(O286*10)/4.8,IF(B286=data!$B$4,(O286*10)/7.1,IF(B286=data!$B$5,(O286*10)/5.2,\"zvolte typ stavby\"))))","v":61.041666666666671},10406000,null,"Předpokládaný termmín realizace 04/2024-12/2024"]
["III/10136 Unhošť -Svárov","oprava a rekonstrukce","Souvislá údržba",2,10,4,3,6,0,4,0,8,0,2,{"$f":"IF(B287=data!$B$2,D287*0.7+E287*0.5+F287*0.2+G287*0.8+H287+I287*0.2+J287+K287*0.3+L287+M287*0.5+N287*0.2,IF(B287=data!$B$3,D287*0.1+E287*0.4+F287*0.3+G287*0.1+H287+J287+K287*0.5+L287+M287*0.4,IF(B287=data!$B$4,D287*0.6+E287*0.8+F287*0.7+G287+H287+J287+L287+N287,IF(B287=data!$B$5,D287*0.7+E287*0.8+F287+I287*0.7+J287+L287,\"zvolte typ stavby\"))))","v":28},{"$f":"IF(B287=data!$B$2,(O287*10)/6.4,IF(B287=data!$B$3,(O287*10)/4.8,IF(B287=data!$B$4,(O287*10)/7.1,IF(B287=data!$B$5,(O287*10)/5.2,\"zvolte typ stavby\"))))","v":43.75},10363480.6]
["III/23919 Beřovice, rekonstrukce mostu ev.č. 23919-3 přes potok","mostní objekty a propustky","Most",2,0,5,6,6,0,4,0,8,10,0,{"$f":"IF(B288=data!$B$2,D288*0.7+E288*0.5+F288*0.2+G288*0.8+H288+I288*0.2+J288+K288*0.3+L288+M288*0.5+N288*0.2,IF(B288=data!$B$3,D288*0.1+E288*0.4+F288*0.3+G288*0.1+H288+J288+K288*0.5+L288+M288*0.4,IF(B288=data!$B$4,D288*0.6+E288*0.8+F288*0.7+G288+H288+J288+L288+N288,IF(B288=data!$B$5,D288*0.7+E288*0.8+F288+I288*0.7+J288+L288,\"zvolte typ stavby\"))))","v":24.3},{"$f":"IF(B288=data!$B$2,(O288*10)/6.4,IF(B288=data!$B$3,(O288*10)/4.8,IF(B288=data!$B$4,(O288*10)/7.1,IF(B288=data!$B$5,(O288*10)/5.2,\"zvolte typ stavby\"))))","v":50.625},10350000,null,"Předpoklad SFDI nebo IROP dle možností v době dokončení"]
["III/11413 Koněprusy - křiž. III/11531","oprava a rekonstrukce","Souvislá údržba",1,10,6,3,6,0,4,0,10,0,0,{"$f":"IF(B289=data!$B$2,D289*0.7+E289*0.5+F289*0.2+G289*0.8+H289+I289*0.2+J289+K289*0.3+L289+M289*0.5+N289*0.2,IF(B289=data!$B$3,D289*0.1+E289*0.4+F289*0.3+G289*0.1+H289+J289+K289*0.5+L289+M289*0.4,IF(B289=data!$B$4,D289*0.6+E289*0.8+F289*0.7+G289+H289+J289+L289+N289,IF(B289=data!$B$5,D289*0.7+E289*0.8+F289+I289*0.7+J289+L289,\"zvolte typ stavby\"))))","v":29.3},{"$f":"IF(B289=data!$B$2,(O289*10)/6.4,IF(B289=data!$B$3,(O289*10)/4.8,IF(B289=data!$B$4,(O289*10)/7.1,IF(B289=data!$B$5,(O289*10)/5.2,\"zvolte typ stavby\"))))","v":45.78125},10248274.689999999]
["III/2447 Nová Ves - Jiřice","oprava a rekonstrukce","Souvislá údržba",2,0,6,10,10,0,4,0,8,10,2,{"$f":"IF(B290=data!$B$2,D290*0.7+E290*0.5+F290*0.2+G290*0.8+H290+I290*0.2+J290+K290*0.3+L290+M290*0.5+N290*0.2,IF(B290=data!$B$3,D290*0.1+E290*0.4+F290*0.3+G290*0.1+H290+J290+K290*0.5+L290+M290*0.4,IF(B290=data!$B$4,D290*0.6+E290*0.8+F290*0.7+G290+H290+J290+L290+N290,IF(B290=data!$B$5,D290*0.7+E290*0.8+F290+I290*0.7+J290+L290,\"zvolte typ stavby\"))))","v":38},{"$f":"IF(B290=data!$B$2,(O290*10)/6.4,IF(B290=data!$B$3,(O290*10)/4.8,IF(B290=data!$B$4,(O290*10)/7.1,IF(B290=data!$B$5,(O290*10)/5.2,\"zvolte typ stavby\"))))","v":59.375},10074849.619999999]
["III/11216 Chmelná - Jeníkov","oprava a rekonstrukce","Souvislá údržba",1,0,5,10,10,10,4,0,10,10,4,{"$f":"IF(B291=data!$B$2,D291*0.7+E291*0.5+F291*0.2+G291*0.8+H291+I291*0.2+J291+K291*0.3+L291+M291*0.5+N291*0.2,IF(B291=data!$B$3,D291*0.1+E291*0.4+F291*0.3+G291*0.1+H291+J291+K291*0.5+L291+M291*0.4,IF(B291=data!$B$4,D291*0.6+E291*0.8+F291*0.7+G291+H291+J291+L291+N291,IF(B291=data!$B$5,D291*0.7+E291*0.8+F291+I291*0.7+J291+L291,\"zvolte typ stavby\"))))","v":41.5},{"$f":"IF(B291=data!$B$2,(O291*10)/6.4,IF(B291=data!$B$3,(O291*10)/4.8,IF(B291=data!$B$4,(O291*10)/7.1,IF(B291=data!$B$5,(O291*10)/5.2,\"zvolte typ stavby\"))))","v":64.84375},10042564.4]
["II/240 Černuc, rekonstrukce mostu ev. č. 240-027 pro přívalové vody","mostní objekty a propustky","Most",3,8,8,3,10,0,2,0,0,0,0,{"$f":"IF(B292=data!$B$2,D292*0.7+E292*0.5+F292*0.2+G292*0.8+H292+I292*0.2+J292+K292*0.3+L292+M292*0.5+N292*0.2,IF(B292=data!$B$3,D292*0.1+E292*0.4+F292*0.3+G292*0.1+H292+J292+K292*0.5+L292+M292*0.4,IF(B292=data!$B$4,D292*0.6+E292*0.8+F292*0.7+G292+H292+J292+L292+N292,IF(B292=data!$B$5,D292*0.7+E292*0.8+F292+I292*0.7+J292+L292,\"zvolte typ stavby\"))))","v":18.2},{"$f":"IF(B292=data!$B$2,(O292*10)/6.4,IF(B292=data!$B$3,(O292*10)/4.8,IF(B292=data!$B$4,(O292*10)/7.1,IF(B292=data!$B$5,(O292*10)/5.2,\"zvolte typ stavby\"))))","v":37.916666666666671},10000000,"-"]
["III/6031 Senohraby, průtah (etapa 1)","oprava a rekonstrukce","Rekonstrukce",3,10,5,3,3,10,2,0,5,10,0,{"$f":"IF(B293=data!$B$2,D293*0.7+E293*0.5+F293*0.2+G293*0.8+H293+I293*0.2+J293+K293*0.3+L293+M293*0.5+N293*0.2,IF(B293=data!$B$3,D293*0.1+E293*0.4+F293*0.3+G293*0.1+H293+J293+K293*0.5+L293+M293*0.4,IF(B293=data!$B$4,D293*0.6+E293*0.8+F293*0.7+G293+H293+J293+L293+N293,IF(B293=data!$B$5,D293*0.7+E293*0.8+F293+I293*0.7+J293+L293,\"zvolte typ stavby\"))))","v":27.5},{"$f":"IF(B293=data!$B$2,(O293*10)/6.4,IF(B293=data!$B$3,(O293*10)/4.8,IF(B293=data!$B$4,(O293*10)/7.1,IF(B293=data!$B$5,(O293*10)/5.2,\"zvolte typ stavby\"))))","v":42.96875},10000000]
["III/6031 Senohraby, průtah  (etapa 2)","oprava a rekonstrukce","Rekonstrukce",3,10,5,3,3,10,2,0,5,10,0,{"$f":"IF(B294=data!$B$2,D294*0.7+E294*0.5+F294*0.2+G294*0.8+H294+I294*0.2+J294+K294*0.3+L294+M294*0.5+N294*0.2,IF(B294=data!$B$3,D294*0.1+E294*0.4+F294*0.3+G294*0.1+H294+J294+K294*0.5+L294+M294*0.4,IF(B294=data!$B$4,D294*0.6+E294*0.8+F294*0.7+G294+H294+J294+L294+N294,IF(B294=data!$B$5,D294*0.7+E294*0.8+F294+I294*0.7+J294+L294,\"zvolte typ stavby\"))))","v":27.5},{"$f":"IF(B294=data!$B$2,(O294*10)/6.4,IF(B294=data!$B$3,(O294*10)/4.8,IF(B294=data!$B$4,(O294*10)/7.1,IF(B294=data!$B$5,(O294*10)/5.2,\"zvolte typ stavby\"))))","v":42.96875},10000000]
["III/00312 Říčany, ul. Rooseveltova, havarijní oprava","oprava a rekonstrukce","Souvislá údržba",3,0,5,3,6,10,7,0,8,10,2,{"$f":"IF(B295=data!$B$2,D295*0.7+E295*0.5+F295*0.2+G295*0.8+H295+I295*0.2+J295+K295*0.3+L295+M295*0.5+N295*0.2,IF(B295=data!$B$3,D295*0.1+E295*0.4+F295*0.3+G295*0.1+H295+J295+K295*0.5+L295+M295*0.4,IF(B295=data!$B$4,D295*0.6+E295*0.8+F295*0.7+G295+H295+J295+L295+N295,IF(B295=data!$B$5,D295*0.7+E295*0.8+F295+I295*0.7+J295+L295,\"zvolte typ stavby\"))))","v":33.9},{"$f":"IF(B295=data!$B$2,(O295*10)/6.4,IF(B295=data!$B$3,(O295*10)/4.8,IF(B295=data!$B$4,(O295*10)/7.1,IF(B295=data!$B$5,(O295*10)/5.2,\"zvolte typ stavby\"))))","v":52.96875},10000000]
["II/113 Doubravčice - Štihlice","oprava a rekonstrukce","Souvislá údržba",3,0,10,6,6,10,7,0,5,10,4,{"$f":"IF(B296=data!$B$2,D296*0.7+E296*0.5+F296*0.2+G296*0.8+H296+I296*0.2+J296+K296*0.3+L296+M296*0.5+N296*0.2,IF(B296=data!$B$3,D296*0.1+E296*0.4+F296*0.3+G296*0.1+H296+J296+K296*0.5+L296+M296*0.4,IF(B296=data!$B$4,D296*0.6+E296*0.8+F296*0.7+G296+H296+J296+L296+N296,IF(B296=data!$B$5,D296*0.7+E296*0.8+F296+I296*0.7+J296+L296,\"zvolte typ stavby\"))))","v":34.699999999999996},{"$f":"IF(B296=data!$B$2,(O296*10)/6.4,IF(B296=data!$B$3,(O296*10)/4.8,IF(B296=data!$B$4,(O296*10)/7.1,IF(B296=data!$B$5,(O296*10)/5.2,\"zvolte typ stavby\"))))","v":54.218749999999986},10000000]
["II/105 Osečany, most ev.č. 105-025","mostní objekty a propustky","Most",3,0,10,6,6,0,10,0,5,10,0,{"$f":"IF(B297=data!$B$2,D297*0.7+E297*0.5+F297*0.2+G297*0.8+H297+I297*0.2+J297+K297*0.3+L297+M297*0.5+N297*0.2,IF(B297=data!$B$3,D297*0.1+E297*0.4+F297*0.3+G297*0.1+H297+J297+K297*0.5+L297+M297*0.4,IF(B297=data!$B$4,D297*0.6+E297*0.8+F297*0.7+G297+H297+J297+L297+N297,IF(B297=data!$B$5,D297*0.7+E297*0.8+F297+I297*0.7+J297+L297,\"zvolte typ stavby\"))))","v":28.9},{"$f":"IF(B297=data!$B$2,(O297*10)/6.4,IF(B297=data!$B$3,(O297*10)/4.8,IF(B297=data!$B$4,(O297*10)/7.1,IF(B297=data!$B$5,(O297*10)/5.2,\"zvolte typ stavby\"))))","v":60.208333333333336},10000000,null,"realizovatelné za cca 3 roky, důvodem je realizovaná oprava kanalizace a nových povrchů v intravilánu Mšece"]
["II/119 Dobříš, most ev.č. 119-001","mostní objekty a propustky","Most",3,10,10,6,6,10,10,0,8,10,0,{"$f":"IF(B298=data!$B$2,D298*0.7+E298*0.5+F298*0.2+G298*0.8+H298+I298*0.2+J298+K298*0.3+L298+M298*0.5+N298*0.2,IF(B298=data!$B$3,D298*0.1+E298*0.4+F298*0.3+G298*0.1+H298+J298+K298*0.5+L298+M298*0.4,IF(B298=data!$B$4,D298*0.6+E298*0.8+F298*0.7+G298+H298+J298+L298+N298,IF(B298=data!$B$5,D298*0.7+E298*0.8+F298+I298*0.7+J298+L298,\"zvolte typ stavby\"))))","v":35.9},{"$f":"IF(B298=data!$B$2,(O298*10)/6.4,IF(B298=data!$B$3,(O298*10)/4.8,IF(B298=data!$B$4,(O298*10)/7.1,IF(B298=data!$B$5,(O298*10)/5.2,\"zvolte typ stavby\"))))","v":74.791666666666671},10000000,null,"Předpokládaný termmín realizace 04/2023-12/2023"]
["II/101 Kostelec nad Labem, most ev.č. 101-071 přes potok v Kostelci nad Labem","mostní objekty a propustky","Most",5,10,10,10,10,0,10,0,10,10,0,{"$f":"IF(B299=data!$B$2,D299*0.7+E299*0.5+F299*0.2+G299*0.8+H299+I299*0.2+J299+K299*0.3+L299+M299*0.5+N299*0.2,IF(B299=data!$B$3,D299*0.1+E299*0.4+F299*0.3+G299*0.1+H299+J299+K299*0.5+L299+M299*0.4,IF(B299=data!$B$4,D299*0.6+E299*0.8+F299*0.7+G299+H299+J299+L299+N299,IF(B299=data!$B$5,D299*0.7+E299*0.8+F299+I299*0.7+J299+L299,\"zvolte typ stavby\"))))","v":42.5},{"$f":"IF(B299=data!$B$2,(O299*10)/6.4,IF(B299=data!$B$3,(O299*10)/4.8,IF(B299=data!$B$4,(O299*10)/7.1,IF(B299=data!$B$5,(O299*10)/5.2,\"zvolte typ stavby\"))))","v":88.541666666666671},10400000,null,"Předpokládaný termín realizace 04/2024-12/2024"]
["III/25928 Stránka","oprava a rekonstrukce","Souvislá údržba",3,0,5,6,10,10,4,0,10,10,2,{"$f":"IF(B300=[1]data!$B$2,D300*0.7+E300*0.5+F300*0.2+G300*0.8+H300+I300*0.2+J300+K300*0.3+L300+M300*0.5+N300*0.2,IF(B300=[1]data!$B$3,D300*0.1+E300*0.4+F300*0.3+G300*0.1+H300+J300+K300*0.5+L300+M300*0.4,IF(B300=[1]data!$B$4,D300*0.6+E300*0.8+F300*0.7+G300+H300+J300+L300+N300,IF(B300=[1]data!$B$5,D300*0.7+E300*0.8+F300+I300*0.7+J300+L300,\"zvolte typ stavby\"))))","v":39.299999999999997},{"$f":"IF(B300=[1]data!$B$2,(O300*10)/6.4,IF(B300=[1]data!$B$3,(O300*10)/4.8,IF(B300=[1]data!$B$4,(O300*10)/7.1,IF(B300=[1]data!$B$5,(O300*10)/5.2,\"zvolte typ stavby\"))))","v":61.40625},9894188.1500000004,null,"připraveno k soutěži a realizaci 2023"]
["III/2773 Podhora - Rostkov","oprava a rekonstrukce","Souvislá údržba",1,0,5,6,6,10,4,10,10,10,4,{"$f":"IF(B301=[1]data!$B$2,D301*0.7+E301*0.5+F301*0.2+G301*0.8+H301+I301*0.2+J301+K301*0.3+L301+M301*0.5+N301*0.2,IF(B301=[1]data!$B$3,D301*0.1+E301*0.4+F301*0.3+G301*0.1+H301+J301+K301*0.5+L301+M301*0.4,IF(B301=[1]data!$B$4,D301*0.6+E301*0.8+F301*0.7+G301+H301+J301+L301+N301,IF(B301=[1]data!$B$5,D301*0.7+E301*0.8+F301+I301*0.7+J301+L301,\"zvolte typ stavby\"))))","v":37.299999999999997},{"$f":"IF(B301=[1]data!$B$2,(O301*10)/6.4,IF(B301=[1]data!$B$3,(O301*10)/4.8,IF(B301=[1]data!$B$4,(O301*10)/7.1,IF(B301=[1]data!$B$5,(O301*10)/5.2,\"zvolte typ stavby\"))))","v":58.28125},9880729.1400000006,null,"připraveno k soutěži a realizaci 2023"]
["III/10160 Zápy","oprava a rekonstrukce","Souvislá údržba",4,0,6,10,10,10,7,0,10,10,10,{"$f":"IF(B302=[1]data!$B$2,D302*0.7+E302*0.5+F302*0.2+G302*0.8+H302+I302*0.2+J302+K302*0.3+L302+M302*0.5+N302*0.2,IF(B302=[1]data!$B$3,D302*0.1+E302*0.4+F302*0.3+G302*0.1+H302+J302+K302*0.5+L302+M302*0.4,IF(B302=[1]data!$B$4,D302*0.6+E302*0.8+F302*0.7+G302+H302+J302+L302+N302,IF(B302=[1]data!$B$5,D302*0.7+E302*0.8+F302+I302*0.7+J302+L302,\"zvolte typ stavby\"))))","v":48},{"$f":"IF(B302=[1]data!$B$2,(O302*10)/6.4,IF(B302=[1]data!$B$3,(O302*10)/4.8,IF(B302=[1]data!$B$4,(O302*10)/7.1,IF(B302=[1]data!$B$5,(O302*10)/5.2,\"zvolte typ stavby\"))))","v":75},8948428.8000000007,"SFDI – NZ – národní zdroje"," SFDI – NZ – národní zdroje, zařazeno několik let, časté stížnosti, PRIORITA, připraveno k soutěži a realizaci 2023"]
["III/2752 Kostelní Hlavno - Hlavenec","oprava a rekonstrukce","Souvislá údržba",5,0,7,6,6,1,10,0,10,10,4,{"$f":"IF(B303=data!$B$2,D303*0.7+E303*0.5+F303*0.2+G303*0.8+H303+I303*0.2+J303+K303*0.3+L303+M303*0.5+N303*0.2,IF(B303=data!$B$3,D303*0.1+E303*0.4+F303*0.3+G303*0.1+H303+J303+K303*0.5+L303+M303*0.4,IF(B303=data!$B$4,D303*0.6+E303*0.8+F303*0.7+G303+H303+J303+L303+N303,IF(B303=data!$B$5,D303*0.7+E303*0.8+F303+I303*0.7+J303+L303,\"zvolte typ stavby\"))))","v":41.699999999999996},{"$f":"IF(B303=data!$B$2,(O303*10)/6.4,IF(B303=data!$B$3,(O303*10)/4.8,IF(B303=data!$B$4,(O303*10)/7.1,IF(B303=data!$B$5,(O303*10)/5.2,\"zvolte typ stavby\"))))","v":65.156249999999986},9786846.6300000008,null,"připraveno k soutěži a realizaci 2023"]
["III/0048 Zbenice","oprava a rekonstrukce","Souvislá údržba",2,0,5,10,10,10,7,0,10,10,0,{"$f":"IF(B304=data!$B$2,D304*0.7+E304*0.5+F304*0.2+G304*0.8+H304+I304*0.2+J304+K304*0.3+L304+M304*0.5+N304*0.2,IF(B304=data!$B$3,D304*0.1+E304*0.4+F304*0.3+G304*0.1+H304+J304+K304*0.5+L304+M304*0.4,IF(B304=data!$B$4,D304*0.6+E304*0.8+F304*0.7+G304+H304+J304+L304+N304,IF(B304=data!$B$5,D304*0.7+E304*0.8+F304+I304*0.7+J304+L304,\"zvolte typ stavby\"))))","v":44.4},{"$f":"IF(B304=data!$B$2,(O304*10)/6.4,IF(B304=data!$B$3,(O304*10)/4.8,IF(B304=data!$B$4,(O304*10)/7.1,IF(B304=data!$B$5,(O304*10)/5.2,\"zvolte typ stavby\"))))","v":69.375},9753663.5899999999]
["III/2405 Statenice, most ev.č. 2405-1 přes potok","mostní objekty a propustky","Most",2,10,5,10,10,10,10,0,8,10,0,{"$f":"IF(B305=data!$B$2,D305*0.7+E305*0.5+F305*0.2+G305*0.8+H305+I305*0.2+J305+K305*0.3+L305+M305*0.5+N305*0.2,IF(B305=data!$B$3,D305*0.1+E305*0.4+F305*0.3+G305*0.1+H305+J305+K305*0.5+L305+M305*0.4,IF(B305=data!$B$4,D305*0.6+E305*0.8+F305*0.7+G305+H305+J305+L305+N305,IF(B305=data!$B$5,D305*0.7+E305*0.8+F305+I305*0.7+J305+L305,\"zvolte typ stavby\"))))","v":38.700000000000003},{"$f":"IF(B305=data!$B$2,(O305*10)/6.4,IF(B305=data!$B$3,(O305*10)/4.8,IF(B305=data!$B$4,(O305*10)/7.1,IF(B305=data!$B$5,(O305*10)/5.2,\"zvolte typ stavby\"))))","v":80.625},9694437.3000000007,null,"Předpokládaný termmín realizace 04/2023-12/2023"]
["III/10147 Kralupy nad Vltavou - Hybešova, Minická","oprava a rekonstrukce","Souvislá údržba",2,0,6,6,10,10,10,0,10,10,2,{"$f":"IF(B306=[1]data!$B$2,D306*0.7+E306*0.5+F306*0.2+G306*0.8+H306+I306*0.2+J306+K306*0.3+L306+M306*0.5+N306*0.2,IF(B306=[1]data!$B$3,D306*0.1+E306*0.4+F306*0.3+G306*0.1+H306+J306+K306*0.5+L306+M306*0.4,IF(B306=[1]data!$B$4,D306*0.6+E306*0.8+F306*0.7+G306+H306+J306+L306+N306,IF(B306=[1]data!$B$5,D306*0.7+E306*0.8+F306+I306*0.7+J306+L306,\"zvolte typ stavby\"))))","v":44.8},{"$f":"IF(B306=[1]data!$B$2,(O306*10)/6.4,IF(B306=[1]data!$B$3,(O306*10)/4.8,IF(B306=[1]data!$B$4,(O306*10)/7.1,IF(B306=[1]data!$B$5,(O306*10)/5.2,\"zvolte typ stavby\"))))","v":70},9516945.5999999996,"SFDI – NZ – národní zdroje"," SFDI – NZ – národní zdroje   dohoda s panem ředitelem zařadit do r. 2023 / PRIORITA p. Lesák, připraveno k soutěži a realizaci 2023"]
["II/240 Kralupy nad Vltavou, ul. Na Velvarské silnici","oprava a rekonstrukce","Souvislá údržba",4,0,10,6,6,10,4,0,10,10,2,{"$f":"IF(B307=[1]data!$B$2,D307*0.7+E307*0.5+F307*0.2+G307*0.8+H307+I307*0.2+J307+K307*0.3+L307+M307*0.5+N307*0.2,IF(B307=[1]data!$B$3,D307*0.1+E307*0.4+F307*0.3+G307*0.1+H307+J307+K307*0.5+L307+M307*0.4,IF(B307=[1]data!$B$4,D307*0.6+E307*0.8+F307*0.7+G307+H307+J307+L307+N307,IF(B307=[1]data!$B$5,D307*0.7+E307*0.8+F307+I307*0.7+J307+L307,\"zvolte typ stavby\"))))","v":37},{"$f":"IF(B307=[1]data!$B$2,(O307*10)/6.4,IF(B307=[1]data!$B$3,(O307*10)/4.8,IF(B307=[1]data!$B$4,(O307*10)/7.1,IF(B307=[1]data!$B$5,(O307*10)/5.2,\"zvolte typ stavby\"))))","v":57.8125},9394335.9399999995,null,"připraveno k soutěži a realizaci 2023"]
["II/273 Střemy, most ev.č. 273-005 přes potok před obcí Střemy","mostní objekty a propustky","Most",3,10,10,6,6,10,10,0,8,10,0,{"$f":"IF(B308=data!$B$2,D308*0.7+E308*0.5+F308*0.2+G308*0.8+H308+I308*0.2+J308+K308*0.3+L308+M308*0.5+N308*0.2,IF(B308=data!$B$3,D308*0.1+E308*0.4+F308*0.3+G308*0.1+H308+J308+K308*0.5+L308+M308*0.4,IF(B308=data!$B$4,D308*0.6+E308*0.8+F308*0.7+G308+H308+J308+L308+N308,IF(B308=data!$B$5,D308*0.7+E308*0.8+F308+I308*0.7+J308+L308,\"zvolte typ stavby\"))))","v":35.9},{"$f":"IF(B308=data!$B$2,(O308*10)/6.4,IF(B308=data!$B$3,(O308*10)/4.8,IF(B308=data!$B$4,(O308*10)/7.1,IF(B308=data!$B$5,(O308*10)/5.2,\"zvolte typ stavby\"))))","v":74.791666666666671},12500000,null,"Předpokládaný termmín realizace 04/2023-12/2023. Problém s vlastníkem pozemku"]
["III/00711 Makotřasy, bezpečnostní opatření - PD","řešení bodové závady a/nebo bezpečnostního rizika (křižovatky, opěrné zdi, skalní masivy)","-",3,10,5,10,10,0,4,0,10,0,0,{"$f":"IF(B309=data!$B$2,D309*0.7+E309*0.5+F309*0.2+G309*0.8+H309+I309*0.2+J309+K309*0.3+L309+M309*0.5+N309*0.2,IF(B309=data!$B$3,D309*0.1+E309*0.4+F309*0.3+G309*0.1+H309+J309+K309*0.5+L309+M309*0.4,IF(B309=data!$B$4,D309*0.6+E309*0.8+F309*0.7+G309+H309+J309+L309+N309,IF(B309=data!$B$5,D309*0.7+E309*0.8+F309+I309*0.7+J309+L309,\"zvolte typ stavby\"))))","v":47.3},{"$f":"IF(B309=data!$B$2,(O309*10)/6.4,IF(B309=data!$B$3,(O309*10)/4.8,IF(B309=data!$B$4,(O309*10)/7.1,IF(B309=data!$B$5,(O309*10)/5.2,\"zvolte typ stavby\"))))","v":66.619718309859152},9336864]
["III/3222 Konárovice - Jelen","oprava a rekonstrukce","Souvislá údržba",2,0,5,3,6,10,4,0,8,10,0,{"$f":"IF(B310=data!$B$2,D310*0.7+E310*0.5+F310*0.2+G310*0.8+H310+I310*0.2+J310+K310*0.3+L310+M310*0.5+N310*0.2,IF(B310=data!$B$3,D310*0.1+E310*0.4+F310*0.3+G310*0.1+H310+J310+K310*0.5+L310+M310*0.4,IF(B310=data!$B$4,D310*0.6+E310*0.8+F310*0.7+G310+H310+J310+L310+N310,IF(B310=data!$B$5,D310*0.7+E310*0.8+F310+I310*0.7+J310+L310,\"zvolte typ stavby\"))))","v":29.8},{"$f":"IF(B310=data!$B$2,(O310*10)/6.4,IF(B310=data!$B$3,(O310*10)/4.8,IF(B310=data!$B$4,(O310*10)/7.1,IF(B310=data!$B$5,(O310*10)/5.2,\"zvolte typ stavby\"))))","v":46.5625},9236945.1899999995,null,"Předpoklad SFDI nebo IROP dle možností v době dokončení"]
["III/00722 Hole","oprava a rekonstrukce",null,1,10,7,6,6,1,4,10,10,0,0,{"$f":"IF(B311=data!$B$2,D311*0.7+E311*0.5+F311*0.2+G311*0.8+H311+I311*0.2+J311+K311*0.3+L311+M311*0.5+N311*0.2,IF(B311=data!$B$3,D311*0.1+E311*0.4+F311*0.3+G311*0.1+H311+J311+K311*0.5+L311+M311*0.4,IF(B311=data!$B$4,D311*0.6+E311*0.8+F311*0.7+G311+H311+J311+L311+N311,IF(B311=data!$B$5,D311*0.7+E311*0.8+F311+I311*0.7+J311+L311,\"zvolte typ stavby\"))))","v":35.1},{"$f":"IF(B311=data!$B$2,(O311*10)/6.4,IF(B311=data!$B$3,(O311*10)/4.8,IF(B311=data!$B$4,(O311*10)/7.1,IF(B311=data!$B$5,(O311*10)/5.2,\"zvolte typ stavby\"))))","v":54.84375},9176626.3300000001]
["III/3392 Zhoř - Vickovice","oprava a rekonstrukce","Souvislá údržba",2,0,5,3,6,10,4,0,8,10,0,{"$f":"IF(B312=data!$B$2,D312*0.7+E312*0.5+F312*0.2+G312*0.8+H312+I312*0.2+J312+K312*0.3+L312+M312*0.5+N312*0.2,IF(B312=data!$B$3,D312*0.1+E312*0.4+F312*0.3+G312*0.1+H312+J312+K312*0.5+L312+M312*0.4,IF(B312=data!$B$4,D312*0.6+E312*0.8+F312*0.7+G312+H312+J312+L312+N312,IF(B312=data!$B$5,D312*0.7+E312*0.8+F312+I312*0.7+J312+L312,\"zvolte typ stavby\"))))","v":29.8},{"$f":"IF(B312=data!$B$2,(O312*10)/6.4,IF(B312=data!$B$3,(O312*10)/4.8,IF(B312=data!$B$4,(O312*10)/7.1,IF(B312=data!$B$5,(O312*10)/5.2,\"zvolte typ stavby\"))))","v":46.5625},9171092.0899999999]
["III/11811 Příbram - Lhota u Příbramě","oprava a rekonstrukce","Souvislá údržba",4,0,5,10,10,10,7,0,10,10,7,{"$f":"IF(B313=data!$B$2,D313*0.7+E313*0.5+F313*0.2+G313*0.8+H313+I313*0.2+J313+K313*0.3+L313+M313*0.5+N313*0.2,IF(B313=data!$B$3,D313*0.1+E313*0.4+F313*0.3+G313*0.1+H313+J313+K313*0.5+L313+M313*0.4,IF(B313=data!$B$4,D313*0.6+E313*0.8+F313*0.7+G313+H313+J313+L313+N313,IF(B313=data!$B$5,D313*0.7+E313*0.8+F313+I313*0.7+J313+L313,\"zvolte typ stavby\"))))","v":47.199999999999996},{"$f":"IF(B313=data!$B$2,(O313*10)/6.4,IF(B313=data!$B$3,(O313*10)/4.8,IF(B313=data!$B$4,(O313*10)/7.1,IF(B313=data!$B$5,(O313*10)/5.2,\"zvolte typ stavby\"))))","v":73.749999999999986},9097399.7599999998,null,null,null,"dle rozpočetu z roku 2019"]
["III/26827 Rokytá","oprava a rekonstrukce","Souvislá údržba",1,0,5,3,6,10,4,10,10,10,2,{"$f":"IF(B314=data!$B$2,D314*0.7+E314*0.5+F314*0.2+G314*0.8+H314+I314*0.2+J314+K314*0.3+L314+M314*0.5+N314*0.2,IF(B314=data!$B$3,D314*0.1+E314*0.4+F314*0.3+G314*0.1+H314+J314+K314*0.5+L314+M314*0.4,IF(B314=data!$B$4,D314*0.6+E314*0.8+F314*0.7+G314+H314+J314+L314+N314,IF(B314=data!$B$5,D314*0.7+E314*0.8+F314+I314*0.7+J314+L314,\"zvolte typ stavby\"))))","v":34.5},{"$f":"IF(B314=[1]data!$B$2,(O314*10)/6.4,IF(B314=[1]data!$B$3,(O314*10)/4.8,IF(B314=[1]data!$B$4,(O314*10)/7.1,IF(B314=[1]data!$B$5,(O314*10)/5.2,\"zvolte typ stavby\"))))","v":53.90625},8805463.7300000004,null,"připraveno k soutěži a realizaci 2023"]
["III/2683 Malobratřice - Kamenice","oprava a rekonstrukce","Souvislá údržba",2,0,5,6,6,10,7,0,10,10,2,{"$f":"IF(B315=data!$B$2,D315*0.7+E315*0.5+F315*0.2+G315*0.8+H315+I315*0.2+J315+K315*0.3+L315+M315*0.5+N315*0.2,IF(B315=data!$B$3,D315*0.1+E315*0.4+F315*0.3+G315*0.1+H315+J315+K315*0.5+L315+M315*0.4,IF(B315=data!$B$4,D315*0.6+E315*0.8+F315*0.7+G315+H315+J315+L315+N315,IF(B315=data!$B$5,D315*0.7+E315*0.8+F315+I315*0.7+J315+L315,\"zvolte typ stavby\"))))","v":37.6},{"$f":"IF(B315=[1]data!$B$2,(O315*10)/6.4,IF(B315=[1]data!$B$3,(O315*10)/4.8,IF(B315=[1]data!$B$4,(O315*10)/7.1,IF(B315=[1]data!$B$5,(O315*10)/5.2,\"zvolte typ stavby\"))))","v":58.75},8742743.5,null,"připraveno k soutěži a realizaci 2023"]
["II/331 Lysá nad Labem, Litol","oprava a rekonstrukce","Souvislá údržba",6,0,10,10,10,10,10,0,10,10,2,{"$f":"IF(B316=data!$B$2,D316*0.7+E316*0.5+F316*0.2+G316*0.8+H316+I316*0.2+J316+K316*0.3+L316+M316*0.5+N316*0.2,IF(B316=data!$B$3,D316*0.1+E316*0.4+F316*0.3+G316*0.1+H316+J316+K316*0.5+L316+M316*0.4,IF(B316=data!$B$4,D316*0.6+E316*0.8+F316*0.7+G316+H316+J316+L316+N316,IF(B316=data!$B$5,D316*0.7+E316*0.8+F316+I316*0.7+J316+L316,\"zvolte typ stavby\"))))","v":51.6},{"$f":"IF(B316=[1]data!$B$2,(O316*10)/6.4,IF(B316=[1]data!$B$3,(O316*10)/4.8,IF(B316=[1]data!$B$4,(O316*10)/7.1,IF(B316=[1]data!$B$5,(O316*10)/5.2,\"zvolte typ stavby\"))))","v":80.625},8580177.7599999998,"SFDI – NZ – národní zdroje"," SFDI – NZ – národní zdroje, zařazeno několik let, 2 roky se zde vedla objízdná trasa, PRIORITA, připraveno k soutěži a realizaci 2023"]
["III/24628 Spomyšl - Jeviněves","oprava a rekonstrukce","Souvislá údržba",2,0,6,10,10,0,4,0,10,10,2,{"$f":"IF(B317=data!$B$2,D317*0.7+E317*0.5+F317*0.2+G317*0.8+H317+I317*0.2+J317+K317*0.3+L317+M317*0.5+N317*0.2,IF(B317=data!$B$3,D317*0.1+E317*0.4+F317*0.3+G317*0.1+H317+J317+K317*0.5+L317+M317*0.4,IF(B317=data!$B$4,D317*0.6+E317*0.8+F317*0.7+G317+H317+J317+L317+N317,IF(B317=data!$B$5,D317*0.7+E317*0.8+F317+I317*0.7+J317+L317,\"zvolte typ stavby\"))))","v":40},{"$f":"IF(B317=[1]data!$B$2,(O317*10)/6.4,IF(B317=[1]data!$B$3,(O317*10)/4.8,IF(B317=[1]data!$B$4,(O317*10)/7.1,IF(B317=[1]data!$B$5,(O317*10)/5.2,\"zvolte typ stavby\"))))","v":62.5},8612354.5600000005,null,"připraveno k soutěži a realizaci 2023"]
["III/2445 Veliký Brázdim","oprava a rekonstrukce","Souvislá údržba",3,0,5,6,6,10,4,0,10,10,2,{"$f":"IF(B318=data!$B$2,D318*0.7+E318*0.5+F318*0.2+G318*0.8+H318+I318*0.2+J318+K318*0.3+L318+M318*0.5+N318*0.2,IF(B318=data!$B$3,D318*0.1+E318*0.4+F318*0.3+G318*0.1+H318+J318+K318*0.5+L318+M318*0.4,IF(B318=data!$B$4,D318*0.6+E318*0.8+F318*0.7+G318+H318+J318+L318+N318,IF(B318=data!$B$5,D318*0.7+E318*0.8+F318+I318*0.7+J318+L318,\"zvolte typ stavby\"))))","v":35.299999999999997},{"$f":"IF(B318=data!$B$2,(O318*10)/6.4,IF(B318=data!$B$3,(O318*10)/4.8,IF(B318=data!$B$4,(O318*10)/7.1,IF(B318=data!$B$5,(O318*10)/5.2,\"zvolte typ stavby\"))))","v":55.15625},13746830.57,null,"připraveno k soutěži a realizaci 2023, lze zařadit do ÚD-SOKP"]
["III/27213 Benátky nad Jizerou - Dražice","oprava a rekonstrukce","Souvislá údržba",2,0,5,6,6,10,4,0,10,10,2,{"$f":"IF(B319=data!$B$2,D319*0.7+E319*0.5+F319*0.2+G319*0.8+H319+I319*0.2+J319+K319*0.3+L319+M319*0.5+N319*0.2,IF(B319=data!$B$3,D319*0.1+E319*0.4+F319*0.3+G319*0.1+H319+J319+K319*0.5+L319+M319*0.4,IF(B319=data!$B$4,D319*0.6+E319*0.8+F319*0.7+G319+H319+J319+L319+N319,IF(B319=data!$B$5,D319*0.7+E319*0.8+F319+I319*0.7+J319+L319,\"zvolte typ stavby\"))))","v":34.6},{"$f":"IF(B319=[1]data!$B$2,(O319*10)/6.4,IF(B319=[1]data!$B$3,(O319*10)/4.8,IF(B319=[1]data!$B$4,(O319*10)/7.1,IF(B319=[1]data!$B$5,(O319*10)/5.2,\"zvolte typ stavby\"))))","v":54.0625},8514595.5199999996,null,"připraveno k soutěži a realizaci 2023"]
["III/3366 Jiřice - Řendějov","oprava a rekonstrukce","Souvislá údržba",1,0,5,3,6,10,2,10,8,10,0,{"$f":"IF(B320=data!$B$2,D320*0.7+E320*0.5+F320*0.2+G320*0.8+H320+I320*0.2+J320+K320*0.3+L320+M320*0.5+N320*0.2,IF(B320=data!$B$3,D320*0.1+E320*0.4+F320*0.3+G320*0.1+H320+J320+K320*0.5+L320+M320*0.4,IF(B320=data!$B$4,D320*0.6+E320*0.8+F320*0.7+G320+H320+J320+L320+N320,IF(B320=data!$B$5,D320*0.7+E320*0.8+F320+I320*0.7+J320+L320,\"zvolte typ stavby\"))))","v":30.1},{"$f":"IF(B320=data!$B$2,(O320*10)/6.4,IF(B320=data!$B$3,(O320*10)/4.8,IF(B320=data!$B$4,(O320*10)/7.1,IF(B320=data!$B$5,(O320*10)/5.2,\"zvolte typ stavby\"))))","v":47.03125},8500000]
["II/101 Kralupy nad Vltavou, most ev.č. 101-055 přes potok v Kralupech nad Vltavou","mostní objekty a propustky","Most",5,10,10,6,6,10,10,0,10,10,0,{"$f":"IF(B321=data!$B$2,D321*0.7+E321*0.5+F321*0.2+G321*0.8+H321+I321*0.2+J321+K321*0.3+L321+M321*0.5+N321*0.2,IF(B321=data!$B$3,D321*0.1+E321*0.4+F321*0.3+G321*0.1+H321+J321+K321*0.5+L321+M321*0.4,IF(B321=data!$B$4,D321*0.6+E321*0.8+F321*0.7+G321+H321+J321+L321+N321,IF(B321=data!$B$5,D321*0.7+E321*0.8+F321+I321*0.7+J321+L321,\"zvolte typ stavby\"))))","v":38.1},{"$f":"IF(B321=data!$B$2,(O321*10)/6.4,IF(B321=data!$B$3,(O321*10)/4.8,IF(B321=data!$B$4,(O321*10)/7.1,IF(B321=data!$B$5,(O321*10)/5.2,\"zvolte typ stavby\"))))","v":79.375},14700000,null,"Předpokládaný termmín realizace 04/2023-12/2023"]
["III/24022 Olovnice","oprava a rekonstrukce","Souvislá údržba",2,0,5,3,3,10,4,0,10,10,2,{"$f":"IF(B322=data!$B$2,D322*0.7+E322*0.5+F322*0.2+G322*0.8+H322+I322*0.2+J322+K322*0.3+L322+M322*0.5+N322*0.2,IF(B322=data!$B$3,D322*0.1+E322*0.4+F322*0.3+G322*0.1+H322+J322+K322*0.5+L322+M322*0.4,IF(B322=data!$B$4,D322*0.6+E322*0.8+F322*0.7+G322+H322+J322+L322+N322,IF(B322=data!$B$5,D322*0.7+E322*0.8+F322+I322*0.7+J322+L322,\"zvolte typ stavby\"))))","v":29.2},{"$f":"IF(B322=[1]data!$B$2,(O322*10)/6.4,IF(B322=[1]data!$B$3,(O322*10)/4.8,IF(B322=[1]data!$B$4,(O322*10)/7.1,IF(B322=[1]data!$B$5,(O322*10)/5.2,\"zvolte typ stavby\"))))","v":45.625},8090206.6500000004,null,"připraveno k soutěži a realizaci 2023"]
["III/12149 Smilkov, most ev.č. 12149-1","mostní objekty a propustky","Most",2,0,5,6,6,0,4,0,8,10,0,{"$f":"IF(B323=data!$B$2,D323*0.7+E323*0.5+F323*0.2+G323*0.8+H323+I323*0.2+J323+K323*0.3+L323+M323*0.5+N323*0.2,IF(B323=data!$B$3,D323*0.1+E323*0.4+F323*0.3+G323*0.1+H323+J323+K323*0.5+L323+M323*0.4,IF(B323=data!$B$4,D323*0.6+E323*0.8+F323*0.7+G323+H323+J323+L323+N323,IF(B323=data!$B$5,D323*0.7+E323*0.8+F323+I323*0.7+J323+L323,\"zvolte typ stavby\"))))","v":24.3},{"$f":"IF(B323=data!$B$2,(O323*10)/6.4,IF(B323=data!$B$3,(O323*10)/4.8,IF(B323=data!$B$4,(O323*10)/7.1,IF(B323=data!$B$5,(O323*10)/5.2,\"zvolte typ stavby\"))))","v":50.625},8000000,null,"Předpokládaný termmín realizace 04/2024-12/2024"]
["III/11816 Dolní Hbity, most ev.č. 11816-1","mostní objekty a propustky","Most",2,0,5,6,6,0,7,0,5,10,0,{"$f":"IF(B324=data!$B$2,D324*0.7+E324*0.5+F324*0.2+G324*0.8+H324+I324*0.2+J324+K324*0.3+L324+M324*0.5+N324*0.2,IF(B324=data!$B$3,D324*0.1+E324*0.4+F324*0.3+G324*0.1+H324+J324+K324*0.5+L324+M324*0.4,IF(B324=data!$B$4,D324*0.6+E324*0.8+F324*0.7+G324+H324+J324+L324+N324,IF(B324=data!$B$5,D324*0.7+E324*0.8+F324+I324*0.7+J324+L324,\"zvolte typ stavby\"))))","v":24.3},{"$f":"IF(B324=data!$B$2,(O324*10)/6.4,IF(B324=data!$B$3,(O324*10)/4.8,IF(B324=data!$B$4,(O324*10)/7.1,IF(B324=data!$B$5,(O324*10)/5.2,\"zvolte typ stavby\"))))","v":50.625},8000000,null,"Předpokládaný termmín realizace 04/2024-12/2024"]
["II/605 Zdice, okružní křižovatka","řešení bodové závady a/nebo bezpečnostního rizika (křižovatky, opěrné zdi, skalní masivy)","-",5,10,10,10,2,10,2,0,10,10,10,{"$f":"IF(B325=data!$B$2,D325*0.7+E325*0.5+F325*0.2+G325*0.8+H325+I325*0.2+J325+K325*0.3+L325+M325*0.5+N325*0.2,IF(B325=data!$B$3,D325*0.1+E325*0.4+F325*0.3+G325*0.1+H325+J325+K325*0.5+L325+M325*0.4,IF(B325=data!$B$4,D325*0.6+E325*0.8+F325*0.7+G325+H325+J325+L325+N325,IF(B325=data!$B$5,D325*0.7+E325*0.8+F325+I325*0.7+J325+L325,\"zvolte typ stavby\"))))","v":52},{"$f":"IF(B325=data!$B$2,(O325*10)/6.4,IF(B325=data!$B$3,(O325*10)/4.8,IF(B325=data!$B$4,(O325*10)/7.1,IF(B325=data!$B$5,(O325*10)/5.2,\"zvolte typ stavby\"))))","v":73.239436619718319},39000000]
["III/25928 Kadlín II","oprava a rekonstrukce","Souvislá údržba",3,0,5,6,10,10,4,0,10,10,2,{"$f":"IF(B326=data!$B$2,D326*0.7+E326*0.5+F326*0.2+G326*0.8+H326+I326*0.2+J326+K326*0.3+L326+M326*0.5+N326*0.2,IF(B326=data!$B$3,D326*0.1+E326*0.4+F326*0.3+G326*0.1+H326+J326+K326*0.5+L326+M326*0.4,IF(B326=data!$B$4,D326*0.6+E326*0.8+F326*0.7+G326+H326+J326+L326+N326,IF(B326=data!$B$5,D326*0.7+E326*0.8+F326+I326*0.7+J326+L326,\"zvolte typ stavby\"))))","v":39.299999999999997},{"$f":"IF(B326=[1]data!$B$2,(O326*10)/6.4,IF(B326=[1]data!$B$3,(O326*10)/4.8,IF(B326=[1]data!$B$4,(O326*10)/7.1,IF(B326=[1]data!$B$5,(O326*10)/5.2,\"zvolte typ stavby\"))))","v":61.40625},7955545.0300000003,null,"připraveno k soutěži a realizaci 2023"]
["III/25919 Kovanec - Horní Cetno","oprava a rekonstrukce","Souvislá údržba",1,0,5,6,6,1,7,0,10,10,2,{"$f":"IF(B327=data!$B$2,D327*0.7+E327*0.5+F327*0.2+G327*0.8+H327+I327*0.2+J327+K327*0.3+L327+M327*0.5+N327*0.2,IF(B327=data!$B$3,D327*0.1+E327*0.4+F327*0.3+G327*0.1+H327+J327+K327*0.5+L327+M327*0.4,IF(B327=data!$B$4,D327*0.6+E327*0.8+F327*0.7+G327+H327+J327+L327+N327,IF(B327=data!$B$5,D327*0.7+E327*0.8+F327+I327*0.7+J327+L327,\"zvolte typ stavby\"))))","v":35.1},{"$f":"IF(B327=[1]data!$B$2,(O327*10)/6.4,IF(B327=[1]data!$B$3,(O327*10)/4.8,IF(B327=[1]data!$B$4,(O327*10)/7.1,IF(B327=[1]data!$B$5,(O327*10)/5.2,\"zvolte typ stavby\"))))","v":54.84375},7908266.5599999996,null,"připraveno k soutěži a realizaci 2023"]
["II/327 Krakovany, most ev.č. 327-005","mostní objekty a propustky","Most",3,0,10,6,6,0,10,0,2,10,0,{"$f":"IF(B328=data!$B$2,D328*0.7+E328*0.5+F328*0.2+G328*0.8+H328+I328*0.2+J328+K328*0.3+L328+M328*0.5+N328*0.2,IF(B328=data!$B$3,D328*0.1+E328*0.4+F328*0.3+G328*0.1+H328+J328+K328*0.5+L328+M328*0.4,IF(B328=data!$B$4,D328*0.6+E328*0.8+F328*0.7+G328+H328+J328+L328+N328,IF(B328=data!$B$5,D328*0.7+E328*0.8+F328+I328*0.7+J328+L328,\"zvolte typ stavby\"))))","v":25.9},{"$f":"IF(B328=data!$B$2,(O328*10)/6.4,IF(B328=data!$B$3,(O328*10)/4.8,IF(B328=data!$B$4,(O328*10)/7.1,IF(B328=data!$B$5,(O328*10)/5.2,\"zvolte typ stavby\"))))","v":53.958333333333336},7900000,null,"Předpokládaný termmín realizace 04/2024-12/2024"]
["III/24422 Přívory - II/331","oprava a rekonstrukce","Souvislá údržba",2,0,6,10,10,0,4,0,10,10,2,{"$f":"IF(B329=data!$B$2,D329*0.7+E329*0.5+F329*0.2+G329*0.8+H329+I329*0.2+J329+K329*0.3+L329+M329*0.5+N329*0.2,IF(B329=data!$B$3,D329*0.1+E329*0.4+F329*0.3+G329*0.1+H329+J329+K329*0.5+L329+M329*0.4,IF(B329=data!$B$4,D329*0.6+E329*0.8+F329*0.7+G329+H329+J329+L329+N329,IF(B329=data!$B$5,D329*0.7+E329*0.8+F329+I329*0.7+J329+L329,\"zvolte typ stavby\"))))","v":40},{"$f":"IF(B329=data!$B$2,(O329*10)/6.4,IF(B329=data!$B$3,(O329*10)/4.8,IF(B329=data!$B$4,(O329*10)/7.1,IF(B329=data!$B$5,(O329*10)/5.2,\"zvolte typ stavby\"))))","v":62.5},7886446.7699999996,null,"připraveno k soutěži a realizaci 2023"]
["Křižovatka II/110 x III/1103h, Benešov","řešení bodové závady a/nebo bezpečnostního rizika (křižovatky, opěrné zdi, skalní masivy)","-",4,10,10,10,3,0,4,0,10,10,0,{"$f":"IF(B330=data!$B$2,D330*0.7+E330*0.5+F330*0.2+G330*0.8+H330+I330*0.2+J330+K330*0.3+L330+M330*0.5+N330*0.2,IF(B330=data!$B$3,D330*0.1+E330*0.4+F330*0.3+G330*0.1+H330+J330+K330*0.5+L330+M330*0.4,IF(B330=data!$B$4,D330*0.6+E330*0.8+F330*0.7+G330+H330+J330+L330+N330,IF(B330=data!$B$5,D330*0.7+E330*0.8+F330+I330*0.7+J330+L330,\"zvolte typ stavby\"))))","v":44.4},{"$f":"IF(B330=data!$B$2,(O330*10)/6.4,IF(B330=data!$B$3,(O330*10)/4.8,IF(B330=data!$B$4,(O330*10)/7.1,IF(B330=data!$B$5,(O330*10)/5.2,\"zvolte typ stavby\"))))","v":62.535211267605639},14000000]
["III/1114 Líšno - svah a část vozovky ","řešení bodové závady a/nebo bezpečnostního rizika (křižovatky, opěrné zdi, skalní masivy)","-",1,0,5,10,10,0,4,0,10,0,2,{"$f":"IF(B331=data!$B$2,D331*0.7+E331*0.5+F331*0.2+G331*0.8+H331+I331*0.2+J331+K331*0.3+L331+M331*0.5+N331*0.2,IF(B331=data!$B$3,D331*0.1+E331*0.4+F331*0.3+G331*0.1+H331+J331+K331*0.5+L331+M331*0.4,IF(B331=data!$B$4,D331*0.6+E331*0.8+F331*0.7+G331+H331+J331+L331+N331,IF(B331=data!$B$5,D331*0.7+E331*0.8+F331+I331*0.7+J331+L331,\"zvolte typ stavby\"))))","v":40.1},{"$f":"IF(B331=data!$B$2,(O331*10)/6.4,IF(B331=data!$B$3,(O331*10)/4.8,IF(B331=data!$B$4,(O331*10)/7.1,IF(B331=data!$B$5,(O331*10)/5.2,\"zvolte typ stavby\"))))","v":56.478873239436624},7612258.4199999999]
["III/11614 Srbsko - Tetín","oprava a rekonstrukce",null,1,10,6,6,3,1,4,0,10,0,0,{"$f":"IF(B332=data!$B$2,D332*0.7+E332*0.5+F332*0.2+G332*0.8+H332+I332*0.2+J332+K332*0.3+L332+M332*0.5+N332*0.2,IF(B332=data!$B$3,D332*0.1+E332*0.4+F332*0.3+G332*0.1+H332+J332+K332*0.5+L332+M332*0.4,IF(B332=data!$B$4,D332*0.6+E332*0.8+F332*0.7+G332+H332+J332+L332+N332,IF(B332=data!$B$5,D332*0.7+E332*0.8+F332+I332*0.7+J332+L332,\"zvolte typ stavby\"))))","v":28.9},{"$f":"IF(B332=data!$B$2,(O332*10)/6.4,IF(B332=data!$B$3,(O332*10)/4.8,IF(B332=data!$B$4,(O332*10)/7.1,IF(B332=data!$B$5,(O332*10)/5.2,\"zvolte typ stavby\"))))","v":45.15625},7548087.0899999999]
["III/33420 Molitorov, most ev.č.33420-1","mostní objekty a propustky","Most",2,0,5,6,6,0,4,0,8,10,0,{"$f":"IF(B333=data!$B$2,D333*0.7+E333*0.5+F333*0.2+G333*0.8+H333+I333*0.2+J333+K333*0.3+L333+M333*0.5+N333*0.2,IF(B333=data!$B$3,D333*0.1+E333*0.4+F333*0.3+G333*0.1+H333+J333+K333*0.5+L333+M333*0.4,IF(B333=data!$B$4,D333*0.6+E333*0.8+F333*0.7+G333+H333+J333+L333+N333,IF(B333=data!$B$5,D333*0.7+E333*0.8+F333+I333*0.7+J333+L333,\"zvolte typ stavby\"))))","v":24.3},{"$f":"IF(B333=data!$B$2,(O333*10)/6.4,IF(B333=data!$B$3,(O333*10)/4.8,IF(B333=data!$B$4,(O333*10)/7.1,IF(B333=data!$B$5,(O333*10)/5.2,\"zvolte typ stavby\"))))","v":50.625},7511342,null,"Předpokládaný termmín realizace 04/2024-12/2024"]
["II/324 Městec Králové, ul. Prezidenta Beneše ","oprava a rekonstrukce","Rekonstrukce",2,0,10,3,6,10,7,0,8,10,4,{"$f":"IF(B334=data!$B$2,D334*0.7+E334*0.5+F334*0.2+G334*0.8+H334+I334*0.2+J334+K334*0.3+L334+M334*0.5+N334*0.2,IF(B334=data!$B$3,D334*0.1+E334*0.4+F334*0.3+G334*0.1+H334+J334+K334*0.5+L334+M334*0.4,IF(B334=data!$B$4,D334*0.6+E334*0.8+F334*0.7+G334+H334+J334+L334+N334,IF(B334=data!$B$5,D334*0.7+E334*0.8+F334+I334*0.7+J334+L334,\"zvolte typ stavby\"))))","v":34.599999999999994},{"$f":"IF(B334=data!$B$2,(O334*10)/6.4,IF(B334=data!$B$3,(O334*10)/4.8,IF(B334=data!$B$4,(O334*10)/7.1,IF(B334=data!$B$5,(O334*10)/5.2,\"zvolte typ stavby\"))))","v":54.062499999999986},7500000]
["III/1162 a III/2019 Lhota","oprava a rekonstrukce","Souvislá údržba",1,10,6,3,6,0,4,0,10,0,0,{"$f":"IF(B335=data!$B$2,D335*0.7+E335*0.5+F335*0.2+G335*0.8+H335+I335*0.2+J335+K335*0.3+L335+M335*0.5+N335*0.2,IF(B335=data!$B$3,D335*0.1+E335*0.4+F335*0.3+G335*0.1+H335+J335+K335*0.5+L335+M335*0.4,IF(B335=data!$B$4,D335*0.6+E335*0.8+F335*0.7+G335+H335+J335+L335+N335,IF(B335=data!$B$5,D335*0.7+E335*0.8+F335+I335*0.7+J335+L335,\"zvolte typ stavby\"))))","v":29.3},{"$f":"IF(B335=data!$B$2,(O335*10)/6.4,IF(B335=data!$B$3,(O335*10)/4.8,IF(B335=data!$B$4,(O335*10)/7.1,IF(B335=data!$B$5,(O335*10)/5.2,\"zvolte typ stavby\"))))","v":45.78125},7333905.5899999999]
["III/2424 Zdiby","oprava a rekonstrukce","Souvislá údržba",2,0,5,3,6,1,4,0,8,10,2,{"$f":"IF(B336=data!$B$2,D336*0.7+E336*0.5+F336*0.2+G336*0.8+H336+I336*0.2+J336+K336*0.3+L336+M336*0.5+N336*0.2,IF(B336=data!$B$3,D336*0.1+E336*0.4+F336*0.3+G336*0.1+H336+J336+K336*0.5+L336+M336*0.4,IF(B336=data!$B$4,D336*0.6+E336*0.8+F336*0.7+G336+H336+J336+L336+N336,IF(B336=data!$B$5,D336*0.7+E336*0.8+F336+I336*0.7+J336+L336,\"zvolte typ stavby\"))))","v":28.4},{"$f":"IF(B336=[1]data!$B$2,(O336*10)/6.4,IF(B336=[1]data!$B$3,(O336*10)/4.8,IF(B336=[1]data!$B$4,(O336*10)/7.1,IF(B336=[1]data!$B$5,(O336*10)/5.2,\"zvolte typ stavby\"))))","v":44.375},7324110,null,"probíhá úprava rozpočtu, lze zařadit do ÚD-SOKP"]
["II/611 Starý Vestec, propustek","mostní objekty a propustky","Propustek",6,0,10,6,6,0,10,0,10,10,0,{"$f":"IF(B337=data!$B$2,D337*0.7+E337*0.5+F337*0.2+G337*0.8+H337+I337*0.2+J337+K337*0.3+L337+M337*0.5+N337*0.2,IF(B337=data!$B$3,D337*0.1+E337*0.4+F337*0.3+G337*0.1+H337+J337+K337*0.5+L337+M337*0.4,IF(B337=data!$B$4,D337*0.6+E337*0.8+F337*0.7+G337+H337+J337+L337+N337,IF(B337=data!$B$5,D337*0.7+E337*0.8+F337+I337*0.7+J337+L337,\"zvolte typ stavby\"))))","v":34.200000000000003},{"$f":"IF(B337=data!$B$2,(O337*10)/6.4,IF(B337=data!$B$3,(O337*10)/4.8,IF(B337=data!$B$4,(O337*10)/7.1,IF(B337=data!$B$5,(O337*10)/5.2,\"zvolte typ stavby\"))))","v":71.25},7401422.6600000001]
["III/24417 Lhota","oprava a rekonstrukce","Souvislá údržba",2,0,5,10,10,0,4,0,10,10,2,{"$f":"IF(B338=data!$B$2,D338*0.7+E338*0.5+F338*0.2+G338*0.8+H338+I338*0.2+J338+K338*0.3+L338+M338*0.5+N338*0.2,IF(B338=data!$B$3,D338*0.1+E338*0.4+F338*0.3+G338*0.1+H338+J338+K338*0.5+L338+M338*0.4,IF(B338=data!$B$4,D338*0.6+E338*0.8+F338*0.7+G338+H338+J338+L338+N338,IF(B338=data!$B$5,D338*0.7+E338*0.8+F338+I338*0.7+J338+L338,\"zvolte typ stavby\"))))","v":39.799999999999997},{"$f":"IF(B338=[1]data!$B$2,(O338*10)/6.4,IF(B338=[1]data!$B$3,(O338*10)/4.8,IF(B338=[1]data!$B$4,(O338*10)/7.1,IF(B338=[1]data!$B$5,(O338*10)/5.2,\"zvolte typ stavby\"))))","v":62.1875},7095887.7000000002,null,"připraveno k soutěži a realizaci 2023"]
["III/22911 Hvozd - Panoší Újezd","oprava a rekonstrukce","Souvislá údržba",3,10,4,3,6,0,4,0,8,0,2,{"$f":"IF(B339=data!$B$2,D339*0.7+E339*0.5+F339*0.2+G339*0.8+H339+I339*0.2+J339+K339*0.3+L339+M339*0.5+N339*0.2,IF(B339=data!$B$3,D339*0.1+E339*0.4+F339*0.3+G339*0.1+H339+J339+K339*0.5+L339+M339*0.4,IF(B339=data!$B$4,D339*0.6+E339*0.8+F339*0.7+G339+H339+J339+L339+N339,IF(B339=data!$B$5,D339*0.7+E339*0.8+F339+I339*0.7+J339+L339,\"zvolte typ stavby\"))))","v":28.7},{"$f":"IF(B339=data!$B$2,(O339*10)/6.4,IF(B339=data!$B$3,(O339*10)/4.8,IF(B339=data!$B$4,(O339*10)/7.1,IF(B339=data!$B$5,(O339*10)/5.2,\"zvolte typ stavby\"))))","v":44.84375},7054575.8799999999]
["III/24427 Byšice, most ev.č. 24427 - 2 přes potok za obcí Byšice ","mostní objekty a propustky","Most",3,10,6,10,10,10,10,0,8,10,0,{"$f":"IF(B340=data!$B$2,D340*0.7+E340*0.5+F340*0.2+G340*0.8+H340+I340*0.2+J340+K340*0.3+L340+M340*0.5+N340*0.2,IF(B340=data!$B$3,D340*0.1+E340*0.4+F340*0.3+G340*0.1+H340+J340+K340*0.5+L340+M340*0.4,IF(B340=data!$B$4,D340*0.6+E340*0.8+F340*0.7+G340+H340+J340+L340+N340,IF(B340=data!$B$5,D340*0.7+E340*0.8+F340+I340*0.7+J340+L340,\"zvolte typ stavby\"))))","v":39.1},{"$f":"IF(B340=data!$B$2,(O340*10)/6.4,IF(B340=data!$B$3,(O340*10)/4.8,IF(B340=data!$B$4,(O340*10)/7.1,IF(B340=data!$B$5,(O340*10)/5.2,\"zvolte typ stavby\"))))","v":81.458333333333343},6957500,null,"Předpokládaný termmín realizace 04/2023-12/2023"]
["III/2449 Polerady","oprava a rekonstrukce","Souvislá údržba",1,0,5,6,6,1,4,0,10,10,2,{"$f":"IF(B341=data!$B$2,D341*0.7+E341*0.5+F341*0.2+G341*0.8+H341+I341*0.2+J341+K341*0.3+L341+M341*0.5+N341*0.2,IF(B341=data!$B$3,D341*0.1+E341*0.4+F341*0.3+G341*0.1+H341+J341+K341*0.5+L341+M341*0.4,IF(B341=data!$B$4,D341*0.6+E341*0.8+F341*0.7+G341+H341+J341+L341+N341,IF(B341=data!$B$5,D341*0.7+E341*0.8+F341+I341*0.7+J341+L341,\"zvolte typ stavby\"))))","v":32.1},{"$f":"IF(B341=[1]data!$B$2,(O341*10)/6.4,IF(B341=[1]data!$B$3,(O341*10)/4.8,IF(B341=[1]data!$B$4,(O341*10)/7.1,IF(B341=[1]data!$B$5,(O341*10)/5.2,\"zvolte typ stavby\"))))","v":50.15625},7926339.6200000001,null,"připraveno k soutěži a realizaci 2023, lze zařadit do ÚD-SOKP",null,"IROP 2"]
["III/6031 Senohraby, průtah (havárie opěrné zdi)","řešení bodové závady a/nebo bezpečnostního rizika (křižovatky, opěrné zdi, skalní masivy)","Rekonstrukce",1,10,7,10,10,10,4,0,10,10,4,{"$f":"IF(B342=data!$B$2,D342*0.7+E342*0.5+F342*0.2+G342*0.8+H342+I342*0.2+J342+K342*0.3+L342+M342*0.5+N342*0.2,IF(B342=data!$B$3,D342*0.1+E342*0.4+F342*0.3+G342*0.1+H342+J342+K342*0.5+L342+M342*0.4,IF(B342=data!$B$4,D342*0.6+E342*0.8+F342*0.7+G342+H342+J342+L342+N342,IF(B342=data!$B$5,D342*0.7+E342*0.8+F342+I342*0.7+J342+L342,\"zvolte typ stavby\"))))","v":51.5},{"$f":"IF(B342=data!$B$2,(O342*10)/6.4,IF(B342=data!$B$3,(O342*10)/4.8,IF(B342=data!$B$4,(O342*10)/7.1,IF(B342=data!$B$5,(O342*10)/5.2,\"zvolte typ stavby\"))))","v":72.535211267605632},6837964.3399999999]
["III/0126a Sibřina ","oprava a rekonstrukce","Souvislá údržba",4,0,5,3,6,1,2,0,10,10,2,{"$f":"IF(B343=data!$B$2,D343*0.7+E343*0.5+F343*0.2+G343*0.8+H343+I343*0.2+J343+K343*0.3+L343+M343*0.5+N343*0.2,IF(B343=data!$B$3,D343*0.1+E343*0.4+F343*0.3+G343*0.1+H343+J343+K343*0.5+L343+M343*0.4,IF(B343=data!$B$4,D343*0.6+E343*0.8+F343*0.7+G343+H343+J343+L343+N343,IF(B343=data!$B$5,D343*0.7+E343*0.8+F343+I343*0.7+J343+L343,\"zvolte typ stavby\"))))","v":29.799999999999997},{"$f":"IF(B343=[1]data!$B$2,(O343*10)/6.4,IF(B343=[1]data!$B$3,(O343*10)/4.8,IF(B343=[1]data!$B$4,(O343*10)/7.1,IF(B343=[1]data!$B$5,(O343*10)/5.2,\"zvolte typ stavby\"))))","v":46.5625},6779384.3700000001,null,"připraveno k soutěži a realizaci 2023, lze zařadit do ÚD-SOKP"]
["III/11526 Nesvačily","oprava a rekonstrukce",null,2,10,6,6,6,1,4,0,10,10,0,{"$f":"IF(B344=data!$B$2,D344*0.7+E344*0.5+F344*0.2+G344*0.8+H344+I344*0.2+J344+K344*0.3+L344+M344*0.5+N344*0.2,IF(B344=data!$B$3,D344*0.1+E344*0.4+F344*0.3+G344*0.1+H344+J344+K344*0.5+L344+M344*0.4,IF(B344=data!$B$4,D344*0.6+E344*0.8+F344*0.7+G344+H344+J344+L344+N344,IF(B344=data!$B$5,D344*0.7+E344*0.8+F344+I344*0.7+J344+L344,\"zvolte typ stavby\"))))","v":37.6},{"$f":"IF(B344=data!$B$2,(O344*10)/6.4,IF(B344=data!$B$3,(O344*10)/4.8,IF(B344=data!$B$4,(O344*10)/7.1,IF(B344=data!$B$5,(O344*10)/5.2,\"zvolte typ stavby\"))))","v":58.75},6758104.0999999996,null,null,null,"SFDI NZ 2022 - tendrovat"]
["III/24210 Bašť","oprava a rekonstrukce","Souvislá údržba",1,0,5,6,6,1,4,0,8,10,2,{"$f":"IF(B345=data!$B$2,D345*0.7+E345*0.5+F345*0.2+G345*0.8+H345+I345*0.2+J345+K345*0.3+L345+M345*0.5+N345*0.2,IF(B345=data!$B$3,D345*0.1+E345*0.4+F345*0.3+G345*0.1+H345+J345+K345*0.5+L345+M345*0.4,IF(B345=data!$B$4,D345*0.6+E345*0.8+F345*0.7+G345+H345+J345+L345+N345,IF(B345=data!$B$5,D345*0.7+E345*0.8+F345+I345*0.7+J345+L345,\"zvolte typ stavby\"))))","v":30.099999999999998},{"$f":"IF(B345=[1]data!$B$2,(O345*10)/6.4,IF(B345=[1]data!$B$3,(O345*10)/4.8,IF(B345=[1]data!$B$4,(O345*10)/7.1,IF(B345=[1]data!$B$5,(O345*10)/5.2,\"zvolte typ stavby\"))))","v":47.03125},6739345.9500000002]
["III/24623 Ledčice, průtah","oprava a rekonstrukce","Souvislá údržba",1,0,5,3,3,10,7,0,10,10,2,{"$f":"IF(B346=data!$B$2,D346*0.7+E346*0.5+F346*0.2+G346*0.8+H346+I346*0.2+J346+K346*0.3+L346+M346*0.5+N346*0.2,IF(B346=data!$B$3,D346*0.1+E346*0.4+F346*0.3+G346*0.1+H346+J346+K346*0.5+L346+M346*0.4,IF(B346=data!$B$4,D346*0.6+E346*0.8+F346*0.7+G346+H346+J346+L346+N346,IF(B346=data!$B$5,D346*0.7+E346*0.8+F346+I346*0.7+J346+L346,\"zvolte typ stavby\"))))","v":31.5},{"$f":"IF(B346=[1]data!$B$2,(O346*10)/6.4,IF(B346=[1]data!$B$3,(O346*10)/4.8,IF(B346=[1]data!$B$4,(O346*10)/7.1,IF(B346=[1]data!$B$5,(O346*10)/5.2,\"zvolte typ stavby\"))))","v":49.21875},6645887.25,null,"připraveno k soutěži a realizaci 2023",null,"SFDI NZ 2022 - tendrovat"]
["III/10222 Dražetice, průtah, 2 úseky","oprava a rekonstrukce","Souvislá údržba",1,0,5,10,10,10,4,0,10,10,4,{"$f":"IF(B347=data!$B$2,D347*0.7+E347*0.5+F347*0.2+G347*0.8+H347+I347*0.2+J347+K347*0.3+L347+M347*0.5+N347*0.2,IF(B347=data!$B$3,D347*0.1+E347*0.4+F347*0.3+G347*0.1+H347+J347+K347*0.5+L347+M347*0.4,IF(B347=data!$B$4,D347*0.6+E347*0.8+F347*0.7+G347+H347+J347+L347+N347,IF(B347=data!$B$5,D347*0.7+E347*0.8+F347+I347*0.7+J347+L347,\"zvolte typ stavby\"))))","v":41.5},{"$f":"IF(B347=data!$B$2,(O347*10)/6.4,IF(B347=data!$B$3,(O347*10)/4.8,IF(B347=data!$B$4,(O347*10)/7.1,IF(B347=data!$B$5,(O347*10)/5.2,\"zvolte typ stavby\"))))","v":64.84375},6356463.3600000003,null,null,null,"SFDI NZ 2022 - tendrovat, rezerva"]
["III/0190 Věšín -Buková","oprava a rekonstrukce","Souvislá údržba",1,0,5,10,10,10,2,10,10,10,4,{"$f":"IF(B348=data!$B$2,D348*0.7+E348*0.5+F348*0.2+G348*0.8+H348+I348*0.2+J348+K348*0.3+L348+M348*0.5+N348*0.2,IF(B348=data!$B$3,D348*0.1+E348*0.4+F348*0.3+G348*0.1+H348+J348+K348*0.5+L348+M348*0.4,IF(B348=data!$B$4,D348*0.6+E348*0.8+F348*0.7+G348+H348+J348+L348+N348,IF(B348=data!$B$5,D348*0.7+E348*0.8+F348+I348*0.7+J348+L348,\"zvolte typ stavby\"))))","v":42.5},{"$f":"IF(B348=data!$B$2,(O348*10)/6.4,IF(B348=data!$B$3,(O348*10)/4.8,IF(B348=data!$B$4,(O348*10)/7.1,IF(B348=data!$B$5,(O348*10)/5.2,\"zvolte typ stavby\"))))","v":66.40625},6196083.2999999998,null,"Předpoklad SFDI nebo IROP dle možností v době dokončení"]
["III/27221 Jizerní Vtelno, úprava křižovatky","řešení bodové závady a/nebo bezpečnostního rizika (křižovatky, opěrné zdi, skalní masivy)","-",3,0,5,10,6,0,2,0,5,0,2,{"$f":"IF(B349=data!$B$2,D349*0.7+E349*0.5+F349*0.2+G349*0.8+H349+I349*0.2+J349+K349*0.3+L349+M349*0.5+N349*0.2,IF(B349=data!$B$3,D349*0.1+E349*0.4+F349*0.3+G349*0.1+H349+J349+K349*0.5+L349+M349*0.4,IF(B349=data!$B$4,D349*0.6+E349*0.8+F349*0.7+G349+H349+J349+L349+N349,IF(B349=data!$B$5,D349*0.7+E349*0.8+F349+I349*0.7+J349+L349,\"zvolte typ stavby\"))))","v":30.3},{"$f":"IF(B349=data!$B$2,(O349*10)/6.4,IF(B349=data!$B$3,(O349*10)/4.8,IF(B349=data!$B$4,(O349*10)/7.1,IF(B349=data!$B$5,(O349*10)/5.2,\"zvolte typ stavby\"))))","v":42.676056338028168},6000000]
["III/2451 Stará Boleslav, ulice Okružní","oprava a rekonstrukce","Souvislá údržba",4,0,6,10,10,10,10,10,2,10,4,{"$f":"IF(B350=data!$B$2,D350*0.7+E350*0.5+F350*0.2+G350*0.8+H350+I350*0.2+J350+K350*0.3+L350+M350*0.5+N350*0.2,IF(B350=data!$B$3,D350*0.1+E350*0.4+F350*0.3+G350*0.1+H350+J350+K350*0.5+L350+M350*0.4,IF(B350=data!$B$4,D350*0.6+E350*0.8+F350*0.7+G350+H350+J350+L350+N350,IF(B350=data!$B$5,D350*0.7+E350*0.8+F350+I350*0.7+J350+L350,\"zvolte typ stavby\"))))","v":44.8},{"$f":"IF(B350=[1]data!$B$2,(O350*10)/6.4,IF(B350=[1]data!$B$3,(O350*10)/4.8,IF(B350=[1]data!$B$4,(O350*10)/7.1,IF(B350=[1]data!$B$5,(O350*10)/5.2,\"zvolte typ stavby\"))))","v":70},6000000]
["III/1025 Čisovice-Bojov, úprava odvodnění","mostní objekty a propustky","Propustek",2,10,5,10,10,10,2,0,10,10,0,{"$f":"IF(B351=data!$B$2,D351*0.7+E351*0.5+F351*0.2+G351*0.8+H351+I351*0.2+J351+K351*0.3+L351+M351*0.5+N351*0.2,IF(B351=data!$B$3,D351*0.1+E351*0.4+F351*0.3+G351*0.1+H351+J351+K351*0.5+L351+M351*0.4,IF(B351=data!$B$4,D351*0.6+E351*0.8+F351*0.7+G351+H351+J351+L351+N351,IF(B351=data!$B$5,D351*0.7+E351*0.8+F351+I351*0.7+J351+L351,\"zvolte typ stavby\"))))","v":32.700000000000003},{"$f":"IF(B351=data!$B$2,(O351*10)/6.4,IF(B351=data!$B$3,(O351*10)/4.8,IF(B351=data!$B$4,(O351*10)/7.1,IF(B351=data!$B$5,(O351*10)/5.2,\"zvolte typ stavby\"))))","v":68.125},5895000]
["III/1761 Pročevily -Bubovice","oprava a rekonstrukce","Souvislá údržba",1,0,5,10,10,10,4,0,10,10,2,{"$f":"IF(B352=data!$B$2,D352*0.7+E352*0.5+F352*0.2+G352*0.8+H352+I352*0.2+J352+K352*0.3+L352+M352*0.5+N352*0.2,IF(B352=data!$B$3,D352*0.1+E352*0.4+F352*0.3+G352*0.1+H352+J352+K352*0.5+L352+M352*0.4,IF(B352=data!$B$4,D352*0.6+E352*0.8+F352*0.7+G352+H352+J352+L352+N352,IF(B352=data!$B$5,D352*0.7+E352*0.8+F352+I352*0.7+J352+L352,\"zvolte typ stavby\"))))","v":41.1},{"$f":"IF(B352=data!$B$2,(O352*10)/6.4,IF(B352=data!$B$3,(O352*10)/4.8,IF(B352=data!$B$4,(O352*10)/7.1,IF(B352=data!$B$5,(O352*10)/5.2,\"zvolte typ stavby\"))))","v":64.21875},5888560.3499999996]
["III/27522 Rožďalovice, Tyršova ul.","oprava a rekonstrukce","Rekonstrukce",2,10,7,6,6,10,7,0,10,10,0,{"$f":"IF(B353=data!$B$2,D353*0.7+E353*0.5+F353*0.2+G353*0.8+H353+I353*0.2+J353+K353*0.3+L353+M353*0.5+N353*0.2,IF(B353=data!$B$3,D353*0.1+E353*0.4+F353*0.3+G353*0.1+H353+J353+K353*0.5+L353+M353*0.4,IF(B353=data!$B$4,D353*0.6+E353*0.8+F353*0.7+G353+H353+J353+L353+N353,IF(B353=data!$B$5,D353*0.7+E353*0.8+F353+I353*0.7+J353+L353,\"zvolte typ stavby\"))))","v":42.6},{"$f":"IF(B353=data!$B$2,(O353*10)/6.4,IF(B353=data!$B$3,(O353*10)/4.8,IF(B353=data!$B$4,(O353*10)/7.1,IF(B353=data!$B$5,(O353*10)/5.2,\"zvolte typ stavby\"))))","v":66.5625},20000000]
["II/150 Bezděkov","oprava a rekonstrukce","Souvislá údržba",3,0,10,1,10,10,10,0,10,10,7,{"$f":"IF(B354=data!$B$2,D354*0.7+E354*0.5+F354*0.2+G354*0.8+H354+I354*0.2+J354+K354*0.3+L354+M354*0.5+N354*0.2,IF(B354=data!$B$3,D354*0.1+E354*0.4+F354*0.3+G354*0.1+H354+J354+K354*0.5+L354+M354*0.4,IF(B354=data!$B$4,D354*0.6+E354*0.8+F354*0.7+G354+H354+J354+L354+N354,IF(B354=data!$B$5,D354*0.7+E354*0.8+F354+I354*0.7+J354+L354,\"zvolte typ stavby\"))))","v":43.3},{"$f":"IF(B354=data!$B$2,(O354*10)/6.4,IF(B354=data!$B$3,(O354*10)/4.8,IF(B354=data!$B$4,(O354*10)/7.1,IF(B354=data!$B$5,(O354*10)/5.2,\"zvolte typ stavby\"))))","v":67.65625},5728226.8200000003,null,"Realizace je možná až v roce 2023",null,"SFDI"]
["II/236 Černín, nestabilní svah-PD","řešení bodové závady a/nebo bezpečnostního rizika (křižovatky, opěrné zdi, skalní masivy)","-",3,10,10,3,3,0,7,0,2,0,0,{"$f":"IF(B355=data!$B$2,D355*0.7+E355*0.5+F355*0.2+G355*0.8+H355+I355*0.2+J355+K355*0.3+L355+M355*0.5+N355*0.2,IF(B355=data!$B$3,D355*0.1+E355*0.4+F355*0.3+G355*0.1+H355+J355+K355*0.5+L355+M355*0.4,IF(B355=data!$B$4,D355*0.6+E355*0.8+F355*0.7+G355+H355+J355+L355+N355,IF(B355=data!$B$5,D355*0.7+E355*0.8+F355+I355*0.7+J355+L355,\"zvolte typ stavby\"))))","v":31.8},{"$f":"IF(B355=data!$B$2,(O355*10)/6.4,IF(B355=data!$B$3,(O355*10)/4.8,IF(B355=data!$B$4,(O355*10)/7.1,IF(B355=data!$B$5,(O355*10)/5.2,\"zvolte typ stavby\"))))","v":44.7887323943662},5710958]
["III/25919 Skalsko - Kovanec","oprava a rekonstrukce","Souvislá údržba",2,0,5,10,10,1,7,0,10,10,2,{"$f":"IF(B356=data!$B$2,D356*0.7+E356*0.5+F356*0.2+G356*0.8+H356+I356*0.2+J356+K356*0.3+L356+M356*0.5+N356*0.2,IF(B356=data!$B$3,D356*0.1+E356*0.4+F356*0.3+G356*0.1+H356+J356+K356*0.5+L356+M356*0.4,IF(B356=data!$B$4,D356*0.6+E356*0.8+F356*0.7+G356+H356+J356+L356+N356,IF(B356=data!$B$5,D356*0.7+E356*0.8+F356+I356*0.7+J356+L356,\"zvolte typ stavby\"))))","v":42.999999999999993},{"$f":"IF(B356=[1]data!$B$2,(O356*10)/6.4,IF(B356=[1]data!$B$3,(O356*10)/4.8,IF(B356=[1]data!$B$4,(O356*10)/7.1,IF(B356=[1]data!$B$5,(O356*10)/5.2,\"zvolte typ stavby\"))))","v":67.187499999999986},5553439.9900000002,null,"připraveno k soutěži a realizaci 2023; návrh do plánu investic KÚ 2023"]
[null,null,null,null,null,null,null,null,null,null,null,null,null,null,{"$f":"IF(B357=data!$B$2,D357*0.7+E357*0.5+F357*0.2+G357*0.8+H357+I357*0.2+J357+K357*0.3+L357+M357*0.5+N357*0.2,IF(B357=data!$B$3,D357*0.1+E357*0.4+F357*0.3+G357*0.1+H357+J357+K357*0.5+L357+M357*0.4,IF(B357=data!$B$4,D357*0.6+E357*0.8+F357*0.7+G357+H357+J357+L357+N357,IF(B357=data!$B$5,D357*0.7+E357*0.8+F357+I357*0.7+J357+L357,\"zvolte typ stavby\"))))","v":"zvolte typ stavby"},{"$f":"IF(B357=[1]data!$B$2,(O357*10)/6.4,IF(B357=[1]data!$B$3,(O357*10)/4.8,IF(B357=[1]data!$B$4,(O357*10)/7.1,IF(B357=[1]data!$B$5,(O357*10)/5.2,\"zvolte typ stavby\"))))","v":"zvolte typ stavby"}]
["III/11214 Šebíř, hráz rybníka - Vracovice","oprava a rekonstrukce","Souvislá údržba",1,0,5,10,10,10,4,0,10,10,7,{"$f":"IF(B358=data!$B$2,D358*0.7+E358*0.5+F358*0.2+G358*0.8+H358+I358*0.2+J358+K358*0.3+L358+M358*0.5+N358*0.2,IF(B358=data!$B$3,D358*0.1+E358*0.4+F358*0.3+G358*0.1+H358+J358+K358*0.5+L358+M358*0.4,IF(B358=data!$B$4,D358*0.6+E358*0.8+F358*0.7+G358+H358+J358+L358+N358,IF(B358=data!$B$5,D358*0.7+E358*0.8+F358+I358*0.7+J358+L358,\"zvolte typ stavby\"))))","v":42.1},{"$f":"IF(B358=data!$B$2,(O358*10)/6.4,IF(B358=data!$B$3,(O358*10)/4.8,IF(B358=data!$B$4,(O358*10)/7.1,IF(B358=data!$B$5,(O358*10)/5.2,\"zvolte typ stavby\"))))","v":65.78125},5305430.6100000003]
["III/3306 Hořany - x III/3305","oprava a rekonstrukce","Souvislá údržba",1,0,5,3,6,10,2,0,8,10,0,{"$f":"IF(B359=data!$B$2,D359*0.7+E359*0.5+F359*0.2+G359*0.8+H359+I359*0.2+J359+K359*0.3+L359+M359*0.5+N359*0.2,IF(B359=data!$B$3,D359*0.1+E359*0.4+F359*0.3+G359*0.1+H359+J359+K359*0.5+L359+M359*0.4,IF(B359=data!$B$4,D359*0.6+E359*0.8+F359*0.7+G359+H359+J359+L359+N359,IF(B359=data!$B$5,D359*0.7+E359*0.8+F359+I359*0.7+J359+L359,\"zvolte typ stavby\"))))","v":27.1},{"$f":"IF(B359=data!$B$2,(O359*10)/6.4,IF(B359=data!$B$3,(O359*10)/4.8,IF(B359=data!$B$4,(O359*10)/7.1,IF(B359=data!$B$5,(O359*10)/5.2,\"zvolte typ stavby\"))))","v":42.34375},5223691]
["II/239 Šlapanice, most ev.č. 239-007 pro odtok přívalové vody","mostní objekty a propustky","Most",2,10,10,10,6,10,10,0,10,10,0,{"$f":"IF(B360=data!$B$2,D360*0.7+E360*0.5+F360*0.2+G360*0.8+H360+I360*0.2+J360+K360*0.3+L360+M360*0.5+N360*0.2,IF(B360=data!$B$3,D360*0.1+E360*0.4+F360*0.3+G360*0.1+H360+J360+K360*0.5+L360+M360*0.4,IF(B360=data!$B$4,D360*0.6+E360*0.8+F360*0.7+G360+H360+J360+L360+N360,IF(B360=data!$B$5,D360*0.7+E360*0.8+F360+I360*0.7+J360+L360,\"zvolte typ stavby\"))))","v":38.200000000000003},{"$f":"IF(B360=data!$B$2,(O360*10)/6.4,IF(B360=data!$B$3,(O360*10)/4.8,IF(B360=data!$B$4,(O360*10)/7.1,IF(B360=data!$B$5,(O360*10)/5.2,\"zvolte typ stavby\"))))","v":79.583333333333343},5100000,null,"Předpokládaný termmín realizace 04/2023-12/2023"]
["III/2753 Horky nad Jizerou - Hrušov","oprava a rekonstrukce","Souvislá údržba",2,0,5,10,10,0,7,0,10,10,2,{"$f":"IF(B361=[1]data!$B$2,D361*0.7+E361*0.5+F361*0.2+G361*0.8+H361+I361*0.2+J361+K361*0.3+L361+M361*0.5+N361*0.2,IF(B361=[1]data!$B$3,D361*0.1+E361*0.4+F361*0.3+G361*0.1+H361+J361+K361*0.5+L361+M361*0.4,IF(B361=[1]data!$B$4,D361*0.6+E361*0.8+F361*0.7+G361+H361+J361+L361+N361,IF(B361=[1]data!$B$5,D361*0.7+E361*0.8+F361+I361*0.7+J361+L361,\"zvolte typ stavby\"))))","v":42.8},{"$f":"IF(B361=[1]data!$B$2,(O361*10)/6.4,IF(B361=[1]data!$B$3,(O361*10)/4.8,IF(B361=[1]data!$B$4,(O361*10)/7.1,IF(B361=[1]data!$B$5,(O361*10)/5.2,\"zvolte typ stavby\"))))","v":66.875},4952656.32,"SFDI – NZ – národní zdroje"," SFDI – NZ – národní zdroje, časté stížnosti, PRIORITA, připraveno k soutěži a realizaci 2023"]
["Měšice, křižovatka silnic II/244 x III/2443 – vybudování SSZ","řešení bodové závady a/nebo bezpečnostního rizika (křižovatky, opěrné zdi, skalní masivy)",null,7,0,10,6,2,0,10,0,8,10,4,{"$f":"IF(B362=[1]data!$B$2,D362*0.7+E362*0.5+F362*0.2+G362*0.8+H362+I362*0.2+J362+K362*0.3+L362+M362*0.5+N362*0.2,IF(B362=[1]data!$B$3,D362*0.1+E362*0.4+F362*0.3+G362*0.1+H362+J362+K362*0.5+L362+M362*0.4,IF(B362=[1]data!$B$4,D362*0.6+E362*0.8+F362*0.7+G362+H362+J362+L362+N362,IF(B362=[1]data!$B$5,D362*0.7+E362*0.8+F362+I362*0.7+J362+L362,\"zvolte typ stavby\"))))","v":41.2},{"$f":"IF(B362=[1]data!$B$2,(O362*10)/6.4,IF(B362=[1]data!$B$3,(O362*10)/4.8,IF(B362=[1]data!$B$4,(O362*10)/7.1,IF(B362=[1]data!$B$5,(O362*10)/5.2,\"zvolte typ stavby\"))))","v":58.028169014084511},7000000]
["III-11515 Dolní Roblín, nestabilní sklaní masiv-PD","řešení bodové závady a/nebo bezpečnostního rizika (křižovatky, opěrné zdi, skalní masivy)","-",1,10,5,6,6,10,7,0,10,0,4,{"$f":"IF(B363=data!$B$2,D363*0.7+E363*0.5+F363*0.2+G363*0.8+H363+I363*0.2+J363+K363*0.3+L363+M363*0.5+N363*0.2,IF(B363=data!$B$3,D363*0.1+E363*0.4+F363*0.3+G363*0.1+H363+J363+K363*0.5+L363+M363*0.4,IF(B363=data!$B$4,D363*0.6+E363*0.8+F363*0.7+G363+H363+J363+L363+N363,IF(B363=data!$B$5,D363*0.7+E363*0.8+F363+I363*0.7+J363+L363,\"zvolte typ stavby\"))))","v":45.1},{"$f":"IF(B363=data!$B$2,(O363*10)/6.4,IF(B363=data!$B$3,(O363*10)/4.8,IF(B363=data!$B$4,(O363*10)/7.1,IF(B363=data!$B$5,(O363*10)/5.2,\"zvolte typ stavby\"))))","v":63.521126760563384},4875100]
["III/33838 Paběnice - kř. II/339","oprava a rekonstrukce","Souvislá údržba",1,0,5,3,6,10,4,0,8,10,0,{"$f":"IF(B364=data!$B$2,D364*0.7+E364*0.5+F364*0.2+G364*0.8+H364+I364*0.2+J364+K364*0.3+L364+M364*0.5+N364*0.2,IF(B364=data!$B$3,D364*0.1+E364*0.4+F364*0.3+G364*0.1+H364+J364+K364*0.5+L364+M364*0.4,IF(B364=data!$B$4,D364*0.6+E364*0.8+F364*0.7+G364+H364+J364+L364+N364,IF(B364=data!$B$5,D364*0.7+E364*0.8+F364+I364*0.7+J364+L364,\"zvolte typ stavby\"))))","v":29.1},{"$f":"IF(B364=data!$B$2,(O364*10)/6.4,IF(B364=data!$B$3,(O364*10)/4.8,IF(B364=data!$B$4,(O364*10)/7.1,IF(B364=data!$B$5,(O364*10)/5.2,\"zvolte typ stavby\"))))","v":45.46875},4719729.63,null,"Dokončena studie, připravuje město"]
["III/27216 Sušno","oprava a rekonstrukce","Souvislá údržba",2,0,6,10,10,0,4,0,10,10,2,{"$f":"IF(B365=data!$B$2,D365*0.7+E365*0.5+F365*0.2+G365*0.8+H365+I365*0.2+J365+K365*0.3+L365+M365*0.5+N365*0.2,IF(B365=data!$B$3,D365*0.1+E365*0.4+F365*0.3+G365*0.1+H365+J365+K365*0.5+L365+M365*0.4,IF(B365=data!$B$4,D365*0.6+E365*0.8+F365*0.7+G365+H365+J365+L365+N365,IF(B365=data!$B$5,D365*0.7+E365*0.8+F365+I365*0.7+J365+L365,\"zvolte typ stavby\"))))","v":40},{"$f":"IF(B365=[1]data!$B$2,(O365*10)/6.4,IF(B365=[1]data!$B$3,(O365*10)/4.8,IF(B365=[1]data!$B$4,(O365*10)/7.1,IF(B365=[1]data!$B$5,(O365*10)/5.2,\"zvolte typ stavby\"))))","v":62.5},4657504.17,null,"připraveno k soutěži a realizaci 2023"]
["III-10528 Pořešice","oprava a rekonstrukce","Souvislá údržba",1,0,5,10,10,10,2,0,10,10,7,{"$f":"IF(B366=data!$B$2,D366*0.7+E366*0.5+F366*0.2+G366*0.8+H366+I366*0.2+J366+K366*0.3+L366+M366*0.5+N366*0.2,IF(B366=data!$B$3,D366*0.1+E366*0.4+F366*0.3+G366*0.1+H366+J366+K366*0.5+L366+M366*0.4,IF(B366=data!$B$4,D366*0.6+E366*0.8+F366*0.7+G366+H366+J366+L366+N366,IF(B366=data!$B$5,D366*0.7+E366*0.8+F366+I366*0.7+J366+L366,\"zvolte typ stavby\"))))","v":40.1},{"$f":"IF(B366=data!$B$2,(O366*10)/6.4,IF(B366=data!$B$3,(O366*10)/4.8,IF(B366=data!$B$4,(O366*10)/7.1,IF(B366=data!$B$5,(O366*10)/5.2,\"zvolte typ stavby\"))))","v":62.65625},4509452.2]
["III/0082 Kozomín","oprava a rekonstrukce","Souvislá údržba",1,0,5,3,6,10,7,0,10,10,2,{"$f":"IF(B367=[1]data!$B$2,D367*0.7+E367*0.5+F367*0.2+G367*0.8+H367+I367*0.2+J367+K367*0.3+L367+M367*0.5+N367*0.2,IF(B367=[1]data!$B$3,D367*0.1+E367*0.4+F367*0.3+G367*0.1+H367+J367+K367*0.5+L367+M367*0.4,IF(B367=[1]data!$B$4,D367*0.6+E367*0.8+F367*0.7+G367+H367+J367+L367+N367,IF(B367=[1]data!$B$5,D367*0.7+E367*0.8+F367+I367*0.7+J367+L367,\"zvolte typ stavby\"))))","v":34.5},{"$f":"IF(B367=[1]data!$B$2,(O367*10)/6.4,IF(B367=[1]data!$B$3,(O367*10)/4.8,IF(B367=[1]data!$B$4,(O367*10)/7.1,IF(B367=[1]data!$B$5,(O367*10)/5.2,\"zvolte typ stavby\"))))","v":53.90625},4430446.9400000004,null,"připraveno k soutěži a realizaci 2023, lze zařadit do ÚD-SOKP"]
["III/0096 Kojetice","oprava a rekonstrukce","Souvislá údržba",3,0,5,6,6,1,4,0,10,10,2,{"$f":"IF(B368=[1]data!$B$2,D368*0.7+E368*0.5+F368*0.2+G368*0.8+H368+I368*0.2+J368+K368*0.3+L368+M368*0.5+N368*0.2,IF(B368=[1]data!$B$3,D368*0.1+E368*0.4+F368*0.3+G368*0.1+H368+J368+K368*0.5+L368+M368*0.4,IF(B368=[1]data!$B$4,D368*0.6+E368*0.8+F368*0.7+G368+H368+J368+L368+N368,IF(B368=[1]data!$B$5,D368*0.7+E368*0.8+F368+I368*0.7+J368+L368,\"zvolte typ stavby\"))))","v":33.5},{"$f":"IF(B368=[1]data!$B$2,(O368*10)/6.4,IF(B368=[1]data!$B$3,(O368*10)/4.8,IF(B368=[1]data!$B$4,(O368*10)/7.1,IF(B368=[1]data!$B$5,(O368*10)/5.2,\"zvolte typ stavby\"))))","v":52.34375},5784954.3399999999,null,"připraveno k soutěži a realizaci 2023, lze zařadit do ÚD-SOKP"]
["III/3271 Starý Kolín, most ev.č. 3271-2","mostní objekty a propustky","Most",3,10,9,10,6,10,10,0,10,10,0,{"$f":"IF(B369=data!$B$2,D369*0.7+E369*0.5+F369*0.2+G369*0.8+H369+I369*0.2+J369+K369*0.3+L369+M369*0.5+N369*0.2,IF(B369=data!$B$3,D369*0.1+E369*0.4+F369*0.3+G369*0.1+H369+J369+K369*0.5+L369+M369*0.4,IF(B369=data!$B$4,D369*0.6+E369*0.8+F369*0.7+G369+H369+J369+L369+N369,IF(B369=data!$B$5,D369*0.7+E369*0.8+F369+I369*0.7+J369+L369,\"zvolte typ stavby\"))))","v":38},{"$f":"IF(B369=data!$B$2,(O369*10)/6.4,IF(B369=data!$B$3,(O369*10)/4.8,IF(B369=data!$B$4,(O369*10)/7.1,IF(B369=data!$B$5,(O369*10)/5.2,\"zvolte typ stavby\"))))","v":79.166666666666671},4300000,null,"Předpokládaný termmín realizace 04/2023-10/2023"]
["II/244 Byšice, most ev.č. 244-011 přes Košátecký potok v obci Byšice  ","mostní objekty a propustky","Most",3,0,10,6,6,0,10,0,8,10,0,{"$f":"IF(B370=data!$B$2,D370*0.7+E370*0.5+F370*0.2+G370*0.8+H370+I370*0.2+J370+K370*0.3+L370+M370*0.5+N370*0.2,IF(B370=data!$B$3,D370*0.1+E370*0.4+F370*0.3+G370*0.1+H370+J370+K370*0.5+L370+M370*0.4,IF(B370=data!$B$4,D370*0.6+E370*0.8+F370*0.7+G370+H370+J370+L370+N370,IF(B370=data!$B$5,D370*0.7+E370*0.8+F370+I370*0.7+J370+L370,\"zvolte typ stavby\"))))","v":31.9},{"$f":"IF(B370=data!$B$2,(O370*10)/6.4,IF(B370=data!$B$3,(O370*10)/4.8,IF(B370=data!$B$4,(O370*10)/7.1,IF(B370=data!$B$5,(O370*10)/5.2,\"zvolte typ stavby\"))))","v":66.458333333333343},4295500,null,"Předpokládaný termmín realizace 04/2024-12/2024"]
["II/229 Rakovník, ul. Lišanská","oprava a rekonstrukce","Souvislá údržba",3,10,10,3,6,0,7,0,8,10,2,{"$f":"IF(B371=data!$B$2,D371*0.7+E371*0.5+F371*0.2+G371*0.8+H371+I371*0.2+J371+K371*0.3+L371+M371*0.5+N371*0.2,IF(B371=data!$B$3,D371*0.1+E371*0.4+F371*0.3+G371*0.1+H371+J371+K371*0.5+L371+M371*0.4,IF(B371=data!$B$4,D371*0.6+E371*0.8+F371*0.7+G371+H371+J371+L371+N371,IF(B371=data!$B$5,D371*0.7+E371*0.8+F371+I371*0.7+J371+L371,\"zvolte typ stavby\"))))","v":37.9},{"$f":"IF(B371=data!$B$2,(O371*10)/6.4,IF(B371=data!$B$3,(O371*10)/4.8,IF(B371=data!$B$4,(O371*10)/7.1,IF(B371=data!$B$5,(O371*10)/5.2,\"zvolte typ stavby\"))))","v":59.21875},4267841.82]
["III/10125, Nučice   most ev. č. 10125 - 1 ","mostní objekty a propustky","Most",3,0,5,6,6,0,4,0,8,0,0,{"$f":"IF(B372=data!$B$2,D372*0.7+E372*0.5+F372*0.2+G372*0.8+H372+I372*0.2+J372+K372*0.3+L372+M372*0.5+N372*0.2,IF(B372=data!$B$3,D372*0.1+E372*0.4+F372*0.3+G372*0.1+H372+J372+K372*0.5+L372+M372*0.4,IF(B372=data!$B$4,D372*0.6+E372*0.8+F372*0.7+G372+H372+J372+L372+N372,IF(B372=data!$B$5,D372*0.7+E372*0.8+F372+I372*0.7+J372+L372,\"zvolte typ stavby\"))))","v":20.399999999999999},{"$f":"IF(B372=data!$B$2,(O372*10)/6.4,IF(B372=data!$B$3,(O372*10)/4.8,IF(B372=data!$B$4,(O372*10)/7.1,IF(B372=data!$B$5,(O372*10)/5.2,\"zvolte typ stavby\"))))","v":42.5},3900000,null,"Předpokládaný termmín realizace 04/2024-12/2024"]
["II/275 Křinec - kř. III/27522","oprava a rekonstrukce","Souvislá údržba",1,0,10,3,6,10,7,0,8,10,2,{"$f":"IF(B373=data!$B$2,D373*0.7+E373*0.5+F373*0.2+G373*0.8+H373+I373*0.2+J373+K373*0.3+L373+M373*0.5+N373*0.2,IF(B373=data!$B$3,D373*0.1+E373*0.4+F373*0.3+G373*0.1+H373+J373+K373*0.5+L373+M373*0.4,IF(B373=data!$B$4,D373*0.6+E373*0.8+F373*0.7+G373+H373+J373+L373+N373,IF(B373=data!$B$5,D373*0.7+E373*0.8+F373+I373*0.7+J373+L373,\"zvolte typ stavby\"))))","v":33.5},{"$f":"IF(B373=data!$B$2,(O373*10)/6.4,IF(B373=data!$B$3,(O373*10)/4.8,IF(B373=data!$B$4,(O373*10)/7.1,IF(B373=data!$B$5,(O373*10)/5.2,\"zvolte typ stavby\"))))","v":52.34375},3747995.57]
["2423-1 Úholičky","mostní objekty a propustky","Most",4,0,5,6,6,0,0,0,2,0,0,{"$f":"IF(B374=data!$B$2,D374*0.7+E374*0.5+F374*0.2+G374*0.8+H374+I374*0.2+J374+K374*0.3+L374+M374*0.5+N374*0.2,IF(B374=data!$B$3,D374*0.1+E374*0.4+F374*0.3+G374*0.1+H374+J374+K374*0.5+L374+M374*0.4,IF(B374=data!$B$4,D374*0.6+E374*0.8+F374*0.7+G374+H374+J374+L374+N374,IF(B374=data!$B$5,D374*0.7+E374*0.8+F374+I374*0.7+J374+L374,\"zvolte typ stavby\"))))","v":10.5},{"$f":"IF(B374=data!$B$2,(O374*10)/6.4,IF(B374=data!$B$3,(O374*10)/4.8,IF(B374=data!$B$4,(O374*10)/7.1,IF(B374=data!$B$5,(O374*10)/5.2,\"zvolte typ stavby\"))))","v":21.875},3630000]
["III/10226 Daleké Dušníky - Skalice","oprava a rekonstrukce","Souvislá údržba",1,0,5,10,10,10,7,0,10,10,4,{"$f":"IF(B375=data!$B$2,D375*0.7+E375*0.5+F375*0.2+G375*0.8+H375+I375*0.2+J375+K375*0.3+L375+M375*0.5+N375*0.2,IF(B375=data!$B$3,D375*0.1+E375*0.4+F375*0.3+G375*0.1+H375+J375+K375*0.5+L375+M375*0.4,IF(B375=data!$B$4,D375*0.6+E375*0.8+F375*0.7+G375+H375+J375+L375+N375,IF(B375=data!$B$5,D375*0.7+E375*0.8+F375+I375*0.7+J375+L375,\"zvolte typ stavby\"))))","v":44.5},{"$f":"IF(B375=data!$B$2,(O375*10)/6.4,IF(B375=data!$B$3,(O375*10)/4.8,IF(B375=data!$B$4,(O375*10)/7.1,IF(B375=data!$B$5,(O375*10)/5.2,\"zvolte typ stavby\"))))","v":69.53125},3592938.29]
["Hřebeč, centrální křižovatka","řešení bodové závady a/nebo bezpečnostního rizika (křižovatky, opěrné zdi, skalní masivy)","-",1,10,7,6,6,0,4,0,10,10,10,{"$f":"IF(B376=data!$B$2,D376*0.7+E376*0.5+F376*0.2+G376*0.8+H376+I376*0.2+J376+K376*0.3+L376+M376*0.5+N376*0.2,IF(B376=data!$B$3,D376*0.1+E376*0.4+F376*0.3+G376*0.1+H376+J376+K376*0.5+L376+M376*0.4,IF(B376=data!$B$4,D376*0.6+E376*0.8+F376*0.7+G376+H376+J376+L376+N376,IF(B376=data!$B$5,D376*0.7+E376*0.8+F376+I376*0.7+J376+L376,\"zvolte typ stavby\"))))","v":49.5},{"$f":"IF(B376=data!$B$2,(O376*10)/6.4,IF(B376=data!$B$3,(O376*10)/4.8,IF(B376=data!$B$4,(O376*10)/7.1,IF(B376=data!$B$5,(O376*10)/5.2,\"zvolte typ stavby\"))))","v":69.718309859154928},3546962.07]
["III/23922 Dolín,nestabilní svah","oprava a rekonstrukce","Souvislá údržba",1,10,6,3,6,0,4,0,10,0,0,{"$f":"IF(B377=data!$B$2,D377*0.7+E377*0.5+F377*0.2+G377*0.8+H377+I377*0.2+J377+K377*0.3+L377+M377*0.5+N377*0.2,IF(B377=data!$B$3,D377*0.1+E377*0.4+F377*0.3+G377*0.1+H377+J377+K377*0.5+L377+M377*0.4,IF(B377=data!$B$4,D377*0.6+E377*0.8+F377*0.7+G377+H377+J377+L377+N377,IF(B377=data!$B$5,D377*0.7+E377*0.8+F377+I377*0.7+J377+L377,\"zvolte typ stavby\"))))","v":29.3},{"$f":"IF(B377=data!$B$2,(O377*10)/6.4,IF(B377=data!$B$3,(O377*10)/4.8,IF(B377=data!$B$4,(O377*10)/7.1,IF(B377=data!$B$5,(O377*10)/5.2,\"zvolte typ stavby\"))))","v":45.78125},3476154.02]
["BESIP-III/27944 Žerčice, úprava vjezdu do obce","řešení bodové závady a/nebo bezpečnostního rizika (křižovatky, opěrné zdi, skalní masivy)","-",3,0,7,3,2,10,7,0,10,10,2,{"$f":"IF(B378=data!$B$2,D378*0.7+E378*0.5+F378*0.2+G378*0.8+H378+I378*0.2+J378+K378*0.3+L378+M378*0.5+N378*0.2,IF(B378=data!$B$3,D378*0.1+E378*0.4+F378*0.3+G378*0.1+H378+J378+K378*0.5+L378+M378*0.4,IF(B378=data!$B$4,D378*0.6+E378*0.8+F378*0.7+G378+H378+J378+L378+N378,IF(B378=data!$B$5,D378*0.7+E378*0.8+F378+I378*0.7+J378+L378,\"zvolte typ stavby\"))))","v":30.7},{"$f":"IF(B378=data!$B$2,(O378*10)/6.4,IF(B378=data!$B$3,(O378*10)/4.8,IF(B378=data!$B$4,(O378*10)/7.1,IF(B378=data!$B$5,(O378*10)/5.2,\"zvolte typ stavby\"))))","v":43.239436619718312},3473616.49]
["II/240 Malá Bučina","oprava a rekonstrukce","Souvislá údržba",4,0,10,3,6,1,2,0,10,10,2,{"$f":"IF(B379=data!$B$2,D379*0.7+E379*0.5+F379*0.2+G379*0.8+H379+I379*0.2+J379+K379*0.3+L379+M379*0.5+N379*0.2,IF(B379=data!$B$3,D379*0.1+E379*0.4+F379*0.3+G379*0.1+H379+J379+K379*0.5+L379+M379*0.4,IF(B379=data!$B$4,D379*0.6+E379*0.8+F379*0.7+G379+H379+J379+L379+N379,IF(B379=data!$B$5,D379*0.7+E379*0.8+F379+I379*0.7+J379+L379,\"zvolte typ stavby\"))))","v":30.799999999999997},{"$f":"IF(B379=[1]data!$B$2,(O379*10)/6.4,IF(B379=[1]data!$B$3,(O379*10)/4.8,IF(B379=[1]data!$B$4,(O379*10)/7.1,IF(B379=[1]data!$B$5,(O379*10)/5.2,\"zvolte typ stavby\"))))","v":48.125},3467412.3,null,"připraveno k soutěži a realizaci 2023"]
["III/23642 Pchery, opěrná zeď","řešení bodové závady a/nebo bezpečnostního rizika (křižovatky, opěrné zdi, skalní masivy)","-",1,10,5,10,10,0,2,0,5,0,0,{"$f":"IF(B380=data!$B$2,D380*0.7+E380*0.5+F380*0.2+G380*0.8+H380+I380*0.2+J380+K380*0.3+L380+M380*0.5+N380*0.2,IF(B380=data!$B$3,D380*0.1+E380*0.4+F380*0.3+G380*0.1+H380+J380+K380*0.5+L380+M380*0.4,IF(B380=data!$B$4,D380*0.6+E380*0.8+F380*0.7+G380+H380+J380+L380+N380,IF(B380=data!$B$5,D380*0.7+E380*0.8+F380+I380*0.7+J380+L380,\"zvolte typ stavby\"))))","v":39.1},{"$f":"IF(B380=data!$B$2,(O380*10)/6.4,IF(B380=data!$B$3,(O380*10)/4.8,IF(B380=data!$B$4,(O380*10)/7.1,IF(B380=data!$B$5,(O380*10)/5.2,\"zvolte typ stavby\"))))","v":55.070422535211272},3425122]
["III/10170 Škvorec ","oprava a rekonstrukce","Souvislá údržba",3,0,5,10,10,10,7,0,10,10,2,{"$f":"IF(B381=data!$B$2,D381*0.7+E381*0.5+F381*0.2+G381*0.8+H381+I381*0.2+J381+K381*0.3+L381+M381*0.5+N381*0.2,IF(B381=data!$B$3,D381*0.1+E381*0.4+F381*0.3+G381*0.1+H381+J381+K381*0.5+L381+M381*0.4,IF(B381=data!$B$4,D381*0.6+E381*0.8+F381*0.7+G381+H381+J381+L381+N381,IF(B381=data!$B$5,D381*0.7+E381*0.8+F381+I381*0.7+J381+L381,\"zvolte typ stavby\"))))","v":45.5},{"$f":"IF(B381=[1]data!$B$2,(O381*10)/6.4,IF(B381=[1]data!$B$3,(O381*10)/4.8,IF(B381=[1]data!$B$4,(O381*10)/7.1,IF(B381=[1]data!$B$5,(O381*10)/5.2,\"zvolte typ stavby\"))))","v":71.09375},4384043.93,"SFDI – NZ – národní zdroje"," SFDI – NZ – národní zdroje, zařazeno několik let, časté stížnosti, PRIORITA, připraveno k soutěži a realizaci 2023"]
["III/27524 Nové Zámky oprava propustku a komunikace","oprava a rekonstrukce","Rekonstrukce",1,0,7,6,10,10,10,0,10,10,0,{"$f":"IF(B382=data!$B$2,D382*0.7+E382*0.5+F382*0.2+G382*0.8+H382+I382*0.2+J382+K382*0.3+L382+M382*0.5+N382*0.2,IF(B382=data!$B$3,D382*0.1+E382*0.4+F382*0.3+G382*0.1+H382+J382+K382*0.5+L382+M382*0.4,IF(B382=data!$B$4,D382*0.6+E382*0.8+F382*0.7+G382+H382+J382+L382+N382,IF(B382=data!$B$5,D382*0.7+E382*0.8+F382+I382*0.7+J382+L382,\"zvolte typ stavby\"))))","v":43.9},{"$f":"IF(B382=data!$B$2,(O382*10)/6.4,IF(B382=data!$B$3,(O382*10)/4.8,IF(B382=data!$B$4,(O382*10)/7.1,IF(B382=data!$B$5,(O382*10)/5.2,\"zvolte typ stavby\"))))","v":68.59375},7725366.71]
["II/ 329 Pečky, úprava křižovatky","řešení bodové závady a/nebo bezpečnostního rizika (křižovatky, opěrné zdi, skalní masivy)","-",3,10,10,6,3,0,10,0,2,0,10,{"$f":"IF(B383=data!$B$2,D383*0.7+E383*0.5+F383*0.2+G383*0.8+H383+I383*0.2+J383+K383*0.3+L383+M383*0.5+N383*0.2,IF(B383=data!$B$3,D383*0.1+E383*0.4+F383*0.3+G383*0.1+H383+J383+K383*0.5+L383+M383*0.4,IF(B383=data!$B$4,D383*0.6+E383*0.8+F383*0.7+G383+H383+J383+L383+N383,IF(B383=data!$B$5,D383*0.7+E383*0.8+F383+I383*0.7+J383+L383,\"zvolte typ stavby\"))))","v":47.8},{"$f":"IF(B383=data!$B$2,(O383*10)/6.4,IF(B383=data!$B$3,(O383*10)/4.8,IF(B383=data!$B$4,(O383*10)/7.1,IF(B383=data!$B$5,(O383*10)/5.2,\"zvolte typ stavby\"))))","v":67.323943661971839},2800000]
["III/1185 Sádek - Drahlín","oprava a rekonstrukce","Souvislá údržba",1,0,5,10,10,10,4,0,10,10,7,{"$f":"IF(B384=data!$B$2,D384*0.7+E384*0.5+F384*0.2+G384*0.8+H384+I384*0.2+J384+K384*0.3+L384+M384*0.5+N384*0.2,IF(B384=data!$B$3,D384*0.1+E384*0.4+F384*0.3+G384*0.1+H384+J384+K384*0.5+L384+M384*0.4,IF(B384=data!$B$4,D384*0.6+E384*0.8+F384*0.7+G384+H384+J384+L384+N384,IF(B384=data!$B$5,D384*0.7+E384*0.8+F384+I384*0.7+J384+L384,\"zvolte typ stavby\"))))","v":42.1},{"$f":"IF(B384=data!$B$2,(O384*10)/6.4,IF(B384=data!$B$3,(O384*10)/4.8,IF(B384=data!$B$4,(O384*10)/7.1,IF(B384=data!$B$5,(O384*10)/5.2,\"zvolte typ stavby\"))))","v":65.78125},4796444.5]
["III/00331 Vrchotovy Janovice","oprava a rekonstrukce","Souvislá údržba",1,0,5,3,10,10,7,0,10,10,4,{"$f":"IF(B385=data!$B$2,D385*0.7+E385*0.5+F385*0.2+G385*0.8+H385+I385*0.2+J385+K385*0.3+L385+M385*0.5+N385*0.2,IF(B385=data!$B$3,D385*0.1+E385*0.4+F385*0.3+G385*0.1+H385+J385+K385*0.5+L385+M385*0.4,IF(B385=data!$B$4,D385*0.6+E385*0.8+F385*0.7+G385+H385+J385+L385+N385,IF(B385=data!$B$5,D385*0.7+E385*0.8+F385+I385*0.7+J385+L385,\"zvolte typ stavby\"))))","v":38.9},{"$f":"IF(B385=data!$B$2,(O385*10)/6.4,IF(B385=data!$B$3,(O385*10)/4.8,IF(B385=data!$B$4,(O385*10)/7.1,IF(B385=data!$B$5,(O385*10)/5.2,\"zvolte typ stavby\"))))","v":60.78125},2602420.81]
["II/273 Mělník, ul. Kokořínská II.","oprava a rekonstrukce","Souvislá údržba",5,0,10,6,6,10,10,0,10,10,4,{"$f":"IF(B386=data!$B$2,D386*0.7+E386*0.5+F386*0.2+G386*0.8+H386+I386*0.2+J386+K386*0.3+L386+M386*0.5+N386*0.2,IF(B386=data!$B$3,D386*0.1+E386*0.4+F386*0.3+G386*0.1+H386+J386+K386*0.5+L386+M386*0.4,IF(B386=data!$B$4,D386*0.6+E386*0.8+F386*0.7+G386+H386+J386+L386+N386,IF(B386=data!$B$5,D386*0.7+E386*0.8+F386+I386*0.7+J386+L386,\"zvolte typ stavby\"))))","v":44.099999999999994},{"$f":"IF(B386=[1]data!$B$2,(O386*10)/6.4,IF(B386=[1]data!$B$3,(O386*10)/4.8,IF(B386=[1]data!$B$4,(O386*10)/7.1,IF(B386=[1]data!$B$5,(O386*10)/5.2,\"zvolte typ stavby\"))))","v":68.906249999999986},2544192.9500000002,null,"připraveno k soutěži a realizaci 2023"]
["III/11210 Městečko","oprava a rekonstrukce","Souvislá údržba",1,0,5,10,10,10,2,10,10,0,2,{"$f":"IF(B387=data!$B$2,D387*0.7+E387*0.5+F387*0.2+G387*0.8+H387+I387*0.2+J387+K387*0.3+L387+M387*0.5+N387*0.2,IF(B387=data!$B$3,D387*0.1+E387*0.4+F387*0.3+G387*0.1+H387+J387+K387*0.5+L387+M387*0.4,IF(B387=data!$B$4,D387*0.6+E387*0.8+F387*0.7+G387+H387+J387+L387+N387,IF(B387=data!$B$5,D387*0.7+E387*0.8+F387+I387*0.7+J387+L387,\"zvolte typ stavby\"))))","v":37.1},{"$f":"IF(B387=data!$B$2,(O387*10)/6.4,IF(B387=data!$B$3,(O387*10)/4.8,IF(B387=data!$B$4,(O387*10)/7.1,IF(B387=data!$B$5,(O387*10)/5.2,\"zvolte typ stavby\"))))","v":57.96875},2538877.73]
["II/101 Kralupy nad Vltavou, ul. 28. října","oprava a rekonstrukce","Souvislá údržba",3,0,10,6,6,10,7,0,10,10,2,{"$f":"IF(B388=data!$B$2,D388*0.7+E388*0.5+F388*0.2+G388*0.8+H388+I388*0.2+J388+K388*0.3+L388+M388*0.5+N388*0.2,IF(B388=data!$B$3,D388*0.1+E388*0.4+F388*0.3+G388*0.1+H388+J388+K388*0.5+L388+M388*0.4,IF(B388=data!$B$4,D388*0.6+E388*0.8+F388*0.7+G388+H388+J388+L388+N388,IF(B388=data!$B$5,D388*0.7+E388*0.8+F388+I388*0.7+J388+L388,\"zvolte typ stavby\"))))","v":39.299999999999997},{"$f":"IF(B388=[1]data!$B$2,(O388*10)/6.4,IF(B388=[1]data!$B$3,(O388*10)/4.8,IF(B388=[1]data!$B$4,(O388*10)/7.1,IF(B388=[1]data!$B$5,(O388*10)/5.2,\"zvolte typ stavby\"))))","v":61.40625},2535268.11,null,"připraveno k soutěži a realizaci 2023, lze zařadit do ÚD-SOKP"]
["III/1911 Chrást-Březnice","oprava a rekonstrukce","Souvislá údržba",1,0,5,10,10,10,7,0,10,10,2,{"$f":"IF(B389=data!$B$2,D389*0.7+E389*0.5+F389*0.2+G389*0.8+H389+I389*0.2+J389+K389*0.3+L389+M389*0.5+N389*0.2,IF(B389=data!$B$3,D389*0.1+E389*0.4+F389*0.3+G389*0.1+H389+J389+K389*0.5+L389+M389*0.4,IF(B389=data!$B$4,D389*0.6+E389*0.8+F389*0.7+G389+H389+J389+L389+N389,IF(B389=data!$B$5,D389*0.7+E389*0.8+F389+I389*0.7+J389+L389,\"zvolte typ stavby\"))))","v":44.1},{"$f":"IF(B389=data!$B$2,(O389*10)/6.4,IF(B389=data!$B$3,(O389*10)/4.8,IF(B389=data!$B$4,(O389*10)/7.1,IF(B389=data!$B$5,(O389*10)/5.2,\"zvolte typ stavby\"))))","v":68.90625},2333373.4700000002]
["III/6002 Ořech","oprava a rekonstrukce","Souvislá údržba",3,0,5,3,3,0,4,0,8,0,2,{"$f":"IF(B390=data!$B$2,D390*0.7+E390*0.5+F390*0.2+G390*0.8+H390+I390*0.2+J390+K390*0.3+L390+M390*0.5+N390*0.2,IF(B390=data!$B$3,D390*0.1+E390*0.4+F390*0.3+G390*0.1+H390+J390+K390*0.5+L390+M390*0.4,IF(B390=data!$B$4,D390*0.6+E390*0.8+F390*0.7+G390+H390+J390+L390+N390,IF(B390=data!$B$5,D390*0.7+E390*0.8+F390+I390*0.7+J390+L390,\"zvolte typ stavby\"))))","v":20.9},{"$f":"IF(B390=data!$B$2,(O390*10)/6.4,IF(B390=data!$B$3,(O390*10)/4.8,IF(B390=data!$B$4,(O390*10)/7.1,IF(B390=data!$B$5,(O390*10)/5.2,\"zvolte typ stavby\"))))","v":32.65625},2330392.2400000002]
["III/00522 Vráž - lokalita Na Lesích","oprava a rekonstrukce","Souvislá údržba",1,10,6,10,10,0,4,0,10,0,0,{"$f":"IF(B391=data!$B$2,D391*0.7+E391*0.5+F391*0.2+G391*0.8+H391+I391*0.2+J391+K391*0.3+L391+M391*0.5+N391*0.2,IF(B391=data!$B$3,D391*0.1+E391*0.4+F391*0.3+G391*0.1+H391+J391+K391*0.5+L391+M391*0.4,IF(B391=data!$B$4,D391*0.6+E391*0.8+F391*0.7+G391+H391+J391+L391+N391,IF(B391=data!$B$5,D391*0.7+E391*0.8+F391+I391*0.7+J391+L391,\"zvolte typ stavby\"))))","v":38.9},{"$f":"IF(B391=data!$B$2,(O391*10)/6.4,IF(B391=data!$B$3,(O391*10)/4.8,IF(B391=data!$B$4,(O391*10)/7.1,IF(B391=data!$B$5,(O391*10)/5.2,\"zvolte typ stavby\"))))","v":60.78125},2322291.52]
["III/24424 Konětopy","oprava a rekonstrukce","Souvislá údržba",2,0,6,10,10,0,4,0,10,10,2,{"$f":"IF(B392=data!$B$2,D392*0.7+E392*0.5+F392*0.2+G392*0.8+H392+I392*0.2+J392+K392*0.3+L392+M392*0.5+N392*0.2,IF(B392=data!$B$3,D392*0.1+E392*0.4+F392*0.3+G392*0.1+H392+J392+K392*0.5+L392+M392*0.4,IF(B392=data!$B$4,D392*0.6+E392*0.8+F392*0.7+G392+H392+J392+L392+N392,IF(B392=data!$B$5,D392*0.7+E392*0.8+F392+I392*0.7+J392+L392,\"zvolte typ stavby\"))))","v":40},{"$f":"IF(B392=[1]data!$B$2,(O392*10)/6.4,IF(B392=[1]data!$B$3,(O392*10)/4.8,IF(B392=[1]data!$B$4,(O392*10)/7.1,IF(B392=[1]data!$B$5,(O392*10)/5.2,\"zvolte typ stavby\"))))","v":62.5},2167922.52,null,"připraveno k soutěži a realizaci 2023"]
["III/2274 Kněževes - Chrášťany","oprava a rekonstrukce","Souvislá údržba",3,10,5,3,6,0,4,0,8,0,2,{"$f":"IF(B393=data!$B$2,D393*0.7+E393*0.5+F393*0.2+G393*0.8+H393+I393*0.2+J393+K393*0.3+L393+M393*0.5+N393*0.2,IF(B393=data!$B$3,D393*0.1+E393*0.4+F393*0.3+G393*0.1+H393+J393+K393*0.5+L393+M393*0.4,IF(B393=data!$B$4,D393*0.6+E393*0.8+F393*0.7+G393+H393+J393+L393+N393,IF(B393=data!$B$5,D393*0.7+E393*0.8+F393+I393*0.7+J393+L393,\"zvolte typ stavby\"))))","v":28.9},{"$f":"IF(B393=data!$B$2,(O393*10)/6.4,IF(B393=data!$B$3,(O393*10)/4.8,IF(B393=data!$B$4,(O393*10)/7.1,IF(B393=data!$B$5,(O393*10)/5.2,\"zvolte typ stavby\"))))","v":45.15625},1986252.51]
["III/11417 Suchodol - průtah","oprava a rekonstrukce","Souvislá údržba",3,0,5,10,10,10,10,0,10,10,4,{"$f":"IF(B394=data!$B$2,D394*0.7+E394*0.5+F394*0.2+G394*0.8+H394+I394*0.2+J394+K394*0.3+L394+M394*0.5+N394*0.2,IF(B394=data!$B$3,D394*0.1+E394*0.4+F394*0.3+G394*0.1+H394+J394+K394*0.5+L394+M394*0.4,IF(B394=data!$B$4,D394*0.6+E394*0.8+F394*0.7+G394+H394+J394+L394+N394,IF(B394=data!$B$5,D394*0.7+E394*0.8+F394+I394*0.7+J394+L394,\"zvolte typ stavby\"))))","v":48.9},{"$f":"IF(B394=data!$B$2,(O394*10)/6.4,IF(B394=data!$B$3,(O394*10)/4.8,IF(B394=data!$B$4,(O394*10)/7.1,IF(B394=data!$B$5,(O394*10)/5.2,\"zvolte typ stavby\"))))","v":76.40625},1712424.67]
["II-201 Hřebečníky, oprava propustku","mostní objekty a propustky","Propustek",1,10,10,6,0,0,0,0,10,10,0,{"$f":"IF(B395=data!$B$2,D395*0.7+E395*0.5+F395*0.2+G395*0.8+H395+I395*0.2+J395+K395*0.3+L395+M395*0.5+N395*0.2,IF(B395=data!$B$3,D395*0.1+E395*0.4+F395*0.3+G395*0.1+H395+J395+K395*0.5+L395+M395*0.4,IF(B395=data!$B$4,D395*0.6+E395*0.8+F395*0.7+G395+H395+J395+L395+N395,IF(B395=data!$B$5,D395*0.7+E395*0.8+F395+I395*0.7+J395+L395,\"zvolte typ stavby\"))))","v":21.7},{"$f":"IF(B395=data!$B$2,(O395*10)/6.4,IF(B395=data!$B$3,(O395*10)/4.8,IF(B395=data!$B$4,(O395*10)/7.1,IF(B395=data!$B$5,(O395*10)/5.2,\"zvolte typ stavby\"))))","v":45.208333333333336},1532238]
["II/201 Višňová-Nezabudice, nestabilní skalní masiv - nejnutnější zabezpečovací práce","řešení bodové závady a/nebo bezpečnostního rizika (křižovatky, opěrné zdi, skalní masivy)","-",1,1,9,6,6,0,4,0,10,0,0,{"$f":"IF(B396=data!$B$2,D396*0.7+E396*0.5+F396*0.2+G396*0.8+H396+I396*0.2+J396+K396*0.3+L396+M396*0.5+N396*0.2,IF(B396=data!$B$3,D396*0.1+E396*0.4+F396*0.3+G396*0.1+H396+J396+K396*0.5+L396+M396*0.4,IF(B396=data!$B$4,D396*0.6+E396*0.8+F396*0.7+G396+H396+J396+L396+N396,IF(B396=data!$B$5,D396*0.7+E396*0.8+F396+I396*0.7+J396+L396,\"zvolte typ stavby\"))))","v":33.700000000000003},{"$f":"IF(B396=data!$B$2,(O396*10)/6.4,IF(B396=data!$B$3,(O396*10)/4.8,IF(B396=data!$B$4,(O396*10)/7.1,IF(B396=data!$B$5,(O396*10)/5.2,\"zvolte typ stavby\"))))","v":47.464788732394368},1500000]
["III/24637 Vliněves","oprava a rekonstrukce","Souvislá údržba",4,0,7,10,10,0,4,0,10,10,2,{"$f":"IF(B397=data!$B$2,D397*0.7+E397*0.5+F397*0.2+G397*0.8+H397+I397*0.2+J397+K397*0.3+L397+M397*0.5+N397*0.2,IF(B397=data!$B$3,D397*0.1+E397*0.4+F397*0.3+G397*0.1+H397+J397+K397*0.5+L397+M397*0.4,IF(B397=data!$B$4,D397*0.6+E397*0.8+F397*0.7+G397+H397+J397+L397+N397,IF(B397=data!$B$5,D397*0.7+E397*0.8+F397+I397*0.7+J397+L397,\"zvolte typ stavby\"))))","v":41.6},{"$f":"IF(B397=[1]data!$B$2,(O397*10)/6.4,IF(B397=[1]data!$B$3,(O397*10)/4.8,IF(B397=[1]data!$B$4,(O397*10)/7.1,IF(B397=[1]data!$B$5,(O397*10)/5.2,\"zvolte typ stavby\"))))","v":65},1453281.09,null,"připraveno k soutěži a realizaci 2023"]
["III/10248 Zalužany-konec obce","oprava a rekonstrukce","Souvislá údržba",1,0,5,6,10,10,7,0,10,10,2,{"$f":"IF(B398=data!$B$2,D398*0.7+E398*0.5+F398*0.2+G398*0.8+H398+I398*0.2+J398+K398*0.3+L398+M398*0.5+N398*0.2,IF(B398=data!$B$3,D398*0.1+E398*0.4+F398*0.3+G398*0.1+H398+J398+K398*0.5+L398+M398*0.4,IF(B398=data!$B$4,D398*0.6+E398*0.8+F398*0.7+G398+H398+J398+L398+N398,IF(B398=data!$B$5,D398*0.7+E398*0.8+F398+I398*0.7+J398+L398,\"zvolte typ stavby\"))))","v":40.9},{"$f":"IF(B398=data!$B$2,(O398*10)/6.4,IF(B398=data!$B$3,(O398*10)/4.8,IF(B398=data!$B$4,(O398*10)/7.1,IF(B398=data!$B$5,(O398*10)/5.2,\"zvolte typ stavby\"))))","v":63.90625},1398644.6]
["III/24016 Debrno","oprava a rekonstrukce","Souvislá údržba",2,0,5,3,10,10,2,0,10,10,2,{"$f":"IF(B399=data!$B$2,D399*0.7+E399*0.5+F399*0.2+G399*0.8+H399+I399*0.2+J399+K399*0.3+L399+M399*0.5+N399*0.2,IF(B399=data!$B$3,D399*0.1+E399*0.4+F399*0.3+G399*0.1+H399+J399+K399*0.5+L399+M399*0.4,IF(B399=data!$B$4,D399*0.6+E399*0.8+F399*0.7+G399+H399+J399+L399+N399,IF(B399=data!$B$5,D399*0.7+E399*0.8+F399+I399*0.7+J399+L399,\"zvolte typ stavby\"))))","v":34.199999999999996},{"$f":"IF(B399=[1]data!$B$2,(O399*10)/6.4,IF(B399=[1]data!$B$3,(O399*10)/4.8,IF(B399=[1]data!$B$4,(O399*10)/7.1,IF(B399=[1]data!$B$5,(O399*10)/5.2,\"zvolte typ stavby\"))))","v":53.437499999999986},1385862.61,null,"připraveno k soutěži a realizaci 2023"]
["III/10138 Velké Přítočno – úprava svahu","řešení bodové závady a/nebo bezpečnostního rizika (křižovatky, opěrné zdi, skalní masivy)","-",3,0,4,0,3,0,4,0,10,10,0,{"$f":"IF(B400=data!$B$2,D400*0.7+E400*0.5+F400*0.2+G400*0.8+H400+I400*0.2+J400+K400*0.3+L400+M400*0.5+N400*0.2,IF(B400=data!$B$3,D400*0.1+E400*0.4+F400*0.3+G400*0.1+H400+J400+K400*0.5+L400+M400*0.4,IF(B400=data!$B$4,D400*0.6+E400*0.8+F400*0.7+G400+H400+J400+L400+N400,IF(B400=data!$B$5,D400*0.7+E400*0.8+F400+I400*0.7+J400+L400,\"zvolte typ stavby\"))))","v":21.6},{"$f":"IF(B400=data!$B$2,(O400*10)/6.4,IF(B400=data!$B$3,(O400*10)/4.8,IF(B400=data!$B$4,(O400*10)/7.1,IF(B400=data!$B$5,(O400*10)/5.2,\"zvolte typ stavby\"))))","v":30.422535211267608},620459]
["Okružní křižovatka II/608 Nelahozeves","řešení bodové závady a/nebo bezpečnostního rizika (křižovatky, opěrné zdi, skalní masivy)","-",6,10,10,3,6,0,10,0,2,10,0,{"$f":"IF(B401=data!$B$2,D401*0.7+E401*0.5+F401*0.2+G401*0.8+H401+I401*0.2+J401+K401*0.3+L401+M401*0.5+N401*0.2,IF(B401=data!$B$3,D401*0.1+E401*0.4+F401*0.3+G401*0.1+H401+J401+K401*0.5+L401+M401*0.4,IF(B401=data!$B$4,D401*0.6+E401*0.8+F401*0.7+G401+H401+J401+L401+N401,IF(B401=data!$B$5,D401*0.7+E401*0.8+F401+I401*0.7+J401+L401,\"zvolte typ stavby\"))))","v":39.6},{"$f":"IF(B401=data!$B$2,(O401*10)/6.4,IF(B401=data!$B$3,(O401*10)/4.8,IF(B401=data!$B$4,(O401*10)/7.1,IF(B401=data!$B$5,(O401*10)/5.2,\"zvolte typ stavby\"))))","v":55.774647887323944}]
["III/11444 kř. 11438 - Strnadice","oprava a rekonstrukce",null,1,10,4,6,6,1,4,0,10,10,2,{"$f":"IF(B402=data!$B$2,D402*0.7+E402*0.5+F402*0.2+G402*0.8+H402+I402*0.2+J402+K402*0.3+L402+M402*0.5+N402*0.2,IF(B402=data!$B$3,D402*0.1+E402*0.4+F402*0.3+G402*0.1+H402+J402+K402*0.5+L402+M402*0.4,IF(B402=data!$B$4,D402*0.6+E402*0.8+F402*0.7+G402+H402+J402+L402+N402,IF(B402=data!$B$5,D402*0.7+E402*0.8+F402+I402*0.7+J402+L402,\"zvolte typ stavby\"))))","v":36.9},{"$f":"IF(B402=data!$B$2,(O402*10)/6.4,IF(B402=data!$B$3,(O402*10)/4.8,IF(B402=data!$B$4,(O402*10)/7.1,IF(B402=data!$B$5,(O402*10)/5.2,\"zvolte typ stavby\"))))","v":57.65625},6721424.2800000003]
["III/24015 Holubice","oprava a rekonstrukce",null,1,10,6,6,6,1,4,0,10,10,0,{"$f":"IF(B403=data!$B$2,D403*0.7+E403*0.5+F403*0.2+G403*0.8+H403+I403*0.2+J403+K403*0.3+L403+M403*0.5+N403*0.2,IF(B403=data!$B$3,D403*0.1+E403*0.4+F403*0.3+G403*0.1+H403+J403+K403*0.5+L403+M403*0.4,IF(B403=data!$B$4,D403*0.6+E403*0.8+F403*0.7+G403+H403+J403+L403+N403,IF(B403=data!$B$5,D403*0.7+E403*0.8+F403+I403*0.7+J403+L403,\"zvolte typ stavby\"))))","v":36.900000000000006},{"$f":"IF(B403=data!$B$2,(O403*10)/6.4,IF(B403=data!$B$3,(O403*10)/4.8,IF(B403=data!$B$4,(O403*10)/7.1,IF(B403=data!$B$5,(O403*10)/5.2,\"zvolte typ stavby\"))))","v":57.656250000000007}]
["III/11444 Strnadice - Maršovice","oprava a rekonstrukce",null,1,10,5,6,6,1,4,0,10,10,2,{"$f":"IF(B404=data!$B$2,D404*0.7+E404*0.5+F404*0.2+G404*0.8+H404+I404*0.2+J404+K404*0.3+L404+M404*0.5+N404*0.2,IF(B404=data!$B$3,D404*0.1+E404*0.4+F404*0.3+G404*0.1+H404+J404+K404*0.5+L404+M404*0.4,IF(B404=data!$B$4,D404*0.6+E404*0.8+F404*0.7+G404+H404+J404+L404+N404,IF(B404=data!$B$5,D404*0.7+E404*0.8+F404+I404*0.7+J404+L404,\"zvolte typ stavby\"))))","v":37.1},{"$f":"IF(B404=data!$B$2,(O404*10)/6.4,IF(B404=data!$B$3,(O404*10)/4.8,IF(B404=data!$B$4,(O404*10)/7.1,IF(B404=data!$B$5,(O404*10)/5.2,\"zvolte typ stavby\"))))","v":57.96875},3835810.72]
["III/11447 Libohošť - Maršovice","oprava a rekonstrukce",null,1,10,7,6,6,1,4,0,10,10,4,{"$f":"IF(B405=data!$B$2,D405*0.7+E405*0.5+F405*0.2+G405*0.8+H405+I405*0.2+J405+K405*0.3+L405+M405*0.5+N405*0.2,IF(B405=data!$B$3,D405*0.1+E405*0.4+F405*0.3+G405*0.1+H405+J405+K405*0.5+L405+M405*0.4,IF(B405=data!$B$4,D405*0.6+E405*0.8+F405*0.7+G405+H405+J405+L405+N405,IF(B405=data!$B$5,D405*0.7+E405*0.8+F405+I405*0.7+J405+L405,\"zvolte typ stavby\"))))","v":37.9},{"$f":"IF(B405=data!$B$2,(O405*10)/6.4,IF(B405=data!$B$3,(O405*10)/4.8,IF(B405=data!$B$4,(O405*10)/7.1,IF(B405=data!$B$5,(O405*10)/5.2,\"zvolte typ stavby\"))))","v":59.21875}]
["Přeložka sil. II/125 Vlašim - Jinošov","novostavba (obchvat, přeložka, propojka)","-",4,10,10,0,0,10,4,0,0,10,0,{"$f":"IF(B406=data!$B$2,D406*0.7+E406*0.5+F406*0.2+G406*0.8+H406+I406*0.2+J406+K406*0.3+L406+M406*0.5+N406*0.2,IF(B406=data!$B$3,D406*0.1+E406*0.4+F406*0.3+G406*0.1+H406+J406+K406*0.5+L406+M406*0.4,IF(B406=data!$B$4,D406*0.6+E406*0.8+F406*0.7+G406+H406+J406+L406+N406,IF(B406=data!$B$5,D406*0.7+E406*0.8+F406+I406*0.7+J406+L406,\"zvolte typ stavby\"))))","v":31.8},{"$f":"IF(B406=data!$B$2,(O406*10)/6.4,IF(B406=data!$B$3,(O406*10)/4.8,IF(B406=data!$B$4,(O406*10)/7.1,IF(B406=data!$B$5,(O406*10)/5.2,\"zvolte typ stavby\"))))","v":61.153846153846153},85000000]
["Okružní křižovatka II/608 AREO Vodochody","řešení bodové závady a/nebo bezpečnostního rizika (křižovatky, opěrné zdi, skalní masivy)","-",6,10,10,3,6,0,10,0,2,10,4,{"$f":"IF(B407=data!$B$2,D407*0.7+E407*0.5+F407*0.2+G407*0.8+H407+I407*0.2+J407+K407*0.3+L407+M407*0.5+N407*0.2,IF(B407=data!$B$3,D407*0.1+E407*0.4+F407*0.3+G407*0.1+H407+J407+K407*0.5+L407+M407*0.4,IF(B407=data!$B$4,D407*0.6+E407*0.8+F407*0.7+G407+H407+J407+L407+N407,IF(B407=data!$B$5,D407*0.7+E407*0.8+F407+I407*0.7+J407+L407,\"zvolte typ stavby\"))))","v":43.6},{"$f":"IF(B407=data!$B$2,(O407*10)/6.4,IF(B407=data!$B$3,(O407*10)/4.8,IF(B407=data!$B$4,(O407*10)/7.1,IF(B407=data!$B$5,(O407*10)/5.2,\"zvolte typ stavby\"))))","v":61.408450704225352}]
["Zlepšení dopravní obslužnosti území Říčansko – jih, TES, EIA, TPA","novostavba (obchvat, přeložka, propojka)","-",10,0,10,0,0,10,10,0,0,0,0,{"$f":"IF(B408=data!$B$2,D408*0.7+E408*0.5+F408*0.2+G408*0.8+H408+I408*0.2+J408+K408*0.3+L408+M408*0.5+N408*0.2,IF(B408=data!$B$3,D408*0.1+E408*0.4+F408*0.3+G408*0.1+H408+J408+K408*0.5+L408+M408*0.4,IF(B408=data!$B$4,D408*0.6+E408*0.8+F408*0.7+G408+H408+J408+L408+N408,IF(B408=data!$B$5,D408*0.7+E408*0.8+F408+I408*0.7+J408+L408,\"zvolte typ stavby\"))))","v":34},{"$f":"IF(B408=data!$B$2,(O408*10)/6.4,IF(B408=data!$B$3,(O408*10)/4.8,IF(B408=data!$B$4,(O408*10)/7.1,IF(B408=data!$B$5,(O408*10)/5.2,\"zvolte typ stavby\"))))","v":65.384615384615387}]
["Okružní křižovatka II/608 Veltrusy ","řešení bodové závady a/nebo bezpečnostního rizika (křižovatky, opěrné zdi, skalní masivy)","-",6,10,10,3,6,0,10,0,2,10,7,{"$f":"IF(B409=data!$B$2,D409*0.7+E409*0.5+F409*0.2+G409*0.8+H409+I409*0.2+J409+K409*0.3+L409+M409*0.5+N409*0.2,IF(B409=data!$B$3,D409*0.1+E409*0.4+F409*0.3+G409*0.1+H409+J409+K409*0.5+L409+M409*0.4,IF(B409=data!$B$4,D409*0.6+E409*0.8+F409*0.7+G409+H409+J409+L409+N409,IF(B409=data!$B$5,D409*0.7+E409*0.8+F409+I409*0.7+J409+L409,\"zvolte typ stavby\"))))","v":46.6},{"$f":"IF(B409=data!$B$2,(O409*10)/6.4,IF(B409=data!$B$3,(O409*10)/4.8,IF(B409=data!$B$4,(O409*10)/7.1,IF(B409=data!$B$5,(O409*10)/5.2,\"zvolte typ stavby\"))))","v":65.633802816901408}]
["II/116, III/11626 a III/11624 Mníšek pod Brdy  ","oprava a rekonstrukce","Rekonstrukce",3,10,7,6,6,0,7,0,10,10,4,{"$f":"IF(B410=data!$B$2,D410*0.7+E410*0.5+F410*0.2+G410*0.8+H410+I410*0.2+J410+K410*0.3+L410+M410*0.5+N410*0.2,IF(B410=data!$B$3,D410*0.1+E410*0.4+F410*0.3+G410*0.1+H410+J410+K410*0.5+L410+M410*0.4,IF(B410=data!$B$4,D410*0.6+E410*0.8+F410*0.7+G410+H410+J410+L410+N410,IF(B410=data!$B$5,D410*0.7+E410*0.8+F410+I410*0.7+J410+L410,\"zvolte typ stavby\"))))","v":42.099999999999994},{"$f":"IF(B410=data!$B$2,(O410*10)/6.4,IF(B410=data!$B$3,(O410*10)/4.8,IF(B410=data!$B$4,(O410*10)/7.1,IF(B410=data!$B$5,(O410*10)/5.2,\"zvolte typ stavby\"))))","v":65.781249999999986},55802343.420000002]
["II/116, III/11626 a III/11624 Mníšek pod Brdy II. část","oprava a rekonstrukce","Rekonstrukce",3,10,7,6,6,0,7,0,10,10,4,{"$f":"IF(B411=data!$B$2,D411*0.7+E411*0.5+F411*0.2+G411*0.8+H411+I411*0.2+J411+K411*0.3+L411+M411*0.5+N411*0.2,IF(B411=data!$B$3,D411*0.1+E411*0.4+F411*0.3+G411*0.1+H411+J411+K411*0.5+L411+M411*0.4,IF(B411=data!$B$4,D411*0.6+E411*0.8+F411*0.7+G411+H411+J411+L411+N411,IF(B411=data!$B$5,D411*0.7+E411*0.8+F411+I411*0.7+J411+L411,\"zvolte typ stavby\"))))","v":42.099999999999994},{"$f":"IF(B411=data!$B$2,(O411*10)/6.4,IF(B411=data!$B$3,(O411*10)/4.8,IF(B411=data!$B$4,(O411*10)/7.1,IF(B411=data!$B$5,(O411*10)/5.2,\"zvolte typ stavby\"))))","v":65.781249999999986},24093690]
["Okružní Křižovatka II/116 a III/11626 Mníšek pod Brdy","řešení bodové závady a/nebo bezpečnostního rizika (křižovatky, opěrné zdi, skalní masivy)",null,4,10,10,6,6,0,7,0,10,10,4,{"$f":"IF(B412=data!$B$2,D412*0.7+E412*0.5+F412*0.2+G412*0.8+H412+I412*0.2+J412+K412*0.3+L412+M412*0.5+N412*0.2,IF(B412=data!$B$3,D412*0.1+E412*0.4+F412*0.3+G412*0.1+H412+J412+K412*0.5+L412+M412*0.4,IF(B412=data!$B$4,D412*0.6+E412*0.8+F412*0.7+G412+H412+J412+L412+N412,IF(B412=data!$B$5,D412*0.7+E412*0.8+F412+I412*0.7+J412+L412,\"zvolte typ stavby\"))))","v":50.4},{"$f":"IF(B412=data!$B$2,(O412*10)/6.4,IF(B412=data!$B$3,(O412*10)/4.8,IF(B412=data!$B$4,(O412*10)/7.1,IF(B412=data!$B$5,(O412*10)/5.2,\"zvolte typ stavby\"))))","v":70.985915492957744},15862000]
["II/608 Nová Ves, obchvat","novostavba (obchvat, přeložka, propojka)",null,5,10,10,0,0,10,10,0,2,0,0,{"$f":"IF(B413=data!$B$2,D413*0.7+E413*0.5+F413*0.2+G413*0.8+H413+I413*0.2+J413+K413*0.3+L413+M413*0.5+N413*0.2,IF(B413=data!$B$3,D413*0.1+E413*0.4+F413*0.3+G413*0.1+H413+J413+K413*0.5+L413+M413*0.4,IF(B413=data!$B$4,D413*0.6+E413*0.8+F413*0.7+G413+H413+J413+L413+N413,IF(B413=data!$B$5,D413*0.7+E413*0.8+F413+I413*0.7+J413+L413,\"zvolte typ stavby\"))))","v":40.5},{"$f":"IF(B413=data!$B$2,(O413*10)/6.4,IF(B413=data!$B$3,(O413*10)/4.8,IF(B413=data!$B$4,(O413*10)/7.1,IF(B413=data!$B$5,(O413*10)/5.2,\"zvolte typ stavby\"))))","v":77.884615384615387},90000000]
["KONTROLA PŘEPOČTU","mostní objekty a propustky",null,10,10,10,10,10,10,10,10,10,10,10,{"$f":"IF(B414=data!$B$2,D414*0.7+E414*0.5+F414*0.2+G414*0.8+H414+I414*0.2+J414+K414*0.3+L414+M414*0.5+N414*0.2,IF(B414=data!$B$3,D414*0.1+E414*0.4+F414*0.3+G414*0.1+H414+J414+K414*0.5+L414+M414*0.4,IF(B414=data!$B$4,D414*0.6+E414*0.8+F414*0.7+G414+H414+J414+L414+N414,IF(B414=data!$B$5,D414*0.7+E414*0.8+F414+I414*0.7+J414+L414,\"zvolte typ stavby\"))))","v":48},{"$f":"IF(B414=data!$B$2,(O414*10)/6.4,IF(B414=data!$B$3,(O414*10)/4.8,IF(B414=data!$B$4,(O414*10)/7.1,IF(B414=data!$B$5,(O414*10)/5.2,\"zvolte typ stavby\"))))","v":100}]
["KONTROLA PŘEPOČTU","novostavba (obchvat, přeložka, propojka)",null,10,10,10,10,10,10,10,10,10,10,10,{"$f":"IF(B415=data!$B$2,D415*0.7+E415*0.5+F415*0.2+G415*0.8+H415+I415*0.2+J415+K415*0.3+L415+M415*0.5+N415*0.2,IF(B415=data!$B$3,D415*0.1+E415*0.4+F415*0.3+G415*0.1+H415+J415+K415*0.5+L415+M415*0.4,IF(B415=data!$B$4,D415*0.6+E415*0.8+F415*0.7+G415+H415+J415+L415+N415,IF(B415=data!$B$5,D415*0.7+E415*0.8+F415+I415*0.7+J415+L415,\"zvolte typ stavby\"))))","v":52},{"$f":"IF(B415=data!$B$2,(O415*10)/6.4,IF(B415=data!$B$3,(O415*10)/4.8,IF(B415=data!$B$4,(O415*10)/7.1,IF(B415=data!$B$5,(O415*10)/5.2,\"zvolte typ stavby\"))))","v":100}]
["KONTROLA PŘEPOČTU","oprava a rekonstrukce",null,10,10,10,10,10,10,10,10,10,10,10,{"$f":"IF(B416=data!$B$2,D416*0.7+E416*0.5+F416*0.2+G416*0.8+H416+I416*0.2+J416+K416*0.3+L416+M416*0.5+N416*0.2,IF(B416=data!$B$3,D416*0.1+E416*0.4+F416*0.3+G416*0.1+H416+J416+K416*0.5+L416+M416*0.4,IF(B416=data!$B$4,D416*0.6+E416*0.8+F416*0.7+G416+H416+J416+L416+N416,IF(B416=data!$B$5,D416*0.7+E416*0.8+F416+I416*0.7+J416+L416,\"zvolte typ stavby\"))))","v":64},{"$f":"IF(B416=data!$B$2,(O416*10)/6.4,IF(B416=data!$B$3,(O416*10)/4.8,IF(B416=data!$B$4,(O416*10)/7.1,IF(B416=data!$B$5,(O416*10)/5.2,\"zvolte typ stavby\"))))","v":100}]
["KONTROLA PŘEPOČTU","řešení bodové závady a/nebo bezpečnostního rizika (křižovatky, opěrné zdi, skalní masivy)",null,10,10,10,10,10,10,10,10,10,10,10,{"$f":"IF(B417=data!$B$2,D417*0.7+E417*0.5+F417*0.2+G417*0.8+H417+I417*0.2+J417+K417*0.3+L417+M417*0.5+N417*0.2,IF(B417=data!$B$3,D417*0.1+E417*0.4+F417*0.3+G417*0.1+H417+J417+K417*0.5+L417+M417*0.4,IF(B417=data!$B$4,D417*0.6+E417*0.8+F417*0.7+G417+H417+J417+L417+N417,IF(B417=data!$B$5,D417*0.7+E417*0.8+F417+I417*0.7+J417+L417,\"zvolte typ stavby\"))))","v":71},{"$f":"IF(B417=data!$B$2,(O417*10)/6.4,IF(B417=data!$B$3,(O417*10)/4.8,IF(B417=data!$B$4,(O417*10)/7.1,IF(B417=data!$B$5,(O417*10)/5.2,\"zvolte typ stavby\"))))","v":100}]
["II/114 Dobříš, kom. a opěrné zdi na hrázi rybníka Koryto ","oprava a rekonstrukce","Rekonstrukce",5,10,10,6,6,10,7,0,2,10,4,{"$f":"IF(B418=data!$B$2,D418*0.7+E418*0.5+F418*0.2+G418*0.8+H418+I418*0.2+J418+K418*0.3+L418+M418*0.5+N418*0.2,IF(B418=data!$B$3,D418*0.1+E418*0.4+F418*0.3+G418*0.1+H418+J418+K418*0.5+L418+M418*0.4,IF(B418=data!$B$4,D418*0.6+E418*0.8+F418*0.7+G418+H418+J418+L418+N418,IF(B418=data!$B$5,D418*0.7+E418*0.8+F418+I418*0.7+J418+L418,\"zvolte typ stavby\"))))","v":38.099999999999994},{"$f":"IF(B418=data!$B$2,(O418*10)/6.4,IF(B418=data!$B$3,(O418*10)/4.8,IF(B418=data!$B$4,(O418*10)/7.1,IF(B418=data!$B$5,(O418*10)/5.2,\"zvolte typ stavby\"))))","v":59.531249999999986},45000000]
["II/174 Březnice - Hudčice, hr. kraje","oprava a rekonstrukce","Rekonstrukce",3,10,10,6,10,10,4,0,2,10,10,{"$f":"IF(B419=data!$B$2,D419*0.7+E419*0.5+F419*0.2+G419*0.8+H419+I419*0.2+J419+K419*0.3+L419+M419*0.5+N419*0.2,IF(B419=data!$B$3,D419*0.1+E419*0.4+F419*0.3+G419*0.1+H419+J419+K419*0.5+L419+M419*0.4,IF(B419=data!$B$4,D419*0.6+E419*0.8+F419*0.7+G419+H419+J419+L419+N419,IF(B419=data!$B$5,D419*0.7+E419*0.8+F419+I419*0.7+J419+L419,\"zvolte typ stavby\"))))","v":38.9},{"$f":"IF(B419=data!$B$2,(O419*10)/6.4,IF(B419=data!$B$3,(O419*10)/4.8,IF(B419=data!$B$4,(O419*10)/7.1,IF(B419=data!$B$5,(O419*10)/5.2,\"zvolte typ stavby\"))))","v":60.78125},215000000]
["II/605 Beroun, mosty ev.č. 605 - 026 a 027 přes řeku Berounku","mostní objekty a propustky","Most",7,10,10,6,6,10,10,0,2,10,4,{"$f":"IF(B420=data!$B$2,D420*0.7+E420*0.5+F420*0.2+G420*0.8+H420+I420*0.2+J420+K420*0.3+L420+M420*0.5+N420*0.2,IF(B420=data!$B$3,D420*0.1+E420*0.4+F420*0.3+G420*0.1+H420+J420+K420*0.5+L420+M420*0.4,IF(B420=data!$B$4,D420*0.6+E420*0.8+F420*0.7+G420+H420+J420+L420+N420,IF(B420=data!$B$5,D420*0.7+E420*0.8+F420+I420*0.7+J420+L420,\"zvolte typ stavby\"))))","v":30.3},{"$f":"IF(B420=data!$B$2,(O420*10)/6.4,IF(B420=data!$B$3,(O420*10)/4.8,IF(B420=data!$B$4,(O420*10)/7.1,IF(B420=data!$B$5,(O420*10)/5.2,\"zvolte typ stavby\"))))","v":63.125},100000000]
["III-11710 Bavoryně-havárie opěrné zdi","řešení bodové závady a/nebo bezpečnostního rizika (křižovatky, opěrné zdi, skalní masivy)","-",3,10,5,10,10,0,4,0,5,10,2,{"$f":"IF(B421=data!$B$2,D421*0.7+E421*0.5+F421*0.2+G421*0.8+H421+I421*0.2+J421+K421*0.3+L421+M421*0.5+N421*0.2,IF(B421=data!$B$3,D421*0.1+E421*0.4+F421*0.3+G421*0.1+H421+J421+K421*0.5+L421+M421*0.4,IF(B421=data!$B$4,D421*0.6+E421*0.8+F421*0.7+G421+H421+J421+L421+N421,IF(B421=data!$B$5,D421*0.7+E421*0.8+F421+I421*0.7+J421+L421,\"zvolte typ stavby\"))))","v":44.3},{"$f":"IF(B421=data!$B$2,(O421*10)/6.4,IF(B421=data!$B$3,(O421*10)/4.8,IF(B421=data!$B$4,(O421*10)/7.1,IF(B421=data!$B$5,(O421*10)/5.2,\"zvolte typ stavby\"))))","v":62.394366197183103},60000000]
["II/105 Neveklov","oprava a rekonstrukce","Souvislá údržba",4,10,10,10,10,0,7,0,10,10,4,{"$f":"IF(B422=data!$B$2,D422*0.7+E422*0.5+F422*0.2+G422*0.8+H422+I422*0.2+J422+K422*0.3+L422+M422*0.5+N422*0.2,IF(B422=data!$B$3,D422*0.1+E422*0.4+F422*0.3+G422*0.1+H422+J422+K422*0.5+L422+M422*0.4,IF(B422=data!$B$4,D422*0.6+E422*0.8+F422*0.7+G422+H422+J422+L422+N422,IF(B422=data!$B$5,D422*0.7+E422*0.8+F422+I422*0.7+J422+L422,\"zvolte typ stavby\"))))","v":50.599999999999994},{"$f":"IF(B422=data!$B$2,(O422*10)/6.4,IF(B422=data!$B$3,(O422*10)/4.8,IF(B422=data!$B$4,(O422*10)/7.1,IF(B422=data!$B$5,(O422*10)/5.2,\"zvolte typ stavby\"))))","v":79.062499999999986},12505880]
["Město Dobříš - stavební úpravy komunikace a chodníků v ul. Pražská /III/11628/","oprava a rekonstrukce","Rekonstrukce",6,10,10,6,6,10,7,0,10,10,10,{"$f":"IF(B423=data!$B$2,D423*0.7+E423*0.5+F423*0.2+G423*0.8+H423+I423*0.2+J423+K423*0.3+L423+M423*0.5+N423*0.2,IF(B423=data!$B$3,D423*0.1+E423*0.4+F423*0.3+G423*0.1+H423+J423+K423*0.5+L423+M423*0.4,IF(B423=data!$B$4,D423*0.6+E423*0.8+F423*0.7+G423+H423+J423+L423+N423,IF(B423=data!$B$5,D423*0.7+E423*0.8+F423+I423*0.7+J423+L423,\"zvolte typ stavby\"))))","v":48},{"$f":"IF(B423=data!$B$2,(O423*10)/6.4,IF(B423=data!$B$3,(O423*10)/4.8,IF(B423=data!$B$4,(O423*10)/7.1,IF(B423=data!$B$5,(O423*10)/5.2,\"zvolte typ stavby\"))))","v":75},90000000]
["III/33310 Zeleneč","oprava a rekonstrukce","Souvislá údržba",4,0,7,10,10,10,10,0,10,10,2,{"$f":"IF(B424=data!$B$2,D424*0.7+E424*0.5+F424*0.2+G424*0.8+H424+I424*0.2+J424+K424*0.3+L424+M424*0.5+N424*0.2,IF(B424=data!$B$3,D424*0.1+E424*0.4+F424*0.3+G424*0.1+H424+J424+K424*0.5+L424+M424*0.4,IF(B424=data!$B$4,D424*0.6+E424*0.8+F424*0.7+G424+H424+J424+L424+N424,IF(B424=data!$B$5,D424*0.7+E424*0.8+F424+I424*0.7+J424+L424,\"zvolte typ stavby\"))))","v":49.6},{"$f":"IF(B424=data!$B$2,(O424*10)/6.4,IF(B424=data!$B$3,(O424*10)/4.8,IF(B424=data!$B$4,(O424*10)/7.1,IF(B424=data!$B$5,(O424*10)/5.2,\"zvolte typ stavby\"))))","v":77.5},8104362.2000000002,null,"připraveno k soutěži a realizaci 2023, lze zařadit do ÚD-SOKP"]
["III/2751 Nemyslovice, II. etapa","oprava a rekonstrukce","Souvislá údržba",4,0,6,10,10,0,4,10,10,10,2,{"$f":"IF(B425=data!$B$2,D425*0.7+E425*0.5+F425*0.2+G425*0.8+H425+I425*0.2+J425+K425*0.3+L425+M425*0.5+N425*0.2,IF(B425=data!$B$3,D425*0.1+E425*0.4+F425*0.3+G425*0.1+H425+J425+K425*0.5+L425+M425*0.4,IF(B425=data!$B$4,D425*0.6+E425*0.8+F425*0.7+G425+H425+J425+L425+N425,IF(B425=data!$B$5,D425*0.7+E425*0.8+F425+I425*0.7+J425+L425,\"zvolte typ stavby\"))))","v":44.4},{"$f":"IF(B425=data!$B$2,(O425*10)/6.4,IF(B425=data!$B$3,(O425*10)/4.8,IF(B425=data!$B$4,(O425*10)/7.1,IF(B425=data!$B$5,(O425*10)/5.2,\"zvolte typ stavby\"))))","v":69.375},4982717.5599999996,"KÚ – zásobník investic kap. 12","připraveno k soutěži a realizaci 2023"]
["II/116 Řevnice, havárie zemního tělesa","řešení bodové závady a/nebo bezpečnostního rizika (křižovatky, opěrné zdi, skalní masivy)",null,1,10,9,10,10,0,4,0,10,0,2,{"$f":"IF(B426=data!$B$2,D426*0.7+E426*0.5+F426*0.2+G426*0.8+H426+I426*0.2+J426+K426*0.3+L426+M426*0.5+N426*0.2,IF(B426=data!$B$3,D426*0.1+E426*0.4+F426*0.3+G426*0.1+H426+J426+K426*0.5+L426+M426*0.4,IF(B426=data!$B$4,D426*0.6+E426*0.8+F426*0.7+G426+H426+J426+L426+N426,IF(B426=data!$B$5,D426*0.7+E426*0.8+F426+I426*0.7+J426+L426,\"zvolte typ stavby\"))))","v":50.9},{"$f":"IF(B426=data!$B$2,(O426*10)/6.4,IF(B426=data!$B$3,(O426*10)/4.8,IF(B426=data!$B$4,(O426*10)/7.1,IF(B426=data!$B$5,(O426*10)/5.2,\"zvolte typ stavby\"))))","v":71.690140845070431},1200323.8999999999]
["II/246, Cítov, obchvat včetně úpravy silnice |II/246 a III/24636, Horní Pčaply - obchvat I.etapa","novostavba (obchvat, přeložka, propojka)",null,3,10,9,0,0,10,10,0,2,0,0,{"$f":"IF(B427=data!$B$2,D427*0.7+E427*0.5+F427*0.2+G427*0.8+H427+I427*0.2+J427+K427*0.3+L427+M427*0.5+N427*0.2,IF(B427=data!$B$3,D427*0.1+E427*0.4+F427*0.3+G427*0.1+H427+J427+K427*0.5+L427+M427*0.4,IF(B427=data!$B$4,D427*0.6+E427*0.8+F427*0.7+G427+H427+J427+L427+N427,IF(B427=data!$B$5,D427*0.7+E427*0.8+F427+I427*0.7+J427+L427,\"zvolte typ stavby\"))))","v":38.1},{"$f":"IF(B427=data!$B$2,(O427*10)/6.4,IF(B427=data!$B$3,(O427*10)/4.8,IF(B427=data!$B$4,(O427*10)/7.1,IF(B427=data!$B$5,(O427*10)/5.2,\"zvolte typ stavby\"))))","v":73.269230769230774},529000000]
["III/24050, Horní Počaply-obchvat II. etapa, včetně napojení Rigips a ZEVO","novostavba (obchvat, přeložka, propojka)",null,3,10,9,0,0,10,10,0,2,0,0,{"$f":"IF(B428=data!$B$2,D428*0.7+E428*0.5+F428*0.2+G428*0.8+H428+I428*0.2+J428+K428*0.3+L428+M428*0.5+N428*0.2,IF(B428=data!$B$3,D428*0.1+E428*0.4+F428*0.3+G428*0.1+H428+J428+K428*0.5+L428+M428*0.4,IF(B428=data!$B$4,D428*0.6+E428*0.8+F428*0.7+G428+H428+J428+L428+N428,IF(B428=data!$B$5,D428*0.7+E428*0.8+F428+I428*0.7+J428+L428,\"zvolte typ stavby\"))))","v":38.1},{"$f":"IF(B428=data!$B$2,(O428*10)/6.4,IF(B428=data!$B$3,(O428*10)/4.8,IF(B428=data!$B$4,(O428*10)/7.1,IF(B428=data!$B$5,(O428*10)/5.2,\"zvolte typ stavby\"))))","v":73.269230769230774},512000000]
["Propojení Vinařice- Bernardov","novostavba (obchvat, přeložka, propojka)","-",4,10,9,0,0,10,10,0,2,0,0,{"$f":"IF(B429=data!$B$2,D429*0.7+E429*0.5+F429*0.2+G429*0.8+H429+I429*0.2+J429+K429*0.3+L429+M429*0.5+N429*0.2,IF(B429=data!$B$3,D429*0.1+E429*0.4+F429*0.3+G429*0.1+H429+J429+K429*0.5+L429+M429*0.4,IF(B429=data!$B$4,D429*0.6+E429*0.8+F429*0.7+G429+H429+J429+L429+N429,IF(B429=data!$B$5,D429*0.7+E429*0.8+F429+I429*0.7+J429+L429,\"zvolte typ stavby\"))))","v":38.799999999999997},{"$f":"IF(B429=data!$B$2,(O429*10)/6.4,IF(B429=data!$B$3,(O429*10)/4.8,IF(B429=data!$B$4,(O429*10)/7.1,IF(B429=data!$B$5,(O429*10)/5.2,\"zvolte typ stavby\"))))","v":74.615384615384613},407019000]
["II/107 Všechromy, okružní křižovatka","oprava a rekonstrukce","Rekonstrukce",7,10,10,3,6,10,10,0,5,10,2,{"$f":"IF(B430=data!$B$2,D430*0.7+E430*0.5+F430*0.2+G430*0.8+H430+I430*0.2+J430+K430*0.3+L430+M430*0.5+N430*0.2,IF(B430=data!$B$3,D430*0.1+E430*0.4+F430*0.3+G430*0.1+H430+J430+K430*0.5+L430+M430*0.4,IF(B430=data!$B$4,D430*0.6+E430*0.8+F430*0.7+G430+H430+J430+L430+N430,IF(B430=data!$B$5,D430*0.7+E430*0.8+F430+I430*0.7+J430+L430,\"zvolte typ stavby\"))))","v":42.699999999999996},{"$f":"IF(B430=data!$B$2,(O430*10)/6.4,IF(B430=data!$B$3,(O430*10)/4.8,IF(B430=data!$B$4,(O430*10)/7.1,IF(B430=data!$B$5,(O430*10)/5.2,\"zvolte typ stavby\"))))","v":66.718749999999986},35000000]
["Zlepšení dopravní obslužnosti území Říčansko – jih, TES, EIA, TP","novostavba (obchvat, přeložka, propojka)","-",10,10,10,0,0,10,10,0,0,0,0,{"$f":"IF(B431=data!$B$2,D431*0.7+E431*0.5+F431*0.2+G431*0.8+H431+I431*0.2+J431+K431*0.3+L431+M431*0.5+N431*0.2,IF(B431=data!$B$3,D431*0.1+E431*0.4+F431*0.3+G431*0.1+H431+J431+K431*0.5+L431+M431*0.4,IF(B431=data!$B$4,D431*0.6+E431*0.8+F431*0.7+G431+H431+J431+L431+N431,IF(B431=data!$B$5,D431*0.7+E431*0.8+F431+I431*0.7+J431+L431,\"zvolte typ stavby\"))))","v":42},{"$f":"IF(B431=data!$B$2,(O431*10)/6.4,IF(B431=data!$B$3,(O431*10)/4.8,IF(B431=data!$B$4,(O431*10)/7.1,IF(B431=data!$B$5,(O431*10)/5.2,\"zvolte typ stavby\"))))","v":80.769230769230759},602580000]
["II/116 Beroun - Srbsko","oprava a rekonstrukce","Rekonstrukce",1,10,10,3,6,10,4,0,0,10,0,{"$f":"IF(B432=data!$B$2,D432*0.7+E432*0.5+F432*0.2+G432*0.8+H432+I432*0.2+J432+K432*0.3+L432+M432*0.5+N432*0.2,IF(B432=data!$B$3,D432*0.1+E432*0.4+F432*0.3+G432*0.1+H432+J432+K432*0.5+L432+M432*0.4,IF(B432=data!$B$4,D432*0.6+E432*0.8+F432*0.7+G432+H432+J432+L432+N432,IF(B432=data!$B$5,D432*0.7+E432*0.8+F432+I432*0.7+J432+L432,\"zvolte typ stavby\"))))","v":27.1},{"$f":"IF(B432=data!$B$2,(O432*10)/6.4,IF(B432=data!$B$3,(O432*10)/4.8,IF(B432=data!$B$4,(O432*10)/7.1,IF(B432=data!$B$5,(O432*10)/5.2,\"zvolte typ stavby\"))))","v":42.34375},302500000]
["III/3284 Kolín, Sendražice - propustek","oprava a rekonstrukce","Rekonstrukce",2,10,4,10,6,10,4,10,5,10,0,{"$f":"IF(B433=data!$B$2,D433*0.7+E433*0.5+F433*0.2+G433*0.8+H433+I433*0.2+J433+K433*0.3+L433+M433*0.5+N433*0.2,IF(B433=data!$B$3,D433*0.1+E433*0.4+F433*0.3+G433*0.1+H433+J433+K433*0.5+L433+M433*0.4,IF(B433=data!$B$4,D433*0.6+E433*0.8+F433*0.7+G433+H433+J433+L433+N433,IF(B433=data!$B$5,D433*0.7+E433*0.8+F433+I433*0.7+J433+L433,\"zvolte typ stavby\"))))","v":40.200000000000003},{"$f":"IF(B433=data!$B$2,(O433*10)/6.4,IF(B433=data!$B$3,(O433*10)/4.8,IF(B433=data!$B$4,(O433*10)/7.1,IF(B433=data!$B$5,(O433*10)/5.2,\"zvolte typ stavby\"))))","v":62.8125},7000000]
["III/32827 Chotěšice, propustek","oprava a rekonstrukce","Rekonstrukce",3,10,6,10,10,10,4,0,5,10,0,{"$f":"IF(B434=data!$B$2,D434*0.7+E434*0.5+F434*0.2+G434*0.8+H434+I434*0.2+J434+K434*0.3+L434+M434*0.5+N434*0.2,IF(B434=data!$B$3,D434*0.1+E434*0.4+F434*0.3+G434*0.1+H434+J434+K434*0.5+L434+M434*0.4,IF(B434=data!$B$4,D434*0.6+E434*0.8+F434*0.7+G434+H434+J434+L434+N434,IF(B434=data!$B$5,D434*0.7+E434*0.8+F434+I434*0.7+J434+L434,\"zvolte typ stavby\"))))","v":42.3},{"$f":"IF(B434=data!$B$2,(O434*10)/6.4,IF(B434=data!$B$3,(O434*10)/4.8,IF(B434=data!$B$4,(O434*10)/7.1,IF(B434=data!$B$5,(O434*10)/5.2,\"zvolte typ stavby\"))))","v":66.09375},7000000]
["III/3245 MK ul. Dymokurská, OK","oprava a rekonstrukce","Rekonstrukce",3,10,7,10,6,10,7,0,5,10,4,{"$f":"IF(B435=data!$B$2,D435*0.7+E435*0.5+F435*0.2+G435*0.8+H435+I435*0.2+J435+K435*0.3+L435+M435*0.5+N435*0.2,IF(B435=data!$B$3,D435*0.1+E435*0.4+F435*0.3+G435*0.1+H435+J435+K435*0.5+L435+M435*0.4,IF(B435=data!$B$4,D435*0.6+E435*0.8+F435*0.7+G435+H435+J435+L435+N435,IF(B435=data!$B$5,D435*0.7+E435*0.8+F435+I435*0.7+J435+L435,\"zvolte typ stavby\"))))","v":42.3},{"$f":"IF(B435=data!$B$2,(O435*10)/6.4,IF(B435=data!$B$3,(O435*10)/4.8,IF(B435=data!$B$4,(O435*10)/7.1,IF(B435=data!$B$5,(O435*10)/5.2,\"zvolte typ stavby\"))))","v":66.09375},5000000]
["II/108 Kostelec nad Černými lesy - Stříbrná Skalice","oprava a rekonstrukce","Souvislá údržba",5,10,8,3,6,10,7,0,10,10,4,{"$f":"IF(B436=data!$B$2,D436*0.7+E436*0.5+F436*0.2+G436*0.8+H436+I436*0.2+J436+K436*0.3+L436+M436*0.5+N436*0.2,IF(B436=data!$B$3,D436*0.1+E436*0.4+F436*0.3+G436*0.1+H436+J436+K436*0.5+L436+M436*0.4,IF(B436=data!$B$4,D436*0.6+E436*0.8+F436*0.7+G436+H436+J436+L436+N436,IF(B436=data!$B$5,D436*0.7+E436*0.8+F436+I436*0.7+J436+L436,\"zvolte typ stavby\"))))","v":43.3},{"$f":"IF(B436=data!$B$2,(O436*10)/6.4,IF(B436=data!$B$3,(O436*10)/4.8,IF(B436=data!$B$4,(O436*10)/7.1,IF(B436=data!$B$5,(O436*10)/5.2,\"zvolte typ stavby\"))))","v":67.65625},35972481.640000001]
["II/125 Červený Hrádek - Uhlířské Janovice","oprava a rekonstrukce","Souvislá údržba",6,10,10,3,6,10,10,0,10,10,4,{"$f":"IF(B437=data!$B$2,D437*0.7+E437*0.5+F437*0.2+G437*0.8+H437+I437*0.2+J437+K437*0.3+L437+M437*0.5+N437*0.2,IF(B437=data!$B$3,D437*0.1+E437*0.4+F437*0.3+G437*0.1+H437+J437+K437*0.5+L437+M437*0.4,IF(B437=data!$B$4,D437*0.6+E437*0.8+F437*0.7+G437+H437+J437+L437+N437,IF(B437=data!$B$5,D437*0.7+E437*0.8+F437+I437*0.7+J437+L437,\"zvolte typ stavby\"))))","v":47.4},{"$f":"IF(B437=data!$B$2,(O437*10)/6.4,IF(B437=data!$B$3,(O437*10)/4.8,IF(B437=data!$B$4,(O437*10)/7.1,IF(B437=data!$B$5,(O437*10)/5.2,\"zvolte typ stavby\"))))","v":74.0625},22074237.109999999]
["II/125 Velký Osek, kamerová prohlídka dešťové kanalizace","oprava a rekonstrukce","Souvislá údržba",6,10,10,6,6,10,10,0,10,10,4,{"$f":"IF(B438=data!$B$2,D438*0.7+E438*0.5+F438*0.2+G438*0.8+H438+I438*0.2+J438+K438*0.3+L438+M438*0.5+N438*0.2,IF(B438=data!$B$3,D438*0.1+E438*0.4+F438*0.3+G438*0.1+H438+J438+K438*0.5+L438+M438*0.4,IF(B438=data!$B$4,D438*0.6+E438*0.8+F438*0.7+G438+H438+J438+L438+N438,IF(B438=data!$B$5,D438*0.7+E438*0.8+F438+I438*0.7+J438+L438,\"zvolte typ stavby\"))))","v":49.8},{"$f":"IF(B438=data!$B$2,(O438*10)/6.4,IF(B438=data!$B$3,(O438*10)/4.8,IF(B438=data!$B$4,(O438*10)/7.1,IF(B438=data!$B$5,(O438*10)/5.2,\"zvolte typ stavby\"))))","v":77.8125},557205]
["II/114, III/1148 Hořovice, průtah","oprava a rekonstrukce","Rekonstrukce",7,10,8,6,6,10,7,0,5,10,4,{"$f":"IF(B439=data!$B$2,D439*0.7+E439*0.5+F439*0.2+G439*0.8+H439+I439*0.2+J439+K439*0.3+L439+M439*0.5+N439*0.2,IF(B439=data!$B$3,D439*0.1+E439*0.4+F439*0.3+G439*0.1+H439+J439+K439*0.5+L439+M439*0.4,IF(B439=data!$B$4,D439*0.6+E439*0.8+F439*0.7+G439+H439+J439+L439+N439,IF(B439=data!$B$5,D439*0.7+E439*0.8+F439+I439*0.7+J439+L439,\"zvolte typ stavby\"))))","v":42.099999999999994},{"$f":"IF(B439=data!$B$2,(O439*10)/6.4,IF(B439=data!$B$3,(O439*10)/4.8,IF(B439=data!$B$4,(O439*10)/7.1,IF(B439=data!$B$5,(O439*10)/5.2,\"zvolte typ stavby\"))))","v":65.781249999999986},34500000]
[null,null,null,null,null,null,null,null,null,null,null,null,null,null,{"$f":"IF(B440=data!$B$2,D440*0.7+E440*0.5+F440*0.2+G440*0.8+H440+I440*0.2+J440+K440*0.3+L440+M440*0.5+N440*0.2,IF(B440=data!$B$3,D440*0.1+E440*0.4+F440*0.3+G440*0.1+H440+J440+K440*0.5+L440+M440*0.4,IF(B440=data!$B$4,D440*0.6+E440*0.8+F440*0.7+G440+H440+J440+L440+N440,IF(B440=data!$B$5,D440*0.7+E440*0.8+F440+I440*0.7+J440+L440,\"zvolte typ stavby\"))))","v":"zvolte typ stavby"},{"$f":"IF(B440=data!$B$2,(O440*10)/6.4,IF(B440=data!$B$3,(O440*10)/4.8,IF(B440=data!$B$4,(O440*10)/7.1,IF(B440=data!$B$5,(O440*10)/5.2,\"zvolte typ stavby\"))))","v":"zvolte typ stavby"}]
[null,null,null,null,null,null,null,null,null,null,null,null,null,null,{"$f":"IF(B441=data!$B$2,D441*0.7+E441*0.5+F441*0.2+G441*0.8+H441+I441*0.2+J441+K441*0.3+L441+M441*0.5+N441*0.2,IF(B441=data!$B$3,D441*0.1+E441*0.4+F441*0.3+G441*0.1+H441+J441+K441*0.5+L441+M441*0.4,IF(B441=data!$B$4,D441*0.6+E441*0.8+F441*0.7+G441+H441+J441+L441+N441,IF(B441=data!$B$5,D441*0.7+E441*0.8+F441+I441*0.7+J441+L441,\"zvolte typ stavby\"))))","v":"zvolte typ stavby"},{"$f":"IF(B441=data!$B$2,(O441*10)/6.4,IF(B441=data!$B$3,(O441*10)/4.8,IF(B441=data!$B$4,(O441*10)/7.1,IF(B441=data!$B$5,(O441*10)/5.2,\"zvolte typ stavby\"))))","v":"zvolte typ stavby"}]
[null,null,null,null,null,null,null,null,null,null,null,null,null,null,{"$f":"IF(B442=data!$B$2,D442*0.7+E442*0.5+F442*0.2+G442*0.8+H442+I442*0.2+J442+K442*0.3+L442+M442*0.5+N442*0.2,IF(B442=data!$B$3,D442*0.1+E442*0.4+F442*0.3+G442*0.1+H442+J442+K442*0.5+L442+M442*0.4,IF(B442=data!$B$4,D442*0.6+E442*0.8+F442*0.7+G442+H442+J442+L442+N442,IF(B442=data!$B$5,D442*0.7+E442*0.8+F442+I442*0.7+J442+L442,\"zvolte typ stavby\"))))","v":"zvolte typ stavby"},{"$f":"IF(B442=data!$B$2,(O442*10)/6.4,IF(B442=data!$B$3,(O442*10)/4.8,IF(B442=data!$B$4,(O442*10)/7.1,IF(B442=data!$B$5,(O442*10)/5.2,\"zvolte typ stavby\"))))","v":"zvolte typ stavby"}]
[null,null,null,null,null,null,null,null,null,null,null,null,null,null,{"$f":"IF(B443=data!$B$2,D443*0.7+E443*0.5+F443*0.2+G443*0.8+H443+I443*0.2+J443+K443*0.3+L443+M443*0.5+N443*0.2,IF(B443=data!$B$3,D443*0.1+E443*0.4+F443*0.3+G443*0.1+H443+J443+K443*0.5+L443+M443*0.4,IF(B443=data!$B$4,D443*0.6+E443*0.8+F443*0.7+G443+H443+J443+L443+N443,IF(B443=data!$B$5,D443*0.7+E443*0.8+F443+I443*0.7+J443+L443,\"zvolte typ stavby\"))))","v":"zvolte typ stavby"},{"$f":"IF(B443=data!$B$2,(O443*10)/6.4,IF(B443=data!$B$3,(O443*10)/4.8,IF(B443=data!$B$4,(O443*10)/7.1,IF(B443=data!$B$5,(O443*10)/5.2,\"zvolte typ stavby\"))))","v":"zvolte typ stavby"}]
[null,null,null,null,null,null,null,null,null,null,null,null,null,null,{"$f":"IF(B444=data!$B$2,D444*0.7+E444*0.5+F444*0.2+G444*0.8+H444+I444*0.2+J444+K444*0.3+L444+M444*0.5+N444*0.2,IF(B444=data!$B$3,D444*0.1+E444*0.4+F444*0.3+G444*0.1+H444+J444+K444*0.5+L444+M444*0.4,IF(B444=data!$B$4,D444*0.6+E444*0.8+F444*0.7+G444+H444+J444+L444+N444,IF(B444=data!$B$5,D444*0.7+E444*0.8+F444+I444*0.7+J444+L444,\"zvolte typ stavby\"))))","v":"zvolte typ stavby"},{"$f":"IF(B444=data!$B$2,(O444*10)/6.4,IF(B444=data!$B$3,(O444*10)/4.8,IF(B444=data!$B$4,(O444*10)/7.1,IF(B444=data!$B$5,(O444*10)/5.2,\"zvolte typ stavby\"))))","v":"zvolte typ stavby"}]
[null,null,null,null,null,null,null,null,null,null,null,null,null,null,{"$f":"IF(B445=data!$B$2,D445*0.7+E445*0.5+F445*0.2+G445*0.8+H445+I445*0.2+J445+K445*0.3+L445+M445*0.5+N445*0.2,IF(B445=data!$B$3,D445*0.1+E445*0.4+F445*0.3+G445*0.1+H445+J445+K445*0.5+L445+M445*0.4,IF(B445=data!$B$4,D445*0.6+E445*0.8+F445*0.7+G445+H445+J445+L445+N445,IF(B445=data!$B$5,D445*0.7+E445*0.8+F445+I445*0.7+J445+L445,\"zvolte typ stavby\"))))","v":"zvolte typ stavby"},{"$f":"IF(B445=data!$B$2,(O445*10)/6.4,IF(B445=data!$B$3,(O445*10)/4.8,IF(B445=data!$B$4,(O445*10)/7.1,IF(B445=data!$B$5,(O445*10)/5.2,\"zvolte typ stavby\"))))","v":"zvolte typ stavby"}]
[null,null,null,null,null,null,null,null,null,null,null,null,null,null,{"$f":"IF(B446=data!$B$2,D446*0.7+E446*0.5+F446*0.2+G446*0.8+H446+I446*0.2+J446+K446*0.3+L446+M446*0.5+N446*0.2,IF(B446=data!$B$3,D446*0.1+E446*0.4+F446*0.3+G446*0.1+H446+J446+K446*0.5+L446+M446*0.4,IF(B446=data!$B$4,D446*0.6+E446*0.8+F446*0.7+G446+H446+J446+L446+N446,IF(B446=data!$B$5,D446*0.7+E446*0.8+F446+I446*0.7+J446+L446,\"zvolte typ stavby\"))))","v":"zvolte typ stavby"},{"$f":"IF(B446=data!$B$2,(O446*10)/6.4,IF(B446=data!$B$3,(O446*10)/4.8,IF(B446=data!$B$4,(O446*10)/7.1,IF(B446=data!$B$5,(O446*10)/5.2,\"zvolte typ stavby\"))))","v":"zvolte typ stavby"}]
[null,null,null,null,null,null,null,null,null,null,null,null,null,null,{"$f":"IF(B447=data!$B$2,D447*0.7+E447*0.5+F447*0.2+G447*0.8+H447+I447*0.2+J447+K447*0.3+L447+M447*0.5+N447*0.2,IF(B447=data!$B$3,D447*0.1+E447*0.4+F447*0.3+G447*0.1+H447+J447+K447*0.5+L447+M447*0.4,IF(B447=data!$B$4,D447*0.6+E447*0.8+F447*0.7+G447+H447+J447+L447+N447,IF(B447=data!$B$5,D447*0.7+E447*0.8+F447+I447*0.7+J447+L447,\"zvolte typ stavby\"))))","v":"zvolte typ stavby"},{"$f":"IF(B447=data!$B$2,(O447*10)/6.4,IF(B447=data!$B$3,(O447*10)/4.8,IF(B447=data!$B$4,(O447*10)/7.1,IF(B447=data!$B$5,(O447*10)/5.2,\"zvolte typ stavby\"))))","v":"zvolte typ stavby"}]
[null,null,null,null,null,null,null,null,null,null,null,null,null,null,{"$f":"IF(B448=data!$B$2,D448*0.7+E448*0.5+F448*0.2+G448*0.8+H448+I448*0.2+J448+K448*0.3+L448+M448*0.5+N448*0.2,IF(B448=data!$B$3,D448*0.1+E448*0.4+F448*0.3+G448*0.1+H448+J448+K448*0.5+L448+M448*0.4,IF(B448=data!$B$4,D448*0.6+E448*0.8+F448*0.7+G448+H448+J448+L448+N448,IF(B448=data!$B$5,D448*0.7+E448*0.8+F448+I448*0.7+J448+L448,\"zvolte typ stavby\"))))","v":"zvolte typ stavby"},{"$f":"IF(B448=data!$B$2,(O448*10)/6.4,IF(B448=data!$B$3,(O448*10)/4.8,IF(B448=data!$B$4,(O448*10)/7.1,IF(B448=data!$B$5,(O448*10)/5.2,\"zvolte typ stavby\"))))","v":"zvolte typ stavby"}]
[null,null,null,null,null,null,null,null,null,null,null,null,null,null,{"$f":"IF(B449=data!$B$2,D449*0.7+E449*0.5+F449*0.2+G449*0.8+H449+I449*0.2+J449+K449*0.3+L449+M449*0.5+N449*0.2,IF(B449=data!$B$3,D449*0.1+E449*0.4+F449*0.3+G449*0.1+H449+J449+K449*0.5+L449+M449*0.4,IF(B449=data!$B$4,D449*0.6+E449*0.8+F449*0.7+G449+H449+J449+L449+N449,IF(B449=data!$B$5,D449*0.7+E449*0.8+F449+I449*0.7+J449+L449,\"zvolte typ stavby\"))))","v":"zvolte typ stavby"},{"$f":"IF(B449=data!$B$2,(O449*10)/6.4,IF(B449=data!$B$3,(O449*10)/4.8,IF(B449=data!$B$4,(O449*10)/7.1,IF(B449=data!$B$5,(O449*10)/5.2,\"zvolte typ stavby\"))))","v":"zvolte typ stavby"}]
[null,null,null,null,null,null,null,null,null,null,null,null,null,null,{"$f":"IF(B450=data!$B$2,D450*0.7+E450*0.5+F450*0.2+G450*0.8+H450+I450*0.2+J450+K450*0.3+L450+M450*0.5+N450*0.2,IF(B450=data!$B$3,D450*0.1+E450*0.4+F450*0.3+G450*0.1+H450+J450+K450*0.5+L450+M450*0.4,IF(B450=data!$B$4,D450*0.6+E450*0.8+F450*0.7+G450+H450+J450+L450+N450,IF(B450=data!$B$5,D450*0.7+E450*0.8+F450+I450*0.7+J450+L450,\"zvolte typ stavby\"))))","v":"zvolte typ stavby"},{"$f":"IF(B450=data!$B$2,(O450*10)/6.4,IF(B450=data!$B$3,(O450*10)/4.8,IF(B450=data!$B$4,(O450*10)/7.1,IF(B450=data!$B$5,(O450*10)/5.2,\"zvolte typ stavby\"))))","v":"zvolte typ stavby"}]
[null,null,null,null,null,null,null,null,null,null,null,null,null,null,{"$f":"IF(B451=data!$B$2,D451*0.7+E451*0.5+F451*0.2+G451*0.8+H451+I451*0.2+J451+K451*0.3+L451+M451*0.5+N451*0.2,IF(B451=data!$B$3,D451*0.1+E451*0.4+F451*0.3+G451*0.1+H451+J451+K451*0.5+L451+M451*0.4,IF(B451=data!$B$4,D451*0.6+E451*0.8+F451*0.7+G451+H451+J451+L451+N451,IF(B451=data!$B$5,D451*0.7+E451*0.8+F451+I451*0.7+J451+L451,\"zvolte typ stavby\"))))","v":"zvolte typ stavby"},{"$f":"IF(B451=data!$B$2,(O451*10)/6.4,IF(B451=data!$B$3,(O451*10)/4.8,IF(B451=data!$B$4,(O451*10)/7.1,IF(B451=data!$B$5,(O451*10)/5.2,\"zvolte typ stavby\"))))","v":"zvolte typ stavby"}]
[null,null,null,null,null,null,null,null,null,null,null,null,null,null,{"$f":"IF(B452=data!$B$2,D452*0.7+E452*0.5+F452*0.2+G452*0.8+H452+I452*0.2+J452+K452*0.3+L452+M452*0.5+N452*0.2,IF(B452=data!$B$3,D452*0.1+E452*0.4+F452*0.3+G452*0.1+H452+J452+K452*0.5+L452+M452*0.4,IF(B452=data!$B$4,D452*0.6+E452*0.8+F452*0.7+G452+H452+J452+L452+N452,IF(B452=data!$B$5,D452*0.7+E452*0.8+F452+I452*0.7+J452+L452,\"zvolte typ stavby\"))))","v":"zvolte typ stavby"},{"$f":"IF(B452=data!$B$2,(O452*10)/6.4,IF(B452=data!$B$3,(O452*10)/4.8,IF(B452=data!$B$4,(O452*10)/7.1,IF(B452=data!$B$5,(O452*10)/5.2,\"zvolte typ stavby\"))))","v":"zvolte typ stavby"}]
[null,null,null,null,null,null,null,null,null,null,null,null,null,null,{"$f":"IF(B453=data!$B$2,D453*0.7+E453*0.5+F453*0.2+G453*0.8+H453+I453*0.2+J453+K453*0.3+L453+M453*0.5+N453*0.2,IF(B453=data!$B$3,D453*0.1+E453*0.4+F453*0.3+G453*0.1+H453+J453+K453*0.5+L453+M453*0.4,IF(B453=data!$B$4,D453*0.6+E453*0.8+F453*0.7+G453+H453+J453+L453+N453,IF(B453=data!$B$5,D453*0.7+E453*0.8+F453+I453*0.7+J453+L453,\"zvolte typ stavby\"))))","v":"zvolte typ stavby"},{"$f":"IF(B453=data!$B$2,(O453*10)/6.4,IF(B453=data!$B$3,(O453*10)/4.8,IF(B453=data!$B$4,(O453*10)/7.1,IF(B453=data!$B$5,(O453*10)/5.2,\"zvolte typ stavby\"))))","v":"zvolte typ stavby"}]
[null,null,null,null,null,null,null,null,null,null,null,null,null,null,{"$f":"IF(B454=data!$B$2,D454*0.7+E454*0.5+F454*0.2+G454*0.8+H454+I454*0.2+J454+K454*0.3+L454+M454*0.5+N454*0.2,IF(B454=data!$B$3,D454*0.1+E454*0.4+F454*0.3+G454*0.1+H454+J454+K454*0.5+L454+M454*0.4,IF(B454=data!$B$4,D454*0.6+E454*0.8+F454*0.7+G454+H454+J454+L454+N454,IF(B454=data!$B$5,D454*0.7+E454*0.8+F454+I454*0.7+J454+L454,\"zvolte typ stavby\"))))","v":"zvolte typ stavby"},{"$f":"IF(B454=data!$B$2,(O454*10)/6.4,IF(B454=data!$B$3,(O454*10)/4.8,IF(B454=data!$B$4,(O454*10)/7.1,IF(B454=data!$B$5,(O454*10)/5.2,\"zvolte typ stavby\"))))","v":"zvolte typ stavby"}]
[null,null,null,null,null,null,null,null,null,null,null,null,null,null,{"$f":"IF(B455=data!$B$2,D455*0.7+E455*0.5+F455*0.2+G455*0.8+H455+I455*0.2+J455+K455*0.3+L455+M455*0.5+N455*0.2,IF(B455=data!$B$3,D455*0.1+E455*0.4+F455*0.3+G455*0.1+H455+J455+K455*0.5+L455+M455*0.4,IF(B455=data!$B$4,D455*0.6+E455*0.8+F455*0.7+G455+H455+J455+L455+N455,IF(B455=data!$B$5,D455*0.7+E455*0.8+F455+I455*0.7+J455+L455,\"zvolte typ stavby\"))))","v":"zvolte typ stavby"},{"$f":"IF(B455=data!$B$2,(O455*10)/6.4,IF(B455=data!$B$3,(O455*10)/4.8,IF(B455=data!$B$4,(O455*10)/7.1,IF(B455=data!$B$5,(O455*10)/5.2,\"zvolte typ stavby\"))))","v":"zvolte typ stavby"}]
[null,null,null,null,null,null,null,null,null,null,null,null,null,null,{"$f":"IF(B456=data!$B$2,D456*0.7+E456*0.5+F456*0.2+G456*0.8+H456+I456*0.2+J456+K456*0.3+L456+M456*0.5+N456*0.2,IF(B456=data!$B$3,D456*0.1+E456*0.4+F456*0.3+G456*0.1+H456+J456+K456*0.5+L456+M456*0.4,IF(B456=data!$B$4,D456*0.6+E456*0.8+F456*0.7+G456+H456+J456+L456+N456,IF(B456=data!$B$5,D456*0.7+E456*0.8+F456+I456*0.7+J456+L456,\"zvolte typ stavby\"))))","v":"zvolte typ stavby"},{"$f":"IF(B456=data!$B$2,(O456*10)/6.4,IF(B456=data!$B$3,(O456*10)/4.8,IF(B456=data!$B$4,(O456*10)/7.1,IF(B456=data!$B$5,(O456*10)/5.2,\"zvolte typ stavby\"))))","v":"zvolte typ stavby"}]
[null,null,null,null,null,null,null,null,null,null,null,null,null,null,{"$f":"IF(B457=data!$B$2,D457*0.7+E457*0.5+F457*0.2+G457*0.8+H457+I457*0.2+J457+K457*0.3+L457+M457*0.5+N457*0.2,IF(B457=data!$B$3,D457*0.1+E457*0.4+F457*0.3+G457*0.1+H457+J457+K457*0.5+L457+M457*0.4,IF(B457=data!$B$4,D457*0.6+E457*0.8+F457*0.7+G457+H457+J457+L457+N457,IF(B457=data!$B$5,D457*0.7+E457*0.8+F457+I457*0.7+J457+L457,\"zvolte typ stavby\"))))","v":"zvolte typ stavby"},{"$f":"IF(B457=data!$B$2,(O457*10)/6.4,IF(B457=data!$B$3,(O457*10)/4.8,IF(B457=data!$B$4,(O457*10)/7.1,IF(B457=data!$B$5,(O457*10)/5.2,\"zvolte typ stavby\"))))","v":"zvolte typ stavby"}]
[null,null,null,null,null,null,null,null,null,null,null,null,null,null,{"$f":"IF(B458=data!$B$2,D458*0.7+E458*0.5+F458*0.2+G458*0.8+H458+I458*0.2+J458+K458*0.3+L458+M458*0.5+N458*0.2,IF(B458=data!$B$3,D458*0.1+E458*0.4+F458*0.3+G458*0.1+H458+J458+K458*0.5+L458+M458*0.4,IF(B458=data!$B$4,D458*0.6+E458*0.8+F458*0.7+G458+H458+J458+L458+N458,IF(B458=data!$B$5,D458*0.7+E458*0.8+F458+I458*0.7+J458+L458,\"zvolte typ stavby\"))))","v":"zvolte typ stavby"},{"$f":"IF(B458=data!$B$2,(O458*10)/6.4,IF(B458=data!$B$3,(O458*10)/4.8,IF(B458=data!$B$4,(O458*10)/7.1,IF(B458=data!$B$5,(O458*10)/5.2,\"zvolte typ stavby\"))))","v":"zvolte typ stavby"}]
[null,null,null,null,null,null,null,null,null,null,null,null,null,null,{"$f":"IF(B459=data!$B$2,D459*0.7+E459*0.5+F459*0.2+G459*0.8+H459+I459*0.2+J459+K459*0.3+L459+M459*0.5+N459*0.2,IF(B459=data!$B$3,D459*0.1+E459*0.4+F459*0.3+G459*0.1+H459+J459+K459*0.5+L459+M459*0.4,IF(B459=data!$B$4,D459*0.6+E459*0.8+F459*0.7+G459+H459+J459+L459+N459,IF(B459=data!$B$5,D459*0.7+E459*0.8+F459+I459*0.7+J459+L459,\"zvolte typ stavby\"))))","v":"zvolte typ stavby"},{"$f":"IF(B459=data!$B$2,(O459*10)/6.4,IF(B459=data!$B$3,(O459*10)/4.8,IF(B459=data!$B$4,(O459*10)/7.1,IF(B459=data!$B$5,(O459*10)/5.2,\"zvolte typ stavby\"))))","v":"zvolte typ stavby"}]
[null,null,null,null,null,null,null,null,null,null,null,null,null,null,{"$f":"IF(B460=data!$B$2,D460*0.7+E460*0.5+F460*0.2+G460*0.8+H460+I460*0.2+J460+K460*0.3+L460+M460*0.5+N460*0.2,IF(B460=data!$B$3,D460*0.1+E460*0.4+F460*0.3+G460*0.1+H460+J460+K460*0.5+L460+M460*0.4,IF(B460=data!$B$4,D460*0.6+E460*0.8+F460*0.7+G460+H460+J460+L460+N460,IF(B460=data!$B$5,D460*0.7+E460*0.8+F460+I460*0.7+J460+L460,\"zvolte typ stavby\"))))","v":"zvolte typ stavby"},{"$f":"IF(B460=data!$B$2,(O460*10)/6.4,IF(B460=data!$B$3,(O460*10)/4.8,IF(B460=data!$B$4,(O460*10)/7.1,IF(B460=data!$B$5,(O460*10)/5.2,\"zvolte typ stavby\"))))","v":"zvolte typ stavby"}]
[null,null,null,null,null,null,null,null,null,null,null,null,null,null,{"$f":"IF(B461=data!$B$2,D461*0.7+E461*0.5+F461*0.2+G461*0.8+H461+I461*0.2+J461+K461*0.3+L461+M461*0.5+N461*0.2,IF(B461=data!$B$3,D461*0.1+E461*0.4+F461*0.3+G461*0.1+H461+J461+K461*0.5+L461+M461*0.4,IF(B461=data!$B$4,D461*0.6+E461*0.8+F461*0.7+G461+H461+J461+L461+N461,IF(B461=data!$B$5,D461*0.7+E461*0.8+F461+I461*0.7+J461+L461,\"zvolte typ stavby\"))))","v":"zvolte typ stavby"},{"$f":"IF(B461=data!$B$2,(O461*10)/6.4,IF(B461=data!$B$3,(O461*10)/4.8,IF(B461=data!$B$4,(O461*10)/7.1,IF(B461=data!$B$5,(O461*10)/5.2,\"zvolte typ stavby\"))))","v":"zvolte typ stavby"}]
[null,null,null,null,null,null,null,null,null,null,null,null,null,null,{"$f":"IF(B462=data!$B$2,D462*0.7+E462*0.5+F462*0.2+G462*0.8+H462+I462*0.2+J462+K462*0.3+L462+M462*0.5+N462*0.2,IF(B462=data!$B$3,D462*0.1+E462*0.4+F462*0.3+G462*0.1+H462+J462+K462*0.5+L462+M462*0.4,IF(B462=data!$B$4,D462*0.6+E462*0.8+F462*0.7+G462+H462+J462+L462+N462,IF(B462=data!$B$5,D462*0.7+E462*0.8+F462+I462*0.7+J462+L462,\"zvolte typ stavby\"))))","v":"zvolte typ stavby"},{"$f":"IF(B462=data!$B$2,(O462*10)/6.4,IF(B462=data!$B$3,(O462*10)/4.8,IF(B462=data!$B$4,(O462*10)/7.1,IF(B462=data!$B$5,(O462*10)/5.2,\"zvolte typ stavby\"))))","v":"zvolte typ stavby"}]
[null,null,null,null,null,null,null,null,null,null,null,null,null,null,{"$f":"IF(B463=data!$B$2,D463*0.7+E463*0.5+F463*0.2+G463*0.8+H463+I463*0.2+J463+K463*0.3+L463+M463*0.5+N463*0.2,IF(B463=data!$B$3,D463*0.1+E463*0.4+F463*0.3+G463*0.1+H463+J463+K463*0.5+L463+M463*0.4,IF(B463=data!$B$4,D463*0.6+E463*0.8+F463*0.7+G463+H463+J463+L463+N463,IF(B463=data!$B$5,D463*0.7+E463*0.8+F463+I463*0.7+J463+L463,\"zvolte typ stavby\"))))","v":"zvolte typ stavby"},{"$f":"IF(B463=data!$B$2,(O463*10)/6.4,IF(B463=data!$B$3,(O463*10)/4.8,IF(B463=data!$B$4,(O463*10)/7.1,IF(B463=data!$B$5,(O463*10)/5.2,\"zvolte typ stavby\"))))","v":"zvolte typ stavby"}]
[null,null,null,null,null,null,null,null,null,null,null,null,null,null,{"$f":"IF(B464=data!$B$2,D464*0.7+E464*0.5+F464*0.2+G464*0.8+H464+I464*0.2+J464+K464*0.3+L464+M464*0.5+N464*0.2,IF(B464=data!$B$3,D464*0.1+E464*0.4+F464*0.3+G464*0.1+H464+J464+K464*0.5+L464+M464*0.4,IF(B464=data!$B$4,D464*0.6+E464*0.8+F464*0.7+G464+H464+J464+L464+N464,IF(B464=data!$B$5,D464*0.7+E464*0.8+F464+I464*0.7+J464+L464,\"zvolte typ stavby\"))))","v":"zvolte typ stavby"},{"$f":"IF(B464=data!$B$2,(O464*10)/6.4,IF(B464=data!$B$3,(O464*10)/4.8,IF(B464=data!$B$4,(O464*10)/7.1,IF(B464=data!$B$5,(O464*10)/5.2,\"zvolte typ stavby\"))))","v":"zvolte typ stavby"}]
[null,null,null,null,null,null,null,null,null,null,null,null,null,null,{"$f":"IF(B465=data!$B$2,D465*0.7+E465*0.5+F465*0.2+G465*0.8+H465+I465*0.2+J465+K465*0.3+L465+M465*0.5+N465*0.2,IF(B465=data!$B$3,D465*0.1+E465*0.4+F465*0.3+G465*0.1+H465+J465+K465*0.5+L465+M465*0.4,IF(B465=data!$B$4,D465*0.6+E465*0.8+F465*0.7+G465+H465+J465+L465+N465,IF(B465=data!$B$5,D465*0.7+E465*0.8+F465+I465*0.7+J465+L465,\"zvolte typ stavby\"))))","v":"zvolte typ stavby"},{"$f":"IF(B465=data!$B$2,(O465*10)/6.4,IF(B465=data!$B$3,(O465*10)/4.8,IF(B465=data!$B$4,(O465*10)/7.1,IF(B465=data!$B$5,(O465*10)/5.2,\"zvolte typ stavby\"))))","v":"zvolte typ stavby"}]
[null,null,null,null,null,null,null,null,null,null,null,null,null,null,{"$f":"IF(B466=data!$B$2,D466*0.7+E466*0.5+F466*0.2+G466*0.8+H466+I466*0.2+J466+K466*0.3+L466+M466*0.5+N466*0.2,IF(B466=data!$B$3,D466*0.1+E466*0.4+F466*0.3+G466*0.1+H466+J466+K466*0.5+L466+M466*0.4,IF(B466=data!$B$4,D466*0.6+E466*0.8+F466*0.7+G466+H466+J466+L466+N466,IF(B466=data!$B$5,D466*0.7+E466*0.8+F466+I466*0.7+J466+L466,\"zvolte typ stavby\"))))","v":"zvolte typ stavby"},{"$f":"IF(B466=data!$B$2,(O466*10)/6.4,IF(B466=data!$B$3,(O466*10)/4.8,IF(B466=data!$B$4,(O466*10)/7.1,IF(B466=data!$B$5,(O466*10)/5.2,\"zvolte typ stavby\"))))","v":"zvolte typ stavby"}]
[null,null,null,null,null,null,null,null,null,null,null,null,null,null,{"$f":"IF(B467=data!$B$2,D467*0.7+E467*0.5+F467*0.2+G467*0.8+H467+I467*0.2+J467+K467*0.3+L467+M467*0.5+N467*0.2,IF(B467=data!$B$3,D467*0.1+E467*0.4+F467*0.3+G467*0.1+H467+J467+K467*0.5+L467+M467*0.4,IF(B467=data!$B$4,D467*0.6+E467*0.8+F467*0.7+G467+H467+J467+L467+N467,IF(B467=data!$B$5,D467*0.7+E467*0.8+F467+I467*0.7+J467+L467,\"zvolte typ stavby\"))))","v":"zvolte typ stavby"},{"$f":"IF(B467=data!$B$2,(O467*10)/6.4,IF(B467=data!$B$3,(O467*10)/4.8,IF(B467=data!$B$4,(O467*10)/7.1,IF(B467=data!$B$5,(O467*10)/5.2,\"zvolte typ stavby\"))))","v":"zvolte typ stavby"}]
[null,null,null,null,null,null,null,null,null,null,null,null,null,null,{"$f":"IF(B468=data!$B$2,D468*0.7+E468*0.5+F468*0.2+G468*0.8+H468+I468*0.2+J468+K468*0.3+L468+M468*0.5+N468*0.2,IF(B468=data!$B$3,D468*0.1+E468*0.4+F468*0.3+G468*0.1+H468+J468+K468*0.5+L468+M468*0.4,IF(B468=data!$B$4,D468*0.6+E468*0.8+F468*0.7+G468+H468+J468+L468+N468,IF(B468=data!$B$5,D468*0.7+E468*0.8+F468+I468*0.7+J468+L468,\"zvolte typ stavby\"))))","v":"zvolte typ stavby"},{"$f":"IF(B468=data!$B$2,(O468*10)/6.4,IF(B468=data!$B$3,(O468*10)/4.8,IF(B468=data!$B$4,(O468*10)/7.1,IF(B468=data!$B$5,(O468*10)/5.2,\"zvolte typ stavby\"))))","v":"zvolte typ stavby"}]
[null,null,null,null,null,null,null,null,null,null,null,null,null,null,{"$f":"IF(B469=data!$B$2,D469*0.7+E469*0.5+F469*0.2+G469*0.8+H469+I469*0.2+J469+K469*0.3+L469+M469*0.5+N469*0.2,IF(B469=data!$B$3,D469*0.1+E469*0.4+F469*0.3+G469*0.1+H469+J469+K469*0.5+L469+M469*0.4,IF(B469=data!$B$4,D469*0.6+E469*0.8+F469*0.7+G469+H469+J469+L469+N469,IF(B469=data!$B$5,D469*0.7+E469*0.8+F469+I469*0.7+J469+L469,\"zvolte typ stavby\"))))","v":"zvolte typ stavby"},{"$f":"IF(B469=data!$B$2,(O469*10)/6.4,IF(B469=data!$B$3,(O469*10)/4.8,IF(B469=data!$B$4,(O469*10)/7.1,IF(B469=data!$B$5,(O469*10)/5.2,\"zvolte typ stavby\"))))","v":"zvolte typ stavby"}]
[null,null,null,null,null,null,null,null,null,null,null,null,null,null,{"$f":"IF(B470=data!$B$2,D470*0.7+E470*0.5+F470*0.2+G470*0.8+H470+I470*0.2+J470+K470*0.3+L470+M470*0.5+N470*0.2,IF(B470=data!$B$3,D470*0.1+E470*0.4+F470*0.3+G470*0.1+H470+J470+K470*0.5+L470+M470*0.4,IF(B470=data!$B$4,D470*0.6+E470*0.8+F470*0.7+G470+H470+J470+L470+N470,IF(B470=data!$B$5,D470*0.7+E470*0.8+F470+I470*0.7+J470+L470,\"zvolte typ stavby\"))))","v":"zvolte typ stavby"},{"$f":"IF(B470=data!$B$2,(O470*10)/6.4,IF(B470=data!$B$3,(O470*10)/4.8,IF(B470=data!$B$4,(O470*10)/7.1,IF(B470=data!$B$5,(O470*10)/5.2,\"zvolte typ stavby\"))))","v":"zvolte typ stavby"}]
[null,null,null,null,null,null,null,null,null,null,null,null,null,null,{"$f":"IF(B471=data!$B$2,D471*0.7+E471*0.5+F471*0.2+G471*0.8+H471+I471*0.2+J471+K471*0.3+L471+M471*0.5+N471*0.2,IF(B471=data!$B$3,D471*0.1+E471*0.4+F471*0.3+G471*0.1+H471+J471+K471*0.5+L471+M471*0.4,IF(B471=data!$B$4,D471*0.6+E471*0.8+F471*0.7+G471+H471+J471+L471+N471,IF(B471=data!$B$5,D471*0.7+E471*0.8+F471+I471*0.7+J471+L471,\"zvolte typ stavby\"))))","v":"zvolte typ stavby"},{"$f":"IF(B471=data!$B$2,(O471*10)/6.4,IF(B471=data!$B$3,(O471*10)/4.8,IF(B471=data!$B$4,(O471*10)/7.1,IF(B471=data!$B$5,(O471*10)/5.2,\"zvolte typ stavby\"))))","v":"zvolte typ stavby"}]
[null,null,null,null,null,null,null,null,null,null,null,null,null,null,{"$f":"IF(B472=data!$B$2,D472*0.7+E472*0.5+F472*0.2+G472*0.8+H472+I472*0.2+J472+K472*0.3+L472+M472*0.5+N472*0.2,IF(B472=data!$B$3,D472*0.1+E472*0.4+F472*0.3+G472*0.1+H472+J472+K472*0.5+L472+M472*0.4,IF(B472=data!$B$4,D472*0.6+E472*0.8+F472*0.7+G472+H472+J472+L472+N472,IF(B472=data!$B$5,D472*0.7+E472*0.8+F472+I472*0.7+J472+L472,\"zvolte typ stavby\"))))","v":"zvolte typ stavby"},{"$f":"IF(B472=data!$B$2,(O472*10)/6.4,IF(B472=data!$B$3,(O472*10)/4.8,IF(B472=data!$B$4,(O472*10)/7.1,IF(B472=data!$B$5,(O472*10)/5.2,\"zvolte typ stavby\"))))","v":"zvolte typ stavby"}]
[null,null,null,null,null,null,null,null,null,null,null,null,null,null,{"$f":"IF(B473=data!$B$2,D473*0.7+E473*0.5+F473*0.2+G473*0.8+H473+I473*0.2+J473+K473*0.3+L473+M473*0.5+N473*0.2,IF(B473=data!$B$3,D473*0.1+E473*0.4+F473*0.3+G473*0.1+H473+J473+K473*0.5+L473+M473*0.4,IF(B473=data!$B$4,D473*0.6+E473*0.8+F473*0.7+G473+H473+J473+L473+N473,IF(B473=data!$B$5,D473*0.7+E473*0.8+F473+I473*0.7+J473+L473,\"zvolte typ stavby\"))))","v":"zvolte typ stavby"},{"$f":"IF(B473=data!$B$2,(O473*10)/6.4,IF(B473=data!$B$3,(O473*10)/4.8,IF(B473=data!$B$4,(O473*10)/7.1,IF(B473=data!$B$5,(O473*10)/5.2,\"zvolte typ stavby\"))))","v":"zvolte typ stavby"}]
[null,null,null,null,null,null,null,null,null,null,null,null,null,null,{"$f":"IF(B474=data!$B$2,D474*0.7+E474*0.5+F474*0.2+G474*0.8+H474+I474*0.2+J474+K474*0.3+L474+M474*0.5+N474*0.2,IF(B474=data!$B$3,D474*0.1+E474*0.4+F474*0.3+G474*0.1+H474+J474+K474*0.5+L474+M474*0.4,IF(B474=data!$B$4,D474*0.6+E474*0.8+F474*0.7+G474+H474+J474+L474+N474,IF(B474=data!$B$5,D474*0.7+E474*0.8+F474+I474*0.7+J474+L474,\"zvolte typ stavby\"))))","v":"zvolte typ stavby"},{"$f":"IF(B474=data!$B$2,(O474*10)/6.4,IF(B474=data!$B$3,(O474*10)/4.8,IF(B474=data!$B$4,(O474*10)/7.1,IF(B474=data!$B$5,(O474*10)/5.2,\"zvolte typ stavby\"))))","v":"zvolte typ stavby"}]
[null,null,null,null,null,null,null,null,null,null,null,null,null,null,{"$f":"IF(B475=data!$B$2,D475*0.7+E475*0.5+F475*0.2+G475*0.8+H475+I475*0.2+J475+K475*0.3+L475+M475*0.5+N475*0.2,IF(B475=data!$B$3,D475*0.1+E475*0.4+F475*0.3+G475*0.1+H475+J475+K475*0.5+L475+M475*0.4,IF(B475=data!$B$4,D475*0.6+E475*0.8+F475*0.7+G475+H475+J475+L475+N475,IF(B475=data!$B$5,D475*0.7+E475*0.8+F475+I475*0.7+J475+L475,\"zvolte typ stavby\"))))","v":"zvolte typ stavby"},{"$f":"IF(B475=data!$B$2,(O475*10)/6.4,IF(B475=data!$B$3,(O475*10)/4.8,IF(B475=data!$B$4,(O475*10)/7.1,IF(B475=data!$B$5,(O475*10)/5.2,\"zvolte typ stavby\"))))","v":"zvolte typ stavby"}]
[null,null,null,null,null,null,null,null,null,null,null,null,null,null,{"$f":"IF(B476=data!$B$2,D476*0.7+E476*0.5+F476*0.2+G476*0.8+H476+I476*0.2+J476+K476*0.3+L476+M476*0.5+N476*0.2,IF(B476=data!$B$3,D476*0.1+E476*0.4+F476*0.3+G476*0.1+H476+J476+K476*0.5+L476+M476*0.4,IF(B476=data!$B$4,D476*0.6+E476*0.8+F476*0.7+G476+H476+J476+L476+N476,IF(B476=data!$B$5,D476*0.7+E476*0.8+F476+I476*0.7+J476+L476,\"zvolte typ stavby\"))))","v":"zvolte typ stavby"},{"$f":"IF(B476=data!$B$2,(O476*10)/6.4,IF(B476=data!$B$3,(O476*10)/4.8,IF(B476=data!$B$4,(O476*10)/7.1,IF(B476=data!$B$5,(O476*10)/5.2,\"zvolte typ stavby\"))))","v":"zvolte typ stavby"}]
[null,null,null,null,null,null,null,null,null,null,null,null,null,null,{"$f":"IF(B477=data!$B$2,D477*0.7+E477*0.5+F477*0.2+G477*0.8+H477+I477*0.2+J477+K477*0.3+L477+M477*0.5+N477*0.2,IF(B477=data!$B$3,D477*0.1+E477*0.4+F477*0.3+G477*0.1+H477+J477+K477*0.5+L477+M477*0.4,IF(B477=data!$B$4,D477*0.6+E477*0.8+F477*0.7+G477+H477+J477+L477+N477,IF(B477=data!$B$5,D477*0.7+E477*0.8+F477+I477*0.7+J477+L477,\"zvolte typ stavby\"))))","v":"zvolte typ stavby"},{"$f":"IF(B477=data!$B$2,(O477*10)/6.4,IF(B477=data!$B$3,(O477*10)/4.8,IF(B477=data!$B$4,(O477*10)/7.1,IF(B477=data!$B$5,(O477*10)/5.2,\"zvolte typ stavby\"))))","v":"zvolte typ stavby"}]
[null,null,null,null,null,null,null,null,null,null,null,null,null,null,{"$f":"IF(B478=data!$B$2,D478*0.7+E478*0.5+F478*0.2+G478*0.8+H478+I478*0.2+J478+K478*0.3+L478+M478*0.5+N478*0.2,IF(B478=data!$B$3,D478*0.1+E478*0.4+F478*0.3+G478*0.1+H478+J478+K478*0.5+L478+M478*0.4,IF(B478=data!$B$4,D478*0.6+E478*0.8+F478*0.7+G478+H478+J478+L478+N478,IF(B478=data!$B$5,D478*0.7+E478*0.8+F478+I478*0.7+J478+L478,\"zvolte typ stavby\"))))","v":"zvolte typ stavby"},{"$f":"IF(B478=data!$B$2,(O478*10)/6.4,IF(B478=data!$B$3,(O478*10)/4.8,IF(B478=data!$B$4,(O478*10)/7.1,IF(B478=data!$B$5,(O478*10)/5.2,\"zvolte typ stavby\"))))","v":"zvolte typ stavby"}]
[null,null,null,null,null,null,null,null,null,null,null,null,null,null,{"$f":"IF(B479=data!$B$2,D479*0.7+E479*0.5+F479*0.2+G479*0.8+H479+I479*0.2+J479+K479*0.3+L479+M479*0.5+N479*0.2,IF(B479=data!$B$3,D479*0.1+E479*0.4+F479*0.3+G479*0.1+H479+J479+K479*0.5+L479+M479*0.4,IF(B479=data!$B$4,D479*0.6+E479*0.8+F479*0.7+G479+H479+J479+L479+N479,IF(B479=data!$B$5,D479*0.7+E479*0.8+F479+I479*0.7+J479+L479,\"zvolte typ stavby\"))))","v":"zvolte typ stavby"},{"$f":"IF(B479=data!$B$2,(O479*10)/6.4,IF(B479=data!$B$3,(O479*10)/4.8,IF(B479=data!$B$4,(O479*10)/7.1,IF(B479=data!$B$5,(O479*10)/5.2,\"zvolte typ stavby\"))))","v":"zvolte typ stavby"}]
[null,null,null,null,null,null,null,null,null,null,null,null,null,null,{"$f":"IF(B480=data!$B$2,D480*0.7+E480*0.5+F480*0.2+G480*0.8+H480+I480*0.2+J480+K480*0.3+L480+M480*0.5+N480*0.2,IF(B480=data!$B$3,D480*0.1+E480*0.4+F480*0.3+G480*0.1+H480+J480+K480*0.5+L480+M480*0.4,IF(B480=data!$B$4,D480*0.6+E480*0.8+F480*0.7+G480+H480+J480+L480+N480,IF(B480=data!$B$5,D480*0.7+E480*0.8+F480+I480*0.7+J480+L480,\"zvolte typ stavby\"))))","v":"zvolte typ stavby"},{"$f":"IF(B480=data!$B$2,(O480*10)/6.4,IF(B480=data!$B$3,(O480*10)/4.8,IF(B480=data!$B$4,(O480*10)/7.1,IF(B480=data!$B$5,(O480*10)/5.2,\"zvolte typ stavby\"))))","v":"zvolte typ stavby"}]
[null,null,null,null,null,null,null,null,null,null,null,null,null,null,{"$f":"IF(B481=data!$B$2,D481*0.7+E481*0.5+F481*0.2+G481*0.8+H481+I481*0.2+J481+K481*0.3+L481+M481*0.5+N481*0.2,IF(B481=data!$B$3,D481*0.1+E481*0.4+F481*0.3+G481*0.1+H481+J481+K481*0.5+L481+M481*0.4,IF(B481=data!$B$4,D481*0.6+E481*0.8+F481*0.7+G481+H481+J481+L481+N481,IF(B481=data!$B$5,D481*0.7+E481*0.8+F481+I481*0.7+J481+L481,\"zvolte typ stavby\"))))","v":"zvolte typ stavby"},{"$f":"IF(B481=data!$B$2,(O481*10)/6.4,IF(B481=data!$B$3,(O481*10)/4.8,IF(B481=data!$B$4,(O481*10)/7.1,IF(B481=data!$B$5,(O481*10)/5.2,\"zvolte typ stavby\"))))","v":"zvolte typ stavby"}]
[null,null,null,null,null,null,null,null,null,null,null,null,null,null,{"$f":"IF(B482=data!$B$2,D482*0.7+E482*0.5+F482*0.2+G482*0.8+H482+I482*0.2+J482+K482*0.3+L482+M482*0.5+N482*0.2,IF(B482=data!$B$3,D482*0.1+E482*0.4+F482*0.3+G482*0.1+H482+J482+K482*0.5+L482+M482*0.4,IF(B482=data!$B$4,D482*0.6+E482*0.8+F482*0.7+G482+H482+J482+L482+N482,IF(B482=data!$B$5,D482*0.7+E482*0.8+F482+I482*0.7+J482+L482,\"zvolte typ stavby\"))))","v":"zvolte typ stavby"},{"$f":"IF(B482=data!$B$2,(O482*10)/6.4,IF(B482=data!$B$3,(O482*10)/4.8,IF(B482=data!$B$4,(O482*10)/7.1,IF(B482=data!$B$5,(O482*10)/5.2,\"zvolte typ stavby\"))))","v":"zvolte typ stavby"}]
[null,null,null,null,null,null,null,null,null,null,null,null,null,null,{"$f":"IF(B483=data!$B$2,D483*0.7+E483*0.5+F483*0.2+G483*0.8+H483+I483*0.2+J483+K483*0.3+L483+M483*0.5+N483*0.2,IF(B483=data!$B$3,D483*0.1+E483*0.4+F483*0.3+G483*0.1+H483+J483+K483*0.5+L483+M483*0.4,IF(B483=data!$B$4,D483*0.6+E483*0.8+F483*0.7+G483+H483+J483+L483+N483,IF(B483=data!$B$5,D483*0.7+E483*0.8+F483+I483*0.7+J483+L483,\"zvolte typ stavby\"))))","v":"zvolte typ stavby"},{"$f":"IF(B483=data!$B$2,(O483*10)/6.4,IF(B483=data!$B$3,(O483*10)/4.8,IF(B483=data!$B$4,(O483*10)/7.1,IF(B483=data!$B$5,(O483*10)/5.2,\"zvolte typ stavby\"))))","v":"zvolte typ stavby"}]
[null,null,null,null,null,null,null,null,null,null,null,null,null,null,{"$f":"IF(B484=data!$B$2,D484*0.7+E484*0.5+F484*0.2+G484*0.8+H484+I484*0.2+J484+K484*0.3+L484+M484*0.5+N484*0.2,IF(B484=data!$B$3,D484*0.1+E484*0.4+F484*0.3+G484*0.1+H484+J484+K484*0.5+L484+M484*0.4,IF(B484=data!$B$4,D484*0.6+E484*0.8+F484*0.7+G484+H484+J484+L484+N484,IF(B484=data!$B$5,D484*0.7+E484*0.8+F484+I484*0.7+J484+L484,\"zvolte typ stavby\"))))","v":"zvolte typ stavby"},{"$f":"IF(B484=data!$B$2,(O484*10)/6.4,IF(B484=data!$B$3,(O484*10)/4.8,IF(B484=data!$B$4,(O484*10)/7.1,IF(B484=data!$B$5,(O484*10)/5.2,\"zvolte typ stavby\"))))","v":"zvolte typ stavby"}]
[null,null,null,null,null,null,null,null,null,null,null,null,null,null,{"$f":"IF(B485=data!$B$2,D485*0.7+E485*0.5+F485*0.2+G485*0.8+H485+I485*0.2+J485+K485*0.3+L485+M485*0.5+N485*0.2,IF(B485=data!$B$3,D485*0.1+E485*0.4+F485*0.3+G485*0.1+H485+J485+K485*0.5+L485+M485*0.4,IF(B485=data!$B$4,D485*0.6+E485*0.8+F485*0.7+G485+H485+J485+L485+N485,IF(B485=data!$B$5,D485*0.7+E485*0.8+F485+I485*0.7+J485+L485,\"zvolte typ stavby\"))))","v":"zvolte typ stavby"},{"$f":"IF(B485=data!$B$2,(O485*10)/6.4,IF(B485=data!$B$3,(O485*10)/4.8,IF(B485=data!$B$4,(O485*10)/7.1,IF(B485=data!$B$5,(O485*10)/5.2,\"zvolte typ stavby\"))))","v":"zvolte typ stavby"}]
[null,null,null,null,null,null,null,null,null,null,null,null,null,null,{"$f":"IF(B486=data!$B$2,D486*0.7+E486*0.5+F486*0.2+G486*0.8+H486+I486*0.2+J486+K486*0.3+L486+M486*0.5+N486*0.2,IF(B486=data!$B$3,D486*0.1+E486*0.4+F486*0.3+G486*0.1+H486+J486+K486*0.5+L486+M486*0.4,IF(B486=data!$B$4,D486*0.6+E486*0.8+F486*0.7+G486+H486+J486+L486+N486,IF(B486=data!$B$5,D486*0.7+E486*0.8+F486+I486*0.7+J486+L486,\"zvolte typ stavby\"))))","v":"zvolte typ stavby"},{"$f":"IF(B486=data!$B$2,(O486*10)/6.4,IF(B486=data!$B$3,(O486*10)/4.8,IF(B486=data!$B$4,(O486*10)/7.1,IF(B486=data!$B$5,(O486*10)/5.2,\"zvolte typ stavby\"))))","v":"zvolte typ stavby"}]
[null,null,null,null,null,null,null,null,null,null,null,null,null,null,{"$f":"IF(B487=data!$B$2,D487*0.7+E487*0.5+F487*0.2+G487*0.8+H487+I487*0.2+J487+K487*0.3+L487+M487*0.5+N487*0.2,IF(B487=data!$B$3,D487*0.1+E487*0.4+F487*0.3+G487*0.1+H487+J487+K487*0.5+L487+M487*0.4,IF(B487=data!$B$4,D487*0.6+E487*0.8+F487*0.7+G487+H487+J487+L487+N487,IF(B487=data!$B$5,D487*0.7+E487*0.8+F487+I487*0.7+J487+L487,\"zvolte typ stavby\"))))","v":"zvolte typ stavby"},{"$f":"IF(B487=data!$B$2,(O487*10)/6.4,IF(B487=data!$B$3,(O487*10)/4.8,IF(B487=data!$B$4,(O487*10)/7.1,IF(B487=data!$B$5,(O487*10)/5.2,\"zvolte typ stavby\"))))","v":"zvolte typ stavby"}]
[null,null,null,null,null,null,null,null,null,null,null,null,null,null,{"$f":"IF(B488=data!$B$2,D488*0.7+E488*0.5+F488*0.2+G488*0.8+H488+I488*0.2+J488+K488*0.3+L488+M488*0.5+N488*0.2,IF(B488=data!$B$3,D488*0.1+E488*0.4+F488*0.3+G488*0.1+H488+J488+K488*0.5+L488+M488*0.4,IF(B488=data!$B$4,D488*0.6+E488*0.8+F488*0.7+G488+H488+J488+L488+N488,IF(B488=data!$B$5,D488*0.7+E488*0.8+F488+I488*0.7+J488+L488,\"zvolte typ stavby\"))))","v":"zvolte typ stavby"},{"$f":"IF(B488=data!$B$2,(O488*10)/6.4,IF(B488=data!$B$3,(O488*10)/4.8,IF(B488=data!$B$4,(O488*10)/7.1,IF(B488=data!$B$5,(O488*10)/5.2,\"zvolte typ stavby\"))))","v":"zvolte typ stavby"}]
[null,null,null,null,null,null,null,null,null,null,null,null,null,null,{"$f":"IF(B489=data!$B$2,D489*0.7+E489*0.5+F489*0.2+G489*0.8+H489+I489*0.2+J489+K489*0.3+L489+M489*0.5+N489*0.2,IF(B489=data!$B$3,D489*0.1+E489*0.4+F489*0.3+G489*0.1+H489+J489+K489*0.5+L489+M489*0.4,IF(B489=data!$B$4,D489*0.6+E489*0.8+F489*0.7+G489+H489+J489+L489+N489,IF(B489=data!$B$5,D489*0.7+E489*0.8+F489+I489*0.7+J489+L489,\"zvolte typ stavby\"))))","v":"zvolte typ stavby"},{"$f":"IF(B489=data!$B$2,(O489*10)/6.4,IF(B489=data!$B$3,(O489*10)/4.8,IF(B489=data!$B$4,(O489*10)/7.1,IF(B489=data!$B$5,(O489*10)/5.2,\"zvolte typ stavby\"))))","v":"zvolte typ stavby"}]
[null,null,null,null,null,null,null,null,null,null,null,null,null,null,{"$f":"IF(B490=data!$B$2,D490*0.7+E490*0.5+F490*0.2+G490*0.8+H490+I490*0.2+J490+K490*0.3+L490+M490*0.5+N490*0.2,IF(B490=data!$B$3,D490*0.1+E490*0.4+F490*0.3+G490*0.1+H490+J490+K490*0.5+L490+M490*0.4,IF(B490=data!$B$4,D490*0.6+E490*0.8+F490*0.7+G490+H490+J490+L490+N490,IF(B490=data!$B$5,D490*0.7+E490*0.8+F490+I490*0.7+J490+L490,\"zvolte typ stavby\"))))","v":"zvolte typ stavby"},{"$f":"IF(B490=data!$B$2,(O490*10)/6.4,IF(B490=data!$B$3,(O490*10)/4.8,IF(B490=data!$B$4,(O490*10)/7.1,IF(B490=data!$B$5,(O490*10)/5.2,\"zvolte typ stavby\"))))","v":"zvolte typ stavby"}]
[null,null,null,null,null,null,null,null,null,null,null,null,null,null,{"$f":"IF(B491=data!$B$2,D491*0.7+E491*0.5+F491*0.2+G491*0.8+H491+I491*0.2+J491+K491*0.3+L491+M491*0.5+N491*0.2,IF(B491=data!$B$3,D491*0.1+E491*0.4+F491*0.3+G491*0.1+H491+J491+K491*0.5+L491+M491*0.4,IF(B491=data!$B$4,D491*0.6+E491*0.8+F491*0.7+G491+H491+J491+L491+N491,IF(B491=data!$B$5,D491*0.7+E491*0.8+F491+I491*0.7+J491+L491,\"zvolte typ stavby\"))))","v":"zvolte typ stavby"},{"$f":"IF(B491=data!$B$2,(O491*10)/6.4,IF(B491=data!$B$3,(O491*10)/4.8,IF(B491=data!$B$4,(O491*10)/7.1,IF(B491=data!$B$5,(O491*10)/5.2,\"zvolte typ stavby\"))))","v":"zvolte typ stavby"}]
[null,null,null,null,null,null,null,null,null,null,null,null,null,null,{"$f":"IF(B492=data!$B$2,D492*0.7+E492*0.5+F492*0.2+G492*0.8+H492+I492*0.2+J492+K492*0.3+L492+M492*0.5+N492*0.2,IF(B492=data!$B$3,D492*0.1+E492*0.4+F492*0.3+G492*0.1+H492+J492+K492*0.5+L492+M492*0.4,IF(B492=data!$B$4,D492*0.6+E492*0.8+F492*0.7+G492+H492+J492+L492+N492,IF(B492=data!$B$5,D492*0.7+E492*0.8+F492+I492*0.7+J492+L492,\"zvolte typ stavby\"))))","v":"zvolte typ stavby"},{"$f":"IF(B492=data!$B$2,(O492*10)/6.4,IF(B492=data!$B$3,(O492*10)/4.8,IF(B492=data!$B$4,(O492*10)/7.1,IF(B492=data!$B$5,(O492*10)/5.2,\"zvolte typ stavby\"))))","v":"zvolte typ stavby"}]
[null,null,null,null,null,null,null,null,null,null,null,null,null,null,{"$f":"IF(B493=data!$B$2,D493*0.7+E493*0.5+F493*0.2+G493*0.8+H493+I493*0.2+J493+K493*0.3+L493+M493*0.5+N493*0.2,IF(B493=data!$B$3,D493*0.1+E493*0.4+F493*0.3+G493*0.1+H493+J493+K493*0.5+L493+M493*0.4,IF(B493=data!$B$4,D493*0.6+E493*0.8+F493*0.7+G493+H493+J493+L493+N493,IF(B493=data!$B$5,D493*0.7+E493*0.8+F493+I493*0.7+J493+L493,\"zvolte typ stavby\"))))","v":"zvolte typ stavby"},{"$f":"IF(B493=data!$B$2,(O493*10)/6.4,IF(B493=data!$B$3,(O493*10)/4.8,IF(B493=data!$B$4,(O493*10)/7.1,IF(B493=data!$B$5,(O493*10)/5.2,\"zvolte typ stavby\"))))","v":"zvolte typ stavby"}]
[null,null,null,null,null,null,null,null,null,null,null,null,null,null,{"$f":"IF(B494=data!$B$2,D494*0.7+E494*0.5+F494*0.2+G494*0.8+H494+I494*0.2+J494+K494*0.3+L494+M494*0.5+N494*0.2,IF(B494=data!$B$3,D494*0.1+E494*0.4+F494*0.3+G494*0.1+H494+J494+K494*0.5+L494+M494*0.4,IF(B494=data!$B$4,D494*0.6+E494*0.8+F494*0.7+G494+H494+J494+L494+N494,IF(B494=data!$B$5,D494*0.7+E494*0.8+F494+I494*0.7+J494+L494,\"zvolte typ stavby\"))))","v":"zvolte typ stavby"},{"$f":"IF(B494=data!$B$2,(O494*10)/6.4,IF(B494=data!$B$3,(O494*10)/4.8,IF(B494=data!$B$4,(O494*10)/7.1,IF(B494=data!$B$5,(O494*10)/5.2,\"zvolte typ stavby\"))))","v":"zvolte typ stavby"}]
[null,null,null,null,null,null,null,null,null,null,null,null,null,null,{"$f":"IF(B495=data!$B$2,D495*0.7+E495*0.5+F495*0.2+G495*0.8+H495+I495*0.2+J495+K495*0.3+L495+M495*0.5+N495*0.2,IF(B495=data!$B$3,D495*0.1+E495*0.4+F495*0.3+G495*0.1+H495+J495+K495*0.5+L495+M495*0.4,IF(B495=data!$B$4,D495*0.6+E495*0.8+F495*0.7+G495+H495+J495+L495+N495,IF(B495=data!$B$5,D495*0.7+E495*0.8+F495+I495*0.7+J495+L495,\"zvolte typ stavby\"))))","v":"zvolte typ stavby"},{"$f":"IF(B495=data!$B$2,(O495*10)/6.4,IF(B495=data!$B$3,(O495*10)/4.8,IF(B495=data!$B$4,(O495*10)/7.1,IF(B495=data!$B$5,(O495*10)/5.2,\"zvolte typ stavby\"))))","v":"zvolte typ stavby"}]
[null,null,null,null,null,null,null,null,null,null,null,null,null,null,{"$f":"IF(B496=data!$B$2,D496*0.7+E496*0.5+F496*0.2+G496*0.8+H496+I496*0.2+J496+K496*0.3+L496+M496*0.5+N496*0.2,IF(B496=data!$B$3,D496*0.1+E496*0.4+F496*0.3+G496*0.1+H496+J496+K496*0.5+L496+M496*0.4,IF(B496=data!$B$4,D496*0.6+E496*0.8+F496*0.7+G496+H496+J496+L496+N496,IF(B496=data!$B$5,D496*0.7+E496*0.8+F496+I496*0.7+J496+L496,\"zvolte typ stavby\"))))","v":"zvolte typ stavby"},{"$f":"IF(B496=data!$B$2,(O496*10)/6.4,IF(B496=data!$B$3,(O496*10)/4.8,IF(B496=data!$B$4,(O496*10)/7.1,IF(B496=data!$B$5,(O496*10)/5.2,\"zvolte typ stavby\"))))","v":"zvolte typ stavby"}]
[null,null,null,null,null,null,null,null,null,null,null,null,null,null,{"$f":"IF(B497=data!$B$2,D497*0.7+E497*0.5+F497*0.2+G497*0.8+H497+I497*0.2+J497+K497*0.3+L497+M497*0.5+N497*0.2,IF(B497=data!$B$3,D497*0.1+E497*0.4+F497*0.3+G497*0.1+H497+J497+K497*0.5+L497+M497*0.4,IF(B497=data!$B$4,D497*0.6+E497*0.8+F497*0.7+G497+H497+J497+L497+N497,IF(B497=data!$B$5,D497*0.7+E497*0.8+F497+I497*0.7+J497+L497,\"zvolte typ stavby\"))))","v":"zvolte typ stavby"},{"$f":"IF(B497=data!$B$2,(O497*10)/6.4,IF(B497=data!$B$3,(O497*10)/4.8,IF(B497=data!$B$4,(O497*10)/7.1,IF(B497=data!$B$5,(O497*10)/5.2,\"zvolte typ stavby\"))))","v":"zvolte typ stavby"}]
[null,null,null,null,null,null,null,null,null,null,null,null,null,null,{"$f":"IF(B498=data!$B$2,D498*0.7+E498*0.5+F498*0.2+G498*0.8+H498+I498*0.2+J498+K498*0.3+L498+M498*0.5+N498*0.2,IF(B498=data!$B$3,D498*0.1+E498*0.4+F498*0.3+G498*0.1+H498+J498+K498*0.5+L498+M498*0.4,IF(B498=data!$B$4,D498*0.6+E498*0.8+F498*0.7+G498+H498+J498+L498+N498,IF(B498=data!$B$5,D498*0.7+E498*0.8+F498+I498*0.7+J498+L498,\"zvolte typ stavby\"))))","v":"zvolte typ stavby"},{"$f":"IF(B498=data!$B$2,(O498*10)/6.4,IF(B498=data!$B$3,(O498*10)/4.8,IF(B498=data!$B$4,(O498*10)/7.1,IF(B498=data!$B$5,(O498*10)/5.2,\"zvolte typ stavby\"))))","v":"zvolte typ stavby"}]
[null,null,null,null,null,null,null,null,null,null,null,null,null,null,{"$f":"IF(B499=data!$B$2,D499*0.7+E499*0.5+F499*0.2+G499*0.8+H499+I499*0.2+J499+K499*0.3+L499+M499*0.5+N499*0.2,IF(B499=data!$B$3,D499*0.1+E499*0.4+F499*0.3+G499*0.1+H499+J499+K499*0.5+L499+M499*0.4,IF(B499=data!$B$4,D499*0.6+E499*0.8+F499*0.7+G499+H499+J499+L499+N499,IF(B499=data!$B$5,D499*0.7+E499*0.8+F499+I499*0.7+J499+L499,\"zvolte typ stavby\"))))","v":"zvolte typ stavby"},{"$f":"IF(B499=data!$B$2,(O499*10)/6.4,IF(B499=data!$B$3,(O499*10)/4.8,IF(B499=data!$B$4,(O499*10)/7.1,IF(B499=data!$B$5,(O499*10)/5.2,\"zvolte typ stavby\"))))","v":"zvolte typ stavby"}]
[null,null,null,null,null,null,null,null,null,null,null,null,null,null,{"$f":"IF(B500=data!$B$2,D500*0.7+E500*0.5+F500*0.2+G500*0.8+H500+I500*0.2+J500+K500*0.3+L500+M500*0.5+N500*0.2,IF(B500=data!$B$3,D500*0.1+E500*0.4+F500*0.3+G500*0.1+H500+J500+K500*0.5+L500+M500*0.4,IF(B500=data!$B$4,D500*0.6+E500*0.8+F500*0.7+G500+H500+J500+L500+N500,IF(B500=data!$B$5,D500*0.7+E500*0.8+F500+I500*0.7+J500+L500,\"zvolte typ stavby\"))))","v":"zvolte typ stavby"},{"$f":"IF(B500=data!$B$2,(O500*10)/6.4,IF(B500=data!$B$3,(O500*10)/4.8,IF(B500=data!$B$4,(O500*10)/7.1,IF(B500=data!$B$5,(O500*10)/5.2,\"zvolte typ stavby\"))))","v":"zvolte typ stavby"}]
[null,null,null,null,null,null,null,null,null,null,null,null,null,null,{"$f":"IF(B501=data!$B$2,D501*0.7+E501*0.5+F501*0.2+G501*0.8+H501+I501*0.2+J501+K501*0.3+L501+M501*0.5+N501*0.2,IF(B501=data!$B$3,D501*0.1+E501*0.4+F501*0.3+G501*0.1+H501+J501+K501*0.5+L501+M501*0.4,IF(B501=data!$B$4,D501*0.6+E501*0.8+F501*0.7+G501+H501+J501+L501+N501,IF(B501=data!$B$5,D501*0.7+E501*0.8+F501+I501*0.7+J501+L501,\"zvolte typ stavby\"))))","v":"zvolte typ stavby"},{"$f":"IF(B501=data!$B$2,(O501*10)/6.4,IF(B501=data!$B$3,(O501*10)/4.8,IF(B501=data!$B$4,(O501*10)/7.1,IF(B501=data!$B$5,(O501*10)/5.2,\"zvolte typ stavby\"))))","v":"zvolte typ stavby"}]
[null,null,null,null,null,null,null,null,null,null,null,null,null,null,{"$f":"IF(B502=data!$B$2,D502*0.7+E502*0.5+F502*0.2+G502*0.8+H502+I502*0.2+J502+K502*0.3+L502+M502*0.5+N502*0.2,IF(B502=data!$B$3,D502*0.1+E502*0.4+F502*0.3+G502*0.1+H502+J502+K502*0.5+L502+M502*0.4,IF(B502=data!$B$4,D502*0.6+E502*0.8+F502*0.7+G502+H502+J502+L502+N502,IF(B502=data!$B$5,D502*0.7+E502*0.8+F502+I502*0.7+J502+L502,\"zvolte typ stavby\"))))","v":"zvolte typ stavby"},{"$f":"IF(B502=data!$B$2,(O502*10)/6.4,IF(B502=data!$B$3,(O502*10)/4.8,IF(B502=data!$B$4,(O502*10)/7.1,IF(B502=data!$B$5,(O502*10)/5.2,\"zvolte typ stavby\"))))","v":"zvolte typ stavby"}]
[null,null,null,null,null,null,null,null,null,null,null,null,null,null,{"$f":"IF(B503=data!$B$2,D503*0.7+E503*0.5+F503*0.2+G503*0.8+H503+I503*0.2+J503+K503*0.3+L503+M503*0.5+N503*0.2,IF(B503=data!$B$3,D503*0.1+E503*0.4+F503*0.3+G503*0.1+H503+J503+K503*0.5+L503+M503*0.4,IF(B503=data!$B$4,D503*0.6+E503*0.8+F503*0.7+G503+H503+J503+L503+N503,IF(B503=data!$B$5,D503*0.7+E503*0.8+F503+I503*0.7+J503+L503,\"zvolte typ stavby\"))))","v":"zvolte typ stavby"},{"$f":"IF(B503=data!$B$2,(O503*10)/6.4,IF(B503=data!$B$3,(O503*10)/4.8,IF(B503=data!$B$4,(O503*10)/7.1,IF(B503=data!$B$5,(O503*10)/5.2,\"zvolte typ stavby\"))))","v":"zvolte typ stavby"}]
[null,null,null,null,null,null,null,null,null,null,null,null,null,null,{"$f":"IF(B504=data!$B$2,D504*0.7+E504*0.5+F504*0.2+G504*0.8+H504+I504*0.2+J504+K504*0.3+L504+M504*0.5+N504*0.2,IF(B504=data!$B$3,D504*0.1+E504*0.4+F504*0.3+G504*0.1+H504+J504+K504*0.5+L504+M504*0.4,IF(B504=data!$B$4,D504*0.6+E504*0.8+F504*0.7+G504+H504+J504+L504+N504,IF(B504=data!$B$5,D504*0.7+E504*0.8+F504+I504*0.7+J504+L504,\"zvolte typ stavby\"))))","v":"zvolte typ stavby"},{"$f":"IF(B504=data!$B$2,(O504*10)/6.4,IF(B504=data!$B$3,(O504*10)/4.8,IF(B504=data!$B$4,(O504*10)/7.1,IF(B504=data!$B$5,(O504*10)/5.2,\"zvolte typ stavby\"))))","v":"zvolte typ stavby"}]
[null,null,null,null,null,null,null,null,null,null,null,null,null,null,{"$f":"IF(B505=data!$B$2,D505*0.7+E505*0.5+F505*0.2+G505*0.8+H505+I505*0.2+J505+K505*0.3+L505+M505*0.5+N505*0.2,IF(B505=data!$B$3,D505*0.1+E505*0.4+F505*0.3+G505*0.1+H505+J505+K505*0.5+L505+M505*0.4,IF(B505=data!$B$4,D505*0.6+E505*0.8+F505*0.7+G505+H505+J505+L505+N505,IF(B505=data!$B$5,D505*0.7+E505*0.8+F505+I505*0.7+J505+L505,\"zvolte typ stavby\"))))","v":"zvolte typ stavby"},{"$f":"IF(B505=data!$B$2,(O505*10)/6.4,IF(B505=data!$B$3,(O505*10)/4.8,IF(B505=data!$B$4,(O505*10)/7.1,IF(B505=data!$B$5,(O505*10)/5.2,\"zvolte typ stavby\"))))","v":"zvolte typ stavby"}]
[null,null,null,null,null,null,null,null,null,null,null,null,null,null,{"$f":"IF(B506=data!$B$2,D506*0.7+E506*0.5+F506*0.2+G506*0.8+H506+I506*0.2+J506+K506*0.3+L506+M506*0.5+N506*0.2,IF(B506=data!$B$3,D506*0.1+E506*0.4+F506*0.3+G506*0.1+H506+J506+K506*0.5+L506+M506*0.4,IF(B506=data!$B$4,D506*0.6+E506*0.8+F506*0.7+G506+H506+J506+L506+N506,IF(B506=data!$B$5,D506*0.7+E506*0.8+F506+I506*0.7+J506+L506,\"zvolte typ stavby\"))))","v":"zvolte typ stavby"},{"$f":"IF(B506=data!$B$2,(O506*10)/6.4,IF(B506=data!$B$3,(O506*10)/4.8,IF(B506=data!$B$4,(O506*10)/7.1,IF(B506=data!$B$5,(O506*10)/5.2,\"zvolte typ stavby\"))))","v":"zvolte typ stavby"}]
[null,null,null,null,null,null,null,null,null,null,null,null,null,null,{"$f":"IF(B507=data!$B$2,D507*0.7+E507*0.5+F507*0.2+G507*0.8+H507+I507*0.2+J507+K507*0.3+L507+M507*0.5+N507*0.2,IF(B507=data!$B$3,D507*0.1+E507*0.4+F507*0.3+G507*0.1+H507+J507+K507*0.5+L507+M507*0.4,IF(B507=data!$B$4,D507*0.6+E507*0.8+F507*0.7+G507+H507+J507+L507+N507,IF(B507=data!$B$5,D507*0.7+E507*0.8+F507+I507*0.7+J507+L507,\"zvolte typ stavby\"))))","v":"zvolte typ stavby"},{"$f":"IF(B507=data!$B$2,(O507*10)/6.4,IF(B507=data!$B$3,(O507*10)/4.8,IF(B507=data!$B$4,(O507*10)/7.1,IF(B507=data!$B$5,(O507*10)/5.2,\"zvolte typ stavby\"))))","v":"zvolte typ stavby"}]
[null,null,null,null,null,null,null,null,null,null,null,null,null,null,{"$f":"IF(B508=data!$B$2,D508*0.7+E508*0.5+F508*0.2+G508*0.8+H508+I508*0.2+J508+K508*0.3+L508+M508*0.5+N508*0.2,IF(B508=data!$B$3,D508*0.1+E508*0.4+F508*0.3+G508*0.1+H508+J508+K508*0.5+L508+M508*0.4,IF(B508=data!$B$4,D508*0.6+E508*0.8+F508*0.7+G508+H508+J508+L508+N508,IF(B508=data!$B$5,D508*0.7+E508*0.8+F508+I508*0.7+J508+L508,\"zvolte typ stavby\"))))","v":"zvolte typ stavby"},{"$f":"IF(B508=data!$B$2,(O508*10)/6.4,IF(B508=data!$B$3,(O508*10)/4.8,IF(B508=data!$B$4,(O508*10)/7.1,IF(B508=data!$B$5,(O508*10)/5.2,\"zvolte typ stavby\"))))","v":"zvolte typ stavby"}]
[null,null,null,null,null,null,null,null,null,null,null,null,null,null,{"$f":"IF(B509=data!$B$2,D509*0.7+E509*0.5+F509*0.2+G509*0.8+H509+I509*0.2+J509+K509*0.3+L509+M509*0.5+N509*0.2,IF(B509=data!$B$3,D509*0.1+E509*0.4+F509*0.3+G509*0.1+H509+J509+K509*0.5+L509+M509*0.4,IF(B509=data!$B$4,D509*0.6+E509*0.8+F509*0.7+G509+H509+J509+L509+N509,IF(B509=data!$B$5,D509*0.7+E509*0.8+F509+I509*0.7+J509+L509,\"zvolte typ stavby\"))))","v":"zvolte typ stavby"},{"$f":"IF(B509=data!$B$2,(O509*10)/6.4,IF(B509=data!$B$3,(O509*10)/4.8,IF(B509=data!$B$4,(O509*10)/7.1,IF(B509=data!$B$5,(O509*10)/5.2,\"zvolte typ stavby\"))))","v":"zvolte typ stavby"}]
[null,null,null,null,null,null,null,null,null,null,null,null,null,null,{"$f":"IF(B510=data!$B$2,D510*0.7+E510*0.5+F510*0.2+G510*0.8+H510+I510*0.2+J510+K510*0.3+L510+M510*0.5+N510*0.2,IF(B510=data!$B$3,D510*0.1+E510*0.4+F510*0.3+G510*0.1+H510+J510+K510*0.5+L510+M510*0.4,IF(B510=data!$B$4,D510*0.6+E510*0.8+F510*0.7+G510+H510+J510+L510+N510,IF(B510=data!$B$5,D510*0.7+E510*0.8+F510+I510*0.7+J510+L510,\"zvolte typ stavby\"))))","v":"zvolte typ stavby"},{"$f":"IF(B510=data!$B$2,(O510*10)/6.4,IF(B510=data!$B$3,(O510*10)/4.8,IF(B510=data!$B$4,(O510*10)/7.1,IF(B510=data!$B$5,(O510*10)/5.2,\"zvolte typ stavby\"))))","v":"zvolte typ stavby"}]
[null,null,null,null,null,null,null,null,null,null,null,null,null,null,{"$f":"IF(B511=data!$B$2,D511*0.7+E511*0.5+F511*0.2+G511*0.8+H511+I511*0.2+J511+K511*0.3+L511+M511*0.5+N511*0.2,IF(B511=data!$B$3,D511*0.1+E511*0.4+F511*0.3+G511*0.1+H511+J511+K511*0.5+L511+M511*0.4,IF(B511=data!$B$4,D511*0.6+E511*0.8+F511*0.7+G511+H511+J511+L511+N511,IF(B511=data!$B$5,D511*0.7+E511*0.8+F511+I511*0.7+J511+L511,\"zvolte typ stavby\"))))","v":"zvolte typ stavby"},{"$f":"IF(B511=data!$B$2,(O511*10)/6.4,IF(B511=data!$B$3,(O511*10)/4.8,IF(B511=data!$B$4,(O511*10)/7.1,IF(B511=data!$B$5,(O511*10)/5.2,\"zvolte typ stavby\"))))","v":"zvolte typ stavby"}]
[null,null,null,null,null,null,null,null,null,null,null,null,null,null,{"$f":"IF(B512=data!$B$2,D512*0.7+E512*0.5+F512*0.2+G512*0.8+H512+I512*0.2+J512+K512*0.3+L512+M512*0.5+N512*0.2,IF(B512=data!$B$3,D512*0.1+E512*0.4+F512*0.3+G512*0.1+H512+J512+K512*0.5+L512+M512*0.4,IF(B512=data!$B$4,D512*0.6+E512*0.8+F512*0.7+G512+H512+J512+L512+N512,IF(B512=data!$B$5,D512*0.7+E512*0.8+F512+I512*0.7+J512+L512,\"zvolte typ stavby\"))))","v":"zvolte typ stavby"},{"$f":"IF(B512=data!$B$2,(O512*10)/6.4,IF(B512=data!$B$3,(O512*10)/4.8,IF(B512=data!$B$4,(O512*10)/7.1,IF(B512=data!$B$5,(O512*10)/5.2,\"zvolte typ stavby\"))))","v":"zvolte typ stavby"}]
[null,null,null,null,null,null,null,null,null,null,null,null,null,null,{"$f":"IF(B513=data!$B$2,D513*0.7+E513*0.5+F513*0.2+G513*0.8+H513+I513*0.2+J513+K513*0.3+L513+M513*0.5+N513*0.2,IF(B513=data!$B$3,D513*0.1+E513*0.4+F513*0.3+G513*0.1+H513+J513+K513*0.5+L513+M513*0.4,IF(B513=data!$B$4,D513*0.6+E513*0.8+F513*0.7+G513+H513+J513+L513+N513,IF(B513=data!$B$5,D513*0.7+E513*0.8+F513+I513*0.7+J513+L513,\"zvolte typ stavby\"))))","v":"zvolte typ stavby"},{"$f":"IF(B513=data!$B$2,(O513*10)/6.4,IF(B513=data!$B$3,(O513*10)/4.8,IF(B513=data!$B$4,(O513*10)/7.1,IF(B513=data!$B$5,(O513*10)/5.2,\"zvolte typ stavby\"))))","v":"zvolte typ stavby"}]
[null,null,null,null,null,null,null,null,null,null,null,null,null,null,{"$f":"IF(B514=data!$B$2,D514*0.7+E514*0.5+F514*0.2+G514*0.8+H514+I514*0.2+J514+K514*0.3+L514+M514*0.5+N514*0.2,IF(B514=data!$B$3,D514*0.1+E514*0.4+F514*0.3+G514*0.1+H514+J514+K514*0.5+L514+M514*0.4,IF(B514=data!$B$4,D514*0.6+E514*0.8+F514*0.7+G514+H514+J514+L514+N514,IF(B514=data!$B$5,D514*0.7+E514*0.8+F514+I514*0.7+J514+L514,\"zvolte typ stavby\"))))","v":"zvolte typ stavby"},{"$f":"IF(B514=data!$B$2,(O514*10)/6.4,IF(B514=data!$B$3,(O514*10)/4.8,IF(B514=data!$B$4,(O514*10)/7.1,IF(B514=data!$B$5,(O514*10)/5.2,\"zvolte typ stavby\"))))","v":"zvolte typ stavby"}]
[null,null,null,null,null,null,null,null,null,null,null,null,null,null,{"$f":"IF(B515=data!$B$2,D515*0.7+E515*0.5+F515*0.2+G515*0.8+H515+I515*0.2+J515+K515*0.3+L515+M515*0.5+N515*0.2,IF(B515=data!$B$3,D515*0.1+E515*0.4+F515*0.3+G515*0.1+H515+J515+K515*0.5+L515+M515*0.4,IF(B515=data!$B$4,D515*0.6+E515*0.8+F515*0.7+G515+H515+J515+L515+N515,IF(B515=data!$B$5,D515*0.7+E515*0.8+F515+I515*0.7+J515+L515,\"zvolte typ stavby\"))))","v":"zvolte typ stavby"},{"$f":"IF(B515=data!$B$2,(O515*10)/6.4,IF(B515=data!$B$3,(O515*10)/4.8,IF(B515=data!$B$4,(O515*10)/7.1,IF(B515=data!$B$5,(O515*10)/5.2,\"zvolte typ stavby\"))))","v":"zvolte typ stavby"}]
[null,null,null,null,null,null,null,null,null,null,null,null,null,null,{"$f":"IF(B516=data!$B$2,D516*0.7+E516*0.5+F516*0.2+G516*0.8+H516+I516*0.2+J516+K516*0.3+L516+M516*0.5+N516*0.2,IF(B516=data!$B$3,D516*0.1+E516*0.4+F516*0.3+G516*0.1+H516+J516+K516*0.5+L516+M516*0.4,IF(B516=data!$B$4,D516*0.6+E516*0.8+F516*0.7+G516+H516+J516+L516+N516,IF(B516=data!$B$5,D516*0.7+E516*0.8+F516+I516*0.7+J516+L516,\"zvolte typ stavby\"))))","v":"zvolte typ stavby"},{"$f":"IF(B516=data!$B$2,(O516*10)/6.4,IF(B516=data!$B$3,(O516*10)/4.8,IF(B516=data!$B$4,(O516*10)/7.1,IF(B516=data!$B$5,(O516*10)/5.2,\"zvolte typ stavby\"))))","v":"zvolte typ stavby"}]
[null,null,null,null,null,null,null,null,null,null,null,null,null,null,{"$f":"IF(B517=data!$B$2,D517*0.7+E517*0.5+F517*0.2+G517*0.8+H517+I517*0.2+J517+K517*0.3+L517+M517*0.5+N517*0.2,IF(B517=data!$B$3,D517*0.1+E517*0.4+F517*0.3+G517*0.1+H517+J517+K517*0.5+L517+M517*0.4,IF(B517=data!$B$4,D517*0.6+E517*0.8+F517*0.7+G517+H517+J517+L517+N517,IF(B517=data!$B$5,D517*0.7+E517*0.8+F517+I517*0.7+J517+L517,\"zvolte typ stavby\"))))","v":"zvolte typ stavby"},{"$f":"IF(B517=data!$B$2,(O517*10)/6.4,IF(B517=data!$B$3,(O517*10)/4.8,IF(B517=data!$B$4,(O517*10)/7.1,IF(B517=data!$B$5,(O517*10)/5.2,\"zvolte typ stavby\"))))","v":"zvolte typ stavby"}]
[null,null,null,null,null,null,null,null,null,null,null,null,null,null,{"$f":"IF(B518=data!$B$2,D518*0.7+E518*0.5+F518*0.2+G518*0.8+H518+I518*0.2+J518+K518*0.3+L518+M518*0.5+N518*0.2,IF(B518=data!$B$3,D518*0.1+E518*0.4+F518*0.3+G518*0.1+H518+J518+K518*0.5+L518+M518*0.4,IF(B518=data!$B$4,D518*0.6+E518*0.8+F518*0.7+G518+H518+J518+L518+N518,IF(B518=data!$B$5,D518*0.7+E518*0.8+F518+I518*0.7+J518+L518,\"zvolte typ stavby\"))))","v":"zvolte typ stavby"},{"$f":"IF(B518=data!$B$2,(O518*10)/6.4,IF(B518=data!$B$3,(O518*10)/4.8,IF(B518=data!$B$4,(O518*10)/7.1,IF(B518=data!$B$5,(O518*10)/5.2,\"zvolte typ stavby\"))))","v":"zvolte typ stavby"}]
[null,null,null,null,null,null,null,null,null,null,null,null,null,null,{"$f":"IF(B519=data!$B$2,D519*0.7+E519*0.5+F519*0.2+G519*0.8+H519+I519*0.2+J519+K519*0.3+L519+M519*0.5+N519*0.2,IF(B519=data!$B$3,D519*0.1+E519*0.4+F519*0.3+G519*0.1+H519+J519+K519*0.5+L519+M519*0.4,IF(B519=data!$B$4,D519*0.6+E519*0.8+F519*0.7+G519+H519+J519+L519+N519,IF(B519=data!$B$5,D519*0.7+E519*0.8+F519+I519*0.7+J519+L519,\"zvolte typ stavby\"))))","v":"zvolte typ stavby"},{"$f":"IF(B519=data!$B$2,(O519*10)/6.4,IF(B519=data!$B$3,(O519*10)/4.8,IF(B519=data!$B$4,(O519*10)/7.1,IF(B519=data!$B$5,(O519*10)/5.2,\"zvolte typ stavby\"))))","v":"zvolte typ stavby"}]
[null,null,null,null,null,null,null,null,null,null,null,null,null,null,{"$f":"IF(B520=data!$B$2,D520*0.7+E520*0.5+F520*0.2+G520*0.8+H520+I520*0.2+J520+K520*0.3+L520+M520*0.5+N520*0.2,IF(B520=data!$B$3,D520*0.1+E520*0.4+F520*0.3+G520*0.1+H520+J520+K520*0.5+L520+M520*0.4,IF(B520=data!$B$4,D520*0.6+E520*0.8+F520*0.7+G520+H520+J520+L520+N520,IF(B520=data!$B$5,D520*0.7+E520*0.8+F520+I520*0.7+J520+L520,\"zvolte typ stavby\"))))","v":"zvolte typ stavby"},{"$f":"IF(B520=data!$B$2,(O520*10)/6.4,IF(B520=data!$B$3,(O520*10)/4.8,IF(B520=data!$B$4,(O520*10)/7.1,IF(B520=data!$B$5,(O520*10)/5.2,\"zvolte typ stavby\"))))","v":"zvolte typ stavby"}]
[null,null,null,null,null,null,null,null,null,null,null,null,null,null,{"$f":"IF(B521=data!$B$2,D521*0.7+E521*0.5+F521*0.2+G521*0.8+H521+I521*0.2+J521+K521*0.3+L521+M521*0.5+N521*0.2,IF(B521=data!$B$3,D521*0.1+E521*0.4+F521*0.3+G521*0.1+H521+J521+K521*0.5+L521+M521*0.4,IF(B521=data!$B$4,D521*0.6+E521*0.8+F521*0.7+G521+H521+J521+L521+N521,IF(B521=data!$B$5,D521*0.7+E521*0.8+F521+I521*0.7+J521+L521,\"zvolte typ stavby\"))))","v":"zvolte typ stavby"},{"$f":"IF(B521=data!$B$2,(O521*10)/6.4,IF(B521=data!$B$3,(O521*10)/4.8,IF(B521=data!$B$4,(O521*10)/7.1,IF(B521=data!$B$5,(O521*10)/5.2,\"zvolte typ stavby\"))))","v":"zvolte typ stavby"}]
[null,null,null,null,null,null,null,null,null,null,null,null,null,null,{"$f":"IF(B522=data!$B$2,D522*0.7+E522*0.5+F522*0.2+G522*0.8+H522+I522*0.2+J522+K522*0.3+L522+M522*0.5+N522*0.2,IF(B522=data!$B$3,D522*0.1+E522*0.4+F522*0.3+G522*0.1+H522+J522+K522*0.5+L522+M522*0.4,IF(B522=data!$B$4,D522*0.6+E522*0.8+F522*0.7+G522+H522+J522+L522+N522,IF(B522=data!$B$5,D522*0.7+E522*0.8+F522+I522*0.7+J522+L522,\"zvolte typ stavby\"))))","v":"zvolte typ stavby"},{"$f":"IF(B522=data!$B$2,(O522*10)/6.4,IF(B522=data!$B$3,(O522*10)/4.8,IF(B522=data!$B$4,(O522*10)/7.1,IF(B522=data!$B$5,(O522*10)/5.2,\"zvolte typ stavby\"))))","v":"zvolte typ stavby"}]
[null,null,null,null,null,null,null,null,null,null,null,null,null,null,{"$f":"IF(B523=data!$B$2,D523*0.7+E523*0.5+F523*0.2+G523*0.8+H523+I523*0.2+J523+K523*0.3+L523+M523*0.5+N523*0.2,IF(B523=data!$B$3,D523*0.1+E523*0.4+F523*0.3+G523*0.1+H523+J523+K523*0.5+L523+M523*0.4,IF(B523=data!$B$4,D523*0.6+E523*0.8+F523*0.7+G523+H523+J523+L523+N523,IF(B523=data!$B$5,D523*0.7+E523*0.8+F523+I523*0.7+J523+L523,\"zvolte typ stavby\"))))","v":"zvolte typ stavby"},{"$f":"IF(B523=data!$B$2,(O523*10)/6.4,IF(B523=data!$B$3,(O523*10)/4.8,IF(B523=data!$B$4,(O523*10)/7.1,IF(B523=data!$B$5,(O523*10)/5.2,\"zvolte typ stavby\"))))","v":"zvolte typ stavby"}]
[null,null,null,null,null,null,null,null,null,null,null,null,null,null,{"$f":"IF(B524=data!$B$2,D524*0.7+E524*0.5+F524*0.2+G524*0.8+H524+I524*0.2+J524+K524*0.3+L524+M524*0.5+N524*0.2,IF(B524=data!$B$3,D524*0.1+E524*0.4+F524*0.3+G524*0.1+H524+J524+K524*0.5+L524+M524*0.4,IF(B524=data!$B$4,D524*0.6+E524*0.8+F524*0.7+G524+H524+J524+L524+N524,IF(B524=data!$B$5,D524*0.7+E524*0.8+F524+I524*0.7+J524+L524,\"zvolte typ stavby\"))))","v":"zvolte typ stavby"},{"$f":"IF(B524=data!$B$2,(O524*10)/6.4,IF(B524=data!$B$3,(O524*10)/4.8,IF(B524=data!$B$4,(O524*10)/7.1,IF(B524=data!$B$5,(O524*10)/5.2,\"zvolte typ stavby\"))))","v":"zvolte typ stavby"}]
[null,null,null,null,null,null,null,null,null,null,null,null,null,null,{"$f":"IF(B525=data!$B$2,D525*0.7+E525*0.5+F525*0.2+G525*0.8+H525+I525*0.2+J525+K525*0.3+L525+M525*0.5+N525*0.2,IF(B525=data!$B$3,D525*0.1+E525*0.4+F525*0.3+G525*0.1+H525+J525+K525*0.5+L525+M525*0.4,IF(B525=data!$B$4,D525*0.6+E525*0.8+F525*0.7+G525+H525+J525+L525+N525,IF(B525=data!$B$5,D525*0.7+E525*0.8+F525+I525*0.7+J525+L525,\"zvolte typ stavby\"))))","v":"zvolte typ stavby"},{"$f":"IF(B525=data!$B$2,(O525*10)/6.4,IF(B525=data!$B$3,(O525*10)/4.8,IF(B525=data!$B$4,(O525*10)/7.1,IF(B525=data!$B$5,(O525*10)/5.2,\"zvolte typ stavby\"))))","v":"zvolte typ stavby"}]
[null,null,null,null,null,null,null,null,null,null,null,null,null,null,{"$f":"IF(B526=data!$B$2,D526*0.7+E526*0.5+F526*0.2+G526*0.8+H526+I526*0.2+J526+K526*0.3+L526+M526*0.5+N526*0.2,IF(B526=data!$B$3,D526*0.1+E526*0.4+F526*0.3+G526*0.1+H526+J526+K526*0.5+L526+M526*0.4,IF(B526=data!$B$4,D526*0.6+E526*0.8+F526*0.7+G526+H526+J526+L526+N526,IF(B526=data!$B$5,D526*0.7+E526*0.8+F526+I526*0.7+J526+L526,\"zvolte typ stavby\"))))","v":"zvolte typ stavby"},{"$f":"IF(B526=data!$B$2,(O526*10)/6.4,IF(B526=data!$B$3,(O526*10)/4.8,IF(B526=data!$B$4,(O526*10)/7.1,IF(B526=data!$B$5,(O526*10)/5.2,\"zvolte typ stavby\"))))","v":"zvolte typ stavby"}]
[null,null,null,null,null,null,null,null,null,null,null,null,null,null,{"$f":"IF(B527=data!$B$2,D527*0.7+E527*0.5+F527*0.2+G527*0.8+H527+I527*0.2+J527+K527*0.3+L527+M527*0.5+N527*0.2,IF(B527=data!$B$3,D527*0.1+E527*0.4+F527*0.3+G527*0.1+H527+J527+K527*0.5+L527+M527*0.4,IF(B527=data!$B$4,D527*0.6+E527*0.8+F527*0.7+G527+H527+J527+L527+N527,IF(B527=data!$B$5,D527*0.7+E527*0.8+F527+I527*0.7+J527+L527,\"zvolte typ stavby\"))))","v":"zvolte typ stavby"},{"$f":"IF(B527=data!$B$2,(O527*10)/6.4,IF(B527=data!$B$3,(O527*10)/4.8,IF(B527=data!$B$4,(O527*10)/7.1,IF(B527=data!$B$5,(O527*10)/5.2,\"zvolte typ stavby\"))))","v":"zvolte typ stavby"}]
[null,null,null,null,null,null,null,null,null,null,null,null,null,null,{"$f":"IF(B528=data!$B$2,D528*0.7+E528*0.5+F528*0.2+G528*0.8+H528+I528*0.2+J528+K528*0.3+L528+M528*0.5+N528*0.2,IF(B528=data!$B$3,D528*0.1+E528*0.4+F528*0.3+G528*0.1+H528+J528+K528*0.5+L528+M528*0.4,IF(B528=data!$B$4,D528*0.6+E528*0.8+F528*0.7+G528+H528+J528+L528+N528,IF(B528=data!$B$5,D528*0.7+E528*0.8+F528+I528*0.7+J528+L528,\"zvolte typ stavby\"))))","v":"zvolte typ stavby"},{"$f":"IF(B528=data!$B$2,(O528*10)/6.4,IF(B528=data!$B$3,(O528*10)/4.8,IF(B528=data!$B$4,(O528*10)/7.1,IF(B528=data!$B$5,(O528*10)/5.2,\"zvolte typ stavby\"))))","v":"zvolte typ stavby"}]
[null,null,null,null,null,null,null,null,null,null,null,null,null,null,{"$f":"IF(B529=data!$B$2,D529*0.7+E529*0.5+F529*0.2+G529*0.8+H529+I529*0.2+J529+K529*0.3+L529+M529*0.5+N529*0.2,IF(B529=data!$B$3,D529*0.1+E529*0.4+F529*0.3+G529*0.1+H529+J529+K529*0.5+L529+M529*0.4,IF(B529=data!$B$4,D529*0.6+E529*0.8+F529*0.7+G529+H529+J529+L529+N529,IF(B529=data!$B$5,D529*0.7+E529*0.8+F529+I529*0.7+J529+L529,\"zvolte typ stavby\"))))","v":"zvolte typ stavby"},{"$f":"IF(B529=data!$B$2,(O529*10)/6.4,IF(B529=data!$B$3,(O529*10)/4.8,IF(B529=data!$B$4,(O529*10)/7.1,IF(B529=data!$B$5,(O529*10)/5.2,\"zvolte typ stavby\"))))","v":"zvolte typ stavby"}]
[null,null,null,null,null,null,null,null,null,null,null,null,null,null,{"$f":"IF(B530=data!$B$2,D530*0.7+E530*0.5+F530*0.2+G530*0.8+H530+I530*0.2+J530+K530*0.3+L530+M530*0.5+N530*0.2,IF(B530=data!$B$3,D530*0.1+E530*0.4+F530*0.3+G530*0.1+H530+J530+K530*0.5+L530+M530*0.4,IF(B530=data!$B$4,D530*0.6+E530*0.8+F530*0.7+G530+H530+J530+L530+N530,IF(B530=data!$B$5,D530*0.7+E530*0.8+F530+I530*0.7+J530+L530,\"zvolte typ stavby\"))))","v":"zvolte typ stavby"},{"$f":"IF(B530=data!$B$2,(O530*10)/6.4,IF(B530=data!$B$3,(O530*10)/4.8,IF(B530=data!$B$4,(O530*10)/7.1,IF(B530=data!$B$5,(O530*10)/5.2,\"zvolte typ stavby\"))))","v":"zvolte typ stavby"}]
[null,null,null,null,null,null,null,null,null,null,null,null,null,null,{"$f":"IF(B531=data!$B$2,D531*0.7+E531*0.5+F531*0.2+G531*0.8+H531+I531*0.2+J531+K531*0.3+L531+M531*0.5+N531*0.2,IF(B531=data!$B$3,D531*0.1+E531*0.4+F531*0.3+G531*0.1+H531+J531+K531*0.5+L531+M531*0.4,IF(B531=data!$B$4,D531*0.6+E531*0.8+F531*0.7+G531+H531+J531+L531+N531,IF(B531=data!$B$5,D531*0.7+E531*0.8+F531+I531*0.7+J531+L531,\"zvolte typ stavby\"))))","v":"zvolte typ stavby"},{"$f":"IF(B531=data!$B$2,(O531*10)/6.4,IF(B531=data!$B$3,(O531*10)/4.8,IF(B531=data!$B$4,(O531*10)/7.1,IF(B531=data!$B$5,(O531*10)/5.2,\"zvolte typ stavby\"))))","v":"zvolte typ stavby"}]
[null,null,null,null,null,null,null,null,null,null,null,null,null,null,{"$f":"IF(B532=data!$B$2,D532*0.7+E532*0.5+F532*0.2+G532*0.8+H532+I532*0.2+J532+K532*0.3+L532+M532*0.5+N532*0.2,IF(B532=data!$B$3,D532*0.1+E532*0.4+F532*0.3+G532*0.1+H532+J532+K532*0.5+L532+M532*0.4,IF(B532=data!$B$4,D532*0.6+E532*0.8+F532*0.7+G532+H532+J532+L532+N532,IF(B532=data!$B$5,D532*0.7+E532*0.8+F532+I532*0.7+J532+L532,\"zvolte typ stavby\"))))","v":"zvolte typ stavby"},{"$f":"IF(B532=data!$B$2,(O532*10)/6.4,IF(B532=data!$B$3,(O532*10)/4.8,IF(B532=data!$B$4,(O532*10)/7.1,IF(B532=data!$B$5,(O532*10)/5.2,\"zvolte typ stavby\"))))","v":"zvolte typ stavby"}]
[null,null,null,null,null,null,null,null,null,null,null,null,null,null,{"$f":"IF(B533=data!$B$2,D533*0.7+E533*0.5+F533*0.2+G533*0.8+H533+I533*0.2+J533+K533*0.3+L533+M533*0.5+N533*0.2,IF(B533=data!$B$3,D533*0.1+E533*0.4+F533*0.3+G533*0.1+H533+J533+K533*0.5+L533+M533*0.4,IF(B533=data!$B$4,D533*0.6+E533*0.8+F533*0.7+G533+H533+J533+L533+N533,IF(B533=data!$B$5,D533*0.7+E533*0.8+F533+I533*0.7+J533+L533,\"zvolte typ stavby\"))))","v":"zvolte typ stavby"},{"$f":"IF(B533=data!$B$2,(O533*10)/6.4,IF(B533=data!$B$3,(O533*10)/4.8,IF(B533=data!$B$4,(O533*10)/7.1,IF(B533=data!$B$5,(O533*10)/5.2,\"zvolte typ stavby\"))))","v":"zvolte typ stavby"}]
[null,null,null,null,null,null,null,null,null,null,null,null,null,null,{"$f":"IF(B534=data!$B$2,D534*0.7+E534*0.5+F534*0.2+G534*0.8+H534+I534*0.2+J534+K534*0.3+L534+M534*0.5+N534*0.2,IF(B534=data!$B$3,D534*0.1+E534*0.4+F534*0.3+G534*0.1+H534+J534+K534*0.5+L534+M534*0.4,IF(B534=data!$B$4,D534*0.6+E534*0.8+F534*0.7+G534+H534+J534+L534+N534,IF(B534=data!$B$5,D534*0.7+E534*0.8+F534+I534*0.7+J534+L534,\"zvolte typ stavby\"))))","v":"zvolte typ stavby"},{"$f":"IF(B534=data!$B$2,(O534*10)/6.4,IF(B534=data!$B$3,(O534*10)/4.8,IF(B534=data!$B$4,(O534*10)/7.1,IF(B534=data!$B$5,(O534*10)/5.2,\"zvolte typ stavby\"))))","v":"zvolte typ stavby"}]
[null,null,null,null,null,null,null,null,null,null,null,null,null,null,{"$f":"IF(B535=data!$B$2,D535*0.7+E535*0.5+F535*0.2+G535*0.8+H535+I535*0.2+J535+K535*0.3+L535+M535*0.5+N535*0.2,IF(B535=data!$B$3,D535*0.1+E535*0.4+F535*0.3+G535*0.1+H535+J535+K535*0.5+L535+M535*0.4,IF(B535=data!$B$4,D535*0.6+E535*0.8+F535*0.7+G535+H535+J535+L535+N535,IF(B535=data!$B$5,D535*0.7+E535*0.8+F535+I535*0.7+J535+L535,\"zvolte typ stavby\"))))","v":"zvolte typ stavby"},{"$f":"IF(B535=data!$B$2,(O535*10)/6.4,IF(B535=data!$B$3,(O535*10)/4.8,IF(B535=data!$B$4,(O535*10)/7.1,IF(B535=data!$B$5,(O535*10)/5.2,\"zvolte typ stavby\"))))","v":"zvolte typ stavby"}]
[null,null,null,null,null,null,null,null,null,null,null,null,null,null,{"$f":"IF(B536=data!$B$2,D536*0.7+E536*0.5+F536*0.2+G536*0.8+H536+I536*0.2+J536+K536*0.3+L536+M536*0.5+N536*0.2,IF(B536=data!$B$3,D536*0.1+E536*0.4+F536*0.3+G536*0.1+H536+J536+K536*0.5+L536+M536*0.4,IF(B536=data!$B$4,D536*0.6+E536*0.8+F536*0.7+G536+H536+J536+L536+N536,IF(B536=data!$B$5,D536*0.7+E536*0.8+F536+I536*0.7+J536+L536,\"zvolte typ stavby\"))))","v":"zvolte typ stavby"},{"$f":"IF(B536=data!$B$2,(O536*10)/6.4,IF(B536=data!$B$3,(O536*10)/4.8,IF(B536=data!$B$4,(O536*10)/7.1,IF(B536=data!$B$5,(O536*10)/5.2,\"zvolte typ stavby\"))))","v":"zvolte typ stavby"}]
[null,null,null,null,null,null,null,null,null,null,null,null,null,null,{"$f":"IF(B537=data!$B$2,D537*0.7+E537*0.5+F537*0.2+G537*0.8+H537+I537*0.2+J537+K537*0.3+L537+M537*0.5+N537*0.2,IF(B537=data!$B$3,D537*0.1+E537*0.4+F537*0.3+G537*0.1+H537+J537+K537*0.5+L537+M537*0.4,IF(B537=data!$B$4,D537*0.6+E537*0.8+F537*0.7+G537+H537+J537+L537+N537,IF(B537=data!$B$5,D537*0.7+E537*0.8+F537+I537*0.7+J537+L537,\"zvolte typ stavby\"))))","v":"zvolte typ stavby"},{"$f":"IF(B537=data!$B$2,(O537*10)/6.4,IF(B537=data!$B$3,(O537*10)/4.8,IF(B537=data!$B$4,(O537*10)/7.1,IF(B537=data!$B$5,(O537*10)/5.2,\"zvolte typ stavby\"))))","v":"zvolte typ stavby"}]
[null,null,null,null,null,null,null,null,null,null,null,null,null,null,{"$f":"IF(B538=data!$B$2,D538*0.7+E538*0.5+F538*0.2+G538*0.8+H538+I538*0.2+J538+K538*0.3+L538+M538*0.5+N538*0.2,IF(B538=data!$B$3,D538*0.1+E538*0.4+F538*0.3+G538*0.1+H538+J538+K538*0.5+L538+M538*0.4,IF(B538=data!$B$4,D538*0.6+E538*0.8+F538*0.7+G538+H538+J538+L538+N538,IF(B538=data!$B$5,D538*0.7+E538*0.8+F538+I538*0.7+J538+L538,\"zvolte typ stavby\"))))","v":"zvolte typ stavby"},{"$f":"IF(B538=data!$B$2,(O538*10)/6.4,IF(B538=data!$B$3,(O538*10)/4.8,IF(B538=data!$B$4,(O538*10)/7.1,IF(B538=data!$B$5,(O538*10)/5.2,\"zvolte typ stavby\"))))","v":"zvolte typ stavby"}]
[null,null,null,null,null,null,null,null,null,null,null,null,null,null,{"$f":"IF(B539=data!$B$2,D539*0.7+E539*0.5+F539*0.2+G539*0.8+H539+I539*0.2+J539+K539*0.3+L539+M539*0.5+N539*0.2,IF(B539=data!$B$3,D539*0.1+E539*0.4+F539*0.3+G539*0.1+H539+J539+K539*0.5+L539+M539*0.4,IF(B539=data!$B$4,D539*0.6+E539*0.8+F539*0.7+G539+H539+J539+L539+N539,IF(B539=data!$B$5,D539*0.7+E539*0.8+F539+I539*0.7+J539+L539,\"zvolte typ stavby\"))))","v":"zvolte typ stavby"},{"$f":"IF(B539=data!$B$2,(O539*10)/6.4,IF(B539=data!$B$3,(O539*10)/4.8,IF(B539=data!$B$4,(O539*10)/7.1,IF(B539=data!$B$5,(O539*10)/5.2,\"zvolte typ stavby\"))))","v":"zvolte typ stavby"}]
[null,null,null,null,null,null,null,null,null,null,null,null,null,null,{"$f":"IF(B540=data!$B$2,D540*0.7+E540*0.5+F540*0.2+G540*0.8+H540+I540*0.2+J540+K540*0.3+L540+M540*0.5+N540*0.2,IF(B540=data!$B$3,D540*0.1+E540*0.4+F540*0.3+G540*0.1+H540+J540+K540*0.5+L540+M540*0.4,IF(B540=data!$B$4,D540*0.6+E540*0.8+F540*0.7+G540+H540+J540+L540+N540,IF(B540=data!$B$5,D540*0.7+E540*0.8+F540+I540*0.7+J540+L540,\"zvolte typ stavby\"))))","v":"zvolte typ stavby"},{"$f":"IF(B540=data!$B$2,(O540*10)/6.4,IF(B540=data!$B$3,(O540*10)/4.8,IF(B540=data!$B$4,(O540*10)/7.1,IF(B540=data!$B$5,(O540*10)/5.2,\"zvolte typ stavby\"))))","v":"zvolte typ stavby"}]
[null,null,null,null,null,null,null,null,null,null,null,null,null,null,{"$f":"IF(B541=data!$B$2,D541*0.7+E541*0.5+F541*0.2+G541*0.8+H541+I541*0.2+J541+K541*0.3+L541+M541*0.5+N541*0.2,IF(B541=data!$B$3,D541*0.1+E541*0.4+F541*0.3+G541*0.1+H541+J541+K541*0.5+L541+M541*0.4,IF(B541=data!$B$4,D541*0.6+E541*0.8+F541*0.7+G541+H541+J541+L541+N541,IF(B541=data!$B$5,D541*0.7+E541*0.8+F541+I541*0.7+J541+L541,\"zvolte typ stavby\"))))","v":"zvolte typ stavby"},{"$f":"IF(B541=data!$B$2,(O541*10)/6.4,IF(B541=data!$B$3,(O541*10)/4.8,IF(B541=data!$B$4,(O541*10)/7.1,IF(B541=data!$B$5,(O541*10)/5.2,\"zvolte typ stavby\"))))","v":"zvolte typ stavby"}]
[null,null,null,null,null,null,null,null,null,null,null,null,null,null,{"$f":"IF(B542=data!$B$2,D542*0.7+E542*0.5+F542*0.2+G542*0.8+H542+I542*0.2+J542+K542*0.3+L542+M542*0.5+N542*0.2,IF(B542=data!$B$3,D542*0.1+E542*0.4+F542*0.3+G542*0.1+H542+J542+K542*0.5+L542+M542*0.4,IF(B542=data!$B$4,D542*0.6+E542*0.8+F542*0.7+G542+H542+J542+L542+N542,IF(B542=data!$B$5,D542*0.7+E542*0.8+F542+I542*0.7+J542+L542,\"zvolte typ stavby\"))))","v":"zvolte typ stavby"},{"$f":"IF(B542=data!$B$2,(O542*10)/6.4,IF(B542=data!$B$3,(O542*10)/4.8,IF(B542=data!$B$4,(O542*10)/7.1,IF(B542=data!$B$5,(O542*10)/5.2,\"zvolte typ stavby\"))))","v":"zvolte typ stavby"}]
[null,null,null,null,null,null,null,null,null,null,null,null,null,null,{"$f":"IF(B543=data!$B$2,D543*0.7+E543*0.5+F543*0.2+G543*0.8+H543+I543*0.2+J543+K543*0.3+L543+M543*0.5+N543*0.2,IF(B543=data!$B$3,D543*0.1+E543*0.4+F543*0.3+G543*0.1+H543+J543+K543*0.5+L543+M543*0.4,IF(B543=data!$B$4,D543*0.6+E543*0.8+F543*0.7+G543+H543+J543+L543+N543,IF(B543=data!$B$5,D543*0.7+E543*0.8+F543+I543*0.7+J543+L543,\"zvolte typ stavby\"))))","v":"zvolte typ stavby"},{"$f":"IF(B543=data!$B$2,(O543*10)/6.4,IF(B543=data!$B$3,(O543*10)/4.8,IF(B543=data!$B$4,(O543*10)/7.1,IF(B543=data!$B$5,(O543*10)/5.2,\"zvolte typ stavby\"))))","v":"zvolte typ stavby"}]
[null,null,null,null,null,null,null,null,null,null,null,null,null,null,{"$f":"IF(B544=data!$B$2,D544*0.7+E544*0.5+F544*0.2+G544*0.8+H544+I544*0.2+J544+K544*0.3+L544+M544*0.5+N544*0.2,IF(B544=data!$B$3,D544*0.1+E544*0.4+F544*0.3+G544*0.1+H544+J544+K544*0.5+L544+M544*0.4,IF(B544=data!$B$4,D544*0.6+E544*0.8+F544*0.7+G544+H544+J544+L544+N544,IF(B544=data!$B$5,D544*0.7+E544*0.8+F544+I544*0.7+J544+L544,\"zvolte typ stavby\"))))","v":"zvolte typ stavby"},{"$f":"IF(B544=data!$B$2,(O544*10)/6.4,IF(B544=data!$B$3,(O544*10)/4.8,IF(B544=data!$B$4,(O544*10)/7.1,IF(B544=data!$B$5,(O544*10)/5.2,\"zvolte typ stavby\"))))","v":"zvolte typ stavby"}]
[null,null,null,null,null,null,null,null,null,null,null,null,null,null,{"$f":"IF(B545=data!$B$2,D545*0.7+E545*0.5+F545*0.2+G545*0.8+H545+I545*0.2+J545+K545*0.3+L545+M545*0.5+N545*0.2,IF(B545=data!$B$3,D545*0.1+E545*0.4+F545*0.3+G545*0.1+H545+J545+K545*0.5+L545+M545*0.4,IF(B545=data!$B$4,D545*0.6+E545*0.8+F545*0.7+G545+H545+J545+L545+N545,IF(B545=data!$B$5,D545*0.7+E545*0.8+F545+I545*0.7+J545+L545,\"zvolte typ stavby\"))))","v":"zvolte typ stavby"},{"$f":"IF(B545=data!$B$2,(O545*10)/6.4,IF(B545=data!$B$3,(O545*10)/4.8,IF(B545=data!$B$4,(O545*10)/7.1,IF(B545=data!$B$5,(O545*10)/5.2,\"zvolte typ stavby\"))))","v":"zvolte typ stavby"}]
[null,null,null,null,null,null,null,null,null,null,null,null,null,null,{"$f":"IF(B546=data!$B$2,D546*0.7+E546*0.5+F546*0.2+G546*0.8+H546+I546*0.2+J546+K546*0.3+L546+M546*0.5+N546*0.2,IF(B546=data!$B$3,D546*0.1+E546*0.4+F546*0.3+G546*0.1+H546+J546+K546*0.5+L546+M546*0.4,IF(B546=data!$B$4,D546*0.6+E546*0.8+F546*0.7+G546+H546+J546+L546+N546,IF(B546=data!$B$5,D546*0.7+E546*0.8+F546+I546*0.7+J546+L546,\"zvolte typ stavby\"))))","v":"zvolte typ stavby"},{"$f":"IF(B546=data!$B$2,(O546*10)/6.4,IF(B546=data!$B$3,(O546*10)/4.8,IF(B546=data!$B$4,(O546*10)/7.1,IF(B546=data!$B$5,(O546*10)/5.2,\"zvolte typ stavby\"))))","v":"zvolte typ stavby"}]
[null,null,null,null,null,null,null,null,null,null,null,null,null,null,{"$f":"IF(B547=data!$B$2,D547*0.7+E547*0.5+F547*0.2+G547*0.8+H547+I547*0.2+J547+K547*0.3+L547+M547*0.5+N547*0.2,IF(B547=data!$B$3,D547*0.1+E547*0.4+F547*0.3+G547*0.1+H547+J547+K547*0.5+L547+M547*0.4,IF(B547=data!$B$4,D547*0.6+E547*0.8+F547*0.7+G547+H547+J547+L547+N547,IF(B547=data!$B$5,D547*0.7+E547*0.8+F547+I547*0.7+J547+L547,\"zvolte typ stavby\"))))","v":"zvolte typ stavby"},{"$f":"IF(B547=data!$B$2,(O547*10)/6.4,IF(B547=data!$B$3,(O547*10)/4.8,IF(B547=data!$B$4,(O547*10)/7.1,IF(B547=data!$B$5,(O547*10)/5.2,\"zvolte typ stavby\"))))","v":"zvolte typ stavby"}]
[null,null,null,null,null,null,null,null,null,null,null,null,null,null,{"$f":"IF(B548=data!$B$2,D548*0.7+E548*0.5+F548*0.2+G548*0.8+H548+I548*0.2+J548+K548*0.3+L548+M548*0.5+N548*0.2,IF(B548=data!$B$3,D548*0.1+E548*0.4+F548*0.3+G548*0.1+H548+J548+K548*0.5+L548+M548*0.4,IF(B548=data!$B$4,D548*0.6+E548*0.8+F548*0.7+G548+H548+J548+L548+N548,IF(B548=data!$B$5,D548*0.7+E548*0.8+F548+I548*0.7+J548+L548,\"zvolte typ stavby\"))))","v":"zvolte typ stavby"},{"$f":"IF(B548=data!$B$2,(O548*10)/6.4,IF(B548=data!$B$3,(O548*10)/4.8,IF(B548=data!$B$4,(O548*10)/7.1,IF(B548=data!$B$5,(O548*10)/5.2,\"zvolte typ stavby\"))))","v":"zvolte typ stavby"}]
[null,null,null,null,null,null,null,null,null,null,null,null,null,null,{"$f":"IF(B549=data!$B$2,D549*0.7+E549*0.5+F549*0.2+G549*0.8+H549+I549*0.2+J549+K549*0.3+L549+M549*0.5+N549*0.2,IF(B549=data!$B$3,D549*0.1+E549*0.4+F549*0.3+G549*0.1+H549+J549+K549*0.5+L549+M549*0.4,IF(B549=data!$B$4,D549*0.6+E549*0.8+F549*0.7+G549+H549+J549+L549+N549,IF(B549=data!$B$5,D549*0.7+E549*0.8+F549+I549*0.7+J549+L549,\"zvolte typ stavby\"))))","v":"zvolte typ stavby"},{"$f":"IF(B549=data!$B$2,(O549*10)/6.4,IF(B549=data!$B$3,(O549*10)/4.8,IF(B549=data!$B$4,(O549*10)/7.1,IF(B549=data!$B$5,(O549*10)/5.2,\"zvolte typ stavby\"))))","v":"zvolte typ stavby"}]
[null,null,null,null,null,null,null,null,null,null,null,null,null,null,{"$f":"IF(B550=data!$B$2,D550*0.7+E550*0.5+F550*0.2+G550*0.8+H550+I550*0.2+J550+K550*0.3+L550+M550*0.5+N550*0.2,IF(B550=data!$B$3,D550*0.1+E550*0.4+F550*0.3+G550*0.1+H550+J550+K550*0.5+L550+M550*0.4,IF(B550=data!$B$4,D550*0.6+E550*0.8+F550*0.7+G550+H550+J550+L550+N550,IF(B550=data!$B$5,D550*0.7+E550*0.8+F550+I550*0.7+J550+L550,\"zvolte typ stavby\"))))","v":"zvolte typ stavby"},{"$f":"IF(B550=data!$B$2,(O550*10)/6.4,IF(B550=data!$B$3,(O550*10)/4.8,IF(B550=data!$B$4,(O550*10)/7.1,IF(B550=data!$B$5,(O550*10)/5.2,\"zvolte typ stavby\"))))","v":"zvolte typ stavby"}]
[null,null,null,null,null,null,null,null,null,null,null,null,null,null,{"$f":"IF(B551=data!$B$2,D551*0.7+E551*0.5+F551*0.2+G551*0.8+H551+I551*0.2+J551+K551*0.3+L551+M551*0.5+N551*0.2,IF(B551=data!$B$3,D551*0.1+E551*0.4+F551*0.3+G551*0.1+H551+J551+K551*0.5+L551+M551*0.4,IF(B551=data!$B$4,D551*0.6+E551*0.8+F551*0.7+G551+H551+J551+L551+N551,IF(B551=data!$B$5,D551*0.7+E551*0.8+F551+I551*0.7+J551+L551,\"zvolte typ stavby\"))))","v":"zvolte typ stavby"},{"$f":"IF(B551=data!$B$2,(O551*10)/6.4,IF(B551=data!$B$3,(O551*10)/4.8,IF(B551=data!$B$4,(O551*10)/7.1,IF(B551=data!$B$5,(O551*10)/5.2,\"zvolte typ stavby\"))))","v":"zvolte typ stavby"}]
[null,null,null,null,null,null,null,null,null,null,null,null,null,null,{"$f":"IF(B552=data!$B$2,D552*0.7+E552*0.5+F552*0.2+G552*0.8+H552+I552*0.2+J552+K552*0.3+L552+M552*0.5+N552*0.2,IF(B552=data!$B$3,D552*0.1+E552*0.4+F552*0.3+G552*0.1+H552+J552+K552*0.5+L552+M552*0.4,IF(B552=data!$B$4,D552*0.6+E552*0.8+F552*0.7+G552+H552+J552+L552+N552,IF(B552=data!$B$5,D552*0.7+E552*0.8+F552+I552*0.7+J552+L552,\"zvolte typ stavby\"))))","v":"zvolte typ stavby"},{"$f":"IF(B552=data!$B$2,(O552*10)/6.4,IF(B552=data!$B$3,(O552*10)/4.8,IF(B552=data!$B$4,(O552*10)/7.1,IF(B552=data!$B$5,(O552*10)/5.2,\"zvolte typ stavby\"))))","v":"zvolte typ stavby"}]
[null,null,null,null,null,null,null,null,null,null,null,null,null,null,{"$f":"IF(B553=data!$B$2,D553*0.7+E553*0.5+F553*0.2+G553*0.8+H553+I553*0.2+J553+K553*0.3+L553+M553*0.5+N553*0.2,IF(B553=data!$B$3,D553*0.1+E553*0.4+F553*0.3+G553*0.1+H553+J553+K553*0.5+L553+M553*0.4,IF(B553=data!$B$4,D553*0.6+E553*0.8+F553*0.7+G553+H553+J553+L553+N553,IF(B553=data!$B$5,D553*0.7+E553*0.8+F553+I553*0.7+J553+L553,\"zvolte typ stavby\"))))","v":"zvolte typ stavby"},{"$f":"IF(B553=data!$B$2,(O553*10)/6.4,IF(B553=data!$B$3,(O553*10)/4.8,IF(B553=data!$B$4,(O553*10)/7.1,IF(B553=data!$B$5,(O553*10)/5.2,\"zvolte typ stavby\"))))","v":"zvolte typ stavby"}]
[null,null,null,null,null,null,null,null,null,null,null,null,null,null,{"$f":"IF(B554=data!$B$2,D554*0.7+E554*0.5+F554*0.2+G554*0.8+H554+I554*0.2+J554+K554*0.3+L554+M554*0.5+N554*0.2,IF(B554=data!$B$3,D554*0.1+E554*0.4+F554*0.3+G554*0.1+H554+J554+K554*0.5+L554+M554*0.4,IF(B554=data!$B$4,D554*0.6+E554*0.8+F554*0.7+G554+H554+J554+L554+N554,IF(B554=data!$B$5,D554*0.7+E554*0.8+F554+I554*0.7+J554+L554,\"zvolte typ stavby\"))))","v":"zvolte typ stavby"},{"$f":"IF(B554=data!$B$2,(O554*10)/6.4,IF(B554=data!$B$3,(O554*10)/4.8,IF(B554=data!$B$4,(O554*10)/7.1,IF(B554=data!$B$5,(O554*10)/5.2,\"zvolte typ stavby\"))))","v":"zvolte typ stavby"}]
[null,null,null,null,null,null,null,null,null,null,null,null,null,null,{"$f":"IF(B555=data!$B$2,D555*0.7+E555*0.5+F555*0.2+G555*0.8+H555+I555*0.2+J555+K555*0.3+L555+M555*0.5+N555*0.2,IF(B555=data!$B$3,D555*0.1+E555*0.4+F555*0.3+G555*0.1+H555+J555+K555*0.5+L555+M555*0.4,IF(B555=data!$B$4,D555*0.6+E555*0.8+F555*0.7+G555+H555+J555+L555+N555,IF(B555=data!$B$5,D555*0.7+E555*0.8+F555+I555*0.7+J555+L555,\"zvolte typ stavby\"))))","v":"zvolte typ stavby"},{"$f":"IF(B555=data!$B$2,(O555*10)/6.4,IF(B555=data!$B$3,(O555*10)/4.8,IF(B555=data!$B$4,(O555*10)/7.1,IF(B555=data!$B$5,(O555*10)/5.2,\"zvolte typ stavby\"))))","v":"zvolte typ stavby"}]
[null,null,null,null,null,null,null,null,null,null,null,null,null,null,{"$f":"IF(B556=data!$B$2,D556*0.7+E556*0.5+F556*0.2+G556*0.8+H556+I556*0.2+J556+K556*0.3+L556+M556*0.5+N556*0.2,IF(B556=data!$B$3,D556*0.1+E556*0.4+F556*0.3+G556*0.1+H556+J556+K556*0.5+L556+M556*0.4,IF(B556=data!$B$4,D556*0.6+E556*0.8+F556*0.7+G556+H556+J556+L556+N556,IF(B556=data!$B$5,D556*0.7+E556*0.8+F556+I556*0.7+J556+L556,\"zvolte typ stavby\"))))","v":"zvolte typ stavby"},{"$f":"IF(B556=data!$B$2,(O556*10)/6.4,IF(B556=data!$B$3,(O556*10)/4.8,IF(B556=data!$B$4,(O556*10)/7.1,IF(B556=data!$B$5,(O556*10)/5.2,\"zvolte typ stavby\"))))","v":"zvolte typ stavby"}]
[null,null,null,null,null,null,null,null,null,null,null,null,null,null,{"$f":"IF(B557=data!$B$2,D557*0.7+E557*0.5+F557*0.2+G557*0.8+H557+I557*0.2+J557+K557*0.3+L557+M557*0.5+N557*0.2,IF(B557=data!$B$3,D557*0.1+E557*0.4+F557*0.3+G557*0.1+H557+J557+K557*0.5+L557+M557*0.4,IF(B557=data!$B$4,D557*0.6+E557*0.8+F557*0.7+G557+H557+J557+L557+N557,IF(B557=data!$B$5,D557*0.7+E557*0.8+F557+I557*0.7+J557+L557,\"zvolte typ stavby\"))))","v":"zvolte typ stavby"},{"$f":"IF(B557=data!$B$2,(O557*10)/6.4,IF(B557=data!$B$3,(O557*10)/4.8,IF(B557=data!$B$4,(O557*10)/7.1,IF(B557=data!$B$5,(O557*10)/5.2,\"zvolte typ stavby\"))))","v":"zvolte typ stavby"}]
[null,null,null,null,null,null,null,null,null,null,null,null,null,null,{"$f":"IF(B558=data!$B$2,D558*0.7+E558*0.5+F558*0.2+G558*0.8+H558+I558*0.2+J558+K558*0.3+L558+M558*0.5+N558*0.2,IF(B558=data!$B$3,D558*0.1+E558*0.4+F558*0.3+G558*0.1+H558+J558+K558*0.5+L558+M558*0.4,IF(B558=data!$B$4,D558*0.6+E558*0.8+F558*0.7+G558+H558+J558+L558+N558,IF(B558=data!$B$5,D558*0.7+E558*0.8+F558+I558*0.7+J558+L558,\"zvolte typ stavby\"))))","v":"zvolte typ stavby"},{"$f":"IF(B558=data!$B$2,(O558*10)/6.4,IF(B558=data!$B$3,(O558*10)/4.8,IF(B558=data!$B$4,(O558*10)/7.1,IF(B558=data!$B$5,(O558*10)/5.2,\"zvolte typ stavby\"))))","v":"zvolte typ stavby"}]
[null,null,null,null,null,null,null,null,null,null,null,null,null,null,{"$f":"IF(B559=data!$B$2,D559*0.7+E559*0.5+F559*0.2+G559*0.8+H559+I559*0.2+J559+K559*0.3+L559+M559*0.5+N559*0.2,IF(B559=data!$B$3,D559*0.1+E559*0.4+F559*0.3+G559*0.1+H559+J559+K559*0.5+L559+M559*0.4,IF(B559=data!$B$4,D559*0.6+E559*0.8+F559*0.7+G559+H559+J559+L559+N559,IF(B559=data!$B$5,D559*0.7+E559*0.8+F559+I559*0.7+J559+L559,\"zvolte typ stavby\"))))","v":"zvolte typ stavby"},{"$f":"IF(B559=data!$B$2,(O559*10)/6.4,IF(B559=data!$B$3,(O559*10)/4.8,IF(B559=data!$B$4,(O559*10)/7.1,IF(B559=data!$B$5,(O559*10)/5.2,\"zvolte typ stavby\"))))","v":"zvolte typ stavby"}]
[null,null,null,null,null,null,null,null,null,null,null,null,null,null,{"$f":"IF(B560=data!$B$2,D560*0.7+E560*0.5+F560*0.2+G560*0.8+H560+I560*0.2+J560+K560*0.3+L560+M560*0.5+N560*0.2,IF(B560=data!$B$3,D560*0.1+E560*0.4+F560*0.3+G560*0.1+H560+J560+K560*0.5+L560+M560*0.4,IF(B560=data!$B$4,D560*0.6+E560*0.8+F560*0.7+G560+H560+J560+L560+N560,IF(B560=data!$B$5,D560*0.7+E560*0.8+F560+I560*0.7+J560+L560,\"zvolte typ stavby\"))))","v":"zvolte typ stavby"},{"$f":"IF(B560=data!$B$2,(O560*10)/6.4,IF(B560=data!$B$3,(O560*10)/4.8,IF(B560=data!$B$4,(O560*10)/7.1,IF(B560=data!$B$5,(O560*10)/5.2,\"zvolte typ stavby\"))))","v":"zvolte typ stavby"}]
[null,null,null,null,null,null,null,null,null,null,null,null,null,null,{"$f":"IF(B561=data!$B$2,D561*0.7+E561*0.5+F561*0.2+G561*0.8+H561+I561*0.2+J561+K561*0.3+L561+M561*0.5+N561*0.2,IF(B561=data!$B$3,D561*0.1+E561*0.4+F561*0.3+G561*0.1+H561+J561+K561*0.5+L561+M561*0.4,IF(B561=data!$B$4,D561*0.6+E561*0.8+F561*0.7+G561+H561+J561+L561+N561,IF(B561=data!$B$5,D561*0.7+E561*0.8+F561+I561*0.7+J561+L561,\"zvolte typ stavby\"))))","v":"zvolte typ stavby"},{"$f":"IF(B561=data!$B$2,(O561*10)/6.4,IF(B561=data!$B$3,(O561*10)/4.8,IF(B561=data!$B$4,(O561*10)/7.1,IF(B561=data!$B$5,(O561*10)/5.2,\"zvolte typ stavby\"))))","v":"zvolte typ stavby"}]
[null,null,null,null,null,null,null,null,null,null,null,null,null,null,{"$f":"IF(B562=data!$B$2,D562*0.7+E562*0.5+F562*0.2+G562*0.8+H562+I562*0.2+J562+K562*0.3+L562+M562*0.5+N562*0.2,IF(B562=data!$B$3,D562*0.1+E562*0.4+F562*0.3+G562*0.1+H562+J562+K562*0.5+L562+M562*0.4,IF(B562=data!$B$4,D562*0.6+E562*0.8+F562*0.7+G562+H562+J562+L562+N562,IF(B562=data!$B$5,D562*0.7+E562*0.8+F562+I562*0.7+J562+L562,\"zvolte typ stavby\"))))","v":"zvolte typ stavby"},{"$f":"IF(B562=data!$B$2,(O562*10)/6.4,IF(B562=data!$B$3,(O562*10)/4.8,IF(B562=data!$B$4,(O562*10)/7.1,IF(B562=data!$B$5,(O562*10)/5.2,\"zvolte typ stavby\"))))","v":"zvolte typ stavby"}]
[null,null,null,null,null,null,null,null,null,null,null,null,null,null,{"$f":"IF(B563=data!$B$2,D563*0.7+E563*0.5+F563*0.2+G563*0.8+H563+I563*0.2+J563+K563*0.3+L563+M563*0.5+N563*0.2,IF(B563=data!$B$3,D563*0.1+E563*0.4+F563*0.3+G563*0.1+H563+J563+K563*0.5+L563+M563*0.4,IF(B563=data!$B$4,D563*0.6+E563*0.8+F563*0.7+G563+H563+J563+L563+N563,IF(B563=data!$B$5,D563*0.7+E563*0.8+F563+I563*0.7+J563+L563,\"zvolte typ stavby\"))))","v":"zvolte typ stavby"},{"$f":"IF(B563=data!$B$2,(O563*10)/6.4,IF(B563=data!$B$3,(O563*10)/4.8,IF(B563=data!$B$4,(O563*10)/7.1,IF(B563=data!$B$5,(O563*10)/5.2,\"zvolte typ stavby\"))))","v":"zvolte typ stavby"}]
[null,null,null,null,null,null,null,null,null,null,null,null,null,null,{"$f":"IF(B564=data!$B$2,D564*0.7+E564*0.5+F564*0.2+G564*0.8+H564+I564*0.2+J564+K564*0.3+L564+M564*0.5+N564*0.2,IF(B564=data!$B$3,D564*0.1+E564*0.4+F564*0.3+G564*0.1+H564+J564+K564*0.5+L564+M564*0.4,IF(B564=data!$B$4,D564*0.6+E564*0.8+F564*0.7+G564+H564+J564+L564+N564,IF(B564=data!$B$5,D564*0.7+E564*0.8+F564+I564*0.7+J564+L564,\"zvolte typ stavby\"))))","v":"zvolte typ stavby"},{"$f":"IF(B564=data!$B$2,(O564*10)/6.4,IF(B564=data!$B$3,(O564*10)/4.8,IF(B564=data!$B$4,(O564*10)/7.1,IF(B564=data!$B$5,(O564*10)/5.2,\"zvolte typ stavby\"))))","v":"zvolte typ stavby"}]
[null,null,null,null,null,null,null,null,null,null,null,null,null,null,{"$f":"IF(B565=data!$B$2,D565*0.7+E565*0.5+F565*0.2+G565*0.8+H565+I565*0.2+J565+K565*0.3+L565+M565*0.5+N565*0.2,IF(B565=data!$B$3,D565*0.1+E565*0.4+F565*0.3+G565*0.1+H565+J565+K565*0.5+L565+M565*0.4,IF(B565=data!$B$4,D565*0.6+E565*0.8+F565*0.7+G565+H565+J565+L565+N565,IF(B565=data!$B$5,D565*0.7+E565*0.8+F565+I565*0.7+J565+L565,\"zvolte typ stavby\"))))","v":"zvolte typ stavby"},{"$f":"IF(B565=data!$B$2,(O565*10)/6.4,IF(B565=data!$B$3,(O565*10)/4.8,IF(B565=data!$B$4,(O565*10)/7.1,IF(B565=data!$B$5,(O565*10)/5.2,\"zvolte typ stavby\"))))","v":"zvolte typ stavby"}]
[null,null,null,null,null,null,null,null,null,null,null,null,null,null,{"$f":"IF(B566=data!$B$2,D566*0.7+E566*0.5+F566*0.2+G566*0.8+H566+I566*0.2+J566+K566*0.3+L566+M566*0.5+N566*0.2,IF(B566=data!$B$3,D566*0.1+E566*0.4+F566*0.3+G566*0.1+H566+J566+K566*0.5+L566+M566*0.4,IF(B566=data!$B$4,D566*0.6+E566*0.8+F566*0.7+G566+H566+J566+L566+N566,IF(B566=data!$B$5,D566*0.7+E566*0.8+F566+I566*0.7+J566+L566,\"zvolte typ stavby\"))))","v":"zvolte typ stavby"},{"$f":"IF(B566=data!$B$2,(O566*10)/6.4,IF(B566=data!$B$3,(O566*10)/4.8,IF(B566=data!$B$4,(O566*10)/7.1,IF(B566=data!$B$5,(O566*10)/5.2,\"zvolte typ stavby\"))))","v":"zvolte typ stavby"}]
[null,null,null,null,null,null,null,null,null,null,null,null,null,null,{"$f":"IF(B567=data!$B$2,D567*0.7+E567*0.5+F567*0.2+G567*0.8+H567+I567*0.2+J567+K567*0.3+L567+M567*0.5+N567*0.2,IF(B567=data!$B$3,D567*0.1+E567*0.4+F567*0.3+G567*0.1+H567+J567+K567*0.5+L567+M567*0.4,IF(B567=data!$B$4,D567*0.6+E567*0.8+F567*0.7+G567+H567+J567+L567+N567,IF(B567=data!$B$5,D567*0.7+E567*0.8+F567+I567*0.7+J567+L567,\"zvolte typ stavby\"))))","v":"zvolte typ stavby"},{"$f":"IF(B567=data!$B$2,(O567*10)/6.4,IF(B567=data!$B$3,(O567*10)/4.8,IF(B567=data!$B$4,(O567*10)/7.1,IF(B567=data!$B$5,(O567*10)/5.2,\"zvolte typ stavby\"))))","v":"zvolte typ stavby"}]
[null,null,null,null,null,null,null,null,null,null,null,null,null,null,{"$f":"IF(B568=data!$B$2,D568*0.7+E568*0.5+F568*0.2+G568*0.8+H568+I568*0.2+J568+K568*0.3+L568+M568*0.5+N568*0.2,IF(B568=data!$B$3,D568*0.1+E568*0.4+F568*0.3+G568*0.1+H568+J568+K568*0.5+L568+M568*0.4,IF(B568=data!$B$4,D568*0.6+E568*0.8+F568*0.7+G568+H568+J568+L568+N568,IF(B568=data!$B$5,D568*0.7+E568*0.8+F568+I568*0.7+J568+L568,\"zvolte typ stavby\"))))","v":"zvolte typ stavby"},{"$f":"IF(B568=data!$B$2,(O568*10)/6.4,IF(B568=data!$B$3,(O568*10)/4.8,IF(B568=data!$B$4,(O568*10)/7.1,IF(B568=data!$B$5,(O568*10)/5.2,\"zvolte typ stavby\"))))","v":"zvolte typ stavby"}]
[null,null,null,null,null,null,null,null,null,null,null,null,null,null,{"$f":"IF(B569=data!$B$2,D569*0.7+E569*0.5+F569*0.2+G569*0.8+H569+I569*0.2+J569+K569*0.3+L569+M569*0.5+N569*0.2,IF(B569=data!$B$3,D569*0.1+E569*0.4+F569*0.3+G569*0.1+H569+J569+K569*0.5+L569+M569*0.4,IF(B569=data!$B$4,D569*0.6+E569*0.8+F569*0.7+G569+H569+J569+L569+N569,IF(B569=data!$B$5,D569*0.7+E569*0.8+F569+I569*0.7+J569+L569,\"zvolte typ stavby\"))))","v":"zvolte typ stavby"},{"$f":"IF(B569=data!$B$2,(O569*10)/6.4,IF(B569=data!$B$3,(O569*10)/4.8,IF(B569=data!$B$4,(O569*10)/7.1,IF(B569=data!$B$5,(O569*10)/5.2,\"zvolte typ stavby\"))))","v":"zvolte typ stavby"}]
[null,null,null,null,null,null,null,null,null,null,null,null,null,null,{"$f":"IF(B570=data!$B$2,D570*0.7+E570*0.5+F570*0.2+G570*0.8+H570+I570*0.2+J570+K570*0.3+L570+M570*0.5+N570*0.2,IF(B570=data!$B$3,D570*0.1+E570*0.4+F570*0.3+G570*0.1+H570+J570+K570*0.5+L570+M570*0.4,IF(B570=data!$B$4,D570*0.6+E570*0.8+F570*0.7+G570+H570+J570+L570+N570,IF(B570=data!$B$5,D570*0.7+E570*0.8+F570+I570*0.7+J570+L570,\"zvolte typ stavby\"))))","v":"zvolte typ stavby"},{"$f":"IF(B570=data!$B$2,(O570*10)/6.4,IF(B570=data!$B$3,(O570*10)/4.8,IF(B570=data!$B$4,(O570*10)/7.1,IF(B570=data!$B$5,(O570*10)/5.2,\"zvolte typ stavby\"))))","v":"zvolte typ stavby"}]
[null,null,null,null,null,null,null,null,null,null,null,null,null,null,{"$f":"IF(B571=data!$B$2,D571*0.7+E571*0.5+F571*0.2+G571*0.8+H571+I571*0.2+J571+K571*0.3+L571+M571*0.5+N571*0.2,IF(B571=data!$B$3,D571*0.1+E571*0.4+F571*0.3+G571*0.1+H571+J571+K571*0.5+L571+M571*0.4,IF(B571=data!$B$4,D571*0.6+E571*0.8+F571*0.7+G571+H571+J571+L571+N571,IF(B571=data!$B$5,D571*0.7+E571*0.8+F571+I571*0.7+J571+L571,\"zvolte typ stavby\"))))","v":"zvolte typ stavby"},{"$f":"IF(B571=data!$B$2,(O571*10)/6.4,IF(B571=data!$B$3,(O571*10)/4.8,IF(B571=data!$B$4,(O571*10)/7.1,IF(B571=data!$B$5,(O571*10)/5.2,\"zvolte typ stavby\"))))","v":"zvolte typ stavby"}]
[null,null,null,null,null,null,null,null,null,null,null,null,null,null,{"$f":"IF(B572=data!$B$2,D572*0.7+E572*0.5+F572*0.2+G572*0.8+H572+I572*0.2+J572+K572*0.3+L572+M572*0.5+N572*0.2,IF(B572=data!$B$3,D572*0.1+E572*0.4+F572*0.3+G572*0.1+H572+J572+K572*0.5+L572+M572*0.4,IF(B572=data!$B$4,D572*0.6+E572*0.8+F572*0.7+G572+H572+J572+L572+N572,IF(B572=data!$B$5,D572*0.7+E572*0.8+F572+I572*0.7+J572+L572,\"zvolte typ stavby\"))))","v":"zvolte typ stavby"},{"$f":"IF(B572=data!$B$2,(O572*10)/6.4,IF(B572=data!$B$3,(O572*10)/4.8,IF(B572=data!$B$4,(O572*10)/7.1,IF(B572=data!$B$5,(O572*10)/5.2,\"zvolte typ stavby\"))))","v":"zvolte typ stavby"}]
[null,null,null,null,null,null,null,null,null,null,null,null,null,null,{"$f":"IF(B573=data!$B$2,D573*0.7+E573*0.5+F573*0.2+G573*0.8+H573+I573*0.2+J573+K573*0.3+L573+M573*0.5+N573*0.2,IF(B573=data!$B$3,D573*0.1+E573*0.4+F573*0.3+G573*0.1+H573+J573+K573*0.5+L573+M573*0.4,IF(B573=data!$B$4,D573*0.6+E573*0.8+F573*0.7+G573+H573+J573+L573+N573,IF(B573=data!$B$5,D573*0.7+E573*0.8+F573+I573*0.7+J573+L573,\"zvolte typ stavby\"))))","v":"zvolte typ stavby"},{"$f":"IF(B573=data!$B$2,(O573*10)/6.4,IF(B573=data!$B$3,(O573*10)/4.8,IF(B573=data!$B$4,(O573*10)/7.1,IF(B573=data!$B$5,(O573*10)/5.2,\"zvolte typ stavby\"))))","v":"zvolte typ stavby"}]
[null,null,null,null,null,null,null,null,null,null,null,null,null,null,{"$f":"IF(B574=data!$B$2,D574*0.7+E574*0.5+F574*0.2+G574*0.8+H574+I574*0.2+J574+K574*0.3+L574+M574*0.5+N574*0.2,IF(B574=data!$B$3,D574*0.1+E574*0.4+F574*0.3+G574*0.1+H574+J574+K574*0.5+L574+M574*0.4,IF(B574=data!$B$4,D574*0.6+E574*0.8+F574*0.7+G574+H574+J574+L574+N574,IF(B574=data!$B$5,D574*0.7+E574*0.8+F574+I574*0.7+J574+L574,\"zvolte typ stavby\"))))","v":"zvolte typ stavby"},{"$f":"IF(B574=data!$B$2,(O574*10)/6.4,IF(B574=data!$B$3,(O574*10)/4.8,IF(B574=data!$B$4,(O574*10)/7.1,IF(B574=data!$B$5,(O574*10)/5.2,\"zvolte typ stavby\"))))","v":"zvolte typ stavby"}]
[null,null,null,null,null,null,null,null,null,null,null,null,null,null,{"$f":"IF(B575=data!$B$2,D575*0.7+E575*0.5+F575*0.2+G575*0.8+H575+I575*0.2+J575+K575*0.3+L575+M575*0.5+N575*0.2,IF(B575=data!$B$3,D575*0.1+E575*0.4+F575*0.3+G575*0.1+H575+J575+K575*0.5+L575+M575*0.4,IF(B575=data!$B$4,D575*0.6+E575*0.8+F575*0.7+G575+H575+J575+L575+N575,IF(B575=data!$B$5,D575*0.7+E575*0.8+F575+I575*0.7+J575+L575,\"zvolte typ stavby\"))))","v":"zvolte typ stavby"},{"$f":"IF(B575=data!$B$2,(O575*10)/6.4,IF(B575=data!$B$3,(O575*10)/4.8,IF(B575=data!$B$4,(O575*10)/7.1,IF(B575=data!$B$5,(O575*10)/5.2,\"zvolte typ stavby\"))))","v":"zvolte typ stavby"}]
[null,null,null,null,null,null,null,null,null,null,null,null,null,null,{"$f":"IF(B576=data!$B$2,D576*0.7+E576*0.5+F576*0.2+G576*0.8+H576+I576*0.2+J576+K576*0.3+L576+M576*0.5+N576*0.2,IF(B576=data!$B$3,D576*0.1+E576*0.4+F576*0.3+G576*0.1+H576+J576+K576*0.5+L576+M576*0.4,IF(B576=data!$B$4,D576*0.6+E576*0.8+F576*0.7+G576+H576+J576+L576+N576,IF(B576=data!$B$5,D576*0.7+E576*0.8+F576+I576*0.7+J576+L576,\"zvolte typ stavby\"))))","v":"zvolte typ stavby"},{"$f":"IF(B576=data!$B$2,(O576*10)/6.4,IF(B576=data!$B$3,(O576*10)/4.8,IF(B576=data!$B$4,(O576*10)/7.1,IF(B576=data!$B$5,(O576*10)/5.2,\"zvolte typ stavby\"))))","v":"zvolte typ stavby"}]
[null,null,null,null,null,null,null,null,null,null,null,null,null,null,{"$f":"IF(B577=data!$B$2,D577*0.7+E577*0.5+F577*0.2+G577*0.8+H577+I577*0.2+J577+K577*0.3+L577+M577*0.5+N577*0.2,IF(B577=data!$B$3,D577*0.1+E577*0.4+F577*0.3+G577*0.1+H577+J577+K577*0.5+L577+M577*0.4,IF(B577=data!$B$4,D577*0.6+E577*0.8+F577*0.7+G577+H577+J577+L577+N577,IF(B577=data!$B$5,D577*0.7+E577*0.8+F577+I577*0.7+J577+L577,\"zvolte typ stavby\"))))","v":"zvolte typ stavby"},{"$f":"IF(B577=data!$B$2,(O577*10)/6.4,IF(B577=data!$B$3,(O577*10)/4.8,IF(B577=data!$B$4,(O577*10)/7.1,IF(B577=data!$B$5,(O577*10)/5.2,\"zvolte typ stavby\"))))","v":"zvolte typ stavby"}]
[null,null,null,null,null,null,null,null,null,null,null,null,null,null,{"$f":"IF(B578=data!$B$2,D578*0.7+E578*0.5+F578*0.2+G578*0.8+H578+I578*0.2+J578+K578*0.3+L578+M578*0.5+N578*0.2,IF(B578=data!$B$3,D578*0.1+E578*0.4+F578*0.3+G578*0.1+H578+J578+K578*0.5+L578+M578*0.4,IF(B578=data!$B$4,D578*0.6+E578*0.8+F578*0.7+G578+H578+J578+L578+N578,IF(B578=data!$B$5,D578*0.7+E578*0.8+F578+I578*0.7+J578+L578,\"zvolte typ stavby\"))))","v":"zvolte typ stavby"},{"$f":"IF(B578=data!$B$2,(O578*10)/6.4,IF(B578=data!$B$3,(O578*10)/4.8,IF(B578=data!$B$4,(O578*10)/7.1,IF(B578=data!$B$5,(O578*10)/5.2,\"zvolte typ stavby\"))))","v":"zvolte typ stavby"}]
[null,null,null,null,null,null,null,null,null,null,null,null,null,null,{"$f":"IF(B579=data!$B$2,D579*0.7+E579*0.5+F579*0.2+G579*0.8+H579+I579*0.2+J579+K579*0.3+L579+M579*0.5+N579*0.2,IF(B579=data!$B$3,D579*0.1+E579*0.4+F579*0.3+G579*0.1+H579+J579+K579*0.5+L579+M579*0.4,IF(B579=data!$B$4,D579*0.6+E579*0.8+F579*0.7+G579+H579+J579+L579+N579,IF(B579=data!$B$5,D579*0.7+E579*0.8+F579+I579*0.7+J579+L579,\"zvolte typ stavby\"))))","v":"zvolte typ stavby"},{"$f":"IF(B579=data!$B$2,(O579*10)/6.4,IF(B579=data!$B$3,(O579*10)/4.8,IF(B579=data!$B$4,(O579*10)/7.1,IF(B579=data!$B$5,(O579*10)/5.2,\"zvolte typ stavby\"))))","v":"zvolte typ stavby"}]
[null,null,null,null,null,null,null,null,null,null,null,null,null,null,{"$f":"IF(B580=data!$B$2,D580*0.7+E580*0.5+F580*0.2+G580*0.8+H580+I580*0.2+J580+K580*0.3+L580+M580*0.5+N580*0.2,IF(B580=data!$B$3,D580*0.1+E580*0.4+F580*0.3+G580*0.1+H580+J580+K580*0.5+L580+M580*0.4,IF(B580=data!$B$4,D580*0.6+E580*0.8+F580*0.7+G580+H580+J580+L580+N580,IF(B580=data!$B$5,D580*0.7+E580*0.8+F580+I580*0.7+J580+L580,\"zvolte typ stavby\"))))","v":"zvolte typ stavby"},{"$f":"IF(B580=data!$B$2,(O580*10)/6.4,IF(B580=data!$B$3,(O580*10)/4.8,IF(B580=data!$B$4,(O580*10)/7.1,IF(B580=data!$B$5,(O580*10)/5.2,\"zvolte typ stavby\"))))","v":"zvolte typ stavby"}]
[null,null,null,null,null,null,null,null,null,null,null,null,null,null,{"$f":"IF(B581=data!$B$2,D581*0.7+E581*0.5+F581*0.2+G581*0.8+H581+I581*0.2+J581+K581*0.3+L581+M581*0.5+N581*0.2,IF(B581=data!$B$3,D581*0.1+E581*0.4+F581*0.3+G581*0.1+H581+J581+K581*0.5+L581+M581*0.4,IF(B581=data!$B$4,D581*0.6+E581*0.8+F581*0.7+G581+H581+J581+L581+N581,IF(B581=data!$B$5,D581*0.7+E581*0.8+F581+I581*0.7+J581+L581,\"zvolte typ stavby\"))))","v":"zvolte typ stavby"},{"$f":"IF(B581=data!$B$2,(O581*10)/6.4,IF(B581=data!$B$3,(O581*10)/4.8,IF(B581=data!$B$4,(O581*10)/7.1,IF(B581=data!$B$5,(O581*10)/5.2,\"zvolte typ stavby\"))))","v":"zvolte typ stavby"}]
[null,null,null,null,null,null,null,null,null,null,null,null,null,null,{"$f":"IF(B582=data!$B$2,D582*0.7+E582*0.5+F582*0.2+G582*0.8+H582+I582*0.2+J582+K582*0.3+L582+M582*0.5+N582*0.2,IF(B582=data!$B$3,D582*0.1+E582*0.4+F582*0.3+G582*0.1+H582+J582+K582*0.5+L582+M582*0.4,IF(B582=data!$B$4,D582*0.6+E582*0.8+F582*0.7+G582+H582+J582+L582+N582,IF(B582=data!$B$5,D582*0.7+E582*0.8+F582+I582*0.7+J582+L582,\"zvolte typ stavby\"))))","v":"zvolte typ stavby"},{"$f":"IF(B582=data!$B$2,(O582*10)/6.4,IF(B582=data!$B$3,(O582*10)/4.8,IF(B582=data!$B$4,(O582*10)/7.1,IF(B582=data!$B$5,(O582*10)/5.2,\"zvolte typ stavby\"))))","v":"zvolte typ stavby"}]
[null,null,null,null,null,null,null,null,null,null,null,null,null,null,{"$f":"IF(B583=data!$B$2,D583*0.7+E583*0.5+F583*0.2+G583*0.8+H583+I583*0.2+J583+K583*0.3+L583+M583*0.5+N583*0.2,IF(B583=data!$B$3,D583*0.1+E583*0.4+F583*0.3+G583*0.1+H583+J583+K583*0.5+L583+M583*0.4,IF(B583=data!$B$4,D583*0.6+E583*0.8+F583*0.7+G583+H583+J583+L583+N583,IF(B583=data!$B$5,D583*0.7+E583*0.8+F583+I583*0.7+J583+L583,\"zvolte typ stavby\"))))","v":"zvolte typ stavby"},{"$f":"IF(B583=data!$B$2,(O583*10)/6.4,IF(B583=data!$B$3,(O583*10)/4.8,IF(B583=data!$B$4,(O583*10)/7.1,IF(B583=data!$B$5,(O583*10)/5.2,\"zvolte typ stavby\"))))","v":"zvolte typ stavby"}]
[null,null,null,null,null,null,null,null,null,null,null,null,null,null,{"$f":"IF(B584=data!$B$2,D584*0.7+E584*0.5+F584*0.2+G584*0.8+H584+I584*0.2+J584+K584*0.3+L584+M584*0.5+N584*0.2,IF(B584=data!$B$3,D584*0.1+E584*0.4+F584*0.3+G584*0.1+H584+J584+K584*0.5+L584+M584*0.4,IF(B584=data!$B$4,D584*0.6+E584*0.8+F584*0.7+G584+H584+J584+L584+N584,IF(B584=data!$B$5,D584*0.7+E584*0.8+F584+I584*0.7+J584+L584,\"zvolte typ stavby\"))))","v":"zvolte typ stavby"},{"$f":"IF(B584=data!$B$2,(O584*10)/6.4,IF(B584=data!$B$3,(O584*10)/4.8,IF(B584=data!$B$4,(O584*10)/7.1,IF(B584=data!$B$5,(O584*10)/5.2,\"zvolte typ stavby\"))))","v":"zvolte typ stavby"}]
[null,null,null,null,null,null,null,null,null,null,null,null,null,null,{"$f":"IF(B585=data!$B$2,D585*0.7+E585*0.5+F585*0.2+G585*0.8+H585+I585*0.2+J585+K585*0.3+L585+M585*0.5+N585*0.2,IF(B585=data!$B$3,D585*0.1+E585*0.4+F585*0.3+G585*0.1+H585+J585+K585*0.5+L585+M585*0.4,IF(B585=data!$B$4,D585*0.6+E585*0.8+F585*0.7+G585+H585+J585+L585+N585,IF(B585=data!$B$5,D585*0.7+E585*0.8+F585+I585*0.7+J585+L585,\"zvolte typ stavby\"))))","v":"zvolte typ stavby"},{"$f":"IF(B585=data!$B$2,(O585*10)/6.4,IF(B585=data!$B$3,(O585*10)/4.8,IF(B585=data!$B$4,(O585*10)/7.1,IF(B585=data!$B$5,(O585*10)/5.2,\"zvolte typ stavby\"))))","v":"zvolte typ stavby"}]
[null,null,null,null,null,null,null,null,null,null,null,null,null,null,{"$f":"IF(B586=data!$B$2,D586*0.7+E586*0.5+F586*0.2+G586*0.8+H586+I586*0.2+J586+K586*0.3+L586+M586*0.5+N586*0.2,IF(B586=data!$B$3,D586*0.1+E586*0.4+F586*0.3+G586*0.1+H586+J586+K586*0.5+L586+M586*0.4,IF(B586=data!$B$4,D586*0.6+E586*0.8+F586*0.7+G586+H586+J586+L586+N586,IF(B586=data!$B$5,D586*0.7+E586*0.8+F586+I586*0.7+J586+L586,\"zvolte typ stavby\"))))","v":"zvolte typ stavby"},{"$f":"IF(B586=data!$B$2,(O586*10)/6.4,IF(B586=data!$B$3,(O586*10)/4.8,IF(B586=data!$B$4,(O586*10)/7.1,IF(B586=data!$B$5,(O586*10)/5.2,\"zvolte typ stavby\"))))","v":"zvolte typ stavby"}]
[null,null,null,null,null,null,null,null,null,null,null,null,null,null,{"$f":"IF(B587=data!$B$2,D587*0.7+E587*0.5+F587*0.2+G587*0.8+H587+I587*0.2+J587+K587*0.3+L587+M587*0.5+N587*0.2,IF(B587=data!$B$3,D587*0.1+E587*0.4+F587*0.3+G587*0.1+H587+J587+K587*0.5+L587+M587*0.4,IF(B587=data!$B$4,D587*0.6+E587*0.8+F587*0.7+G587+H587+J587+L587+N587,IF(B587=data!$B$5,D587*0.7+E587*0.8+F587+I587*0.7+J587+L587,\"zvolte typ stavby\"))))","v":"zvolte typ stavby"},{"$f":"IF(B587=data!$B$2,(O587*10)/6.4,IF(B587=data!$B$3,(O587*10)/4.8,IF(B587=data!$B$4,(O587*10)/7.1,IF(B587=data!$B$5,(O587*10)/5.2,\"zvolte typ stavby\"))))","v":"zvolte typ stavby"}]
[null,null,null,null,null,null,null,null,null,null,null,null,null,null,{"$f":"IF(B588=data!$B$2,D588*0.7+E588*0.5+F588*0.2+G588*0.8+H588+I588*0.2+J588+K588*0.3+L588+M588*0.5+N588*0.2,IF(B588=data!$B$3,D588*0.1+E588*0.4+F588*0.3+G588*0.1+H588+J588+K588*0.5+L588+M588*0.4,IF(B588=data!$B$4,D588*0.6+E588*0.8+F588*0.7+G588+H588+J588+L588+N588,IF(B588=data!$B$5,D588*0.7+E588*0.8+F588+I588*0.7+J588+L588,\"zvolte typ stavby\"))))","v":"zvolte typ stavby"},{"$f":"IF(B588=data!$B$2,(O588*10)/6.4,IF(B588=data!$B$3,(O588*10)/4.8,IF(B588=data!$B$4,(O588*10)/7.1,IF(B588=data!$B$5,(O588*10)/5.2,\"zvolte typ stavby\"))))","v":"zvolte typ stavby"}]
[null,null,null,null,null,null,null,null,null,null,null,null,null,null,{"$f":"IF(B589=data!$B$2,D589*0.7+E589*0.5+F589*0.2+G589*0.8+H589+I589*0.2+J589+K589*0.3+L589+M589*0.5+N589*0.2,IF(B589=data!$B$3,D589*0.1+E589*0.4+F589*0.3+G589*0.1+H589+J589+K589*0.5+L589+M589*0.4,IF(B589=data!$B$4,D589*0.6+E589*0.8+F589*0.7+G589+H589+J589+L589+N589,IF(B589=data!$B$5,D589*0.7+E589*0.8+F589+I589*0.7+J589+L589,\"zvolte typ stavby\"))))","v":"zvolte typ stavby"},{"$f":"IF(B589=data!$B$2,(O589*10)/6.4,IF(B589=data!$B$3,(O589*10)/4.8,IF(B589=data!$B$4,(O589*10)/7.1,IF(B589=data!$B$5,(O589*10)/5.2,\"zvolte typ stavby\"))))","v":"zvolte typ stavby"}]
[null,null,null,null,null,null,null,null,null,null,null,null,null,null,{"$f":"IF(B590=data!$B$2,D590*0.7+E590*0.5+F590*0.2+G590*0.8+H590+I590*0.2+J590+K590*0.3+L590+M590*0.5+N590*0.2,IF(B590=data!$B$3,D590*0.1+E590*0.4+F590*0.3+G590*0.1+H590+J590+K590*0.5+L590+M590*0.4,IF(B590=data!$B$4,D590*0.6+E590*0.8+F590*0.7+G590+H590+J590+L590+N590,IF(B590=data!$B$5,D590*0.7+E590*0.8+F590+I590*0.7+J590+L590,\"zvolte typ stavby\"))))","v":"zvolte typ stavby"},{"$f":"IF(B590=data!$B$2,(O590*10)/6.4,IF(B590=data!$B$3,(O590*10)/4.8,IF(B590=data!$B$4,(O590*10)/7.1,IF(B590=data!$B$5,(O590*10)/5.2,\"zvolte typ stavby\"))))","v":"zvolte typ stavby"}]
[null,null,null,null,null,null,null,null,null,null,null,null,null,null,{"$f":"IF(B591=data!$B$2,D591*0.7+E591*0.5+F591*0.2+G591*0.8+H591+I591*0.2+J591+K591*0.3+L591+M591*0.5+N591*0.2,IF(B591=data!$B$3,D591*0.1+E591*0.4+F591*0.3+G591*0.1+H591+J591+K591*0.5+L591+M591*0.4,IF(B591=data!$B$4,D591*0.6+E591*0.8+F591*0.7+G591+H591+J591+L591+N591,IF(B591=data!$B$5,D591*0.7+E591*0.8+F591+I591*0.7+J591+L591,\"zvolte typ stavby\"))))","v":"zvolte typ stavby"},{"$f":"IF(B591=data!$B$2,(O591*10)/6.4,IF(B591=data!$B$3,(O591*10)/4.8,IF(B591=data!$B$4,(O591*10)/7.1,IF(B591=data!$B$5,(O591*10)/5.2,\"zvolte typ stavby\"))))","v":"zvolte typ stavby"}]
[null,null,null,null,null,null,null,null,null,null,null,null,null,null,{"$f":"IF(B592=data!$B$2,D592*0.7+E592*0.5+F592*0.2+G592*0.8+H592+I592*0.2+J592+K592*0.3+L592+M592*0.5+N592*0.2,IF(B592=data!$B$3,D592*0.1+E592*0.4+F592*0.3+G592*0.1+H592+J592+K592*0.5+L592+M592*0.4,IF(B592=data!$B$4,D592*0.6+E592*0.8+F592*0.7+G592+H592+J592+L592+N592,IF(B592=data!$B$5,D592*0.7+E592*0.8+F592+I592*0.7+J592+L592,\"zvolte typ stavby\"))))","v":"zvolte typ stavby"},{"$f":"IF(B592=data!$B$2,(O592*10)/6.4,IF(B592=data!$B$3,(O592*10)/4.8,IF(B592=data!$B$4,(O592*10)/7.1,IF(B592=data!$B$5,(O592*10)/5.2,\"zvolte typ stavby\"))))","v":"zvolte typ stavby"}]
[null,null,null,null,null,null,null,null,null,null,null,null,null,null,{"$f":"IF(B593=data!$B$2,D593*0.7+E593*0.5+F593*0.2+G593*0.8+H593+I593*0.2+J593+K593*0.3+L593+M593*0.5+N593*0.2,IF(B593=data!$B$3,D593*0.1+E593*0.4+F593*0.3+G593*0.1+H593+J593+K593*0.5+L593+M593*0.4,IF(B593=data!$B$4,D593*0.6+E593*0.8+F593*0.7+G593+H593+J593+L593+N593,IF(B593=data!$B$5,D593*0.7+E593*0.8+F593+I593*0.7+J593+L593,\"zvolte typ stavby\"))))","v":"zvolte typ stavby"},{"$f":"IF(B593=data!$B$2,(O593*10)/6.4,IF(B593=data!$B$3,(O593*10)/4.8,IF(B593=data!$B$4,(O593*10)/7.1,IF(B593=data!$B$5,(O593*10)/5.2,\"zvolte typ stavby\"))))","v":"zvolte typ stavby"}]
[null,null,null,null,null,null,null,null,null,null,null,null,null,null,{"$f":"IF(B594=data!$B$2,D594*0.7+E594*0.5+F594*0.2+G594*0.8+H594+I594*0.2+J594+K594*0.3+L594+M594*0.5+N594*0.2,IF(B594=data!$B$3,D594*0.1+E594*0.4+F594*0.3+G594*0.1+H594+J594+K594*0.5+L594+M594*0.4,IF(B594=data!$B$4,D594*0.6+E594*0.8+F594*0.7+G594+H594+J594+L594+N594,IF(B594=data!$B$5,D594*0.7+E594*0.8+F594+I594*0.7+J594+L594,\"zvolte typ stavby\"))))","v":"zvolte typ stavby"},{"$f":"IF(B594=data!$B$2,(O594*10)/6.4,IF(B594=data!$B$3,(O594*10)/4.8,IF(B594=data!$B$4,(O594*10)/7.1,IF(B594=data!$B$5,(O594*10)/5.2,\"zvolte typ stavby\"))))","v":"zvolte typ stavby"}]
[null,null,null,null,null,null,null,null,null,null,null,null,null,null,{"$f":"IF(B595=data!$B$2,D595*0.7+E595*0.5+F595*0.2+G595*0.8+H595+I595*0.2+J595+K595*0.3+L595+M595*0.5+N595*0.2,IF(B595=data!$B$3,D595*0.1+E595*0.4+F595*0.3+G595*0.1+H595+J595+K595*0.5+L595+M595*0.4,IF(B595=data!$B$4,D595*0.6+E595*0.8+F595*0.7+G595+H595+J595+L595+N595,IF(B595=data!$B$5,D595*0.7+E595*0.8+F595+I595*0.7+J595+L595,\"zvolte typ stavby\"))))","v":"zvolte typ stavby"},{"$f":"IF(B595=data!$B$2,(O595*10)/6.4,IF(B595=data!$B$3,(O595*10)/4.8,IF(B595=data!$B$4,(O595*10)/7.1,IF(B595=data!$B$5,(O595*10)/5.2,\"zvolte typ stavby\"))))","v":"zvolte typ stavby"}]
[null,null,null,null,null,null,null,null,null,null,null,null,null,null,{"$f":"IF(B596=data!$B$2,D596*0.7+E596*0.5+F596*0.2+G596*0.8+H596+I596*0.2+J596+K596*0.3+L596+M596*0.5+N596*0.2,IF(B596=data!$B$3,D596*0.1+E596*0.4+F596*0.3+G596*0.1+H596+J596+K596*0.5+L596+M596*0.4,IF(B596=data!$B$4,D596*0.6+E596*0.8+F596*0.7+G596+H596+J596+L596+N596,IF(B596=data!$B$5,D596*0.7+E596*0.8+F596+I596*0.7+J596+L596,\"zvolte typ stavby\"))))","v":"zvolte typ stavby"},{"$f":"IF(B596=data!$B$2,(O596*10)/6.4,IF(B596=data!$B$3,(O596*10)/4.8,IF(B596=data!$B$4,(O596*10)/7.1,IF(B596=data!$B$5,(O596*10)/5.2,\"zvolte typ stavby\"))))","v":"zvolte typ stavby"}]
[null,null,null,null,null,null,null,null,null,null,null,null,null,null,{"$f":"IF(B597=data!$B$2,D597*0.7+E597*0.5+F597*0.2+G597*0.8+H597+I597*0.2+J597+K597*0.3+L597+M597*0.5+N597*0.2,IF(B597=data!$B$3,D597*0.1+E597*0.4+F597*0.3+G597*0.1+H597+J597+K597*0.5+L597+M597*0.4,IF(B597=data!$B$4,D597*0.6+E597*0.8+F597*0.7+G597+H597+J597+L597+N597,IF(B597=data!$B$5,D597*0.7+E597*0.8+F597+I597*0.7+J597+L597,\"zvolte typ stavby\"))))","v":"zvolte typ stavby"},{"$f":"IF(B597=data!$B$2,(O597*10)/6.4,IF(B597=data!$B$3,(O597*10)/4.8,IF(B597=data!$B$4,(O597*10)/7.1,IF(B597=data!$B$5,(O597*10)/5.2,\"zvolte typ stavby\"))))","v":"zvolte typ stavby"}]
[null,null,null,null,null,null,null,null,null,null,null,null,null,null,{"$f":"IF(B598=data!$B$2,D598*0.7+E598*0.5+F598*0.2+G598*0.8+H598+I598*0.2+J598+K598*0.3+L598+M598*0.5+N598*0.2,IF(B598=data!$B$3,D598*0.1+E598*0.4+F598*0.3+G598*0.1+H598+J598+K598*0.5+L598+M598*0.4,IF(B598=data!$B$4,D598*0.6+E598*0.8+F598*0.7+G598+H598+J598+L598+N598,IF(B598=data!$B$5,D598*0.7+E598*0.8+F598+I598*0.7+J598+L598,\"zvolte typ stavby\"))))","v":"zvolte typ stavby"},{"$f":"IF(B598=data!$B$2,(O598*10)/6.4,IF(B598=data!$B$3,(O598*10)/4.8,IF(B598=data!$B$4,(O598*10)/7.1,IF(B598=data!$B$5,(O598*10)/5.2,\"zvolte typ stavby\"))))","v":"zvolte typ stavby"}]
[null,null,null,null,null,null,null,null,null,null,null,null,null,null,{"$f":"IF(B599=data!$B$2,D599*0.7+E599*0.5+F599*0.2+G599*0.8+H599+I599*0.2+J599+K599*0.3+L599+M599*0.5+N599*0.2,IF(B599=data!$B$3,D599*0.1+E599*0.4+F599*0.3+G599*0.1+H599+J599+K599*0.5+L599+M599*0.4,IF(B599=data!$B$4,D599*0.6+E599*0.8+F599*0.7+G599+H599+J599+L599+N599,IF(B599=data!$B$5,D599*0.7+E599*0.8+F599+I599*0.7+J599+L599,\"zvolte typ stavby\"))))","v":"zvolte typ stavby"},{"$f":"IF(B599=data!$B$2,(O599*10)/6.4,IF(B599=data!$B$3,(O599*10)/4.8,IF(B599=data!$B$4,(O599*10)/7.1,IF(B599=data!$B$5,(O599*10)/5.2,\"zvolte typ stavby\"))))","v":"zvolte typ stavby"}]
[null,null,null,null,null,null,null,null,null,null,null,null,null,null,{"$f":"IF(B600=data!$B$2,D600*0.7+E600*0.5+F600*0.2+G600*0.8+H600+I600*0.2+J600+K600*0.3+L600+M600*0.5+N600*0.2,IF(B600=data!$B$3,D600*0.1+E600*0.4+F600*0.3+G600*0.1+H600+J600+K600*0.5+L600+M600*0.4,IF(B600=data!$B$4,D600*0.6+E600*0.8+F600*0.7+G600+H600+J600+L600+N600,IF(B600=data!$B$5,D600*0.7+E600*0.8+F600+I600*0.7+J600+L600,\"zvolte typ stavby\"))))","v":"zvolte typ stavby"},{"$f":"IF(B600=data!$B$2,(O600*10)/6.4,IF(B600=data!$B$3,(O600*10)/4.8,IF(B600=data!$B$4,(O600*10)/7.1,IF(B600=data!$B$5,(O600*10)/5.2,\"zvolte typ stavby\"))))","v":"zvolte typ stavby"}]
[null,null,null,null,null,null,null,null,null,null,null,null,null,null,{"$f":"IF(B601=data!$B$2,D601*0.7+E601*0.5+F601*0.2+G601*0.8+H601+I601*0.2+J601+K601*0.3+L601+M601*0.5+N601*0.2,IF(B601=data!$B$3,D601*0.1+E601*0.4+F601*0.3+G601*0.1+H601+J601+K601*0.5+L601+M601*0.4,IF(B601=data!$B$4,D601*0.6+E601*0.8+F601*0.7+G601+H601+J601+L601+N601,IF(B601=data!$B$5,D601*0.7+E601*0.8+F601+I601*0.7+J601+L601,\"zvolte typ stavby\"))))","v":"zvolte typ stavby"},{"$f":"IF(B601=data!$B$2,(O601*10)/6.4,IF(B601=data!$B$3,(O601*10)/4.8,IF(B601=data!$B$4,(O601*10)/7.1,IF(B601=data!$B$5,(O601*10)/5.2,\"zvolte typ stavby\"))))","v":"zvolte typ stavby"}]
[null,null,null,null,null,null,null,null,null,null,null,null,null,null,{"$f":"IF(B602=data!$B$2,D602*0.7+E602*0.5+F602*0.2+G602*0.8+H602+I602*0.2+J602+K602*0.3+L602+M602*0.5+N602*0.2,IF(B602=data!$B$3,D602*0.1+E602*0.4+F602*0.3+G602*0.1+H602+J602+K602*0.5+L602+M602*0.4,IF(B602=data!$B$4,D602*0.6+E602*0.8+F602*0.7+G602+H602+J602+L602+N602,IF(B602=data!$B$5,D602*0.7+E602*0.8+F602+I602*0.7+J602+L602,\"zvolte typ stavby\"))))","v":"zvolte typ stavby"},{"$f":"IF(B602=data!$B$2,(O602*10)/6.4,IF(B602=data!$B$3,(O602*10)/4.8,IF(B602=data!$B$4,(O602*10)/7.1,IF(B602=data!$B$5,(O602*10)/5.2,\"zvolte typ stavby\"))))","v":"zvolte typ stavby"}]
[null,null,null,null,null,null,null,null,null,null,null,null,null,null,{"$f":"IF(B603=data!$B$2,D603*0.7+E603*0.5+F603*0.2+G603*0.8+H603+I603*0.2+J603+K603*0.3+L603+M603*0.5+N603*0.2,IF(B603=data!$B$3,D603*0.1+E603*0.4+F603*0.3+G603*0.1+H603+J603+K603*0.5+L603+M603*0.4,IF(B603=data!$B$4,D603*0.6+E603*0.8+F603*0.7+G603+H603+J603+L603+N603,IF(B603=data!$B$5,D603*0.7+E603*0.8+F603+I603*0.7+J603+L603,\"zvolte typ stavby\"))))","v":"zvolte typ stavby"},{"$f":"IF(B603=data!$B$2,(O603*10)/6.4,IF(B603=data!$B$3,(O603*10)/4.8,IF(B603=data!$B$4,(O603*10)/7.1,IF(B603=data!$B$5,(O603*10)/5.2,\"zvolte typ stavby\"))))","v":"zvolte typ stavby"}]
[null,null,null,null,null,null,null,null,null,null,null,null,null,null,{"$f":"IF(B604=data!$B$2,D604*0.7+E604*0.5+F604*0.2+G604*0.8+H604+I604*0.2+J604+K604*0.3+L604+M604*0.5+N604*0.2,IF(B604=data!$B$3,D604*0.1+E604*0.4+F604*0.3+G604*0.1+H604+J604+K604*0.5+L604+M604*0.4,IF(B604=data!$B$4,D604*0.6+E604*0.8+F604*0.7+G604+H604+J604+L604+N604,IF(B604=data!$B$5,D604*0.7+E604*0.8+F604+I604*0.7+J604+L604,\"zvolte typ stavby\"))))","v":"zvolte typ stavby"},{"$f":"IF(B604=data!$B$2,(O604*10)/6.4,IF(B604=data!$B$3,(O604*10)/4.8,IF(B604=data!$B$4,(O604*10)/7.1,IF(B604=data!$B$5,(O604*10)/5.2,\"zvolte typ stavby\"))))","v":"zvolte typ stavby"}]
[null,null,null,null,null,null,null,null,null,null,null,null,null,null,{"$f":"IF(B605=data!$B$2,D605*0.7+E605*0.5+F605*0.2+G605*0.8+H605+I605*0.2+J605+K605*0.3+L605+M605*0.5+N605*0.2,IF(B605=data!$B$3,D605*0.1+E605*0.4+F605*0.3+G605*0.1+H605+J605+K605*0.5+L605+M605*0.4,IF(B605=data!$B$4,D605*0.6+E605*0.8+F605*0.7+G605+H605+J605+L605+N605,IF(B605=data!$B$5,D605*0.7+E605*0.8+F605+I605*0.7+J605+L605,\"zvolte typ stavby\"))))","v":"zvolte typ stavby"},{"$f":"IF(B605=data!$B$2,(O605*10)/6.4,IF(B605=data!$B$3,(O605*10)/4.8,IF(B605=data!$B$4,(O605*10)/7.1,IF(B605=data!$B$5,(O605*10)/5.2,\"zvolte typ stavby\"))))","v":"zvolte typ stavby"}]
[null,null,null,null,null,null,null,null,null,null,null,null,null,null,{"$f":"IF(B606=data!$B$2,D606*0.7+E606*0.5+F606*0.2+G606*0.8+H606+I606*0.2+J606+K606*0.3+L606+M606*0.5+N606*0.2,IF(B606=data!$B$3,D606*0.1+E606*0.4+F606*0.3+G606*0.1+H606+J606+K606*0.5+L606+M606*0.4,IF(B606=data!$B$4,D606*0.6+E606*0.8+F606*0.7+G606+H606+J606+L606+N606,IF(B606=data!$B$5,D606*0.7+E606*0.8+F606+I606*0.7+J606+L606,\"zvolte typ stavby\"))))","v":"zvolte typ stavby"},{"$f":"IF(B606=data!$B$2,(O606*10)/6.4,IF(B606=data!$B$3,(O606*10)/4.8,IF(B606=data!$B$4,(O606*10)/7.1,IF(B606=data!$B$5,(O606*10)/5.2,\"zvolte typ stavby\"))))","v":"zvolte typ stavby"}]
[null,null,null,null,null,null,null,null,null,null,null,null,null,null,{"$f":"IF(B607=data!$B$2,D607*0.7+E607*0.5+F607*0.2+G607*0.8+H607+I607*0.2+J607+K607*0.3+L607+M607*0.5+N607*0.2,IF(B607=data!$B$3,D607*0.1+E607*0.4+F607*0.3+G607*0.1+H607+J607+K607*0.5+L607+M607*0.4,IF(B607=data!$B$4,D607*0.6+E607*0.8+F607*0.7+G607+H607+J607+L607+N607,IF(B607=data!$B$5,D607*0.7+E607*0.8+F607+I607*0.7+J607+L607,\"zvolte typ stavby\"))))","v":"zvolte typ stavby"},{"$f":"IF(B607=data!$B$2,(O607*10)/6.4,IF(B607=data!$B$3,(O607*10)/4.8,IF(B607=data!$B$4,(O607*10)/7.1,IF(B607=data!$B$5,(O607*10)/5.2,\"zvolte typ stavby\"))))","v":"zvolte typ stavby"}]
[null,null,null,null,null,null,null,null,null,null,null,null,null,null,{"$f":"IF(B608=data!$B$2,D608*0.7+E608*0.5+F608*0.2+G608*0.8+H608+I608*0.2+J608+K608*0.3+L608+M608*0.5+N608*0.2,IF(B608=data!$B$3,D608*0.1+E608*0.4+F608*0.3+G608*0.1+H608+J608+K608*0.5+L608+M608*0.4,IF(B608=data!$B$4,D608*0.6+E608*0.8+F608*0.7+G608+H608+J608+L608+N608,IF(B608=data!$B$5,D608*0.7+E608*0.8+F608+I608*0.7+J608+L608,\"zvolte typ stavby\"))))","v":"zvolte typ stavby"},{"$f":"IF(B608=data!$B$2,(O608*10)/6.4,IF(B608=data!$B$3,(O608*10)/4.8,IF(B608=data!$B$4,(O608*10)/7.1,IF(B608=data!$B$5,(O608*10)/5.2,\"zvolte typ stavby\"))))","v":"zvolte typ stavby"}]
[null,null,null,null,null,null,null,null,null,null,null,null,null,null,{"$f":"IF(B609=data!$B$2,D609*0.7+E609*0.5+F609*0.2+G609*0.8+H609+I609*0.2+J609+K609*0.3+L609+M609*0.5+N609*0.2,IF(B609=data!$B$3,D609*0.1+E609*0.4+F609*0.3+G609*0.1+H609+J609+K609*0.5+L609+M609*0.4,IF(B609=data!$B$4,D609*0.6+E609*0.8+F609*0.7+G609+H609+J609+L609+N609,IF(B609=data!$B$5,D609*0.7+E609*0.8+F609+I609*0.7+J609+L609,\"zvolte typ stavby\"))))","v":"zvolte typ stavby"},{"$f":"IF(B609=data!$B$2,(O609*10)/6.4,IF(B609=data!$B$3,(O609*10)/4.8,IF(B609=data!$B$4,(O609*10)/7.1,IF(B609=data!$B$5,(O609*10)/5.2,\"zvolte typ stavby\"))))","v":"zvolte typ stavby"}]
[null,null,null,null,null,null,null,null,null,null,null,null,null,null,{"$f":"IF(B610=data!$B$2,D610*0.7+E610*0.5+F610*0.2+G610*0.8+H610+I610*0.2+J610+K610*0.3+L610+M610*0.5+N610*0.2,IF(B610=data!$B$3,D610*0.1+E610*0.4+F610*0.3+G610*0.1+H610+J610+K610*0.5+L610+M610*0.4,IF(B610=data!$B$4,D610*0.6+E610*0.8+F610*0.7+G610+H610+J610+L610+N610,IF(B610=data!$B$5,D610*0.7+E610*0.8+F610+I610*0.7+J610+L610,\"zvolte typ stavby\"))))","v":"zvolte typ stavby"},{"$f":"IF(B610=data!$B$2,(O610*10)/6.4,IF(B610=data!$B$3,(O610*10)/4.8,IF(B610=data!$B$4,(O610*10)/7.1,IF(B610=data!$B$5,(O610*10)/5.2,\"zvolte typ stavby\"))))","v":"zvolte typ stavby"}]
[null,null,null,null,null,null,null,null,null,null,null,null,null,null,{"$f":"IF(B611=data!$B$2,D611*0.7+E611*0.5+F611*0.2+G611*0.8+H611+I611*0.2+J611+K611*0.3+L611+M611*0.5+N611*0.2,IF(B611=data!$B$3,D611*0.1+E611*0.4+F611*0.3+G611*0.1+H611+J611+K611*0.5+L611+M611*0.4,IF(B611=data!$B$4,D611*0.6+E611*0.8+F611*0.7+G611+H611+J611+L611+N611,IF(B611=data!$B$5,D611*0.7+E611*0.8+F611+I611*0.7+J611+L611,\"zvolte typ stavby\"))))","v":"zvolte typ stavby"},{"$f":"IF(B611=data!$B$2,(O611*10)/6.4,IF(B611=data!$B$3,(O611*10)/4.8,IF(B611=data!$B$4,(O611*10)/7.1,IF(B611=data!$B$5,(O611*10)/5.2,\"zvolte typ stavby\"))))","v":"zvolte typ stavby"}]
[null,null,null,null,null,null,null,null,null,null,null,null,null,null,{"$f":"IF(B612=data!$B$2,D612*0.7+E612*0.5+F612*0.2+G612*0.8+H612+I612*0.2+J612+K612*0.3+L612+M612*0.5+N612*0.2,IF(B612=data!$B$3,D612*0.1+E612*0.4+F612*0.3+G612*0.1+H612+J612+K612*0.5+L612+M612*0.4,IF(B612=data!$B$4,D612*0.6+E612*0.8+F612*0.7+G612+H612+J612+L612+N612,IF(B612=data!$B$5,D612*0.7+E612*0.8+F612+I612*0.7+J612+L612,\"zvolte typ stavby\"))))","v":"zvolte typ stavby"},{"$f":"IF(B612=data!$B$2,(O612*10)/6.4,IF(B612=data!$B$3,(O612*10)/4.8,IF(B612=data!$B$4,(O612*10)/7.1,IF(B612=data!$B$5,(O612*10)/5.2,\"zvolte typ stavby\"))))","v":"zvolte typ stavby"}]
[null,null,null,null,null,null,null,null,null,null,null,null,null,null,{"$f":"IF(B613=data!$B$2,D613*0.7+E613*0.5+F613*0.2+G613*0.8+H613+I613*0.2+J613+K613*0.3+L613+M613*0.5+N613*0.2,IF(B613=data!$B$3,D613*0.1+E613*0.4+F613*0.3+G613*0.1+H613+J613+K613*0.5+L613+M613*0.4,IF(B613=data!$B$4,D613*0.6+E613*0.8+F613*0.7+G613+H613+J613+L613+N613,IF(B613=data!$B$5,D613*0.7+E613*0.8+F613+I613*0.7+J613+L613,\"zvolte typ stavby\"))))","v":"zvolte typ stavby"},{"$f":"IF(B613=data!$B$2,(O613*10)/6.4,IF(B613=data!$B$3,(O613*10)/4.8,IF(B613=data!$B$4,(O613*10)/7.1,IF(B613=data!$B$5,(O613*10)/5.2,\"zvolte typ stavby\"))))","v":"zvolte typ stavby"}]
[null,null,null,null,null,null,null,null,null,null,null,null,null,null,{"$f":"IF(B614=data!$B$2,D614*0.7+E614*0.5+F614*0.2+G614*0.8+H614+I614*0.2+J614+K614*0.3+L614+M614*0.5+N614*0.2,IF(B614=data!$B$3,D614*0.1+E614*0.4+F614*0.3+G614*0.1+H614+J614+K614*0.5+L614+M614*0.4,IF(B614=data!$B$4,D614*0.6+E614*0.8+F614*0.7+G614+H614+J614+L614+N614,IF(B614=data!$B$5,D614*0.7+E614*0.8+F614+I614*0.7+J614+L614,\"zvolte typ stavby\"))))","v":"zvolte typ stavby"},{"$f":"IF(B614=data!$B$2,(O614*10)/6.4,IF(B614=data!$B$3,(O614*10)/4.8,IF(B614=data!$B$4,(O614*10)/7.1,IF(B614=data!$B$5,(O614*10)/5.2,\"zvolte typ stavby\"))))","v":"zvolte typ stavby"}]
[null,null,null,null,null,null,null,null,null,null,null,null,null,null,{"$f":"IF(B615=data!$B$2,D615*0.7+E615*0.5+F615*0.2+G615*0.8+H615+I615*0.2+J615+K615*0.3+L615+M615*0.5+N615*0.2,IF(B615=data!$B$3,D615*0.1+E615*0.4+F615*0.3+G615*0.1+H615+J615+K615*0.5+L615+M615*0.4,IF(B615=data!$B$4,D615*0.6+E615*0.8+F615*0.7+G615+H615+J615+L615+N615,IF(B615=data!$B$5,D615*0.7+E615*0.8+F615+I615*0.7+J615+L615,\"zvolte typ stavby\"))))","v":"zvolte typ stavby"},{"$f":"IF(B615=data!$B$2,(O615*10)/6.4,IF(B615=data!$B$3,(O615*10)/4.8,IF(B615=data!$B$4,(O615*10)/7.1,IF(B615=data!$B$5,(O615*10)/5.2,\"zvolte typ stavby\"))))","v":"zvolte typ stavby"}]
[null,null,null,null,null,null,null,null,null,null,null,null,null,null,{"$f":"IF(B616=data!$B$2,D616*0.7+E616*0.5+F616*0.2+G616*0.8+H616+I616*0.2+J616+K616*0.3+L616+M616*0.5+N616*0.2,IF(B616=data!$B$3,D616*0.1+E616*0.4+F616*0.3+G616*0.1+H616+J616+K616*0.5+L616+M616*0.4,IF(B616=data!$B$4,D616*0.6+E616*0.8+F616*0.7+G616+H616+J616+L616+N616,IF(B616=data!$B$5,D616*0.7+E616*0.8+F616+I616*0.7+J616+L616,\"zvolte typ stavby\"))))","v":"zvolte typ stavby"},{"$f":"IF(B616=data!$B$2,(O616*10)/6.4,IF(B616=data!$B$3,(O616*10)/4.8,IF(B616=data!$B$4,(O616*10)/7.1,IF(B616=data!$B$5,(O616*10)/5.2,\"zvolte typ stavby\"))))","v":"zvolte typ stavby"}]
[null,null,null,null,null,null,null,null,null,null,null,null,null,null,{"$f":"IF(B617=data!$B$2,D617*0.7+E617*0.5+F617*0.2+G617*0.8+H617+I617*0.2+J617+K617*0.3+L617+M617*0.5+N617*0.2,IF(B617=data!$B$3,D617*0.1+E617*0.4+F617*0.3+G617*0.1+H617+J617+K617*0.5+L617+M617*0.4,IF(B617=data!$B$4,D617*0.6+E617*0.8+F617*0.7+G617+H617+J617+L617+N617,IF(B617=data!$B$5,D617*0.7+E617*0.8+F617+I617*0.7+J617+L617,\"zvolte typ stavby\"))))","v":"zvolte typ stavby"},{"$f":"IF(B617=data!$B$2,(O617*10)/6.4,IF(B617=data!$B$3,(O617*10)/4.8,IF(B617=data!$B$4,(O617*10)/7.1,IF(B617=data!$B$5,(O617*10)/5.2,\"zvolte typ stavby\"))))","v":"zvolte typ stavby"}]
[null,null,null,null,null,null,null,null,null,null,null,null,null,null,{"$f":"IF(B618=data!$B$2,D618*0.7+E618*0.5+F618*0.2+G618*0.8+H618+I618*0.2+J618+K618*0.3+L618+M618*0.5+N618*0.2,IF(B618=data!$B$3,D618*0.1+E618*0.4+F618*0.3+G618*0.1+H618+J618+K618*0.5+L618+M618*0.4,IF(B618=data!$B$4,D618*0.6+E618*0.8+F618*0.7+G618+H618+J618+L618+N618,IF(B618=data!$B$5,D618*0.7+E618*0.8+F618+I618*0.7+J618+L618,\"zvolte typ stavby\"))))","v":"zvolte typ stavby"},{"$f":"IF(B618=data!$B$2,(O618*10)/6.4,IF(B618=data!$B$3,(O618*10)/4.8,IF(B618=data!$B$4,(O618*10)/7.1,IF(B618=data!$B$5,(O618*10)/5.2,\"zvolte typ stavby\"))))","v":"zvolte typ stavby"}]
[null,null,null,null,null,null,null,null,null,null,null,null,null,null,{"$f":"IF(B619=data!$B$2,D619*0.7+E619*0.5+F619*0.2+G619*0.8+H619+I619*0.2+J619+K619*0.3+L619+M619*0.5+N619*0.2,IF(B619=data!$B$3,D619*0.1+E619*0.4+F619*0.3+G619*0.1+H619+J619+K619*0.5+L619+M619*0.4,IF(B619=data!$B$4,D619*0.6+E619*0.8+F619*0.7+G619+H619+J619+L619+N619,IF(B619=data!$B$5,D619*0.7+E619*0.8+F619+I619*0.7+J619+L619,\"zvolte typ stavby\"))))","v":"zvolte typ stavby"},{"$f":"IF(B619=data!$B$2,(O619*10)/6.4,IF(B619=data!$B$3,(O619*10)/4.8,IF(B619=data!$B$4,(O619*10)/7.1,IF(B619=data!$B$5,(O619*10)/5.2,\"zvolte typ stavby\"))))","v":"zvolte typ stavby"}]
[null,null,null,null,null,null,null,null,null,null,null,null,null,null,{"$f":"IF(B620=data!$B$2,D620*0.7+E620*0.5+F620*0.2+G620*0.8+H620+I620*0.2+J620+K620*0.3+L620+M620*0.5+N620*0.2,IF(B620=data!$B$3,D620*0.1+E620*0.4+F620*0.3+G620*0.1+H620+J620+K620*0.5+L620+M620*0.4,IF(B620=data!$B$4,D620*0.6+E620*0.8+F620*0.7+G620+H620+J620+L620+N620,IF(B620=data!$B$5,D620*0.7+E620*0.8+F620+I620*0.7+J620+L620,\"zvolte typ stavby\"))))","v":"zvolte typ stavby"},{"$f":"IF(B620=data!$B$2,(O620*10)/6.4,IF(B620=data!$B$3,(O620*10)/4.8,IF(B620=data!$B$4,(O620*10)/7.1,IF(B620=data!$B$5,(O620*10)/5.2,\"zvolte typ stavby\"))))","v":"zvolte typ stavby"}]
[null,null,null,null,null,null,null,null,null,null,null,null,null,null,{"$f":"IF(B621=data!$B$2,D621*0.7+E621*0.5+F621*0.2+G621*0.8+H621+I621*0.2+J621+K621*0.3+L621+M621*0.5+N621*0.2,IF(B621=data!$B$3,D621*0.1+E621*0.4+F621*0.3+G621*0.1+H621+J621+K621*0.5+L621+M621*0.4,IF(B621=data!$B$4,D621*0.6+E621*0.8+F621*0.7+G621+H621+J621+L621+N621,IF(B621=data!$B$5,D621*0.7+E621*0.8+F621+I621*0.7+J621+L621,\"zvolte typ stavby\"))))","v":"zvolte typ stavby"},{"$f":"IF(B621=data!$B$2,(O621*10)/6.4,IF(B621=data!$B$3,(O621*10)/4.8,IF(B621=data!$B$4,(O621*10)/7.1,IF(B621=data!$B$5,(O621*10)/5.2,\"zvolte typ stavby\"))))","v":"zvolte typ stavby"}]
[null,null,null,null,null,null,null,null,null,null,null,null,null,null,{"$f":"IF(B622=data!$B$2,D622*0.7+E622*0.5+F622*0.2+G622*0.8+H622+I622*0.2+J622+K622*0.3+L622+M622*0.5+N622*0.2,IF(B622=data!$B$3,D622*0.1+E622*0.4+F622*0.3+G622*0.1+H622+J622+K622*0.5+L622+M622*0.4,IF(B622=data!$B$4,D622*0.6+E622*0.8+F622*0.7+G622+H622+J622+L622+N622,IF(B622=data!$B$5,D622*0.7+E622*0.8+F622+I622*0.7+J622+L622,\"zvolte typ stavby\"))))","v":"zvolte typ stavby"},{"$f":"IF(B622=data!$B$2,(O622*10)/6.4,IF(B622=data!$B$3,(O622*10)/4.8,IF(B622=data!$B$4,(O622*10)/7.1,IF(B622=data!$B$5,(O622*10)/5.2,\"zvolte typ stavby\"))))","v":"zvolte typ stavby"}]
[null,null,null,null,null,null,null,null,null,null,null,null,null,null,{"$f":"IF(B623=data!$B$2,D623*0.7+E623*0.5+F623*0.2+G623*0.8+H623+I623*0.2+J623+K623*0.3+L623+M623*0.5+N623*0.2,IF(B623=data!$B$3,D623*0.1+E623*0.4+F623*0.3+G623*0.1+H623+J623+K623*0.5+L623+M623*0.4,IF(B623=data!$B$4,D623*0.6+E623*0.8+F623*0.7+G623+H623+J623+L623+N623,IF(B623=data!$B$5,D623*0.7+E623*0.8+F623+I623*0.7+J623+L623,\"zvolte typ stavby\"))))","v":"zvolte typ stavby"},{"$f":"IF(B623=data!$B$2,(O623*10)/6.4,IF(B623=data!$B$3,(O623*10)/4.8,IF(B623=data!$B$4,(O623*10)/7.1,IF(B623=data!$B$5,(O623*10)/5.2,\"zvolte typ stavby\"))))","v":"zvolte typ stavby"}]
[null,null,null,null,null,null,null,null,null,null,null,null,null,null,{"$f":"IF(B624=data!$B$2,D624*0.7+E624*0.5+F624*0.2+G624*0.8+H624+I624*0.2+J624+K624*0.3+L624+M624*0.5+N624*0.2,IF(B624=data!$B$3,D624*0.1+E624*0.4+F624*0.3+G624*0.1+H624+J624+K624*0.5+L624+M624*0.4,IF(B624=data!$B$4,D624*0.6+E624*0.8+F624*0.7+G624+H624+J624+L624+N624,IF(B624=data!$B$5,D624*0.7+E624*0.8+F624+I624*0.7+J624+L624,\"zvolte typ stavby\"))))","v":"zvolte typ stavby"},{"$f":"IF(B624=data!$B$2,(O624*10)/6.4,IF(B624=data!$B$3,(O624*10)/4.8,IF(B624=data!$B$4,(O624*10)/7.1,IF(B624=data!$B$5,(O624*10)/5.2,\"zvolte typ stavby\"))))","v":"zvolte typ stavby"}]
[null,null,null,null,null,null,null,null,null,null,null,null,null,null,{"$f":"IF(B625=data!$B$2,D625*0.7+E625*0.5+F625*0.2+G625*0.8+H625+I625*0.2+J625+K625*0.3+L625+M625*0.5+N625*0.2,IF(B625=data!$B$3,D625*0.1+E625*0.4+F625*0.3+G625*0.1+H625+J625+K625*0.5+L625+M625*0.4,IF(B625=data!$B$4,D625*0.6+E625*0.8+F625*0.7+G625+H625+J625+L625+N625,IF(B625=data!$B$5,D625*0.7+E625*0.8+F625+I625*0.7+J625+L625,\"zvolte typ stavby\"))))","v":"zvolte typ stavby"},{"$f":"IF(B625=data!$B$2,(O625*10)/6.4,IF(B625=data!$B$3,(O625*10)/4.8,IF(B625=data!$B$4,(O625*10)/7.1,IF(B625=data!$B$5,(O625*10)/5.2,\"zvolte typ stavby\"))))","v":"zvolte typ stavby"}]
[null,null,null,null,null,null,null,null,null,null,null,null,null,null,{"$f":"IF(B626=data!$B$2,D626*0.7+E626*0.5+F626*0.2+G626*0.8+H626+I626*0.2+J626+K626*0.3+L626+M626*0.5+N626*0.2,IF(B626=data!$B$3,D626*0.1+E626*0.4+F626*0.3+G626*0.1+H626+J626+K626*0.5+L626+M626*0.4,IF(B626=data!$B$4,D626*0.6+E626*0.8+F626*0.7+G626+H626+J626+L626+N626,IF(B626=data!$B$5,D626*0.7+E626*0.8+F626+I626*0.7+J626+L626,\"zvolte typ stavby\"))))","v":"zvolte typ stavby"},{"$f":"IF(B626=data!$B$2,(O626*10)/6.4,IF(B626=data!$B$3,(O626*10)/4.8,IF(B626=data!$B$4,(O626*10)/7.1,IF(B626=data!$B$5,(O626*10)/5.2,\"zvolte typ stavby\"))))","v":"zvolte typ stavby"}]
[null,null,null,null,null,null,null,null,null,null,null,null,null,null,{"$f":"IF(B627=data!$B$2,D627*0.7+E627*0.5+F627*0.2+G627*0.8+H627+I627*0.2+J627+K627*0.3+L627+M627*0.5+N627*0.2,IF(B627=data!$B$3,D627*0.1+E627*0.4+F627*0.3+G627*0.1+H627+J627+K627*0.5+L627+M627*0.4,IF(B627=data!$B$4,D627*0.6+E627*0.8+F627*0.7+G627+H627+J627+L627+N627,IF(B627=data!$B$5,D627*0.7+E627*0.8+F627+I627*0.7+J627+L627,\"zvolte typ stavby\"))))","v":"zvolte typ stavby"},{"$f":"IF(B627=data!$B$2,(O627*10)/6.4,IF(B627=data!$B$3,(O627*10)/4.8,IF(B627=data!$B$4,(O627*10)/7.1,IF(B627=data!$B$5,(O627*10)/5.2,\"zvolte typ stavby\"))))","v":"zvolte typ stavby"}]
[null,null,null,null,null,null,null,null,null,null,null,null,null,null,{"$f":"IF(B628=data!$B$2,D628*0.7+E628*0.5+F628*0.2+G628*0.8+H628+I628*0.2+J628+K628*0.3+L628+M628*0.5+N628*0.2,IF(B628=data!$B$3,D628*0.1+E628*0.4+F628*0.3+G628*0.1+H628+J628+K628*0.5+L628+M628*0.4,IF(B628=data!$B$4,D628*0.6+E628*0.8+F628*0.7+G628+H628+J628+L628+N628,IF(B628=data!$B$5,D628*0.7+E628*0.8+F628+I628*0.7+J628+L628,\"zvolte typ stavby\"))))","v":"zvolte typ stavby"},{"$f":"IF(B628=data!$B$2,(O628*10)/6.4,IF(B628=data!$B$3,(O628*10)/4.8,IF(B628=data!$B$4,(O628*10)/7.1,IF(B628=data!$B$5,(O628*10)/5.2,\"zvolte typ stavby\"))))","v":"zvolte typ stavby"}]
[null,null,null,null,null,null,null,null,null,null,null,null,null,null,{"$f":"IF(B629=data!$B$2,D629*0.7+E629*0.5+F629*0.2+G629*0.8+H629+I629*0.2+J629+K629*0.3+L629+M629*0.5+N629*0.2,IF(B629=data!$B$3,D629*0.1+E629*0.4+F629*0.3+G629*0.1+H629+J629+K629*0.5+L629+M629*0.4,IF(B629=data!$B$4,D629*0.6+E629*0.8+F629*0.7+G629+H629+J629+L629+N629,IF(B629=data!$B$5,D629*0.7+E629*0.8+F629+I629*0.7+J629+L629,\"zvolte typ stavby\"))))","v":"zvolte typ stavby"},{"$f":"IF(B629=data!$B$2,(O629*10)/6.4,IF(B629=data!$B$3,(O629*10)/4.8,IF(B629=data!$B$4,(O629*10)/7.1,IF(B629=data!$B$5,(O629*10)/5.2,\"zvolte typ stavby\"))))","v":"zvolte typ stavby"}]
[null,null,null,null,null,null,null,null,null,null,null,null,null,null,{"$f":"IF(B630=data!$B$2,D630*0.7+E630*0.5+F630*0.2+G630*0.8+H630+I630*0.2+J630+K630*0.3+L630+M630*0.5+N630*0.2,IF(B630=data!$B$3,D630*0.1+E630*0.4+F630*0.3+G630*0.1+H630+J630+K630*0.5+L630+M630*0.4,IF(B630=data!$B$4,D630*0.6+E630*0.8+F630*0.7+G630+H630+J630+L630+N630,IF(B630=data!$B$5,D630*0.7+E630*0.8+F630+I630*0.7+J630+L630,\"zvolte typ stavby\"))))","v":"zvolte typ stavby"},{"$f":"IF(B630=data!$B$2,(O630*10)/6.4,IF(B630=data!$B$3,(O630*10)/4.8,IF(B630=data!$B$4,(O630*10)/7.1,IF(B630=data!$B$5,(O630*10)/5.2,\"zvolte typ stavby\"))))","v":"zvolte typ stavby"}]
[null,null,null,null,null,null,null,null,null,null,null,null,null,null,{"$f":"IF(B631=data!$B$2,D631*0.7+E631*0.5+F631*0.2+G631*0.8+H631+I631*0.2+J631+K631*0.3+L631+M631*0.5+N631*0.2,IF(B631=data!$B$3,D631*0.1+E631*0.4+F631*0.3+G631*0.1+H631+J631+K631*0.5+L631+M631*0.4,IF(B631=data!$B$4,D631*0.6+E631*0.8+F631*0.7+G631+H631+J631+L631+N631,IF(B631=data!$B$5,D631*0.7+E631*0.8+F631+I631*0.7+J631+L631,\"zvolte typ stavby\"))))","v":"zvolte typ stavby"},{"$f":"IF(B631=data!$B$2,(O631*10)/6.4,IF(B631=data!$B$3,(O631*10)/4.8,IF(B631=data!$B$4,(O631*10)/7.1,IF(B631=data!$B$5,(O631*10)/5.2,\"zvolte typ stavby\"))))","v":"zvolte typ stavby"}]
[null,null,null,null,null,null,null,null,null,null,null,null,null,null,{"$f":"IF(B632=data!$B$2,D632*0.7+E632*0.5+F632*0.2+G632*0.8+H632+I632*0.2+J632+K632*0.3+L632+M632*0.5+N632*0.2,IF(B632=data!$B$3,D632*0.1+E632*0.4+F632*0.3+G632*0.1+H632+J632+K632*0.5+L632+M632*0.4,IF(B632=data!$B$4,D632*0.6+E632*0.8+F632*0.7+G632+H632+J632+L632+N632,IF(B632=data!$B$5,D632*0.7+E632*0.8+F632+I632*0.7+J632+L632,\"zvolte typ stavby\"))))","v":"zvolte typ stavby"},{"$f":"IF(B632=data!$B$2,(O632*10)/6.4,IF(B632=data!$B$3,(O632*10)/4.8,IF(B632=data!$B$4,(O632*10)/7.1,IF(B632=data!$B$5,(O632*10)/5.2,\"zvolte typ stavby\"))))","v":"zvolte typ stavby"}]
[null,null,null,null,null,null,null,null,null,null,null,null,null,null,{"$f":"IF(B633=data!$B$2,D633*0.7+E633*0.5+F633*0.2+G633*0.8+H633+I633*0.2+J633+K633*0.3+L633+M633*0.5+N633*0.2,IF(B633=data!$B$3,D633*0.1+E633*0.4+F633*0.3+G633*0.1+H633+J633+K633*0.5+L633+M633*0.4,IF(B633=data!$B$4,D633*0.6+E633*0.8+F633*0.7+G633+H633+J633+L633+N633,IF(B633=data!$B$5,D633*0.7+E633*0.8+F633+I633*0.7+J633+L633,\"zvolte typ stavby\"))))","v":"zvolte typ stavby"},{"$f":"IF(B633=data!$B$2,(O633*10)/6.4,IF(B633=data!$B$3,(O633*10)/4.8,IF(B633=data!$B$4,(O633*10)/7.1,IF(B633=data!$B$5,(O633*10)/5.2,\"zvolte typ stavby\"))))","v":"zvolte typ stavby"}]
[null,null,null,null,null,null,null,null,null,null,null,null,null,null,{"$f":"IF(B634=data!$B$2,D634*0.7+E634*0.5+F634*0.2+G634*0.8+H634+I634*0.2+J634+K634*0.3+L634+M634*0.5+N634*0.2,IF(B634=data!$B$3,D634*0.1+E634*0.4+F634*0.3+G634*0.1+H634+J634+K634*0.5+L634+M634*0.4,IF(B634=data!$B$4,D634*0.6+E634*0.8+F634*0.7+G634+H634+J634+L634+N634,IF(B634=data!$B$5,D634*0.7+E634*0.8+F634+I634*0.7+J634+L634,\"zvolte typ stavby\"))))","v":"zvolte typ stavby"},{"$f":"IF(B634=data!$B$2,(O634*10)/6.4,IF(B634=data!$B$3,(O634*10)/4.8,IF(B634=data!$B$4,(O634*10)/7.1,IF(B634=data!$B$5,(O634*10)/5.2,\"zvolte typ stavby\"))))","v":"zvolte typ stavby"}]
[null,null,null,null,null,null,null,null,null,null,null,null,null,null,{"$f":"IF(B635=data!$B$2,D635*0.7+E635*0.5+F635*0.2+G635*0.8+H635+I635*0.2+J635+K635*0.3+L635+M635*0.5+N635*0.2,IF(B635=data!$B$3,D635*0.1+E635*0.4+F635*0.3+G635*0.1+H635+J635+K635*0.5+L635+M635*0.4,IF(B635=data!$B$4,D635*0.6+E635*0.8+F635*0.7+G635+H635+J635+L635+N635,IF(B635=data!$B$5,D635*0.7+E635*0.8+F635+I635*0.7+J635+L635,\"zvolte typ stavby\"))))","v":"zvolte typ stavby"},{"$f":"IF(B635=data!$B$2,(O635*10)/6.4,IF(B635=data!$B$3,(O635*10)/4.8,IF(B635=data!$B$4,(O635*10)/7.1,IF(B635=data!$B$5,(O635*10)/5.2,\"zvolte typ stavby\"))))","v":"zvolte typ stavby"}]
[null,null,null,null,null,null,null,null,null,null,null,null,null,null,{"$f":"IF(B636=data!$B$2,D636*0.7+E636*0.5+F636*0.2+G636*0.8+H636+I636*0.2+J636+K636*0.3+L636+M636*0.5+N636*0.2,IF(B636=data!$B$3,D636*0.1+E636*0.4+F636*0.3+G636*0.1+H636+J636+K636*0.5+L636+M636*0.4,IF(B636=data!$B$4,D636*0.6+E636*0.8+F636*0.7+G636+H636+J636+L636+N636,IF(B636=data!$B$5,D636*0.7+E636*0.8+F636+I636*0.7+J636+L636,\"zvolte typ stavby\"))))","v":"zvolte typ stavby"},{"$f":"IF(B636=data!$B$2,(O636*10)/6.4,IF(B636=data!$B$3,(O636*10)/4.8,IF(B636=data!$B$4,(O636*10)/7.1,IF(B636=data!$B$5,(O636*10)/5.2,\"zvolte typ stavby\"))))","v":"zvolte typ stavby"}]
[null,null,null,null,null,null,null,null,null,null,null,null,null,null,{"$f":"IF(B637=data!$B$2,D637*0.7+E637*0.5+F637*0.2+G637*0.8+H637+I637*0.2+J637+K637*0.3+L637+M637*0.5+N637*0.2,IF(B637=data!$B$3,D637*0.1+E637*0.4+F637*0.3+G637*0.1+H637+J637+K637*0.5+L637+M637*0.4,IF(B637=data!$B$4,D637*0.6+E637*0.8+F637*0.7+G637+H637+J637+L637+N637,IF(B637=data!$B$5,D637*0.7+E637*0.8+F637+I637*0.7+J637+L637,\"zvolte typ stavby\"))))","v":"zvolte typ stavby"},{"$f":"IF(B637=data!$B$2,(O637*10)/6.4,IF(B637=data!$B$3,(O637*10)/4.8,IF(B637=data!$B$4,(O637*10)/7.1,IF(B637=data!$B$5,(O637*10)/5.2,\"zvolte typ stavby\"))))","v":"zvolte typ stavby"}]
[null,null,null,null,null,null,null,null,null,null,null,null,null,null,{"$f":"IF(B638=data!$B$2,D638*0.7+E638*0.5+F638*0.2+G638*0.8+H638+I638*0.2+J638+K638*0.3+L638+M638*0.5+N638*0.2,IF(B638=data!$B$3,D638*0.1+E638*0.4+F638*0.3+G638*0.1+H638+J638+K638*0.5+L638+M638*0.4,IF(B638=data!$B$4,D638*0.6+E638*0.8+F638*0.7+G638+H638+J638+L638+N638,IF(B638=data!$B$5,D638*0.7+E638*0.8+F638+I638*0.7+J638+L638,\"zvolte typ stavby\"))))","v":"zvolte typ stavby"},{"$f":"IF(B638=data!$B$2,(O638*10)/6.4,IF(B638=data!$B$3,(O638*10)/4.8,IF(B638=data!$B$4,(O638*10)/7.1,IF(B638=data!$B$5,(O638*10)/5.2,\"zvolte typ stavby\"))))","v":"zvolte typ stavby"}]
[null,null,null,null,null,null,null,null,null,null,null,null,null,null,{"$f":"IF(B639=data!$B$2,D639*0.7+E639*0.5+F639*0.2+G639*0.8+H639+I639*0.2+J639+K639*0.3+L639+M639*0.5+N639*0.2,IF(B639=data!$B$3,D639*0.1+E639*0.4+F639*0.3+G639*0.1+H639+J639+K639*0.5+L639+M639*0.4,IF(B639=data!$B$4,D639*0.6+E639*0.8+F639*0.7+G639+H639+J639+L639+N639,IF(B639=data!$B$5,D639*0.7+E639*0.8+F639+I639*0.7+J639+L639,\"zvolte typ stavby\"))))","v":"zvolte typ stavby"},{"$f":"IF(B639=data!$B$2,(O639*10)/6.4,IF(B639=data!$B$3,(O639*10)/4.8,IF(B639=data!$B$4,(O639*10)/7.1,IF(B639=data!$B$5,(O639*10)/5.2,\"zvolte typ stavby\"))))","v":"zvolte typ stavby"}]
[null,null,null,null,null,null,null,null,null,null,null,null,null,null,{"$f":"IF(B640=data!$B$2,D640*0.7+E640*0.5+F640*0.2+G640*0.8+H640+I640*0.2+J640+K640*0.3+L640+M640*0.5+N640*0.2,IF(B640=data!$B$3,D640*0.1+E640*0.4+F640*0.3+G640*0.1+H640+J640+K640*0.5+L640+M640*0.4,IF(B640=data!$B$4,D640*0.6+E640*0.8+F640*0.7+G640+H640+J640+L640+N640,IF(B640=data!$B$5,D640*0.7+E640*0.8+F640+I640*0.7+J640+L640,\"zvolte typ stavby\"))))","v":"zvolte typ stavby"},{"$f":"IF(B640=data!$B$2,(O640*10)/6.4,IF(B640=data!$B$3,(O640*10)/4.8,IF(B640=data!$B$4,(O640*10)/7.1,IF(B640=data!$B$5,(O640*10)/5.2,\"zvolte typ stavby\"))))","v":"zvolte typ stavby"}]
[null,null,null,null,null,null,null,null,null,null,null,null,null,null,{"$f":"IF(B641=data!$B$2,D641*0.7+E641*0.5+F641*0.2+G641*0.8+H641+I641*0.2+J641+K641*0.3+L641+M641*0.5+N641*0.2,IF(B641=data!$B$3,D641*0.1+E641*0.4+F641*0.3+G641*0.1+H641+J641+K641*0.5+L641+M641*0.4,IF(B641=data!$B$4,D641*0.6+E641*0.8+F641*0.7+G641+H641+J641+L641+N641,IF(B641=data!$B$5,D641*0.7+E641*0.8+F641+I641*0.7+J641+L641,\"zvolte typ stavby\"))))","v":"zvolte typ stavby"},{"$f":"IF(B641=data!$B$2,(O641*10)/6.4,IF(B641=data!$B$3,(O641*10)/4.8,IF(B641=data!$B$4,(O641*10)/7.1,IF(B641=data!$B$5,(O641*10)/5.2,\"zvolte typ stavby\"))))","v":"zvolte typ stavby"}]
[null,null,null,null,null,null,null,null,null,null,null,null,null,null,{"$f":"IF(B642=data!$B$2,D642*0.7+E642*0.5+F642*0.2+G642*0.8+H642+I642*0.2+J642+K642*0.3+L642+M642*0.5+N642*0.2,IF(B642=data!$B$3,D642*0.1+E642*0.4+F642*0.3+G642*0.1+H642+J642+K642*0.5+L642+M642*0.4,IF(B642=data!$B$4,D642*0.6+E642*0.8+F642*0.7+G642+H642+J642+L642+N642,IF(B642=data!$B$5,D642*0.7+E642*0.8+F642+I642*0.7+J642+L642,\"zvolte typ stavby\"))))","v":"zvolte typ stavby"},{"$f":"IF(B642=data!$B$2,(O642*10)/6.4,IF(B642=data!$B$3,(O642*10)/4.8,IF(B642=data!$B$4,(O642*10)/7.1,IF(B642=data!$B$5,(O642*10)/5.2,\"zvolte typ stavby\"))))","v":"zvolte typ stavby"}]
[null,null,null,null,null,null,null,null,null,null,null,null,null,null,{"$f":"IF(B643=data!$B$2,D643*0.7+E643*0.5+F643*0.2+G643*0.8+H643+I643*0.2+J643+K643*0.3+L643+M643*0.5+N643*0.2,IF(B643=data!$B$3,D643*0.1+E643*0.4+F643*0.3+G643*0.1+H643+J643+K643*0.5+L643+M643*0.4,IF(B643=data!$B$4,D643*0.6+E643*0.8+F643*0.7+G643+H643+J643+L643+N643,IF(B643=data!$B$5,D643*0.7+E643*0.8+F643+I643*0.7+J643+L643,\"zvolte typ stavby\"))))","v":"zvolte typ stavby"},{"$f":"IF(B643=data!$B$2,(O643*10)/6.4,IF(B643=data!$B$3,(O643*10)/4.8,IF(B643=data!$B$4,(O643*10)/7.1,IF(B643=data!$B$5,(O643*10)/5.2,\"zvolte typ stavby\"))))","v":"zvolte typ stavby"}]
[null,null,null,null,null,null,null,null,null,null,null,null,null,null,{"$f":"IF(B644=data!$B$2,D644*0.7+E644*0.5+F644*0.2+G644*0.8+H644+I644*0.2+J644+K644*0.3+L644+M644*0.5+N644*0.2,IF(B644=data!$B$3,D644*0.1+E644*0.4+F644*0.3+G644*0.1+H644+J644+K644*0.5+L644+M644*0.4,IF(B644=data!$B$4,D644*0.6+E644*0.8+F644*0.7+G644+H644+J644+L644+N644,IF(B644=data!$B$5,D644*0.7+E644*0.8+F644+I644*0.7+J644+L644,\"zvolte typ stavby\"))))","v":"zvolte typ stavby"},{"$f":"IF(B644=data!$B$2,(O644*10)/6.4,IF(B644=data!$B$3,(O644*10)/4.8,IF(B644=data!$B$4,(O644*10)/7.1,IF(B644=data!$B$5,(O644*10)/5.2,\"zvolte typ stavby\"))))","v":"zvolte typ stavby"}]
[null,null,null,null,null,null,null,null,null,null,null,null,null,null,{"$f":"IF(B645=data!$B$2,D645*0.7+E645*0.5+F645*0.2+G645*0.8+H645+I645*0.2+J645+K645*0.3+L645+M645*0.5+N645*0.2,IF(B645=data!$B$3,D645*0.1+E645*0.4+F645*0.3+G645*0.1+H645+J645+K645*0.5+L645+M645*0.4,IF(B645=data!$B$4,D645*0.6+E645*0.8+F645*0.7+G645+H645+J645+L645+N645,IF(B645=data!$B$5,D645*0.7+E645*0.8+F645+I645*0.7+J645+L645,\"zvolte typ stavby\"))))","v":"zvolte typ stavby"},{"$f":"IF(B645=data!$B$2,(O645*10)/6.4,IF(B645=data!$B$3,(O645*10)/4.8,IF(B645=data!$B$4,(O645*10)/7.1,IF(B645=data!$B$5,(O645*10)/5.2,\"zvolte typ stavby\"))))","v":"zvolte typ stavby"}]
[null,null,null,null,null,null,null,null,null,null,null,null,null,null,{"$f":"IF(B646=data!$B$2,D646*0.7+E646*0.5+F646*0.2+G646*0.8+H646+I646*0.2+J646+K646*0.3+L646+M646*0.5+N646*0.2,IF(B646=data!$B$3,D646*0.1+E646*0.4+F646*0.3+G646*0.1+H646+J646+K646*0.5+L646+M646*0.4,IF(B646=data!$B$4,D646*0.6+E646*0.8+F646*0.7+G646+H646+J646+L646+N646,IF(B646=data!$B$5,D646*0.7+E646*0.8+F646+I646*0.7+J646+L646,\"zvolte typ stavby\"))))","v":"zvolte typ stavby"},{"$f":"IF(B646=data!$B$2,(O646*10)/6.4,IF(B646=data!$B$3,(O646*10)/4.8,IF(B646=data!$B$4,(O646*10)/7.1,IF(B646=data!$B$5,(O646*10)/5.2,\"zvolte typ stavby\"))))","v":"zvolte typ stavby"}]
[null,null,null,null,null,null,null,null,null,null,null,null,null,null,{"$f":"IF(B647=data!$B$2,D647*0.7+E647*0.5+F647*0.2+G647*0.8+H647+I647*0.2+J647+K647*0.3+L647+M647*0.5+N647*0.2,IF(B647=data!$B$3,D647*0.1+E647*0.4+F647*0.3+G647*0.1+H647+J647+K647*0.5+L647+M647*0.4,IF(B647=data!$B$4,D647*0.6+E647*0.8+F647*0.7+G647+H647+J647+L647+N647,IF(B647=data!$B$5,D647*0.7+E647*0.8+F647+I647*0.7+J647+L647,\"zvolte typ stavby\"))))","v":"zvolte typ stavby"},{"$f":"IF(B647=data!$B$2,(O647*10)/6.4,IF(B647=data!$B$3,(O647*10)/4.8,IF(B647=data!$B$4,(O647*10)/7.1,IF(B647=data!$B$5,(O647*10)/5.2,\"zvolte typ stavby\"))))","v":"zvolte typ stavby"}]
[null,null,null,null,null,null,null,null,null,null,null,null,null,null,{"$f":"IF(B648=data!$B$2,D648*0.7+E648*0.5+F648*0.2+G648*0.8+H648+I648*0.2+J648+K648*0.3+L648+M648*0.5+N648*0.2,IF(B648=data!$B$3,D648*0.1+E648*0.4+F648*0.3+G648*0.1+H648+J648+K648*0.5+L648+M648*0.4,IF(B648=data!$B$4,D648*0.6+E648*0.8+F648*0.7+G648+H648+J648+L648+N648,IF(B648=data!$B$5,D648*0.7+E648*0.8+F648+I648*0.7+J648+L648,\"zvolte typ stavby\"))))","v":"zvolte typ stavby"},{"$f":"IF(B648=data!$B$2,(O648*10)/6.4,IF(B648=data!$B$3,(O648*10)/4.8,IF(B648=data!$B$4,(O648*10)/7.1,IF(B648=data!$B$5,(O648*10)/5.2,\"zvolte typ stavby\"))))","v":"zvolte typ stavby"}]
[null,null,null,null,null,null,null,null,null,null,null,null,null,null,{"$f":"IF(B649=data!$B$2,D649*0.7+E649*0.5+F649*0.2+G649*0.8+H649+I649*0.2+J649+K649*0.3+L649+M649*0.5+N649*0.2,IF(B649=data!$B$3,D649*0.1+E649*0.4+F649*0.3+G649*0.1+H649+J649+K649*0.5+L649+M649*0.4,IF(B649=data!$B$4,D649*0.6+E649*0.8+F649*0.7+G649+H649+J649+L649+N649,IF(B649=data!$B$5,D649*0.7+E649*0.8+F649+I649*0.7+J649+L649,\"zvolte typ stavby\"))))","v":"zvolte typ stavby"},{"$f":"IF(B649=data!$B$2,(O649*10)/6.4,IF(B649=data!$B$3,(O649*10)/4.8,IF(B649=data!$B$4,(O649*10)/7.1,IF(B649=data!$B$5,(O649*10)/5.2,\"zvolte typ stavby\"))))","v":"zvolte typ stavby"}]
[null,null,null,null,null,null,null,null,null,null,null,null,null,null,{"$f":"IF(B650=data!$B$2,D650*0.7+E650*0.5+F650*0.2+G650*0.8+H650+I650*0.2+J650+K650*0.3+L650+M650*0.5+N650*0.2,IF(B650=data!$B$3,D650*0.1+E650*0.4+F650*0.3+G650*0.1+H650+J650+K650*0.5+L650+M650*0.4,IF(B650=data!$B$4,D650*0.6+E650*0.8+F650*0.7+G650+H650+J650+L650+N650,IF(B650=data!$B$5,D650*0.7+E650*0.8+F650+I650*0.7+J650+L650,\"zvolte typ stavby\"))))","v":"zvolte typ stavby"},{"$f":"IF(B650=data!$B$2,(O650*10)/6.4,IF(B650=data!$B$3,(O650*10)/4.8,IF(B650=data!$B$4,(O650*10)/7.1,IF(B650=data!$B$5,(O650*10)/5.2,\"zvolte typ stavby\"))))","v":"zvolte typ stavby"}]
[null,null,null,null,null,null,null,null,null,null,null,null,null,null,{"$f":"IF(B651=data!$B$2,D651*0.7+E651*0.5+F651*0.2+G651*0.8+H651+I651*0.2+J651+K651*0.3+L651+M651*0.5+N651*0.2,IF(B651=data!$B$3,D651*0.1+E651*0.4+F651*0.3+G651*0.1+H651+J651+K651*0.5+L651+M651*0.4,IF(B651=data!$B$4,D651*0.6+E651*0.8+F651*0.7+G651+H651+J651+L651+N651,IF(B651=data!$B$5,D651*0.7+E651*0.8+F651+I651*0.7+J651+L651,\"zvolte typ stavby\"))))","v":"zvolte typ stavby"},{"$f":"IF(B651=data!$B$2,(O651*10)/6.4,IF(B651=data!$B$3,(O651*10)/4.8,IF(B651=data!$B$4,(O651*10)/7.1,IF(B651=data!$B$5,(O651*10)/5.2,\"zvolte typ stavby\"))))","v":"zvolte typ stavby"}]
[null,null,null,null,null,null,null,null,null,null,null,null,null,null,{"$f":"IF(B652=data!$B$2,D652*0.7+E652*0.5+F652*0.2+G652*0.8+H652+I652*0.2+J652+K652*0.3+L652+M652*0.5+N652*0.2,IF(B652=data!$B$3,D652*0.1+E652*0.4+F652*0.3+G652*0.1+H652+J652+K652*0.5+L652+M652*0.4,IF(B652=data!$B$4,D652*0.6+E652*0.8+F652*0.7+G652+H652+J652+L652+N652,IF(B652=data!$B$5,D652*0.7+E652*0.8+F652+I652*0.7+J652+L652,\"zvolte typ stavby\"))))","v":"zvolte typ stavby"},{"$f":"IF(B652=data!$B$2,(O652*10)/6.4,IF(B652=data!$B$3,(O652*10)/4.8,IF(B652=data!$B$4,(O652*10)/7.1,IF(B652=data!$B$5,(O652*10)/5.2,\"zvolte typ stavby\"))))","v":"zvolte typ stavby"}]
[null,null,null,null,null,null,null,null,null,null,null,null,null,null,{"$f":"IF(B653=data!$B$2,D653*0.7+E653*0.5+F653*0.2+G653*0.8+H653+I653*0.2+J653+K653*0.3+L653+M653*0.5+N653*0.2,IF(B653=data!$B$3,D653*0.1+E653*0.4+F653*0.3+G653*0.1+H653+J653+K653*0.5+L653+M653*0.4,IF(B653=data!$B$4,D653*0.6+E653*0.8+F653*0.7+G653+H653+J653+L653+N653,IF(B653=data!$B$5,D653*0.7+E653*0.8+F653+I653*0.7+J653+L653,\"zvolte typ stavby\"))))","v":"zvolte typ stavby"},{"$f":"IF(B653=data!$B$2,(O653*10)/6.4,IF(B653=data!$B$3,(O653*10)/4.8,IF(B653=data!$B$4,(O653*10)/7.1,IF(B653=data!$B$5,(O653*10)/5.2,\"zvolte typ stavby\"))))","v":"zvolte typ stavby"}]
[null,null,null,null,null,null,null,null,null,null,null,null,null,null,{"$f":"IF(B654=data!$B$2,D654*0.7+E654*0.5+F654*0.2+G654*0.8+H654+I654*0.2+J654+K654*0.3+L654+M654*0.5+N654*0.2,IF(B654=data!$B$3,D654*0.1+E654*0.4+F654*0.3+G654*0.1+H654+J654+K654*0.5+L654+M654*0.4,IF(B654=data!$B$4,D654*0.6+E654*0.8+F654*0.7+G654+H654+J654+L654+N654,IF(B654=data!$B$5,D654*0.7+E654*0.8+F654+I654*0.7+J654+L654,\"zvolte typ stavby\"))))","v":"zvolte typ stavby"},{"$f":"IF(B654=data!$B$2,(O654*10)/6.4,IF(B654=data!$B$3,(O654*10)/4.8,IF(B654=data!$B$4,(O654*10)/7.1,IF(B654=data!$B$5,(O654*10)/5.2,\"zvolte typ stavby\"))))","v":"zvolte typ stavby"}]
[null,null,null,null,null,null,null,null,null,null,null,null,null,null,{"$f":"IF(B655=data!$B$2,D655*0.7+E655*0.5+F655*0.2+G655*0.8+H655+I655*0.2+J655+K655*0.3+L655+M655*0.5+N655*0.2,IF(B655=data!$B$3,D655*0.1+E655*0.4+F655*0.3+G655*0.1+H655+J655+K655*0.5+L655+M655*0.4,IF(B655=data!$B$4,D655*0.6+E655*0.8+F655*0.7+G655+H655+J655+L655+N655,IF(B655=data!$B$5,D655*0.7+E655*0.8+F655+I655*0.7+J655+L655,\"zvolte typ stavby\"))))","v":"zvolte typ stavby"},{"$f":"IF(B655=data!$B$2,(O655*10)/6.4,IF(B655=data!$B$3,(O655*10)/4.8,IF(B655=data!$B$4,(O655*10)/7.1,IF(B655=data!$B$5,(O655*10)/5.2,\"zvolte typ stavby\"))))","v":"zvolte typ stavby"}]
[null,null,null,null,null,null,null,null,null,null,null,null,null,null,{"$f":"IF(B656=data!$B$2,D656*0.7+E656*0.5+F656*0.2+G656*0.8+H656+I656*0.2+J656+K656*0.3+L656+M656*0.5+N656*0.2,IF(B656=data!$B$3,D656*0.1+E656*0.4+F656*0.3+G656*0.1+H656+J656+K656*0.5+L656+M656*0.4,IF(B656=data!$B$4,D656*0.6+E656*0.8+F656*0.7+G656+H656+J656+L656+N656,IF(B656=data!$B$5,D656*0.7+E656*0.8+F656+I656*0.7+J656+L656,\"zvolte typ stavby\"))))","v":"zvolte typ stavby"},{"$f":"IF(B656=data!$B$2,(O656*10)/6.4,IF(B656=data!$B$3,(O656*10)/4.8,IF(B656=data!$B$4,(O656*10)/7.1,IF(B656=data!$B$5,(O656*10)/5.2,\"zvolte typ stavby\"))))","v":"zvolte typ stavby"}]
[null,null,null,null,null,null,null,null,null,null,null,null,null,null,{"$f":"IF(B657=data!$B$2,D657*0.7+E657*0.5+F657*0.2+G657*0.8+H657+I657*0.2+J657+K657*0.3+L657+M657*0.5+N657*0.2,IF(B657=data!$B$3,D657*0.1+E657*0.4+F657*0.3+G657*0.1+H657+J657+K657*0.5+L657+M657*0.4,IF(B657=data!$B$4,D657*0.6+E657*0.8+F657*0.7+G657+H657+J657+L657+N657,IF(B657=data!$B$5,D657*0.7+E657*0.8+F657+I657*0.7+J657+L657,\"zvolte typ stavby\"))))","v":"zvolte typ stavby"},{"$f":"IF(B657=data!$B$2,(O657*10)/6.4,IF(B657=data!$B$3,(O657*10)/4.8,IF(B657=data!$B$4,(O657*10)/7.1,IF(B657=data!$B$5,(O657*10)/5.2,\"zvolte typ stavby\"))))","v":"zvolte typ stavby"}]
[null,null,null,null,null,null,null,null,null,null,null,null,null,null,{"$f":"IF(B658=data!$B$2,D658*0.7+E658*0.5+F658*0.2+G658*0.8+H658+I658*0.2+J658+K658*0.3+L658+M658*0.5+N658*0.2,IF(B658=data!$B$3,D658*0.1+E658*0.4+F658*0.3+G658*0.1+H658+J658+K658*0.5+L658+M658*0.4,IF(B658=data!$B$4,D658*0.6+E658*0.8+F658*0.7+G658+H658+J658+L658+N658,IF(B658=data!$B$5,D658*0.7+E658*0.8+F658+I658*0.7+J658+L658,\"zvolte typ stavby\"))))","v":"zvolte typ stavby"},{"$f":"IF(B658=data!$B$2,(O658*10)/6.4,IF(B658=data!$B$3,(O658*10)/4.8,IF(B658=data!$B$4,(O658*10)/7.1,IF(B658=data!$B$5,(O658*10)/5.2,\"zvolte typ stavby\"))))","v":"zvolte typ stavby"}]
[null,null,null,null,null,null,null,null,null,null,null,null,null,null,{"$f":"IF(B659=data!$B$2,D659*0.7+E659*0.5+F659*0.2+G659*0.8+H659+I659*0.2+J659+K659*0.3+L659+M659*0.5+N659*0.2,IF(B659=data!$B$3,D659*0.1+E659*0.4+F659*0.3+G659*0.1+H659+J659+K659*0.5+L659+M659*0.4,IF(B659=data!$B$4,D659*0.6+E659*0.8+F659*0.7+G659+H659+J659+L659+N659,IF(B659=data!$B$5,D659*0.7+E659*0.8+F659+I659*0.7+J659+L659,\"zvolte typ stavby\"))))","v":"zvolte typ stavby"},{"$f":"IF(B659=data!$B$2,(O659*10)/6.4,IF(B659=data!$B$3,(O659*10)/4.8,IF(B659=data!$B$4,(O659*10)/7.1,IF(B659=data!$B$5,(O659*10)/5.2,\"zvolte typ stavby\"))))","v":"zvolte typ stavby"}]
[null,null,null,null,null,null,null,null,null,null,null,null,null,null,{"$f":"IF(B660=data!$B$2,D660*0.7+E660*0.5+F660*0.2+G660*0.8+H660+I660*0.2+J660+K660*0.3+L660+M660*0.5+N660*0.2,IF(B660=data!$B$3,D660*0.1+E660*0.4+F660*0.3+G660*0.1+H660+J660+K660*0.5+L660+M660*0.4,IF(B660=data!$B$4,D660*0.6+E660*0.8+F660*0.7+G660+H660+J660+L660+N660,IF(B660=data!$B$5,D660*0.7+E660*0.8+F660+I660*0.7+J660+L660,\"zvolte typ stavby\"))))","v":"zvolte typ stavby"},{"$f":"IF(B660=data!$B$2,(O660*10)/6.4,IF(B660=data!$B$3,(O660*10)/4.8,IF(B660=data!$B$4,(O660*10)/7.1,IF(B660=data!$B$5,(O660*10)/5.2,\"zvolte typ stavby\"))))","v":"zvolte typ stavby"}]
[null,null,null,null,null,null,null,null,null,null,null,null,null,null,{"$f":"IF(B661=data!$B$2,D661*0.7+E661*0.5+F661*0.2+G661*0.8+H661+I661*0.2+J661+K661*0.3+L661+M661*0.5+N661*0.2,IF(B661=data!$B$3,D661*0.1+E661*0.4+F661*0.3+G661*0.1+H661+J661+K661*0.5+L661+M661*0.4,IF(B661=data!$B$4,D661*0.6+E661*0.8+F661*0.7+G661+H661+J661+L661+N661,IF(B661=data!$B$5,D661*0.7+E661*0.8+F661+I661*0.7+J661+L661,\"zvolte typ stavby\"))))","v":"zvolte typ stavby"},{"$f":"IF(B661=data!$B$2,(O661*10)/6.4,IF(B661=data!$B$3,(O661*10)/4.8,IF(B661=data!$B$4,(O661*10)/7.1,IF(B661=data!$B$5,(O661*10)/5.2,\"zvolte typ stavby\"))))","v":"zvolte typ stavby"}]
[null,null,null,null,null,null,null,null,null,null,null,null,null,null,{"$f":"IF(B662=data!$B$2,D662*0.7+E662*0.5+F662*0.2+G662*0.8+H662+I662*0.2+J662+K662*0.3+L662+M662*0.5+N662*0.2,IF(B662=data!$B$3,D662*0.1+E662*0.4+F662*0.3+G662*0.1+H662+J662+K662*0.5+L662+M662*0.4,IF(B662=data!$B$4,D662*0.6+E662*0.8+F662*0.7+G662+H662+J662+L662+N662,IF(B662=data!$B$5,D662*0.7+E662*0.8+F662+I662*0.7+J662+L662,\"zvolte typ stavby\"))))","v":"zvolte typ stavby"},{"$f":"IF(B662=data!$B$2,(O662*10)/6.4,IF(B662=data!$B$3,(O662*10)/4.8,IF(B662=data!$B$4,(O662*10)/7.1,IF(B662=data!$B$5,(O662*10)/5.2,\"zvolte typ stavby\"))))","v":"zvolte typ stavby"}]
[null,null,null,null,null,null,null,null,null,null,null,null,null,null,{"$f":"IF(B663=data!$B$2,D663*0.7+E663*0.5+F663*0.2+G663*0.8+H663+I663*0.2+J663+K663*0.3+L663+M663*0.5+N663*0.2,IF(B663=data!$B$3,D663*0.1+E663*0.4+F663*0.3+G663*0.1+H663+J663+K663*0.5+L663+M663*0.4,IF(B663=data!$B$4,D663*0.6+E663*0.8+F663*0.7+G663+H663+J663+L663+N663,IF(B663=data!$B$5,D663*0.7+E663*0.8+F663+I663*0.7+J663+L663,\"zvolte typ stavby\"))))","v":"zvolte typ stavby"},{"$f":"IF(B663=data!$B$2,(O663*10)/6.4,IF(B663=data!$B$3,(O663*10)/4.8,IF(B663=data!$B$4,(O663*10)/7.1,IF(B663=data!$B$5,(O663*10)/5.2,\"zvolte typ stavby\"))))","v":"zvolte typ stavby"}]
[null,null,null,null,null,null,null,null,null,null,null,null,null,null,{"$f":"IF(B664=data!$B$2,D664*0.7+E664*0.5+F664*0.2+G664*0.8+H664+I664*0.2+J664+K664*0.3+L664+M664*0.5+N664*0.2,IF(B664=data!$B$3,D664*0.1+E664*0.4+F664*0.3+G664*0.1+H664+J664+K664*0.5+L664+M664*0.4,IF(B664=data!$B$4,D664*0.6+E664*0.8+F664*0.7+G664+H664+J664+L664+N664,IF(B664=data!$B$5,D664*0.7+E664*0.8+F664+I664*0.7+J664+L664,\"zvolte typ stavby\"))))","v":"zvolte typ stavby"},{"$f":"IF(B664=data!$B$2,(O664*10)/6.4,IF(B664=data!$B$3,(O664*10)/4.8,IF(B664=data!$B$4,(O664*10)/7.1,IF(B664=data!$B$5,(O664*10)/5.2,\"zvolte typ stavby\"))))","v":"zvolte typ stavby"}]
[null,null,null,null,null,null,null,null,null,null,null,null,null,null,{"$f":"IF(B665=data!$B$2,D665*0.7+E665*0.5+F665*0.2+G665*0.8+H665+I665*0.2+J665+K665*0.3+L665+M665*0.5+N665*0.2,IF(B665=data!$B$3,D665*0.1+E665*0.4+F665*0.3+G665*0.1+H665+J665+K665*0.5+L665+M665*0.4,IF(B665=data!$B$4,D665*0.6+E665*0.8+F665*0.7+G665+H665+J665+L665+N665,IF(B665=data!$B$5,D665*0.7+E665*0.8+F665+I665*0.7+J665+L665,\"zvolte typ stavby\"))))","v":"zvolte typ stavby"},{"$f":"IF(B665=data!$B$2,(O665*10)/6.4,IF(B665=data!$B$3,(O665*10)/4.8,IF(B665=data!$B$4,(O665*10)/7.1,IF(B665=data!$B$5,(O665*10)/5.2,\"zvolte typ stavby\"))))","v":"zvolte typ stavby"}]
[null,null,null,null,null,null,null,null,null,null,null,null,null,null,{"$f":"IF(B666=data!$B$2,D666*0.7+E666*0.5+F666*0.2+G666*0.8+H666+I666*0.2+J666+K666*0.3+L666+M666*0.5+N666*0.2,IF(B666=data!$B$3,D666*0.1+E666*0.4+F666*0.3+G666*0.1+H666+J666+K666*0.5+L666+M666*0.4,IF(B666=data!$B$4,D666*0.6+E666*0.8+F666*0.7+G666+H666+J666+L666+N666,IF(B666=data!$B$5,D666*0.7+E666*0.8+F666+I666*0.7+J666+L666,\"zvolte typ stavby\"))))","v":"zvolte typ stavby"},{"$f":"IF(B666=data!$B$2,(O666*10)/6.4,IF(B666=data!$B$3,(O666*10)/4.8,IF(B666=data!$B$4,(O666*10)/7.1,IF(B666=data!$B$5,(O666*10)/5.2,\"zvolte typ stavby\"))))","v":"zvolte typ stavby"}]
[null,null,null,null,null,null,null,null,null,null,null,null,null,null,{"$f":"IF(B667=data!$B$2,D667*0.7+E667*0.5+F667*0.2+G667*0.8+H667+I667*0.2+J667+K667*0.3+L667+M667*0.5+N667*0.2,IF(B667=data!$B$3,D667*0.1+E667*0.4+F667*0.3+G667*0.1+H667+J667+K667*0.5+L667+M667*0.4,IF(B667=data!$B$4,D667*0.6+E667*0.8+F667*0.7+G667+H667+J667+L667+N667,IF(B667=data!$B$5,D667*0.7+E667*0.8+F667+I667*0.7+J667+L667,\"zvolte typ stavby\"))))","v":"zvolte typ stavby"},{"$f":"IF(B667=data!$B$2,(O667*10)/6.4,IF(B667=data!$B$3,(O667*10)/4.8,IF(B667=data!$B$4,(O667*10)/7.1,IF(B667=data!$B$5,(O667*10)/5.2,\"zvolte typ stavby\"))))","v":"zvolte typ stavby"}]
[null,null,null,null,null,null,null,null,null,null,null,null,null,null,{"$f":"IF(B668=data!$B$2,D668*0.7+E668*0.5+F668*0.2+G668*0.8+H668+I668*0.2+J668+K668*0.3+L668+M668*0.5+N668*0.2,IF(B668=data!$B$3,D668*0.1+E668*0.4+F668*0.3+G668*0.1+H668+J668+K668*0.5+L668+M668*0.4,IF(B668=data!$B$4,D668*0.6+E668*0.8+F668*0.7+G668+H668+J668+L668+N668,IF(B668=data!$B$5,D668*0.7+E668*0.8+F668+I668*0.7+J668+L668,\"zvolte typ stavby\"))))","v":"zvolte typ stavby"},{"$f":"IF(B668=data!$B$2,(O668*10)/6.4,IF(B668=data!$B$3,(O668*10)/4.8,IF(B668=data!$B$4,(O668*10)/7.1,IF(B668=data!$B$5,(O668*10)/5.2,\"zvolte typ stavby\"))))","v":"zvolte typ stavby"}]
[null,null,null,null,null,null,null,null,null,null,null,null,null,null,{"$f":"IF(B669=data!$B$2,D669*0.7+E669*0.5+F669*0.2+G669*0.8+H669+I669*0.2+J669+K669*0.3+L669+M669*0.5+N669*0.2,IF(B669=data!$B$3,D669*0.1+E669*0.4+F669*0.3+G669*0.1+H669+J669+K669*0.5+L669+M669*0.4,IF(B669=data!$B$4,D669*0.6+E669*0.8+F669*0.7+G669+H669+J669+L669+N669,IF(B669=data!$B$5,D669*0.7+E669*0.8+F669+I669*0.7+J669+L669,\"zvolte typ stavby\"))))","v":"zvolte typ stavby"},{"$f":"IF(B669=data!$B$2,(O669*10)/6.4,IF(B669=data!$B$3,(O669*10)/4.8,IF(B669=data!$B$4,(O669*10)/7.1,IF(B669=data!$B$5,(O669*10)/5.2,\"zvolte typ stavby\"))))","v":"zvolte typ stavby"}]
[null,null,null,null,null,null,null,null,null,null,null,null,null,null,{"$f":"IF(B670=data!$B$2,D670*0.7+E670*0.5+F670*0.2+G670*0.8+H670+I670*0.2+J670+K670*0.3+L670+M670*0.5+N670*0.2,IF(B670=data!$B$3,D670*0.1+E670*0.4+F670*0.3+G670*0.1+H670+J670+K670*0.5+L670+M670*0.4,IF(B670=data!$B$4,D670*0.6+E670*0.8+F670*0.7+G670+H670+J670+L670+N670,IF(B670=data!$B$5,D670*0.7+E670*0.8+F670+I670*0.7+J670+L670,\"zvolte typ stavby\"))))","v":"zvolte typ stavby"},{"$f":"IF(B670=data!$B$2,(O670*10)/6.4,IF(B670=data!$B$3,(O670*10)/4.8,IF(B670=data!$B$4,(O670*10)/7.1,IF(B670=data!$B$5,(O670*10)/5.2,\"zvolte typ stavby\"))))","v":"zvolte typ stavby"}]
[null,null,null,null,null,null,null,null,null,null,null,null,null,null,{"$f":"IF(B671=data!$B$2,D671*0.7+E671*0.5+F671*0.2+G671*0.8+H671+I671*0.2+J671+K671*0.3+L671+M671*0.5+N671*0.2,IF(B671=data!$B$3,D671*0.1+E671*0.4+F671*0.3+G671*0.1+H671+J671+K671*0.5+L671+M671*0.4,IF(B671=data!$B$4,D671*0.6+E671*0.8+F671*0.7+G671+H671+J671+L671+N671,IF(B671=data!$B$5,D671*0.7+E671*0.8+F671+I671*0.7+J671+L671,\"zvolte typ stavby\"))))","v":"zvolte typ stavby"},{"$f":"IF(B671=data!$B$2,(O671*10)/6.4,IF(B671=data!$B$3,(O671*10)/4.8,IF(B671=data!$B$4,(O671*10)/7.1,IF(B671=data!$B$5,(O671*10)/5.2,\"zvolte typ stavby\"))))","v":"zvolte typ stavby"}]
[null,null,null,null,null,null,null,null,null,null,null,null,null,null,{"$f":"IF(B672=data!$B$2,D672*0.7+E672*0.5+F672*0.2+G672*0.8+H672+I672*0.2+J672+K672*0.3+L672+M672*0.5+N672*0.2,IF(B672=data!$B$3,D672*0.1+E672*0.4+F672*0.3+G672*0.1+H672+J672+K672*0.5+L672+M672*0.4,IF(B672=data!$B$4,D672*0.6+E672*0.8+F672*0.7+G672+H672+J672+L672+N672,IF(B672=data!$B$5,D672*0.7+E672*0.8+F672+I672*0.7+J672+L672,\"zvolte typ stavby\"))))","v":"zvolte typ stavby"},{"$f":"IF(B672=data!$B$2,(O672*10)/6.4,IF(B672=data!$B$3,(O672*10)/4.8,IF(B672=data!$B$4,(O672*10)/7.1,IF(B672=data!$B$5,(O672*10)/5.2,\"zvolte typ stavby\"))))","v":"zvolte typ stavby"}]
[null,null,null,null,null,null,null,null,null,null,null,null,null,null,{"$f":"IF(B673=data!$B$2,D673*0.7+E673*0.5+F673*0.2+G673*0.8+H673+I673*0.2+J673+K673*0.3+L673+M673*0.5+N673*0.2,IF(B673=data!$B$3,D673*0.1+E673*0.4+F673*0.3+G673*0.1+H673+J673+K673*0.5+L673+M673*0.4,IF(B673=data!$B$4,D673*0.6+E673*0.8+F673*0.7+G673+H673+J673+L673+N673,IF(B673=data!$B$5,D673*0.7+E673*0.8+F673+I673*0.7+J673+L673,\"zvolte typ stavby\"))))","v":"zvolte typ stavby"},{"$f":"IF(B673=data!$B$2,(O673*10)/6.4,IF(B673=data!$B$3,(O673*10)/4.8,IF(B673=data!$B$4,(O673*10)/7.1,IF(B673=data!$B$5,(O673*10)/5.2,\"zvolte typ stavby\"))))","v":"zvolte typ stavby"}]
[null,null,null,null,null,null,null,null,null,null,null,null,null,null,{"$f":"IF(B674=data!$B$2,D674*0.7+E674*0.5+F674*0.2+G674*0.8+H674+I674*0.2+J674+K674*0.3+L674+M674*0.5+N674*0.2,IF(B674=data!$B$3,D674*0.1+E674*0.4+F674*0.3+G674*0.1+H674+J674+K674*0.5+L674+M674*0.4,IF(B674=data!$B$4,D674*0.6+E674*0.8+F674*0.7+G674+H674+J674+L674+N674,IF(B674=data!$B$5,D674*0.7+E674*0.8+F674+I674*0.7+J674+L674,\"zvolte typ stavby\"))))","v":"zvolte typ stavby"},{"$f":"IF(B674=data!$B$2,(O674*10)/6.4,IF(B674=data!$B$3,(O674*10)/4.8,IF(B674=data!$B$4,(O674*10)/7.1,IF(B674=data!$B$5,(O674*10)/5.2,\"zvolte typ stavby\"))))","v":"zvolte typ stavby"}]
[null,null,null,null,null,null,null,null,null,null,null,null,null,null,{"$f":"IF(B675=data!$B$2,D675*0.7+E675*0.5+F675*0.2+G675*0.8+H675+I675*0.2+J675+K675*0.3+L675+M675*0.5+N675*0.2,IF(B675=data!$B$3,D675*0.1+E675*0.4+F675*0.3+G675*0.1+H675+J675+K675*0.5+L675+M675*0.4,IF(B675=data!$B$4,D675*0.6+E675*0.8+F675*0.7+G675+H675+J675+L675+N675,IF(B675=data!$B$5,D675*0.7+E675*0.8+F675+I675*0.7+J675+L675,\"zvolte typ stavby\"))))","v":"zvolte typ stavby"},{"$f":"IF(B675=data!$B$2,(O675*10)/6.4,IF(B675=data!$B$3,(O675*10)/4.8,IF(B675=data!$B$4,(O675*10)/7.1,IF(B675=data!$B$5,(O675*10)/5.2,\"zvolte typ stavby\"))))","v":"zvolte typ stavby"}]
[null,null,null,null,null,null,null,null,null,null,null,null,null,null,{"$f":"IF(B676=data!$B$2,D676*0.7+E676*0.5+F676*0.2+G676*0.8+H676+I676*0.2+J676+K676*0.3+L676+M676*0.5+N676*0.2,IF(B676=data!$B$3,D676*0.1+E676*0.4+F676*0.3+G676*0.1+H676+J676+K676*0.5+L676+M676*0.4,IF(B676=data!$B$4,D676*0.6+E676*0.8+F676*0.7+G676+H676+J676+L676+N676,IF(B676=data!$B$5,D676*0.7+E676*0.8+F676+I676*0.7+J676+L676,\"zvolte typ stavby\"))))","v":"zvolte typ stavby"},{"$f":"IF(B676=data!$B$2,(O676*10)/6.4,IF(B676=data!$B$3,(O676*10)/4.8,IF(B676=data!$B$4,(O676*10)/7.1,IF(B676=data!$B$5,(O676*10)/5.2,\"zvolte typ stavby\"))))","v":"zvolte typ stavby"}]
[null,null,null,null,null,null,null,null,null,null,null,null,null,null,{"$f":"IF(B677=data!$B$2,D677*0.7+E677*0.5+F677*0.2+G677*0.8+H677+I677*0.2+J677+K677*0.3+L677+M677*0.5+N677*0.2,IF(B677=data!$B$3,D677*0.1+E677*0.4+F677*0.3+G677*0.1+H677+J677+K677*0.5+L677+M677*0.4,IF(B677=data!$B$4,D677*0.6+E677*0.8+F677*0.7+G677+H677+J677+L677+N677,IF(B677=data!$B$5,D677*0.7+E677*0.8+F677+I677*0.7+J677+L677,\"zvolte typ stavby\"))))","v":"zvolte typ stavby"},{"$f":"IF(B677=data!$B$2,(O677*10)/6.4,IF(B677=data!$B$3,(O677*10)/4.8,IF(B677=data!$B$4,(O677*10)/7.1,IF(B677=data!$B$5,(O677*10)/5.2,\"zvolte typ stavby\"))))","v":"zvolte typ stavby"}]
[]
[]
[]
[]
[]
[]
[]
[]
[]
[]
[]
[]
[]
[]
[]
[]
[]
[]
[]
[]
["II/246 Cítov, obchvat včetně úprava silnice II/246 a III/24636 Horní Počaply-obchvat I. etapa"]
["III/24050, Horní Počaply - obchvat II. etapa, včetně napojení Rigips a ZEVO"]

{"sheet":"náměty na projekční přípravu","index":1,"n_rows":354,"n_cols":17,"rows_kept":354,"cut":false,"hidden":false,"merged":[]}
["Název projektu","druh stavby","Podkategorie","dopravní zatížení","dopravní význam","technický stav","stavební stav","životní prostředí","regionální význam","jediná přístupová cesta","hromadná doprava","nehodová lokalita","Výsledné hodnocení","Hodnocení s korekcí","Předpokládané náklady","Poznámky",{"$f":"SUM(O2:O285)","v":3021243318.52}]
["KONTROLA PŘEPOČTU","mostní objekty a propustky",null,10,10,10,10,10,10,10,10,10,{"$f":"IF(B2=data!$S$2,D2*0.7+E2*0.2+F2*0.8+G2+H2*0.2+I2+J2*0.3+K2*0.5+L2*0.2,IF(B2=data!$S$3,D2*0.1+E2*0.3+F2*0.1+G2+I2+J2*0.5+K2*0.4,IF(B2=data!$S$4,D2*0.6+E2*0.7+F2+G2+I2+L2,IF(B2=data!$S$5,D2*0.7+E2+H2*0.7+I2,\"zvolte typ stavby\"))))","v":34},{"$f":"IF(B2=data!$S$2,(M2*10)/4.9,IF(B2=data!$S$3,(M2*10)/3.4,IF(B2=data!$S$4,(M2*10)/5.3,IF(B2=data!$S$5,(M2*10)/3.4,\"zvolte typ stavby\"))))","v":100}]
["III/10533 Žemličkova Lhota - opěrná zeď a most","mostní objekty a propustky","Most",1,5,10,10,0,4,10,10,0,{"$f":"IF(B3=data!$S$2,D3*0.7+E3*0.2+F3*0.8+G3+H3*0.2+I3+J3*0.3+K3*0.5+L3*0.2,IF(B3=data!$S$3,D3*0.1+E3*0.3+F3*0.1+G3+I3+J3*0.5+K3*0.4,IF(B3=data!$S$4,D3*0.6+E3*0.7+F3+G3+I3+L3,IF(B3=data!$S$5,D3*0.7+E3+H3*0.7+I3,\"zvolte typ stavby\"))))","v":25.6},{"$f":"IF(B3=data!$S$2,(M3*10)/4.9,IF(B3=data!$S$3,(M3*10)/3.4,IF(B3=data!$S$4,(M3*10)/5.3,IF(B3=data!$S$5,(M3*10)/3.4,\"zvolte typ stavby\"))))","v":75.294117647058826},11000000]
["II/605 Beroun mosty 605 - 027,026","mostní objekty a propustky","Most",8,10,6,6,0,10,0,10,0,{"$f":"IF(B4=data!$S$2,D4*0.7+E4*0.2+F4*0.8+G4+H4*0.2+I4+J4*0.3+K4*0.5+L4*0.2,IF(B4=data!$S$3,D4*0.1+E4*0.3+F4*0.1+G4+I4+J4*0.5+K4*0.4,IF(B4=data!$S$4,D4*0.6+E4*0.7+F4+G4+I4+L4,IF(B4=data!$S$5,D4*0.7+E4+H4*0.7+I4,\"zvolte typ stavby\"))))","v":24.4},{"$f":"IF(B4=data!$S$2,(M4*10)/4.9,IF(B4=data!$S$3,(M4*10)/3.4,IF(B4=data!$S$4,(M4*10)/5.3,IF(B4=data!$S$5,(M4*10)/3.4,\"zvolte typ stavby\"))))","v":71.764705882352942},40000000]
["Mníšek pod Brdy most ev.č. VY 11626 - 1","mostní objekty a propustky","Most",3,7,10,10,0,7,0,10,0,{"$f":"IF(B5=data!$S$2,D5*0.7+E5*0.2+F5*0.8+G5+H5*0.2+I5+J5*0.3+K5*0.5+L5*0.2,IF(B5=data!$S$3,D5*0.1+E5*0.3+F5*0.1+G5+I5+J5*0.5+K5*0.4,IF(B5=data!$S$4,D5*0.6+E5*0.7+F5+G5+I5+L5,IF(B5=data!$S$5,D5*0.7+E5+H5*0.7+I5,\"zvolte typ stavby\"))))","v":24.4},{"$f":"IF(B5=data!$S$2,(M5*10)/4.9,IF(B5=data!$S$3,(M5*10)/3.4,IF(B5=data!$S$4,(M5*10)/5.3,IF(B5=data!$S$5,(M5*10)/3.4,\"zvolte typ stavby\"))))","v":71.764705882352942},25000000]
["III/00712 Stehelčeves, přestavba mostu ev.č. 00712-1 pro přívalové vody_PD","mostní objekty a propustky",null,null,7,10,10,0,7,0,10,null,{"$f":"IF(B6=data!$S$2,D6*0.7+E6*0.2+F6*0.8+G6+H6*0.2+I6+J6*0.3+K6*0.5+L6*0.2,IF(B6=data!$S$3,D6*0.1+E6*0.3+F6*0.1+G6+I6+J6*0.5+K6*0.4,IF(B6=data!$S$4,D6*0.6+E6*0.7+F6+G6+I6+L6,IF(B6=data!$S$5,D6*0.7+E6+H6*0.7+I6,\"zvolte typ stavby\"))))","v":24.1},{"$f":"IF(B6=data!$S$2,(M6*10)/4.9,IF(B6=data!$S$3,(M6*10)/3.4,IF(B6=data!$S$4,(M6*10)/5.3,IF(B6=data!$S$5,(M6*10)/3.4,\"zvolte typ stavby\"))))","v":70.882352941176478},8500000]
["II/125 Kondrac, most ev.č. 125-014","mostní objekty a propustky","Most",3,10,6,6,0,10,0,10,0,{"$f":"IF(B7=data!$S$2,D7*0.7+E7*0.2+F7*0.8+G7+H7*0.2+I7+J7*0.3+K7*0.5+L7*0.2,IF(B7=data!$S$3,D7*0.1+E7*0.3+F7*0.1+G7+I7+J7*0.5+K7*0.4,IF(B7=data!$S$4,D7*0.6+E7*0.7+F7+G7+I7+L7,IF(B7=data!$S$5,D7*0.7+E7+H7*0.7+I7,\"zvolte typ stavby\"))))","v":23.9},{"$f":"IF(B7=data!$S$2,(M7*10)/4.9,IF(B7=data!$S$3,(M7*10)/3.4,IF(B7=data!$S$4,(M7*10)/5.3,IF(B7=data!$S$5,(M7*10)/3.4,\"zvolte typ stavby\"))))","v":70.294117647058826},25000000]
["II/101 Jirny, most ev.č. 101-076 most přes Jirenský potok za obcí Jirny","mostní objekty a propustky","Most",4,10,6,10,0,10,0,10,0,{"$f":"IF(B8=data!$S$2,D8*0.7+E8*0.2+F8*0.8+G8+H8*0.2+I8+J8*0.3+K8*0.5+L8*0.2,IF(B8=data!$S$3,D8*0.1+E8*0.3+F8*0.1+G8+I8+J8*0.5+K8*0.4,IF(B8=data!$S$4,D8*0.6+E8*0.7+F8+G8+I8+L8,IF(B8=data!$S$5,D8*0.7+E8+H8*0.7+I8,\"zvolte typ stavby\"))))","v":28},{"$f":"IF(B8=data!$S$2,(M8*10)/4.9,IF(B8=data!$S$3,(M8*10)/3.4,IF(B8=data!$S$4,(M8*10)/5.3,IF(B8=data!$S$5,(M8*10)/3.4,\"zvolte typ stavby\"))))","v":82.352941176470594},1200000]
["II/276 Bělá pod bezdězem, ul. Pražská - propustek","mostní objekty a propustky","Rekonstrukce",4,9,6,10,0,4,0,10,0,{"$f":"IF(B9=data!$S$2,D9*0.7+E9*0.2+F9*0.8+G9+H9*0.2+I9+J9*0.3+K9*0.5+L9*0.2,IF(B9=data!$S$3,D9*0.1+E9*0.3+F9*0.1+G9+I9+J9*0.5+K9*0.4,IF(B9=data!$S$4,D9*0.6+E9*0.7+F9+G9+I9+L9,IF(B9=data!$S$5,D9*0.7+E9+H9*0.7+I9,\"zvolte typ stavby\"))))","v":21.7},{"$f":"IF(B9=data!$S$2,(M9*10)/4.9,IF(B9=data!$S$3,(M9*10)/3.4,IF(B9=data!$S$4,(M9*10)/5.3,IF(B9=data!$S$5,(M9*10)/3.4,\"zvolte typ stavby\"))))","v":63.82352941176471},2500000]
["II/330 Netřebice, most ev.č. 330-011 přes potok","mostní objekty a propustky","Most",3,10,6,6,0,7,0,10,0,{"$f":"IF(B10=data!$S$2,D10*0.7+E10*0.2+F10*0.8+G10+H10*0.2+I10+J10*0.3+K10*0.5+L10*0.2,IF(B10=data!$S$3,D10*0.1+E10*0.3+F10*0.1+G10+I10+J10*0.5+K10*0.4,IF(B10=data!$S$4,D10*0.6+E10*0.7+F10+G10+I10+L10,IF(B10=data!$S$5,D10*0.7+E10+H10*0.7+I10,\"zvolte typ stavby\"))))","v":20.9},{"$f":"IF(B10=data!$S$2,(M10*10)/4.9,IF(B10=data!$S$3,(M10*10)/3.4,IF(B10=data!$S$4,(M10*10)/5.3,IF(B10=data!$S$5,(M10*10)/3.4,\"zvolte typ stavby\"))))","v":61.470588235294116},19000000]
["III/0076 Běloky, rekonstrukce mostu ev.č. 0076-2 pro přívalové vody_PD","mostní objekty a propustky",null,null,6,10,10,0,4,0,10,null,{"$f":"IF(B11=data!$S$2,D11*0.7+E11*0.2+F11*0.8+G11+H11*0.2+I11+J11*0.3+K11*0.5+L11*0.2,IF(B11=data!$S$3,D11*0.1+E11*0.3+F11*0.1+G11+I11+J11*0.5+K11*0.4,IF(B11=data!$S$4,D11*0.6+E11*0.7+F11+G11+I11+L11,IF(B11=data!$S$5,D11*0.7+E11+H11*0.7+I11,\"zvolte typ stavby\"))))","v":20.8},{"$f":"IF(B11=data!$S$2,(M11*10)/4.9,IF(B11=data!$S$3,(M11*10)/3.4,IF(B11=data!$S$4,(M11*10)/5.3,IF(B11=data!$S$5,(M11*10)/3.4,\"zvolte typ stavby\"))))","v":61.176470588235297},9500000]
["III/2365 Zahořany,hávárie propustku","mostní objekty a propustky","Propustek",1,5,10,10,0,4,0,0,0,{"$f":"IF(B12=data!$S$2,D12*0.7+E12*0.2+F12*0.8+G12+H12*0.2+I12+J12*0.3+K12*0.5+L12*0.2,IF(B12=data!$S$3,D12*0.1+E12*0.3+F12*0.1+G12+I12+J12*0.5+K12*0.4,IF(B12=data!$S$4,D12*0.6+E12*0.7+F12+G12+I12+L12,IF(B12=data!$S$5,D12*0.7+E12+H12*0.7+I12,\"zvolte typ stavby\"))))","v":16.600000000000001},{"$f":"IF(B12=data!$S$2,(M12*10)/4.9,IF(B12=data!$S$3,(M12*10)/3.4,IF(B12=data!$S$4,(M12*10)/5.3,IF(B12=data!$S$5,(M12*10)/3.4,\"zvolte typ stavby\"))))","v":48.82352941176471},3000000]
["III/23916 Zlonice, rekonstrukce mostu ev.č. 23916-2 přes Dřínovský potok_PD","mostní objekty a propustky",null,null,5,10,10,0,4,0,0,null,{"$f":"IF(B13=data!$S$2,D13*0.7+E13*0.2+F13*0.8+G13+H13*0.2+I13+J13*0.3+K13*0.5+L13*0.2,IF(B13=data!$S$3,D13*0.1+E13*0.3+F13*0.1+G13+I13+J13*0.5+K13*0.4,IF(B13=data!$S$4,D13*0.6+E13*0.7+F13+G13+I13+L13,IF(B13=data!$S$5,D13*0.7+E13+H13*0.7+I13,\"zvolte typ stavby\"))))","v":16.5},{"$f":"IF(B13=data!$S$2,(M13*10)/4.9,IF(B13=data!$S$3,(M13*10)/3.4,IF(B13=data!$S$4,(M13*10)/5.3,IF(B13=data!$S$5,(M13*10)/3.4,\"zvolte typ stavby\"))))","v":48.529411764705884},5200000]
["II/11232 Tomice, most ev.č. 11232-6 přes potok před obcí Tomice","mostní objekty a propustky","Most",1,5,6,6,0,4,0,10,0,{"$f":"IF(B14=data!$S$2,D14*0.7+E14*0.2+F14*0.8+G14+H14*0.2+I14+J14*0.3+K14*0.5+L14*0.2,IF(B14=data!$S$3,D14*0.1+E14*0.3+F14*0.1+G14+I14+J14*0.5+K14*0.4,IF(B14=data!$S$4,D14*0.6+E14*0.7+F14+G14+I14+L14,IF(B14=data!$S$5,D14*0.7+E14+H14*0.7+I14,\"zvolte typ stavby\"))))","v":16.2},{"$f":"IF(B14=data!$S$2,(M14*10)/4.9,IF(B14=data!$S$3,(M14*10)/3.4,IF(B14=data!$S$4,(M14*10)/5.3,IF(B14=data!$S$5,(M14*10)/3.4,\"zvolte typ stavby\"))))","v":47.647058823529413},15000000]
["KONTROLA PŘEPOČTU","novostavba (obchvat, přeložka, propojka)",null,10,10,10,10,10,10,10,10,10,{"$f":"IF(B15=data!$S$2,D15*0.7+E15*0.2+F15*0.8+G15+H15*0.2+I15+J15*0.3+K15*0.5+L15*0.2,IF(B15=data!$S$3,D15*0.1+E15*0.3+F15*0.1+G15+I15+J15*0.5+K15*0.4,IF(B15=data!$S$4,D15*0.6+E15*0.7+F15+G15+I15+L15,IF(B15=data!$S$5,D15*0.7+E15+H15*0.7+I15,\"zvolte typ stavby\"))))","v":34},{"$f":"IF(B15=data!$S$2,(M15*10)/4.9,IF(B15=data!$S$3,(M15*10)/3.4,IF(B15=data!$S$4,(M15*10)/5.3,IF(B15=data!$S$5,(M15*10)/3.4,\"zvolte typ stavby\"))))","v":100},150000000]
["KONTROLA PŘEPOČTU","oprava a rekonstrukce",null,10,10,10,10,10,10,10,10,10,{"$f":"IF(B16=data!$S$2,D16*0.7+E16*0.2+F16*0.8+G16+H16*0.2+I16+J16*0.3+K16*0.5+L16*0.2,IF(B16=data!$S$3,D16*0.1+E16*0.3+F16*0.1+G16+I16+J16*0.5+K16*0.4,IF(B16=data!$S$4,D16*0.6+E16*0.7+F16+G16+I16+L16,IF(B16=data!$S$5,D16*0.7+E16+H16*0.7+I16,\"zvolte typ stavby\"))))","v":49},{"$f":"IF(B16=data!$S$2,(M16*10)/4.9,IF(B16=data!$S$3,(M16*10)/3.4,IF(B16=data!$S$4,(M16*10)/5.3,IF(B16=data!$S$5,(M16*10)/3.4,\"zvolte typ stavby\"))))","v":99.999999999999986},65000000]
[null,null,null,null,null,null,null,null,null,null,null,null,{"$f":"IF(B17=data!$S$2,D17*0.7+E17*0.2+F17*0.8+G17+H17*0.2+I17+J17*0.3+K17*0.5+L17*0.2,IF(B17=data!$S$3,D17*0.1+E17*0.3+F17*0.1+G17+I17+J17*0.5+K17*0.4,IF(B17=data!$S$4,D17*0.6+E17*0.7+F17+G17+I17+L17,IF(B17=data!$S$5,D17*0.7+E17+H17*0.7+I17,\"zvolte typ stavby\"))))","v":"zvolte typ stavby"},{"$f":"IF(B17=data!$S$2,(M17*10)/4.9,IF(B17=data!$S$3,(M17*10)/3.4,IF(B17=data!$S$4,(M17*10)/5.3,IF(B17=data!$S$5,(M17*10)/3.4,\"zvolte typ stavby\"))))","v":"zvolte typ stavby"}]
["II/101 Kostelec nad Labem - Brandýs nad Labem","oprava a rekonstrukce","Rekonstrukce",7,10,10,10,10,10,0,10,10,{"$f":"IF(B18=data!$S$2,D18*0.7+E18*0.2+F18*0.8+G18+H18*0.2+I18+J18*0.3+K18*0.5+L18*0.2,IF(B18=data!$S$3,D18*0.1+E18*0.3+F18*0.1+G18+I18+J18*0.5+K18*0.4,IF(B18=data!$S$4,D18*0.6+E18*0.7+F18+G18+I18+L18,IF(B18=data!$S$5,D18*0.7+E18+H18*0.7+I18,\"zvolte typ stavby\"))))","v":43.9},{"$f":"IF(B18=data!$S$2,(M18*10)/4.9,IF(B18=data!$S$3,(M18*10)/3.4,IF(B18=data!$S$4,(M18*10)/5.3,IF(B18=data!$S$5,(M18*10)/3.4,\"zvolte typ stavby\"))))","v":89.591836734693871},40000000]
["II/275 Luštěnice - Brodce","oprava a rekonstrukce","Rekonstrukce",4,10,10,10,10,10,0,10,10,{"$f":"IF(B19=data!$S$2,D19*0.7+E19*0.2+F19*0.8+G19+H19*0.2+I19+J19*0.3+K19*0.5+L19*0.2,IF(B19=data!$S$3,D19*0.1+E19*0.3+F19*0.1+G19+I19+J19*0.5+K19*0.4,IF(B19=data!$S$4,D19*0.6+E19*0.7+F19+G19+I19+L19,IF(B19=data!$S$5,D19*0.7+E19+H19*0.7+I19,\"zvolte typ stavby\"))))","v":41.8},{"$f":"IF(B19=data!$S$2,(M19*10)/4.9,IF(B19=data!$S$3,(M19*10)/3.4,IF(B19=data!$S$4,(M19*10)/5.3,IF(B19=data!$S$5,(M19*10)/3.4,\"zvolte typ stavby\"))))","v":85.306122448979579},60000000]
["II/174 Březnice - Hudčice, hr. kraje","oprava a rekonstrukce","Rekonstrukce",3,10,10,10,10,10,0,10,10,{"$f":"IF(B20=data!$S$2,D20*0.7+E20*0.2+F20*0.8+G20+H20*0.2+I20+J20*0.3+K20*0.5+L20*0.2,IF(B20=data!$S$3,D20*0.1+E20*0.3+F20*0.1+G20+I20+J20*0.5+K20*0.4,IF(B20=data!$S$4,D20*0.6+E20*0.7+F20+G20+I20+L20,IF(B20=data!$S$5,D20*0.7+E20+H20*0.7+I20,\"zvolte typ stavby\"))))","v":41.1},{"$f":"IF(B20=data!$S$2,(M20*10)/4.9,IF(B20=data!$S$3,(M20*10)/3.4,IF(B20=data!$S$4,(M20*10)/5.3,IF(B20=data!$S$5,(M20*10)/3.4,\"zvolte typ stavby\"))))","v":83.877551020408163},58000000]
["II/121 Votice kř. s III/12148 - konec obce Heřmaničky","oprava a rekonstrukce","Rekonstrukce",3,10,10,10,10,10,0,10,10,{"$f":"IF(B21=data!$S$2,D21*0.7+E21*0.2+F21*0.8+G21+H21*0.2+I21+J21*0.3+K21*0.5+L21*0.2,IF(B21=data!$S$3,D21*0.1+E21*0.3+F21*0.1+G21+I21+J21*0.5+K21*0.4,IF(B21=data!$S$4,D21*0.6+E21*0.7+F21+G21+I21+L21,IF(B21=data!$S$5,D21*0.7+E21+H21*0.7+I21,\"zvolte typ stavby\"))))","v":41.1},{"$f":"IF(B21=data!$S$2,(M21*10)/4.9,IF(B21=data!$S$3,(M21*10)/3.4,IF(B21=data!$S$4,(M21*10)/5.3,IF(B21=data!$S$5,(M21*10)/3.4,\"zvolte typ stavby\"))))","v":83.877551020408163},98000000]
["II/120 Sedlec - Prčice náměstí - kř. s II/105","oprava a rekonstrukce","Rekonstrukce",3,10,10,10,10,10,0,10,10,{"$f":"IF(B22=data!$S$2,D22*0.7+E22*0.2+F22*0.8+G22+H22*0.2+I22+J22*0.3+K22*0.5+L22*0.2,IF(B22=data!$S$3,D22*0.1+E22*0.3+F22*0.1+G22+I22+J22*0.5+K22*0.4,IF(B22=data!$S$4,D22*0.6+E22*0.7+F22+G22+I22+L22,IF(B22=data!$S$5,D22*0.7+E22+H22*0.7+I22,\"zvolte typ stavby\"))))","v":41.1},{"$f":"IF(B22=data!$S$2,(M22*10)/4.9,IF(B22=data!$S$3,(M22*10)/3.4,IF(B22=data!$S$4,(M22*10)/5.3,IF(B22=data!$S$5,(M22*10)/3.4,\"zvolte typ stavby\"))))","v":83.877551020408163},130000000]
["II/127 Trh.Štěpánov - Zdislavice","oprava a rekonstrukce","Rekonstrukce",2,10,10,10,10,10,0,10,10,{"$f":"IF(B23=data!$S$2,D23*0.7+E23*0.2+F23*0.8+G23+H23*0.2+I23+J23*0.3+K23*0.5+L23*0.2,IF(B23=data!$S$3,D23*0.1+E23*0.3+F23*0.1+G23+I23+J23*0.5+K23*0.4,IF(B23=data!$S$4,D23*0.6+E23*0.7+F23+G23+I23+L23,IF(B23=data!$S$5,D23*0.7+E23+H23*0.7+I23,\"zvolte typ stavby\"))))","v":40.4},{"$f":"IF(B23=data!$S$2,(M23*10)/4.9,IF(B23=data!$S$3,(M23*10)/3.4,IF(B23=data!$S$4,(M23*10)/5.3,IF(B23=data!$S$5,(M23*10)/3.4,\"zvolte typ stavby\"))))","v":82.448979591836732},90000000]
["II/109 Vranov - Chocerady","oprava a rekonstrukce","Rekonstrukce",2,10,10,10,10,10,0,10,7,{"$f":"IF(B24=data!$S$2,D24*0.7+E24*0.2+F24*0.8+G24+H24*0.2+I24+J24*0.3+K24*0.5+L24*0.2,IF(B24=data!$S$3,D24*0.1+E24*0.3+F24*0.1+G24+I24+J24*0.5+K24*0.4,IF(B24=data!$S$4,D24*0.6+E24*0.7+F24+G24+I24+L24,IF(B24=data!$S$5,D24*0.7+E24+H24*0.7+I24,\"zvolte typ stavby\"))))","v":39.799999999999997},{"$f":"IF(B24=data!$S$2,(M24*10)/4.9,IF(B24=data!$S$3,(M24*10)/3.4,IF(B24=data!$S$4,(M24*10)/5.3,IF(B24=data!$S$5,(M24*10)/3.4,\"zvolte typ stavby\"))))","v":81.224489795918359},80000000]
["II/150 Louňovice p.Blaníkem - Načeradec","oprava a rekonstrukce","Rekonstrukce",1,10,10,10,10,10,0,10,10,{"$f":"IF(B25=data!$S$2,D25*0.7+E25*0.2+F25*0.8+G25+H25*0.2+I25+J25*0.3+K25*0.5+L25*0.2,IF(B25=data!$S$3,D25*0.1+E25*0.3+F25*0.1+G25+I25+J25*0.5+K25*0.4,IF(B25=data!$S$4,D25*0.6+E25*0.7+F25+G25+I25+L25,IF(B25=data!$S$5,D25*0.7+E25+H25*0.7+I25,\"zvolte typ stavby\"))))","v":39.700000000000003},{"$f":"IF(B25=data!$S$2,(M25*10)/4.9,IF(B25=data!$S$3,(M25*10)/3.4,IF(B25=data!$S$4,(M25*10)/5.3,IF(B25=data!$S$5,(M25*10)/3.4,\"zvolte typ stavby\"))))","v":81.020408163265301},85000000]
[null,null,null,null,null,null,null,null,null,null,null,null,{"$f":"IF(B26=data!$S$2,D26*0.7+E26*0.2+F26*0.8+G26+H26*0.2+I26+J26*0.3+K26*0.5+L26*0.2,IF(B26=data!$S$3,D26*0.1+E26*0.3+F26*0.1+G26+I26+J26*0.5+K26*0.4,IF(B26=data!$S$4,D26*0.6+E26*0.7+F26+G26+I26+L26,IF(B26=data!$S$5,D26*0.7+E26+H26*0.7+I26,\"zvolte typ stavby\"))))","v":"zvolte typ stavby"},{"$f":"IF(B26=data!$S$2,(M26*10)/4.9,IF(B26=data!$S$3,(M26*10)/3.4,IF(B26=data!$S$4,(M26*10)/5.3,IF(B26=data!$S$5,(M26*10)/3.4,\"zvolte typ stavby\"))))","v":"zvolte typ stavby"}]
[null,null,null,null,null,null,null,null,null,null,null,null,{"$f":"IF(B27=data!$S$2,D27*0.7+E27*0.2+F27*0.8+G27+H27*0.2+I27+J27*0.3+K27*0.5+L27*0.2,IF(B27=data!$S$3,D27*0.1+E27*0.3+F27*0.1+G27+I27+J27*0.5+K27*0.4,IF(B27=data!$S$4,D27*0.6+E27*0.7+F27+G27+I27+L27,IF(B27=data!$S$5,D27*0.7+E27+H27*0.7+I27,\"zvolte typ stavby\"))))","v":"zvolte typ stavby"},{"$f":"IF(B27=data!$S$2,(M27*10)/4.9,IF(B27=data!$S$3,(M27*10)/3.4,IF(B27=data!$S$4,(M27*10)/5.3,IF(B27=data!$S$5,(M27*10)/3.4,\"zvolte typ stavby\"))))","v":"zvolte typ stavby"}]
["II/137 Načeradec - Daměnice, hr. kraje","oprava a rekonstrukce","Rekonstrukce",1,10,10,10,10,10,0,10,2,{"$f":"IF(B28=data!$S$2,D28*0.7+E28*0.2+F28*0.8+G28+H28*0.2+I28+J28*0.3+K28*0.5+L28*0.2,IF(B28=data!$S$3,D28*0.1+E28*0.3+F28*0.1+G28+I28+J28*0.5+K28*0.4,IF(B28=data!$S$4,D28*0.6+E28*0.7+F28+G28+I28+L28,IF(B28=data!$S$5,D28*0.7+E28+H28*0.7+I28,\"zvolte typ stavby\"))))","v":38.1},{"$f":"IF(B28=data!$S$2,(M28*10)/4.9,IF(B28=data!$S$3,(M28*10)/3.4,IF(B28=data!$S$4,(M28*10)/5.3,IF(B28=data!$S$5,(M28*10)/3.4,\"zvolte typ stavby\"))))","v":77.755102040816325},68000000]
["III/1255 Kondrac - Načeradec","oprava a rekonstrukce","Rekonstrukce",1,5,10,10,10,10,0,10,7,{"$f":"IF(B29=data!$S$2,D29*0.7+E29*0.2+F29*0.8+G29+H29*0.2+I29+J29*0.3+K29*0.5+L29*0.2,IF(B29=data!$S$3,D29*0.1+E29*0.3+F29*0.1+G29+I29+J29*0.5+K29*0.4,IF(B29=data!$S$4,D29*0.6+E29*0.7+F29+G29+I29+L29,IF(B29=data!$S$5,D29*0.7+E29+H29*0.7+I29,\"zvolte typ stavby\"))))","v":38.1},{"$f":"IF(B29=data!$S$2,(M29*10)/4.9,IF(B29=data!$S$3,(M29*10)/3.4,IF(B29=data!$S$4,(M29*10)/5.3,IF(B29=data!$S$5,(M29*10)/3.4,\"zvolte typ stavby\"))))","v":77.755102040816325},28000000]
["II/119 a III/10226 Dobříš - nájezd na D4","oprava a rekonstrukce","Rekonstrukce",5,10,6,10,10,10,0,10,4,{"$f":"IF(B30=data!$S$2,D30*0.7+E30*0.2+F30*0.8+G30+H30*0.2+I30+J30*0.3+K30*0.5+L30*0.2,IF(B30=data!$S$3,D30*0.1+E30*0.3+F30*0.1+G30+I30+J30*0.5+K30*0.4,IF(B30=data!$S$4,D30*0.6+E30*0.7+F30+G30+I30+L30,IF(B30=data!$S$5,D30*0.7+E30+H30*0.7+I30,\"zvolte typ stavby\"))))","v":38.099999999999994},{"$f":"IF(B30=data!$S$2,(M30*10)/4.9,IF(B30=data!$S$3,(M30*10)/3.4,IF(B30=data!$S$4,(M30*10)/5.3,IF(B30=data!$S$5,(M30*10)/3.4,\"zvolte typ stavby\"))))","v":77.755102040816311},40000000]
["II/114 Dobříš, kom. a opěrné zdi na hrázi rybníka Koryto ","oprava a rekonstrukce","Rekonstrukce",7,10,3,10,10,10,0,10,7,{"$f":"IF(B31=data!$S$2,D31*0.7+E31*0.2+F31*0.8+G31+H31*0.2+I31+J31*0.3+K31*0.5+L31*0.2,IF(B31=data!$S$3,D31*0.1+E31*0.3+F31*0.1+G31+I31+J31*0.5+K31*0.4,IF(B31=data!$S$4,D31*0.6+E31*0.7+F31+G31+I31+L31,IF(B31=data!$S$5,D31*0.7+E31+H31*0.7+I31,\"zvolte typ stavby\"))))","v":37.699999999999996},{"$f":"IF(B31=data!$S$2,(M31*10)/4.9,IF(B31=data!$S$3,(M31*10)/3.4,IF(B31=data!$S$4,(M31*10)/5.3,IF(B31=data!$S$5,(M31*10)/3.4,\"zvolte typ stavby\"))))","v":76.938775510204067},65000000]
["II/127 od OK Zdislavice - Pravonín - Buková","oprava a rekonstrukce","Rekonstrukce",2,10,10,10,10,7,0,10,7,{"$f":"IF(B32=data!$S$2,D32*0.7+E32*0.2+F32*0.8+G32+H32*0.2+I32+J32*0.3+K32*0.5+L32*0.2,IF(B32=data!$S$3,D32*0.1+E32*0.3+F32*0.1+G32+I32+J32*0.5+K32*0.4,IF(B32=data!$S$4,D32*0.6+E32*0.7+F32+G32+I32+L32,IF(B32=data!$S$5,D32*0.7+E32+H32*0.7+I32,\"zvolte typ stavby\"))))","v":36.799999999999997},{"$f":"IF(B32=data!$S$2,(M32*10)/4.9,IF(B32=data!$S$3,(M32*10)/3.4,IF(B32=data!$S$4,(M32*10)/5.3,IF(B32=data!$S$5,(M32*10)/3.4,\"zvolte typ stavby\"))))","v":75.102040816326522},100000000]
["II/114 Živohošť most - Chotilsko","oprava a rekonstrukce","Rekonstrukce",3,10,6,10,10,10,0,10,4,{"$f":"IF(B33=data!$S$2,D33*0.7+E33*0.2+F33*0.8+G33+H33*0.2+I33+J33*0.3+K33*0.5+L33*0.2,IF(B33=data!$S$3,D33*0.1+E33*0.3+F33*0.1+G33+I33+J33*0.5+K33*0.4,IF(B33=data!$S$4,D33*0.6+E33*0.7+F33+G33+I33+L33,IF(B33=data!$S$5,D33*0.7+E33+H33*0.7+I33,\"zvolte typ stavby\"))))","v":36.699999999999996},{"$f":"IF(B33=data!$S$2,(M33*10)/4.9,IF(B33=data!$S$3,(M33*10)/3.4,IF(B33=data!$S$4,(M33*10)/5.3,IF(B33=data!$S$5,(M33*10)/3.4,\"zvolte typ stavby\"))))","v":74.89795918367345},82000000]
["II/105 Tloskov - kř. s III/1027","oprava a rekonstrukce",null,3,10,6,10,10,10,0,10,4,{"$f":"IF(B34=data!$S$2,D34*0.7+E34*0.2+F34*0.8+G34+H34*0.2+I34+J34*0.3+K34*0.5+L34*0.2,IF(B34=data!$S$3,D34*0.1+E34*0.3+F34*0.1+G34+I34+J34*0.5+K34*0.4,IF(B34=data!$S$4,D34*0.6+E34*0.7+F34+G34+I34+L34,IF(B34=data!$S$5,D34*0.7+E34+H34*0.7+I34,\"zvolte typ stavby\"))))","v":36.699999999999996},{"$f":"IF(B34=data!$S$2,(M34*10)/4.9,IF(B34=data!$S$3,(M34*10)/3.4,IF(B34=data!$S$4,(M34*10)/5.3,IF(B34=data!$S$5,(M34*10)/3.4,\"zvolte typ stavby\"))))","v":74.89795918367345},65000000]
[null,null,null,null,null,null,null,null,null,null,null,null,{"$f":"IF(B35=data!$S$2,D35*0.7+E35*0.2+F35*0.8+G35+H35*0.2+I35+J35*0.3+K35*0.5+L35*0.2,IF(B35=data!$S$3,D35*0.1+E35*0.3+F35*0.1+G35+I35+J35*0.5+K35*0.4,IF(B35=data!$S$4,D35*0.6+E35*0.7+F35+G35+I35+L35,IF(B35=data!$S$5,D35*0.7+E35+H35*0.7+I35,\"zvolte typ stavby\"))))","v":"zvolte typ stavby"},{"$f":"IF(B35=data!$S$2,(M35*10)/4.9,IF(B35=data!$S$3,(M35*10)/3.4,IF(B35=data!$S$4,(M35*10)/5.3,IF(B35=data!$S$5,(M35*10)/3.4,\"zvolte typ stavby\"))))","v":"zvolte typ stavby"}]
["Oprava II. poloviny  II/337 a II/339 Čáslav - kooor. objízdné trasy s ŘSD - PD","oprava a rekonstrukce","Souvislá údržba",6,9,6,6,10,10,0,10,4,{"$f":"IF(B36=data!$S$2,D36*0.7+E36*0.2+F36*0.8+G36+H36*0.2+I36+J36*0.3+K36*0.5+L36*0.2,IF(B36=data!$S$3,D36*0.1+E36*0.3+F36*0.1+G36+I36+J36*0.5+K36*0.4,IF(B36=data!$S$4,D36*0.6+E36*0.7+F36+G36+I36+L36,IF(B36=data!$S$5,D36*0.7+E36+H36*0.7+I36,\"zvolte typ stavby\"))))","v":34.599999999999994},{"$f":"IF(B36=data!$S$2,(M36*10)/4.9,IF(B36=data!$S$3,(M36*10)/3.4,IF(B36=data!$S$4,(M36*10)/5.3,IF(B36=data!$S$5,(M36*10)/3.4,\"zvolte typ stavby\"))))","v":70.612244897959172},500000]
[null,null,null,null,null,null,null,null,null,null,null,null,{"$f":"IF(B37=data!$S$2,D37*0.7+E37*0.2+F37*0.8+G37+H37*0.2+I37+J37*0.3+K37*0.5+L37*0.2,IF(B37=data!$S$3,D37*0.1+E37*0.3+F37*0.1+G37+I37+J37*0.5+K37*0.4,IF(B37=data!$S$4,D37*0.6+E37*0.7+F37+G37+I37+L37,IF(B37=data!$S$5,D37*0.7+E37+H37*0.7+I37,\"zvolte typ stavby\"))))","v":"zvolte typ stavby"},{"$f":"IF(B37=data!$S$2,(M37*10)/4.9,IF(B37=data!$S$3,(M37*10)/3.4,IF(B37=data!$S$4,(M37*10)/5.3,IF(B37=data!$S$5,(M37*10)/3.4,\"zvolte typ stavby\"))))","v":"zvolte typ stavby"}]
[null,null,null,null,null,null,null,null,null,null,null,null,{"$f":"IF(B38=data!$S$2,D38*0.7+E38*0.2+F38*0.8+G38+H38*0.2+I38+J38*0.3+K38*0.5+L38*0.2,IF(B38=data!$S$3,D38*0.1+E38*0.3+F38*0.1+G38+I38+J38*0.5+K38*0.4,IF(B38=data!$S$4,D38*0.6+E38*0.7+F38+G38+I38+L38,IF(B38=data!$S$5,D38*0.7+E38+H38*0.7+I38,\"zvolte typ stavby\"))))","v":"zvolte typ stavby"},{"$f":"IF(B38=data!$S$2,(M38*10)/4.9,IF(B38=data!$S$3,(M38*10)/3.4,IF(B38=data!$S$4,(M38*10)/5.3,IF(B38=data!$S$5,(M38*10)/3.4,\"zvolte typ stavby\"))))","v":"zvolte typ stavby"}]
["III/1068 Brodce - Zbořený Kostelec","oprava a rekonstrukce","Rekonstrukce",1,5,10,10,10,2,10,10,7,{"$f":"IF(B39=data!$S$2,D39*0.7+E39*0.2+F39*0.8+G39+H39*0.2+I39+J39*0.3+K39*0.5+L39*0.2,IF(B39=data!$S$3,D39*0.1+E39*0.3+F39*0.1+G39+I39+J39*0.5+K39*0.4,IF(B39=data!$S$4,D39*0.6+E39*0.7+F39+G39+I39+L39,IF(B39=data!$S$5,D39*0.7+E39+H39*0.7+I39,\"zvolte typ stavby\"))))","v":33.1},{"$f":"IF(B39=data!$S$2,(M39*10)/4.9,IF(B39=data!$S$3,(M39*10)/3.4,IF(B39=data!$S$4,(M39*10)/5.3,IF(B39=data!$S$5,(M39*10)/3.4,\"zvolte typ stavby\"))))","v":67.551020408163254},10000000]
[null,null,null,null,null,null,null,null,null,null,null,null,{"$f":"IF(B40=data!$S$2,D40*0.7+E40*0.2+F40*0.8+G40+H40*0.2+I40+J40*0.3+K40*0.5+L40*0.2,IF(B40=data!$S$3,D40*0.1+E40*0.3+F40*0.1+G40+I40+J40*0.5+K40*0.4,IF(B40=data!$S$4,D40*0.6+E40*0.7+F40+G40+I40+L40,IF(B40=data!$S$5,D40*0.7+E40+H40*0.7+I40,\"zvolte typ stavby\"))))","v":"zvolte typ stavby"},{"$f":"IF(B40=data!$S$2,(M40*10)/4.9,IF(B40=data!$S$3,(M40*10)/3.4,IF(B40=data!$S$4,(M40*10)/5.3,IF(B40=data!$S$5,(M40*10)/3.4,\"zvolte typ stavby\"))))","v":"zvolte typ stavby"}]
[null,null,null,null,null,null,null,null,null,null,null,null,{"$f":"IF(B41=data!$S$2,D41*0.7+E41*0.2+F41*0.8+G41+H41*0.2+I41+J41*0.3+K41*0.5+L41*0.2,IF(B41=data!$S$3,D41*0.1+E41*0.3+F41*0.1+G41+I41+J41*0.5+K41*0.4,IF(B41=data!$S$4,D41*0.6+E41*0.7+F41+G41+I41+L41,IF(B41=data!$S$5,D41*0.7+E41+H41*0.7+I41,\"zvolte typ stavby\"))))","v":"zvolte typ stavby"},{"$f":"IF(B41=data!$S$2,(M41*10)/4.9,IF(B41=data!$S$3,(M41*10)/3.4,IF(B41=data!$S$4,(M41*10)/5.3,IF(B41=data!$S$5,(M41*10)/3.4,\"zvolte typ stavby\"))))","v":"zvolte typ stavby"}]
["III/2595 Podlázky - Bukovno","oprava a rekonstrukce","Rekonstrukce",3,7,10,6,10,7,0,10,7,{"$f":"IF(B42=data!$S$2,D42*0.7+E42*0.2+F42*0.8+G42+H42*0.2+I42+J42*0.3+K42*0.5+L42*0.2,IF(B42=data!$S$3,D42*0.1+E42*0.3+F42*0.1+G42+I42+J42*0.5+K42*0.4,IF(B42=data!$S$4,D42*0.6+E42*0.7+F42+G42+I42+L42,IF(B42=data!$S$5,D42*0.7+E42+H42*0.7+I42,\"zvolte typ stavby\"))))","v":32.9},{"$f":"IF(B42=data!$S$2,(M42*10)/4.9,IF(B42=data!$S$3,(M42*10)/3.4,IF(B42=data!$S$4,(M42*10)/5.3,IF(B42=data!$S$5,(M42*10)/3.4,\"zvolte typ stavby\"))))","v":67.142857142857139},20000000]
["II/259 Bukovno, průtah","oprava a rekonstrukce","Rekonstrukce",3,8,6,10,10,7,0,10,2,{"$f":"IF(B43=data!$S$2,D43*0.7+E43*0.2+F43*0.8+G43+H43*0.2+I43+J43*0.3+K43*0.5+L43*0.2,IF(B43=data!$S$3,D43*0.1+E43*0.3+F43*0.1+G43+I43+J43*0.5+K43*0.4,IF(B43=data!$S$4,D43*0.6+E43*0.7+F43+G43+I43+L43,IF(B43=data!$S$5,D43*0.7+E43+H43*0.7+I43,\"zvolte typ stavby\"))))","v":32.9},{"$f":"IF(B43=data!$S$2,(M43*10)/4.9,IF(B43=data!$S$3,(M43*10)/3.4,IF(B43=data!$S$4,(M43*10)/5.3,IF(B43=data!$S$5,(M43*10)/3.4,\"zvolte typ stavby\"))))","v":67.142857142857139},10000000]
["III/24637 Vliněves, průtah","oprava a rekonstrukce","Rekonstrukce",4,7,6,10,10,10,10,10,2,{"$f":"IF(B44=data!$S$2,D44*0.7+E44*0.2+F44*0.8+G44+H44*0.2+I44+J44*0.3+K44*0.5+L44*0.2,IF(B44=data!$S$3,D44*0.1+E44*0.3+F44*0.1+G44+I44+J44*0.5+K44*0.4,IF(B44=data!$S$4,D44*0.6+E44*0.7+F44+G44+I44+L44,IF(B44=data!$S$5,D44*0.7+E44+H44*0.7+I44,\"zvolte typ stavby\"))))","v":39.4},{"$f":"IF(B44=data!$S$2,(M44*10)/4.9,IF(B44=data!$S$3,(M44*10)/3.4,IF(B44=data!$S$4,(M44*10)/5.3,IF(B44=data!$S$5,(M44*10)/3.4,\"zvolte typ stavby\"))))","v":80.408163265306115},15000000]
["II/245 Brandýs nad Labem, ul. Královická","oprava a rekonstrukce","Rekonstrukce",4,10,10,10,10,10,0,10,2,{"$f":"IF(B45=data!$S$2,D45*0.7+E45*0.2+F45*0.8+G45+H45*0.2+I45+J45*0.3+K45*0.5+L45*0.2,IF(B45=data!$S$3,D45*0.1+E45*0.3+F45*0.1+G45+I45+J45*0.5+K45*0.4,IF(B45=data!$S$4,D45*0.6+E45*0.7+F45+G45+I45+L45,IF(B45=data!$S$5,D45*0.7+E45+H45*0.7+I45,\"zvolte typ stavby\"))))","v":40.199999999999996},{"$f":"IF(B45=data!$S$2,(M45*10)/4.9,IF(B45=data!$S$3,(M45*10)/3.4,IF(B45=data!$S$4,(M45*10)/5.3,IF(B45=data!$S$5,(M45*10)/3.4,\"zvolte typ stavby\"))))","v":82.040816326530589},40000000]
["III/10159 Brandýs nad Labem, průtah","oprava a rekonstrukce","Rekonstrukce",1,3,10,10,10,4,0,10,2,{"$f":"IF(B46=data!$S$2,D46*0.7+E46*0.2+F46*0.8+G46+H46*0.2+I46+J46*0.3+K46*0.5+L46*0.2,IF(B46=data!$S$3,D46*0.1+E46*0.3+F46*0.1+G46+I46+J46*0.5+K46*0.4,IF(B46=data!$S$4,D46*0.6+E46*0.7+F46+G46+I46+L46,IF(B46=data!$S$5,D46*0.7+E46+H46*0.7+I46,\"zvolte typ stavby\"))))","v":30.7},{"$f":"IF(B46=data!$S$2,(M46*10)/4.9,IF(B46=data!$S$3,(M46*10)/3.4,IF(B46=data!$S$4,(M46*10)/5.3,IF(B46=data!$S$5,(M46*10)/3.4,\"zvolte typ stavby\"))))","v":62.65306122448979},20000000]
["III/1247 Miličín od kř. I/3 - hr. kraje","oprava a rekonstrukce","Rekonstrukce",1,5,10,10,10,4,0,10,7,{"$f":"IF(B47=data!$S$2,D47*0.7+E47*0.2+F47*0.8+G47+H47*0.2+I47+J47*0.3+K47*0.5+L47*0.2,IF(B47=data!$S$3,D47*0.1+E47*0.3+F47*0.1+G47+I47+J47*0.5+K47*0.4,IF(B47=data!$S$4,D47*0.6+E47*0.7+F47+G47+I47+L47,IF(B47=data!$S$5,D47*0.7+E47+H47*0.7+I47,\"zvolte typ stavby\"))))","v":32.1},{"$f":"IF(B47=data!$S$2,(M47*10)/4.9,IF(B47=data!$S$3,(M47*10)/3.4,IF(B47=data!$S$4,(M47*10)/5.3,IF(B47=data!$S$5,(M47*10)/3.4,\"zvolte typ stavby\"))))","v":65.510204081632651},80000000]
["III/27937 Dolní Bousov, průtah (Vlčí Pole)","oprava a rekonstrukce","Rekonstrukce",2,5,3,10,10,10,0,10,0,{"$f":"IF(B48=data!$S$2,D48*0.7+E48*0.2+F48*0.8+G48+H48*0.2+I48+J48*0.3+K48*0.5+L48*0.2,IF(B48=data!$S$3,D48*0.1+E48*0.3+F48*0.1+G48+I48+J48*0.5+K48*0.4,IF(B48=data!$S$4,D48*0.6+E48*0.7+F48+G48+I48+L48,IF(B48=data!$S$5,D48*0.7+E48+H48*0.7+I48,\"zvolte typ stavby\"))))","v":31.8},{"$f":"IF(B48=data!$S$2,(M48*10)/4.9,IF(B48=data!$S$3,(M48*10)/3.4,IF(B48=data!$S$4,(M48*10)/5.3,IF(B48=data!$S$5,(M48*10)/3.4,\"zvolte typ stavby\"))))","v":64.897959183673464},10000000]
["III/10222 Nový Knín, ul. Kozohorská","oprava a rekonstrukce","Rekonstrukce",1,7,10,10,10,4,0,10,7,{"$f":"IF(B49=data!$S$2,D49*0.7+E49*0.2+F49*0.8+G49+H49*0.2+I49+J49*0.3+K49*0.5+L49*0.2,IF(B49=data!$S$3,D49*0.1+E49*0.3+F49*0.1+G49+I49+J49*0.5+K49*0.4,IF(B49=data!$S$4,D49*0.6+E49*0.7+F49+G49+I49+L49,IF(B49=data!$S$5,D49*0.7+E49+H49*0.7+I49,\"zvolte typ stavby\"))))","v":32.5},{"$f":"IF(B49=data!$S$2,(M49*10)/4.9,IF(B49=data!$S$3,(M49*10)/3.4,IF(B49=data!$S$4,(M49*10)/5.3,IF(B49=data!$S$5,(M49*10)/3.4,\"zvolte typ stavby\"))))","v":66.326530612244895},11000000]
[null,null,null,null,null,null,null,null,null,null,null,null,{"$f":"IF(B50=data!$S$2,D50*0.7+E50*0.2+F50*0.8+G50+H50*0.2+I50+J50*0.3+K50*0.5+L50*0.2,IF(B50=data!$S$3,D50*0.1+E50*0.3+F50*0.1+G50+I50+J50*0.5+K50*0.4,IF(B50=data!$S$4,D50*0.6+E50*0.7+F50+G50+I50+L50,IF(B50=data!$S$5,D50*0.7+E50+H50*0.7+I50,\"zvolte typ stavby\"))))","v":"zvolte typ stavby"},{"$f":"IF(B50=data!$S$2,(M50*10)/4.9,IF(B50=data!$S$3,(M50*10)/3.4,IF(B50=data!$S$4,(M50*10)/5.3,IF(B50=data!$S$5,(M50*10)/3.4,\"zvolte typ stavby\"))))","v":"zvolte typ stavby"}]
["II/605 hr. Středočeského kraje - Rudná-PD","oprava a rekonstrukce","Rekonstrukce",7,9,3,6,0,10,0,10,4,{"$f":"IF(B51=data!$S$2,D51*0.7+E51*0.2+F51*0.8+G51+H51*0.2+I51+J51*0.3+K51*0.5+L51*0.2,IF(B51=data!$S$3,D51*0.1+E51*0.3+F51*0.1+G51+I51+J51*0.5+K51*0.4,IF(B51=data!$S$4,D51*0.6+E51*0.7+F51+G51+I51+L51,IF(B51=data!$S$5,D51*0.7+E51+H51*0.7+I51,\"zvolte typ stavby\"))))","v":30.900000000000002},{"$f":"IF(B51=data!$S$2,(M51*10)/4.9,IF(B51=data!$S$3,(M51*10)/3.4,IF(B51=data!$S$4,(M51*10)/5.3,IF(B51=data!$S$5,(M51*10)/3.4,\"zvolte typ stavby\"))))","v":63.061224489795912},5804460]
[null,null,null,null,null,null,null,null,null,null,null,null,{"$f":"IF(B52=data!$S$2,D52*0.7+E52*0.2+F52*0.8+G52+H52*0.2+I52+J52*0.3+K52*0.5+L52*0.2,IF(B52=data!$S$3,D52*0.1+E52*0.3+F52*0.1+G52+I52+J52*0.5+K52*0.4,IF(B52=data!$S$4,D52*0.6+E52*0.7+F52+G52+I52+L52,IF(B52=data!$S$5,D52*0.7+E52+H52*0.7+I52,\"zvolte typ stavby\"))))","v":"zvolte typ stavby"},{"$f":"IF(B52=data!$S$2,(M52*10)/4.9,IF(B52=data!$S$3,(M52*10)/3.4,IF(B52=data!$S$4,(M52*10)/5.3,IF(B52=data!$S$5,(M52*10)/3.4,\"zvolte typ stavby\"))))","v":"zvolte typ stavby"}]
["II/328 Městec Králové ul. Pražská  - I/11","oprava a rekonstrukce","Rekonstrukce",4,10,6,6,10,7,0,10,4,{"$f":"IF(B53=data!$S$2,D53*0.7+E53*0.2+F53*0.8+G53+H53*0.2+I53+J53*0.3+K53*0.5+L53*0.2,IF(B53=data!$S$3,D53*0.1+E53*0.3+F53*0.1+G53+I53+J53*0.5+K53*0.4,IF(B53=data!$S$4,D53*0.6+E53*0.7+F53+G53+I53+L53,IF(B53=data!$S$5,D53*0.7+E53+H53*0.7+I53,\"zvolte typ stavby\"))))","v":30.400000000000002},{"$f":"IF(B53=data!$S$2,(M53*10)/4.9,IF(B53=data!$S$3,(M53*10)/3.4,IF(B53=data!$S$4,(M53*10)/5.3,IF(B53=data!$S$5,(M53*10)/3.4,\"zvolte typ stavby\"))))","v":62.04081632653061},8105309]
[null,null,null,null,null,null,null,null,null,null,null,null,{"$f":"IF(B54=data!$S$2,D54*0.7+E54*0.2+F54*0.8+G54+H54*0.2+I54+J54*0.3+K54*0.5+L54*0.2,IF(B54=data!$S$3,D54*0.1+E54*0.3+F54*0.1+G54+I54+J54*0.5+K54*0.4,IF(B54=data!$S$4,D54*0.6+E54*0.7+F54+G54+I54+L54,IF(B54=data!$S$5,D54*0.7+E54+H54*0.7+I54,\"zvolte typ stavby\"))))","v":"zvolte typ stavby"},{"$f":"IF(B54=data!$S$2,(M54*10)/4.9,IF(B54=data!$S$3,(M54*10)/3.4,IF(B54=data!$S$4,(M54*10)/5.3,IF(B54=data!$S$5,(M54*10)/3.4,\"zvolte typ stavby\"))))","v":"zvolte typ stavby"}]
[null,null,null,null,null,null,null,null,null,null,null,null,{"$f":"IF(B55=data!$S$2,D55*0.7+E55*0.2+F55*0.8+G55+H55*0.2+I55+J55*0.3+K55*0.5+L55*0.2,IF(B55=data!$S$3,D55*0.1+E55*0.3+F55*0.1+G55+I55+J55*0.5+K55*0.4,IF(B55=data!$S$4,D55*0.6+E55*0.7+F55+G55+I55+L55,IF(B55=data!$S$5,D55*0.7+E55+H55*0.7+I55,\"zvolte typ stavby\"))))","v":"zvolte typ stavby"},{"$f":"IF(B55=data!$S$2,(M55*10)/4.9,IF(B55=data!$S$3,(M55*10)/3.4,IF(B55=data!$S$4,(M55*10)/5.3,IF(B55=data!$S$5,(M55*10)/3.4,\"zvolte typ stavby\"))))","v":"zvolte typ stavby"}]
[null,null,null,null,null,null,null,null,null,null,null,null,{"$f":"IF(B56=data!$S$2,D56*0.7+E56*0.2+F56*0.8+G56+H56*0.2+I56+J56*0.3+K56*0.5+L56*0.2,IF(B56=data!$S$3,D56*0.1+E56*0.3+F56*0.1+G56+I56+J56*0.5+K56*0.4,IF(B56=data!$S$4,D56*0.6+E56*0.7+F56+G56+I56+L56,IF(B56=data!$S$5,D56*0.7+E56+H56*0.7+I56,\"zvolte typ stavby\"))))","v":"zvolte typ stavby"},{"$f":"IF(B56=data!$S$2,(M56*10)/4.9,IF(B56=data!$S$3,(M56*10)/3.4,IF(B56=data!$S$4,(M56*10)/5.3,IF(B56=data!$S$5,(M56*10)/3.4,\"zvolte typ stavby\"))))","v":"zvolte typ stavby"}]
[null,null,null,null,null,null,null,null,null,null,null,null,{"$f":"IF(B57=data!$S$2,D57*0.7+E57*0.2+F57*0.8+G57+H57*0.2+I57+J57*0.3+K57*0.5+L57*0.2,IF(B57=data!$S$3,D57*0.1+E57*0.3+F57*0.1+G57+I57+J57*0.5+K57*0.4,IF(B57=data!$S$4,D57*0.6+E57*0.7+F57+G57+I57+L57,IF(B57=data!$S$5,D57*0.7+E57+H57*0.7+I57,\"zvolte typ stavby\"))))","v":"zvolte typ stavby"},{"$f":"IF(B57=data!$S$2,(M57*10)/4.9,IF(B57=data!$S$3,(M57*10)/3.4,IF(B57=data!$S$4,(M57*10)/5.3,IF(B57=data!$S$5,(M57*10)/3.4,\"zvolte typ stavby\"))))","v":"zvolte typ stavby"}]
[null,null,null,null,null,null,null,null,null,null,null,null,{"$f":"IF(B58=data!$S$2,D58*0.7+E58*0.2+F58*0.8+G58+H58*0.2+I58+J58*0.3+K58*0.5+L58*0.2,IF(B58=data!$S$3,D58*0.1+E58*0.3+F58*0.1+G58+I58+J58*0.5+K58*0.4,IF(B58=data!$S$4,D58*0.6+E58*0.7+F58+G58+I58+L58,IF(B58=data!$S$5,D58*0.7+E58+H58*0.7+I58,\"zvolte typ stavby\"))))","v":"zvolte typ stavby"},{"$f":"IF(B58=data!$S$2,(M58*10)/4.9,IF(B58=data!$S$3,(M58*10)/3.4,IF(B58=data!$S$4,(M58*10)/5.3,IF(B58=data!$S$5,(M58*10)/3.4,\"zvolte typ stavby\"))))","v":"zvolte typ stavby"}]
["II/327 Týnec nad Labem","oprava a rekonstrukce","Souvislá údržba",3,10,6,6,10,7,0,10,2,{"$f":"IF(B59=data!$S$2,D59*0.7+E59*0.2+F59*0.8+G59+H59*0.2+I59+J59*0.3+K59*0.5+L59*0.2,IF(B59=data!$S$3,D59*0.1+E59*0.3+F59*0.1+G59+I59+J59*0.5+K59*0.4,IF(B59=data!$S$4,D59*0.6+E59*0.7+F59+G59+I59+L59,IF(B59=data!$S$5,D59*0.7+E59+H59*0.7+I59,\"zvolte typ stavby\"))))","v":29.299999999999997},{"$f":"IF(B59=data!$S$2,(M59*10)/4.9,IF(B59=data!$S$3,(M59*10)/3.4,IF(B59=data!$S$4,(M59*10)/5.3,IF(B59=data!$S$5,(M59*10)/3.4,\"zvolte typ stavby\"))))","v":59.795918367346935},10000000]
["II/125 Uhlířské Janovice","oprava a rekonstrukce","Souvislá údržba",4,10,3,6,10,7,0,10,10,{"$f":"IF(B60=data!$S$2,D60*0.7+E60*0.2+F60*0.8+G60+H60*0.2+I60+J60*0.3+K60*0.5+L60*0.2,IF(B60=data!$S$3,D60*0.1+E60*0.3+F60*0.1+G60+I60+J60*0.5+K60*0.4,IF(B60=data!$S$4,D60*0.6+E60*0.7+F60+G60+I60+L60,IF(B60=data!$S$5,D60*0.7+E60+H60*0.7+I60,\"zvolte typ stavby\"))))","v":29.2},{"$f":"IF(B60=data!$S$2,(M60*10)/4.9,IF(B60=data!$S$3,(M60*10)/3.4,IF(B60=data!$S$4,(M60*10)/5.3,IF(B60=data!$S$5,(M60*10)/3.4,\"zvolte typ stavby\"))))","v":59.591836734693871},4044000]
[null,null,null,null,null,null,null,null,null,null,null,null,{"$f":"IF(B61=data!$S$2,D61*0.7+E61*0.2+F61*0.8+G61+H61*0.2+I61+J61*0.3+K61*0.5+L61*0.2,IF(B61=data!$S$3,D61*0.1+E61*0.3+F61*0.1+G61+I61+J61*0.5+K61*0.4,IF(B61=data!$S$4,D61*0.6+E61*0.7+F61+G61+I61+L61,IF(B61=data!$S$5,D61*0.7+E61+H61*0.7+I61,\"zvolte typ stavby\"))))","v":"zvolte typ stavby"},{"$f":"IF(B61=data!$S$2,(M61*10)/4.9,IF(B61=data!$S$3,(M61*10)/3.4,IF(B61=data!$S$4,(M61*10)/5.3,IF(B61=data!$S$5,(M61*10)/3.4,\"zvolte typ stavby\"))))","v":"zvolte typ stavby"}]
[null,null,null,null,null,null,null,null,null,null,null,null,{"$f":"IF(B62=data!$S$2,D62*0.7+E62*0.2+F62*0.8+G62+H62*0.2+I62+J62*0.3+K62*0.5+L62*0.2,IF(B62=data!$S$3,D62*0.1+E62*0.3+F62*0.1+G62+I62+J62*0.5+K62*0.4,IF(B62=data!$S$4,D62*0.6+E62*0.7+F62+G62+I62+L62,IF(B62=data!$S$5,D62*0.7+E62+H62*0.7+I62,\"zvolte typ stavby\"))))","v":"zvolte typ stavby"},{"$f":"IF(B62=data!$S$2,(M62*10)/4.9,IF(B62=data!$S$3,(M62*10)/3.4,IF(B62=data!$S$4,(M62*10)/5.3,IF(B62=data!$S$5,(M62*10)/3.4,\"zvolte typ stavby\"))))","v":"zvolte typ stavby"}]
["II/335 Staňkovice - Sázava","oprava a rekonstrukce","Rekonstrukce",3,10,3,6,10,7,0,10,10,{"$f":"IF(B63=data!$S$2,D63*0.7+E63*0.2+F63*0.8+G63+H63*0.2+I63+J63*0.3+K63*0.5+L63*0.2,IF(B63=data!$S$3,D63*0.1+E63*0.3+F63*0.1+G63+I63+J63*0.5+K63*0.4,IF(B63=data!$S$4,D63*0.6+E63*0.7+F63+G63+I63+L63,IF(B63=data!$S$5,D63*0.7+E63+H63*0.7+I63,\"zvolte typ stavby\"))))","v":28.5},{"$f":"IF(B63=data!$S$2,(M63*10)/4.9,IF(B63=data!$S$3,(M63*10)/3.4,IF(B63=data!$S$4,(M63*10)/5.3,IF(B63=data!$S$5,(M63*10)/3.4,\"zvolte typ stavby\"))))","v":58.163265306122447},5000000]
["III/2733 Kokořín","oprava a rekonstrukce","Rekonstrukce",2,6,6,6,10,10,10,0,0,{"$f":"IF(B64=data!$S$2,D64*0.7+E64*0.2+F64*0.8+G64+H64*0.2+I64+J64*0.3+K64*0.5+L64*0.2,IF(B64=data!$S$3,D64*0.1+E64*0.3+F64*0.1+G64+I64+J64*0.5+K64*0.4,IF(B64=data!$S$4,D64*0.6+E64*0.7+F64+G64+I64+L64,IF(B64=data!$S$5,D64*0.7+E64+H64*0.7+I64,\"zvolte typ stavby\"))))","v":28.4},{"$f":"IF(B64=data!$S$2,(M64*10)/4.9,IF(B64=data!$S$3,(M64*10)/3.4,IF(B64=data!$S$4,(M64*10)/5.3,IF(B64=data!$S$5,(M64*10)/3.4,\"zvolte typ stavby\"))))","v":57.959183673469383},100000000]
["III/11553 Pičín - rek. opěrné zdi","oprava a rekonstrukce","Rekonstrukce",1,5,6,10,10,4,0,10,4,{"$f":"IF(B65=data!$S$2,D65*0.7+E65*0.2+F65*0.8+G65+H65*0.2+I65+J65*0.3+K65*0.5+L65*0.2,IF(B65=data!$S$3,D65*0.1+E65*0.3+F65*0.1+G65+I65+J65*0.5+K65*0.4,IF(B65=data!$S$4,D65*0.6+E65*0.7+F65+G65+I65+L65,IF(B65=data!$S$5,D65*0.7+E65+H65*0.7+I65,\"zvolte typ stavby\"))))","v":28.3},{"$f":"IF(B65=data!$S$2,(M65*10)/4.9,IF(B65=data!$S$3,(M65*10)/3.4,IF(B65=data!$S$4,(M65*10)/5.3,IF(B65=data!$S$5,(M65*10)/3.4,\"zvolte typ stavby\"))))","v":57.755102040816325},5000000]
["III/01214 Úvaly","oprava a rekonstrukce","Rekonstrukce",3,5,6,6,10,7,0,10,2,{"$f":"IF(B66=data!$S$2,D66*0.7+E66*0.2+F66*0.8+G66+H66*0.2+I66+J66*0.3+K66*0.5+L66*0.2,IF(B66=data!$S$3,D66*0.1+E66*0.3+F66*0.1+G66+I66+J66*0.5+K66*0.4,IF(B66=data!$S$4,D66*0.6+E66*0.7+F66+G66+I66+L66,IF(B66=data!$S$5,D66*0.7+E66+H66*0.7+I66,\"zvolte typ stavby\"))))","v":28.299999999999997},{"$f":"IF(B66=data!$S$2,(M66*10)/4.9,IF(B66=data!$S$3,(M66*10)/3.4,IF(B66=data!$S$4,(M66*10)/5.3,IF(B66=data!$S$5,(M66*10)/3.4,\"zvolte typ stavby\"))))","v":57.755102040816325},40000000]
["II/330 Zvěřinek - Nymburk","oprava a rekonstrukce","Souvislá údržba",4,10,3,6,10,7,0,10,4,{"$f":"IF(B67=data!$S$2,D67*0.7+E67*0.2+F67*0.8+G67+H67*0.2+I67+J67*0.3+K67*0.5+L67*0.2,IF(B67=data!$S$3,D67*0.1+E67*0.3+F67*0.1+G67+I67+J67*0.5+K67*0.4,IF(B67=data!$S$4,D67*0.6+E67*0.7+F67+G67+I67+L67,IF(B67=data!$S$5,D67*0.7+E67+H67*0.7+I67,\"zvolte typ stavby\"))))","v":28},{"$f":"IF(B67=data!$S$2,(M67*10)/4.9,IF(B67=data!$S$3,(M67*10)/3.4,IF(B67=data!$S$4,(M67*10)/5.3,IF(B67=data!$S$5,(M67*10)/3.4,\"zvolte typ stavby\"))))","v":57.142857142857139},230000000]
["II/334 Milčice - Chotouň - křiž. II/335","oprava a rekonstrukce","Rekonstrukce",3,10,3,6,10,7,0,10,7,{"$f":"IF(B68=data!$S$2,D68*0.7+E68*0.2+F68*0.8+G68+H68*0.2+I68+J68*0.3+K68*0.5+L68*0.2,IF(B68=data!$S$3,D68*0.1+E68*0.3+F68*0.1+G68+I68+J68*0.5+K68*0.4,IF(B68=data!$S$4,D68*0.6+E68*0.7+F68+G68+I68+L68,IF(B68=data!$S$5,D68*0.7+E68+H68*0.7+I68,\"zvolte typ stavby\"))))","v":27.9},{"$f":"IF(B68=data!$S$2,(M68*10)/4.9,IF(B68=data!$S$3,(M68*10)/3.4,IF(B68=data!$S$4,(M68*10)/5.3,IF(B68=data!$S$5,(M68*10)/3.4,\"zvolte typ stavby\"))))","v":56.938775510204074},3699677]
[null,null,null,null,null,null,null,null,null,null,null,null,{"$f":"IF(B69=data!$S$2,D69*0.7+E69*0.2+F69*0.8+G69+H69*0.2+I69+J69*0.3+K69*0.5+L69*0.2,IF(B69=data!$S$3,D69*0.1+E69*0.3+F69*0.1+G69+I69+J69*0.5+K69*0.4,IF(B69=data!$S$4,D69*0.6+E69*0.7+F69+G69+I69+L69,IF(B69=data!$S$5,D69*0.7+E69+H69*0.7+I69,\"zvolte typ stavby\"))))","v":"zvolte typ stavby"},{"$f":"IF(B69=data!$S$2,(M69*10)/4.9,IF(B69=data!$S$3,(M69*10)/3.4,IF(B69=data!$S$4,(M69*10)/5.3,IF(B69=data!$S$5,(M69*10)/3.4,\"zvolte typ stavby\"))))","v":"zvolte typ stavby"}]
[null,null,null,null,null,null,null,null,null,null,null,null,{"$f":"IF(B70=data!$S$2,D70*0.7+E70*0.2+F70*0.8+G70+H70*0.2+I70+J70*0.3+K70*0.5+L70*0.2,IF(B70=data!$S$3,D70*0.1+E70*0.3+F70*0.1+G70+I70+J70*0.5+K70*0.4,IF(B70=data!$S$4,D70*0.6+E70*0.7+F70+G70+I70+L70,IF(B70=data!$S$5,D70*0.7+E70+H70*0.7+I70,\"zvolte typ stavby\"))))","v":"zvolte typ stavby"},{"$f":"IF(B70=data!$S$2,(M70*10)/4.9,IF(B70=data!$S$3,(M70*10)/3.4,IF(B70=data!$S$4,(M70*10)/5.3,IF(B70=data!$S$5,(M70*10)/3.4,\"zvolte typ stavby\"))))","v":"zvolte typ stavby"}]
[null,null,null,null,null,null,null,null,null,null,null,null,{"$f":"IF(B71=data!$S$2,D71*0.7+E71*0.2+F71*0.8+G71+H71*0.2+I71+J71*0.3+K71*0.5+L71*0.2,IF(B71=data!$S$3,D71*0.1+E71*0.3+F71*0.1+G71+I71+J71*0.5+K71*0.4,IF(B71=data!$S$4,D71*0.6+E71*0.7+F71+G71+I71+L71,IF(B71=data!$S$5,D71*0.7+E71+H71*0.7+I71,\"zvolte typ stavby\"))))","v":"zvolte typ stavby"},{"$f":"IF(B71=data!$S$2,(M71*10)/4.9,IF(B71=data!$S$3,(M71*10)/3.4,IF(B71=data!$S$4,(M71*10)/5.3,IF(B71=data!$S$5,(M71*10)/3.4,\"zvolte typ stavby\"))))","v":"zvolte typ stavby"}]
[null,null,null,null,null,null,null,null,null,null,null,null,{"$f":"IF(B72=data!$S$2,D72*0.7+E72*0.2+F72*0.8+G72+H72*0.2+I72+J72*0.3+K72*0.5+L72*0.2,IF(B72=data!$S$3,D72*0.1+E72*0.3+F72*0.1+G72+I72+J72*0.5+K72*0.4,IF(B72=data!$S$4,D72*0.6+E72*0.7+F72+G72+I72+L72,IF(B72=data!$S$5,D72*0.7+E72+H72*0.7+I72,\"zvolte typ stavby\"))))","v":"zvolte typ stavby"},{"$f":"IF(B72=data!$S$2,(M72*10)/4.9,IF(B72=data!$S$3,(M72*10)/3.4,IF(B72=data!$S$4,(M72*10)/5.3,IF(B72=data!$S$5,(M72*10)/3.4,\"zvolte typ stavby\"))))","v":"zvolte typ stavby"}]
["II/108 Stříbrná Skalice - Kostelec n.Č.l.","oprava a rekonstrukce","Rekonstrukce",3,10,3,6,10,7,0,10,4,{"$f":"IF(B73=data!$S$2,D73*0.7+E73*0.2+F73*0.8+G73+H73*0.2+I73+J73*0.3+K73*0.5+L73*0.2,IF(B73=data!$S$3,D73*0.1+E73*0.3+F73*0.1+G73+I73+J73*0.5+K73*0.4,IF(B73=data!$S$4,D73*0.6+E73*0.7+F73+G73+I73+L73,IF(B73=data!$S$5,D73*0.7+E73+H73*0.7+I73,\"zvolte typ stavby\"))))","v":27.3},{"$f":"IF(B73=data!$S$2,(M73*10)/4.9,IF(B73=data!$S$3,(M73*10)/3.4,IF(B73=data!$S$4,(M73*10)/5.3,IF(B73=data!$S$5,(M73*10)/3.4,\"zvolte typ stavby\"))))","v":55.714285714285708},35000000]
["II/113 Struhařov - Ondřejov","oprava a rekonstrukce","Souvislá údržba",3,10,3,6,10,7,0,10,4,{"$f":"IF(B74=data!$S$2,D74*0.7+E74*0.2+F74*0.8+G74+H74*0.2+I74+J74*0.3+K74*0.5+L74*0.2,IF(B74=data!$S$3,D74*0.1+E74*0.3+F74*0.1+G74+I74+J74*0.5+K74*0.4,IF(B74=data!$S$4,D74*0.6+E74*0.7+F74+G74+I74+L74,IF(B74=data!$S$5,D74*0.7+E74+H74*0.7+I74,\"zvolte typ stavby\"))))","v":27.3},{"$f":"IF(B74=data!$S$2,(M74*10)/4.9,IF(B74=data!$S$3,(M74*10)/3.4,IF(B74=data!$S$4,(M74*10)/5.3,IF(B74=data!$S$5,(M74*10)/3.4,\"zvolte typ stavby\"))))","v":55.714285714285708},18000000]
["II/327 Uhlířská Lhota - Hradišťko II","oprava a rekonstrukce","Souvislá údržba",3,10,3,6,10,7,0,10,4,{"$f":"IF(B75=data!$S$2,D75*0.7+E75*0.2+F75*0.8+G75+H75*0.2+I75+J75*0.3+K75*0.5+L75*0.2,IF(B75=data!$S$3,D75*0.1+E75*0.3+F75*0.1+G75+I75+J75*0.5+K75*0.4,IF(B75=data!$S$4,D75*0.6+E75*0.7+F75+G75+I75+L75,IF(B75=data!$S$5,D75*0.7+E75+H75*0.7+I75,\"zvolte typ stavby\"))))","v":27.3},{"$f":"IF(B75=data!$S$2,(M75*10)/4.9,IF(B75=data!$S$3,(M75*10)/3.4,IF(B75=data!$S$4,(M75*10)/5.3,IF(B75=data!$S$5,(M75*10)/3.4,\"zvolte typ stavby\"))))","v":55.714285714285708},10000000]
["II/329 Radim","oprava a rekonstrukce","Rekonstrukce",3,10,3,6,10,7,0,10,4,{"$f":"IF(B76=data!$S$2,D76*0.7+E76*0.2+F76*0.8+G76+H76*0.2+I76+J76*0.3+K76*0.5+L76*0.2,IF(B76=data!$S$3,D76*0.1+E76*0.3+F76*0.1+G76+I76+J76*0.5+K76*0.4,IF(B76=data!$S$4,D76*0.6+E76*0.7+F76+G76+I76+L76,IF(B76=data!$S$5,D76*0.7+E76+H76*0.7+I76,\"zvolte typ stavby\"))))","v":27.3},{"$f":"IF(B76=data!$S$2,(M76*10)/4.9,IF(B76=data!$S$3,(M76*10)/3.4,IF(B76=data!$S$4,(M76*10)/5.3,IF(B76=data!$S$5,(M76*10)/3.4,\"zvolte typ stavby\"))))","v":55.714285714285708},13000000]
["II/327 Svatá Kateřina","oprava a rekonstrukce","Souvislá údržba",3,10,3,6,10,7,0,10,4,{"$f":"IF(B77=data!$S$2,D77*0.7+E77*0.2+F77*0.8+G77+H77*0.2+I77+J77*0.3+K77*0.5+L77*0.2,IF(B77=data!$S$3,D77*0.1+E77*0.3+F77*0.1+G77+I77+J77*0.5+K77*0.4,IF(B77=data!$S$4,D77*0.6+E77*0.7+F77+G77+I77+L77,IF(B77=data!$S$5,D77*0.7+E77+H77*0.7+I77,\"zvolte typ stavby\"))))","v":27.3},{"$f":"IF(B77=data!$S$2,(M77*10)/4.9,IF(B77=data!$S$3,(M77*10)/3.4,IF(B77=data!$S$4,(M77*10)/5.3,IF(B77=data!$S$5,(M77*10)/3.4,\"zvolte typ stavby\"))))","v":55.714285714285708},24000000]
["II/328 křiž. I/11 - Městec Králové","oprava a rekonstrukce","Souvislá údržba",3,10,3,6,10,7,0,10,4,{"$f":"IF(B78=data!$S$2,D78*0.7+E78*0.2+F78*0.8+G78+H78*0.2+I78+J78*0.3+K78*0.5+L78*0.2,IF(B78=data!$S$3,D78*0.1+E78*0.3+F78*0.1+G78+I78+J78*0.5+K78*0.4,IF(B78=data!$S$4,D78*0.6+E78*0.7+F78+G78+I78+L78,IF(B78=data!$S$5,D78*0.7+E78+H78*0.7+I78,\"zvolte typ stavby\"))))","v":27.3},{"$f":"IF(B78=data!$S$2,(M78*10)/4.9,IF(B78=data!$S$3,(M78*10)/3.4,IF(B78=data!$S$4,(M78*10)/5.3,IF(B78=data!$S$5,(M78*10)/3.4,\"zvolte typ stavby\"))))","v":55.714285714285708},35000000]
["II/324  Městec Králové - křiž. II/328","oprava a rekonstrukce","Rekonstrukce",3,10,3,6,10,7,0,10,4,{"$f":"IF(B79=data!$S$2,D79*0.7+E79*0.2+F79*0.8+G79+H79*0.2+I79+J79*0.3+K79*0.5+L79*0.2,IF(B79=data!$S$3,D79*0.1+E79*0.3+F79*0.1+G79+I79+J79*0.5+K79*0.4,IF(B79=data!$S$4,D79*0.6+E79*0.7+F79+G79+I79+L79,IF(B79=data!$S$5,D79*0.7+E79+H79*0.7+I79,\"zvolte typ stavby\"))))","v":27.3},{"$f":"IF(B79=data!$S$2,(M79*10)/4.9,IF(B79=data!$S$3,(M79*10)/3.4,IF(B79=data!$S$4,(M79*10)/5.3,IF(B79=data!$S$5,(M79*10)/3.4,\"zvolte typ stavby\"))))","v":55.714285714285708},23000000]
["II/334 křiž. I/12 - Třebovle - Kouřim","oprava a rekonstrukce","Rekonstrukce",3,10,3,6,10,7,0,10,4,{"$f":"IF(B80=data!$S$2,D80*0.7+E80*0.2+F80*0.8+G80+H80*0.2+I80+J80*0.3+K80*0.5+L80*0.2,IF(B80=data!$S$3,D80*0.1+E80*0.3+F80*0.1+G80+I80+J80*0.5+K80*0.4,IF(B80=data!$S$4,D80*0.6+E80*0.7+F80+G80+I80+L80,IF(B80=data!$S$5,D80*0.7+E80+H80*0.7+I80,\"zvolte typ stavby\"))))","v":27.3},{"$f":"IF(B80=data!$S$2,(M80*10)/4.9,IF(B80=data!$S$3,(M80*10)/3.4,IF(B80=data!$S$4,(M80*10)/5.3,IF(B80=data!$S$5,(M80*10)/3.4,\"zvolte typ stavby\"))))","v":55.714285714285708},8500000]
["II/338 Žáky - Šebestěnice","oprava a rekonstrukce","Souvislá údržba",3,10,3,6,10,7,0,10,4,{"$f":"IF(B81=data!$S$2,D81*0.7+E81*0.2+F81*0.8+G81+H81*0.2+I81+J81*0.3+K81*0.5+L81*0.2,IF(B81=data!$S$3,D81*0.1+E81*0.3+F81*0.1+G81+I81+J81*0.5+K81*0.4,IF(B81=data!$S$4,D81*0.6+E81*0.7+F81+G81+I81+L81,IF(B81=data!$S$5,D81*0.7+E81+H81*0.7+I81,\"zvolte typ stavby\"))))","v":27.3},{"$f":"IF(B81=data!$S$2,(M81*10)/4.9,IF(B81=data!$S$3,(M81*10)/3.4,IF(B81=data!$S$4,(M81*10)/5.3,IF(B81=data!$S$5,(M81*10)/3.4,\"zvolte typ stavby\"))))","v":55.714285714285708},9423239]
[null,null,null,null,null,null,null,null,null,null,null,null,{"$f":"IF(B82=data!$S$2,D82*0.7+E82*0.2+F82*0.8+G82+H82*0.2+I82+J82*0.3+K82*0.5+L82*0.2,IF(B82=data!$S$3,D82*0.1+E82*0.3+F82*0.1+G82+I82+J82*0.5+K82*0.4,IF(B82=data!$S$4,D82*0.6+E82*0.7+F82+G82+I82+L82,IF(B82=data!$S$5,D82*0.7+E82+H82*0.7+I82,\"zvolte typ stavby\"))))","v":"zvolte typ stavby"},{"$f":"IF(B82=data!$S$2,(M82*10)/4.9,IF(B82=data!$S$3,(M82*10)/3.4,IF(B82=data!$S$4,(M82*10)/5.3,IF(B82=data!$S$5,(M82*10)/3.4,\"zvolte typ stavby\"))))","v":"zvolte typ stavby"}]
[null,null,null,null,null,null,null,null,null,null,null,null,{"$f":"IF(B83=data!$S$2,D83*0.7+E83*0.2+F83*0.8+G83+H83*0.2+I83+J83*0.3+K83*0.5+L83*0.2,IF(B83=data!$S$3,D83*0.1+E83*0.3+F83*0.1+G83+I83+J83*0.5+K83*0.4,IF(B83=data!$S$4,D83*0.6+E83*0.7+F83+G83+I83+L83,IF(B83=data!$S$5,D83*0.7+E83+H83*0.7+I83,\"zvolte typ stavby\"))))","v":"zvolte typ stavby"},{"$f":"IF(B83=data!$S$2,(M83*10)/4.9,IF(B83=data!$S$3,(M83*10)/3.4,IF(B83=data!$S$4,(M83*10)/5.3,IF(B83=data!$S$5,(M83*10)/3.4,\"zvolte typ stavby\"))))","v":"zvolte typ stavby"}]
[null,null,null,null,null,null,null,null,null,null,null,null,{"$f":"IF(B84=data!$S$2,D84*0.7+E84*0.2+F84*0.8+G84+H84*0.2+I84+J84*0.3+K84*0.5+L84*0.2,IF(B84=data!$S$3,D84*0.1+E84*0.3+F84*0.1+G84+I84+J84*0.5+K84*0.4,IF(B84=data!$S$4,D84*0.6+E84*0.7+F84+G84+I84+L84,IF(B84=data!$S$5,D84*0.7+E84+H84*0.7+I84,\"zvolte typ stavby\"))))","v":"zvolte typ stavby"},{"$f":"IF(B84=data!$S$2,(M84*10)/4.9,IF(B84=data!$S$3,(M84*10)/3.4,IF(B84=data!$S$4,(M84*10)/5.3,IF(B84=data!$S$5,(M84*10)/3.4,\"zvolte typ stavby\"))))","v":"zvolte typ stavby"}]
["II/335 Ondřejov - Stříbrná Skalice","oprava a rekonstrukce","Rekonstrukce",3,10,3,6,10,7,0,10,2,{"$f":"IF(B85=data!$S$2,D85*0.7+E85*0.2+F85*0.8+G85+H85*0.2+I85+J85*0.3+K85*0.5+L85*0.2,IF(B85=data!$S$3,D85*0.1+E85*0.3+F85*0.1+G85+I85+J85*0.5+K85*0.4,IF(B85=data!$S$4,D85*0.6+E85*0.7+F85+G85+I85+L85,IF(B85=data!$S$5,D85*0.7+E85+H85*0.7+I85,\"zvolte typ stavby\"))))","v":26.9},{"$f":"IF(B85=data!$S$2,(M85*10)/4.9,IF(B85=data!$S$3,(M85*10)/3.4,IF(B85=data!$S$4,(M85*10)/5.3,IF(B85=data!$S$5,(M85*10)/3.4,\"zvolte typ stavby\"))))","v":54.897959183673464},12000000]
["II/337 Onomyšl","oprava a rekonstrukce","Rekonstrukce",3,10,3,6,10,7,0,10,2,{"$f":"IF(B86=data!$S$2,D86*0.7+E86*0.2+F86*0.8+G86+H86*0.2+I86+J86*0.3+K86*0.5+L86*0.2,IF(B86=data!$S$3,D86*0.1+E86*0.3+F86*0.1+G86+I86+J86*0.5+K86*0.4,IF(B86=data!$S$4,D86*0.6+E86*0.7+F86+G86+I86+L86,IF(B86=data!$S$5,D86*0.7+E86+H86*0.7+I86,\"zvolte typ stavby\"))))","v":26.9},{"$f":"IF(B86=data!$S$2,(M86*10)/4.9,IF(B86=data!$S$3,(M86*10)/3.4,IF(B86=data!$S$4,(M86*10)/5.3,IF(B86=data!$S$5,(M86*10)/3.4,\"zvolte typ stavby\"))))","v":54.897959183673464},25000000]
["II/338 Žehušice","oprava a rekonstrukce","Rekonstrukce",3,10,3,6,10,7,0,10,2,{"$f":"IF(B87=data!$S$2,D87*0.7+E87*0.2+F87*0.8+G87+H87*0.2+I87+J87*0.3+K87*0.5+L87*0.2,IF(B87=data!$S$3,D87*0.1+E87*0.3+F87*0.1+G87+I87+J87*0.5+K87*0.4,IF(B87=data!$S$4,D87*0.6+E87*0.7+F87+G87+I87+L87,IF(B87=data!$S$5,D87*0.7+E87+H87*0.7+I87,\"zvolte typ stavby\"))))","v":26.9},{"$f":"IF(B87=data!$S$2,(M87*10)/4.9,IF(B87=data!$S$3,(M87*10)/3.4,IF(B87=data!$S$4,(M87*10)/5.3,IF(B87=data!$S$5,(M87*10)/3.4,\"zvolte typ stavby\"))))","v":54.897959183673464},120000000]
["II/339 Lány","oprava a rekonstrukce","Souvislá údržba",3,10,3,6,10,7,0,10,2,{"$f":"IF(B88=data!$S$2,D88*0.7+E88*0.2+F88*0.8+G88+H88*0.2+I88+J88*0.3+K88*0.5+L88*0.2,IF(B88=data!$S$3,D88*0.1+E88*0.3+F88*0.1+G88+I88+J88*0.5+K88*0.4,IF(B88=data!$S$4,D88*0.6+E88*0.7+F88+G88+I88+L88,IF(B88=data!$S$5,D88*0.7+E88+H88*0.7+I88,\"zvolte typ stavby\"))))","v":26.9},{"$f":"IF(B88=data!$S$2,(M88*10)/4.9,IF(B88=data!$S$3,(M88*10)/3.4,IF(B88=data!$S$4,(M88*10)/5.3,IF(B88=data!$S$5,(M88*10)/3.4,\"zvolte typ stavby\"))))","v":54.897959183673464},28000000]
["II/335 Uhlířské Janovice - Žandov","oprava a rekonstrukce","Rekonstrukce",2,10,3,6,10,7,0,10,4,{"$f":"IF(B89=data!$S$2,D89*0.7+E89*0.2+F89*0.8+G89+H89*0.2+I89+J89*0.3+K89*0.5+L89*0.2,IF(B89=data!$S$3,D89*0.1+E89*0.3+F89*0.1+G89+I89+J89*0.5+K89*0.4,IF(B89=data!$S$4,D89*0.6+E89*0.7+F89+G89+I89+L89,IF(B89=data!$S$5,D89*0.7+E89+H89*0.7+I89,\"zvolte typ stavby\"))))","v":26.6},{"$f":"IF(B89=data!$S$2,(M89*10)/4.9,IF(B89=data!$S$3,(M89*10)/3.4,IF(B89=data!$S$4,(M89*10)/5.3,IF(B89=data!$S$5,(M89*10)/3.4,\"zvolte typ stavby\"))))","v":54.285714285714285},11528555]
["II/336 Čenovice - ZRUČ n.S.","oprava a rekonstrukce","Rekonstrukce",3,10,6,6,10,4,0,10,2,{"$f":"IF(B90=data!$S$2,D90*0.7+E90*0.2+F90*0.8+G90+H90*0.2+I90+J90*0.3+K90*0.5+L90*0.2,IF(B90=data!$S$3,D90*0.1+E90*0.3+F90*0.1+G90+I90+J90*0.5+K90*0.4,IF(B90=data!$S$4,D90*0.6+E90*0.7+F90+G90+I90+L90,IF(B90=data!$S$5,D90*0.7+E90+H90*0.7+I90,\"zvolte typ stavby\"))))","v":26.299999999999997},{"$f":"IF(B90=data!$S$2,(M90*10)/4.9,IF(B90=data!$S$3,(M90*10)/3.4,IF(B90=data!$S$4,(M90*10)/5.3,IF(B90=data!$S$5,(M90*10)/3.4,\"zvolte typ stavby\"))))","v":53.673469387755098},16295165]
[null,null,null,null,null,null,null,null,null,null,null,null,{"$f":"IF(B91=data!$S$2,D91*0.7+E91*0.2+F91*0.8+G91+H91*0.2+I91+J91*0.3+K91*0.5+L91*0.2,IF(B91=data!$S$3,D91*0.1+E91*0.3+F91*0.1+G91+I91+J91*0.5+K91*0.4,IF(B91=data!$S$4,D91*0.6+E91*0.7+F91+G91+I91+L91,IF(B91=data!$S$5,D91*0.7+E91+H91*0.7+I91,\"zvolte typ stavby\"))))","v":"zvolte typ stavby"},{"$f":"IF(B91=data!$S$2,(M91*10)/4.9,IF(B91=data!$S$3,(M91*10)/3.4,IF(B91=data!$S$4,(M91*10)/5.3,IF(B91=data!$S$5,(M91*10)/3.4,\"zvolte typ stavby\"))))","v":"zvolte typ stavby"}]
[null,null,null,null,null,null,null,null,null,null,null,null,{"$f":"IF(B92=data!$S$2,D92*0.7+E92*0.2+F92*0.8+G92+H92*0.2+I92+J92*0.3+K92*0.5+L92*0.2,IF(B92=data!$S$3,D92*0.1+E92*0.3+F92*0.1+G92+I92+J92*0.5+K92*0.4,IF(B92=data!$S$4,D92*0.6+E92*0.7+F92+G92+I92+L92,IF(B92=data!$S$5,D92*0.7+E92+H92*0.7+I92,\"zvolte typ stavby\"))))","v":"zvolte typ stavby"},{"$f":"IF(B92=data!$S$2,(M92*10)/4.9,IF(B92=data!$S$3,(M92*10)/3.4,IF(B92=data!$S$4,(M92*10)/5.3,IF(B92=data!$S$5,(M92*10)/3.4,\"zvolte typ stavby\"))))","v":"zvolte typ stavby"}]
[null,null,null,null,null,null,null,null,null,null,null,null,{"$f":"IF(B93=data!$S$2,D93*0.7+E93*0.2+F93*0.8+G93+H93*0.2+I93+J93*0.3+K93*0.5+L93*0.2,IF(B93=data!$S$3,D93*0.1+E93*0.3+F93*0.1+G93+I93+J93*0.5+K93*0.4,IF(B93=data!$S$4,D93*0.6+E93*0.7+F93+G93+I93+L93,IF(B93=data!$S$5,D93*0.7+E93+H93*0.7+I93,\"zvolte typ stavby\"))))","v":"zvolte typ stavby"},{"$f":"IF(B93=data!$S$2,(M93*10)/4.9,IF(B93=data!$S$3,(M93*10)/3.4,IF(B93=data!$S$4,(M93*10)/5.3,IF(B93=data!$S$5,(M93*10)/3.4,\"zvolte typ stavby\"))))","v":"zvolte typ stavby"}]
["III/2451 Káraný","oprava a rekonstrukce","Rekonstrukce",3,5,6,6,10,2,10,10,0,{"$f":"IF(B94=data!$S$2,D94*0.7+E94*0.2+F94*0.8+G94+H94*0.2+I94+J94*0.3+K94*0.5+L94*0.2,IF(B94=data!$S$3,D94*0.1+E94*0.3+F94*0.1+G94+I94+J94*0.5+K94*0.4,IF(B94=data!$S$4,D94*0.6+E94*0.7+F94+G94+I94+L94,IF(B94=data!$S$5,D94*0.7+E94+H94*0.7+I94,\"zvolte typ stavby\"))))","v":25.9},{"$f":"IF(B94=data!$S$2,(M94*10)/4.9,IF(B94=data!$S$3,(M94*10)/3.4,IF(B94=data!$S$4,(M94*10)/5.3,IF(B94=data!$S$5,(M94*10)/3.4,\"zvolte typ stavby\"))))","v":52.857142857142854},10000000]
[null,null,null,null,null,null,null,null,null,null,null,null,{"$f":"IF(B95=data!$S$2,D95*0.7+E95*0.2+F95*0.8+G95+H95*0.2+I95+J95*0.3+K95*0.5+L95*0.2,IF(B95=data!$S$3,D95*0.1+E95*0.3+F95*0.1+G95+I95+J95*0.5+K95*0.4,IF(B95=data!$S$4,D95*0.6+E95*0.7+F95+G95+I95+L95,IF(B95=data!$S$5,D95*0.7+E95+H95*0.7+I95,\"zvolte typ stavby\"))))","v":"zvolte typ stavby"},{"$f":"IF(B95=data!$S$2,(M95*10)/4.9,IF(B95=data!$S$3,(M95*10)/3.4,IF(B95=data!$S$4,(M95*10)/5.3,IF(B95=data!$S$5,(M95*10)/3.4,\"zvolte typ stavby\"))))","v":"zvolte typ stavby"}]
[null,null,null,null,null,null,null,null,null,null,null,null,{"$f":"IF(B96=data!$S$2,D96*0.7+E96*0.2+F96*0.8+G96+H96*0.2+I96+J96*0.3+K96*0.5+L96*0.2,IF(B96=data!$S$3,D96*0.1+E96*0.3+F96*0.1+G96+I96+J96*0.5+K96*0.4,IF(B96=data!$S$4,D96*0.6+E96*0.7+F96+G96+I96+L96,IF(B96=data!$S$5,D96*0.7+E96+H96*0.7+I96,\"zvolte typ stavby\"))))","v":"zvolte typ stavby"},{"$f":"IF(B96=data!$S$2,(M96*10)/4.9,IF(B96=data!$S$3,(M96*10)/3.4,IF(B96=data!$S$4,(M96*10)/5.3,IF(B96=data!$S$5,(M96*10)/3.4,\"zvolte typ stavby\"))))","v":"zvolte typ stavby"}]
["II/336 Janovická Lhota","oprava a rekonstrukce","Souvislá údržba",1,10,3,6,10,7,0,10,2,{"$f":"IF(B97=data!$S$2,D97*0.7+E97*0.2+F97*0.8+G97+H97*0.2+I97+J97*0.3+K97*0.5+L97*0.2,IF(B97=data!$S$3,D97*0.1+E97*0.3+F97*0.1+G97+I97+J97*0.5+K97*0.4,IF(B97=data!$S$4,D97*0.6+E97*0.7+F97+G97+I97+L97,IF(B97=data!$S$5,D97*0.7+E97+H97*0.7+I97,\"zvolte typ stavby\"))))","v":25.5},{"$f":"IF(B97=data!$S$2,(M97*10)/4.9,IF(B97=data!$S$3,(M97*10)/3.4,IF(B97=data!$S$4,(M97*10)/5.3,IF(B97=data!$S$5,(M97*10)/3.4,\"zvolte typ stavby\"))))","v":52.04081632653061},8095413]
["III/23626 Stochov","oprava a rekonstrukce",null,1,6,3,6,0,7,10,10,0,{"$f":"IF(B98=data!$S$2,D98*0.7+E98*0.2+F98*0.8+G98+H98*0.2+I98+J98*0.3+K98*0.5+L98*0.2,IF(B98=data!$S$3,D98*0.1+E98*0.3+F98*0.1+G98+I98+J98*0.5+K98*0.4,IF(B98=data!$S$4,D98*0.6+E98*0.7+F98+G98+I98+L98,IF(B98=data!$S$5,D98*0.7+E98+H98*0.7+I98,\"zvolte typ stavby\"))))","v":25.3},{"$f":"IF(B98=data!$S$2,(M98*10)/4.9,IF(B98=data!$S$3,(M98*10)/3.4,IF(B98=data!$S$4,(M98*10)/5.3,IF(B98=data!$S$5,(M98*10)/3.4,\"zvolte typ stavby\"))))","v":51.632653061224488},45000000]
["III/12557 Kolín - Veltruby","oprava a rekonstrukce","Souvislá údržba",5,5,3,6,10,4,0,10,7,{"$f":"IF(B99=data!$S$2,D99*0.7+E99*0.2+F99*0.8+G99+H99*0.2+I99+J99*0.3+K99*0.5+L99*0.2,IF(B99=data!$S$3,D99*0.1+E99*0.3+F99*0.1+G99+I99+J99*0.5+K99*0.4,IF(B99=data!$S$4,D99*0.6+E99*0.7+F99+G99+I99+L99,IF(B99=data!$S$5,D99*0.7+E99+H99*0.7+I99,\"zvolte typ stavby\"))))","v":25.299999999999997},{"$f":"IF(B99=data!$S$2,(M99*10)/4.9,IF(B99=data!$S$3,(M99*10)/3.4,IF(B99=data!$S$4,(M99*10)/5.3,IF(B99=data!$S$5,(M99*10)/3.4,\"zvolte typ stavby\"))))","v":51.632653061224481},16722515]
[null,null,null,null,null,null,null,null,null,null,null,null,{"$f":"IF(B100=data!$S$2,D100*0.7+E100*0.2+F100*0.8+G100+H100*0.2+I100+J100*0.3+K100*0.5+L100*0.2,IF(B100=data!$S$3,D100*0.1+E100*0.3+F100*0.1+G100+I100+J100*0.5+K100*0.4,IF(B100=data!$S$4,D100*0.6+E100*0.7+F100+G100+I100+L100,IF(B100=data!$S$5,D100*0.7+E100+H100*0.7+I100,\"zvolte typ stavby\"))))","v":"zvolte typ stavby"},{"$f":"IF(B100=data!$S$2,(M100*10)/4.9,IF(B100=data!$S$3,(M100*10)/3.4,IF(B100=data!$S$4,(M100*10)/5.3,IF(B100=data!$S$5,(M100*10)/3.4,\"zvolte typ stavby\"))))","v":"zvolte typ stavby"}]
[null,null,null,null,null,null,null,null,null,null,null,null,{"$f":"IF(B101=data!$S$2,D101*0.7+E101*0.2+F101*0.8+G101+H101*0.2+I101+J101*0.3+K101*0.5+L101*0.2,IF(B101=data!$S$3,D101*0.1+E101*0.3+F101*0.1+G101+I101+J101*0.5+K101*0.4,IF(B101=data!$S$4,D101*0.6+E101*0.7+F101+G101+I101+L101,IF(B101=data!$S$5,D101*0.7+E101+H101*0.7+I101,\"zvolte typ stavby\"))))","v":"zvolte typ stavby"},{"$f":"IF(B101=data!$S$2,(M101*10)/4.9,IF(B101=data!$S$3,(M101*10)/3.4,IF(B101=data!$S$4,(M101*10)/5.3,IF(B101=data!$S$5,(M101*10)/3.4,\"zvolte typ stavby\"))))","v":"zvolte typ stavby"}]
[null,null,null,null,null,null,null,null,null,null,null,null,{"$f":"IF(B102=data!$S$2,D102*0.7+E102*0.2+F102*0.8+G102+H102*0.2+I102+J102*0.3+K102*0.5+L102*0.2,IF(B102=data!$S$3,D102*0.1+E102*0.3+F102*0.1+G102+I102+J102*0.5+K102*0.4,IF(B102=data!$S$4,D102*0.6+E102*0.7+F102+G102+I102+L102,IF(B102=data!$S$5,D102*0.7+E102+H102*0.7+I102,\"zvolte typ stavby\"))))","v":"zvolte typ stavby"},{"$f":"IF(B102=data!$S$2,(M102*10)/4.9,IF(B102=data!$S$3,(M102*10)/3.4,IF(B102=data!$S$4,(M102*10)/5.3,IF(B102=data!$S$5,(M102*10)/3.4,\"zvolte typ stavby\"))))","v":"zvolte typ stavby"}]
[null,null,null,null,null,null,null,null,null,null,null,null,{"$f":"IF(B103=data!$S$2,D103*0.7+E103*0.2+F103*0.8+G103+H103*0.2+I103+J103*0.3+K103*0.5+L103*0.2,IF(B103=data!$S$3,D103*0.1+E103*0.3+F103*0.1+G103+I103+J103*0.5+K103*0.4,IF(B103=data!$S$4,D103*0.6+E103*0.7+F103+G103+I103+L103,IF(B103=data!$S$5,D103*0.7+E103+H103*0.7+I103,\"zvolte typ stavby\"))))","v":"zvolte typ stavby"},{"$f":"IF(B103=data!$S$2,(M103*10)/4.9,IF(B103=data!$S$3,(M103*10)/3.4,IF(B103=data!$S$4,(M103*10)/5.3,IF(B103=data!$S$5,(M103*10)/3.4,\"zvolte typ stavby\"))))","v":"zvolte typ stavby"}]
[null,null,null,null,null,null,null,null,null,null,null,null,{"$f":"IF(B104=data!$S$2,D104*0.7+E104*0.2+F104*0.8+G104+H104*0.2+I104+J104*0.3+K104*0.5+L104*0.2,IF(B104=data!$S$3,D104*0.1+E104*0.3+F104*0.1+G104+I104+J104*0.5+K104*0.4,IF(B104=data!$S$4,D104*0.6+E104*0.7+F104+G104+I104+L104,IF(B104=data!$S$5,D104*0.7+E104+H104*0.7+I104,\"zvolte typ stavby\"))))","v":"zvolte typ stavby"},{"$f":"IF(B104=data!$S$2,(M104*10)/4.9,IF(B104=data!$S$3,(M104*10)/3.4,IF(B104=data!$S$4,(M104*10)/5.3,IF(B104=data!$S$5,(M104*10)/3.4,\"zvolte typ stavby\"))))","v":"zvolte typ stavby"}]
[null,null,null,null,null,null,null,null,null,null,null,null,{"$f":"IF(B105=data!$S$2,D105*0.7+E105*0.2+F105*0.8+G105+H105*0.2+I105+J105*0.3+K105*0.5+L105*0.2,IF(B105=data!$S$3,D105*0.1+E105*0.3+F105*0.1+G105+I105+J105*0.5+K105*0.4,IF(B105=data!$S$4,D105*0.6+E105*0.7+F105+G105+I105+L105,IF(B105=data!$S$5,D105*0.7+E105+H105*0.7+I105,\"zvolte typ stavby\"))))","v":"zvolte typ stavby"},{"$f":"IF(B105=data!$S$2,(M105*10)/4.9,IF(B105=data!$S$3,(M105*10)/3.4,IF(B105=data!$S$4,(M105*10)/5.3,IF(B105=data!$S$5,(M105*10)/3.4,\"zvolte typ stavby\"))))","v":"zvolte typ stavby"}]
[null,null,null,null,null,null,null,null,null,null,null,null,{"$f":"IF(B106=data!$S$2,D106*0.7+E106*0.2+F106*0.8+G106+H106*0.2+I106+J106*0.3+K106*0.5+L106*0.2,IF(B106=data!$S$3,D106*0.1+E106*0.3+F106*0.1+G106+I106+J106*0.5+K106*0.4,IF(B106=data!$S$4,D106*0.6+E106*0.7+F106+G106+I106+L106,IF(B106=data!$S$5,D106*0.7+E106+H106*0.7+I106,\"zvolte typ stavby\"))))","v":"zvolte typ stavby"},{"$f":"IF(B106=data!$S$2,(M106*10)/4.9,IF(B106=data!$S$3,(M106*10)/3.4,IF(B106=data!$S$4,(M106*10)/5.3,IF(B106=data!$S$5,(M106*10)/3.4,\"zvolte typ stavby\"))))","v":"zvolte typ stavby"}]
[null,null,null,null,null,null,null,null,null,null,null,null,{"$f":"IF(B107=data!$S$2,D107*0.7+E107*0.2+F107*0.8+G107+H107*0.2+I107+J107*0.3+K107*0.5+L107*0.2,IF(B107=data!$S$3,D107*0.1+E107*0.3+F107*0.1+G107+I107+J107*0.5+K107*0.4,IF(B107=data!$S$4,D107*0.6+E107*0.7+F107+G107+I107+L107,IF(B107=data!$S$5,D107*0.7+E107+H107*0.7+I107,\"zvolte typ stavby\"))))","v":"zvolte typ stavby"},{"$f":"IF(B107=data!$S$2,(M107*10)/4.9,IF(B107=data!$S$3,(M107*10)/3.4,IF(B107=data!$S$4,(M107*10)/5.3,IF(B107=data!$S$5,(M107*10)/3.4,\"zvolte typ stavby\"))))","v":"zvolte typ stavby"}]
[null,null,null,null,null,null,null,null,null,null,null,null,{"$f":"IF(B108=data!$S$2,D108*0.7+E108*0.2+F108*0.8+G108+H108*0.2+I108+J108*0.3+K108*0.5+L108*0.2,IF(B108=data!$S$3,D108*0.1+E108*0.3+F108*0.1+G108+I108+J108*0.5+K108*0.4,IF(B108=data!$S$4,D108*0.6+E108*0.7+F108+G108+I108+L108,IF(B108=data!$S$5,D108*0.7+E108+H108*0.7+I108,\"zvolte typ stavby\"))))","v":"zvolte typ stavby"},{"$f":"IF(B108=data!$S$2,(M108*10)/4.9,IF(B108=data!$S$3,(M108*10)/3.4,IF(B108=data!$S$4,(M108*10)/5.3,IF(B108=data!$S$5,(M108*10)/3.4,\"zvolte typ stavby\"))))","v":"zvolte typ stavby"}]
[null,null,null,null,null,null,null,null,null,null,null,null,{"$f":"IF(B109=data!$S$2,D109*0.7+E109*0.2+F109*0.8+G109+H109*0.2+I109+J109*0.3+K109*0.5+L109*0.2,IF(B109=data!$S$3,D109*0.1+E109*0.3+F109*0.1+G109+I109+J109*0.5+K109*0.4,IF(B109=data!$S$4,D109*0.6+E109*0.7+F109+G109+I109+L109,IF(B109=data!$S$5,D109*0.7+E109+H109*0.7+I109,\"zvolte typ stavby\"))))","v":"zvolte typ stavby"},{"$f":"IF(B109=data!$S$2,(M109*10)/4.9,IF(B109=data!$S$3,(M109*10)/3.4,IF(B109=data!$S$4,(M109*10)/5.3,IF(B109=data!$S$5,(M109*10)/3.4,\"zvolte typ stavby\"))))","v":"zvolte typ stavby"}]
[null,null,null,null,null,null,null,null,null,null,null,null,{"$f":"IF(B110=data!$S$2,D110*0.7+E110*0.2+F110*0.8+G110+H110*0.2+I110+J110*0.3+K110*0.5+L110*0.2,IF(B110=data!$S$3,D110*0.1+E110*0.3+F110*0.1+G110+I110+J110*0.5+K110*0.4,IF(B110=data!$S$4,D110*0.6+E110*0.7+F110+G110+I110+L110,IF(B110=data!$S$5,D110*0.7+E110+H110*0.7+I110,\"zvolte typ stavby\"))))","v":"zvolte typ stavby"},{"$f":"IF(B110=data!$S$2,(M110*10)/4.9,IF(B110=data!$S$3,(M110*10)/3.4,IF(B110=data!$S$4,(M110*10)/5.3,IF(B110=data!$S$5,(M110*10)/3.4,\"zvolte typ stavby\"))))","v":"zvolte typ stavby"}]
[null,null,null,null,null,null,null,null,null,null,null,null,{"$f":"IF(B111=data!$S$2,D111*0.7+E111*0.2+F111*0.8+G111+H111*0.2+I111+J111*0.3+K111*0.5+L111*0.2,IF(B111=data!$S$3,D111*0.1+E111*0.3+F111*0.1+G111+I111+J111*0.5+K111*0.4,IF(B111=data!$S$4,D111*0.6+E111*0.7+F111+G111+I111+L111,IF(B111=data!$S$5,D111*0.7+E111+H111*0.7+I111,\"zvolte typ stavby\"))))","v":"zvolte typ stavby"},{"$f":"IF(B111=data!$S$2,(M111*10)/4.9,IF(B111=data!$S$3,(M111*10)/3.4,IF(B111=data!$S$4,(M111*10)/5.3,IF(B111=data!$S$5,(M111*10)/3.4,\"zvolte typ stavby\"))))","v":"zvolte typ stavby"}]
[null,null,null,null,null,null,null,null,null,null,null,null,{"$f":"IF(B112=data!$S$2,D112*0.7+E112*0.2+F112*0.8+G112+H112*0.2+I112+J112*0.3+K112*0.5+L112*0.2,IF(B112=data!$S$3,D112*0.1+E112*0.3+F112*0.1+G112+I112+J112*0.5+K112*0.4,IF(B112=data!$S$4,D112*0.6+E112*0.7+F112+G112+I112+L112,IF(B112=data!$S$5,D112*0.7+E112+H112*0.7+I112,\"zvolte typ stavby\"))))","v":"zvolte typ stavby"},{"$f":"IF(B112=data!$S$2,(M112*10)/4.9,IF(B112=data!$S$3,(M112*10)/3.4,IF(B112=data!$S$4,(M112*10)/5.3,IF(B112=data!$S$5,(M112*10)/3.4,\"zvolte typ stavby\"))))","v":"zvolte typ stavby"}]
["Lochovice zrušení mostů ev.č. 114 - 009, 114 -007, 118 - 021","oprava a rekonstrukce","Rekonstrukce",3,10,6,6,0,4,0,10,0,{"$f":"IF(B113=data!$S$2,D113*0.7+E113*0.2+F113*0.8+G113+H113*0.2+I113+J113*0.3+K113*0.5+L113*0.2,IF(B113=data!$S$3,D113*0.1+E113*0.3+F113*0.1+G113+I113+J113*0.5+K113*0.4,IF(B113=data!$S$4,D113*0.6+E113*0.7+F113+G113+I113+L113,IF(B113=data!$S$5,D113*0.7+E113+H113*0.7+I113,\"zvolte typ stavby\"))))","v":23.9},{"$f":"IF(B113=data!$S$2,(M113*10)/4.9,IF(B113=data!$S$3,(M113*10)/3.4,IF(B113=data!$S$4,(M113*10)/5.3,IF(B113=data!$S$5,(M113*10)/3.4,\"zvolte typ stavby\"))))","v":48.775510204081627},2232201]
[null,null,null,null,null,null,null,null,null,null,null,null,{"$f":"IF(B114=data!$S$2,D114*0.7+E114*0.2+F114*0.8+G114+H114*0.2+I114+J114*0.3+K114*0.5+L114*0.2,IF(B114=data!$S$3,D114*0.1+E114*0.3+F114*0.1+G114+I114+J114*0.5+K114*0.4,IF(B114=data!$S$4,D114*0.6+E114*0.7+F114+G114+I114+L114,IF(B114=data!$S$5,D114*0.7+E114+H114*0.7+I114,\"zvolte typ stavby\"))))","v":"zvolte typ stavby"},{"$f":"IF(B114=data!$S$2,(M114*10)/4.9,IF(B114=data!$S$3,(M114*10)/3.4,IF(B114=data!$S$4,(M114*10)/5.3,IF(B114=data!$S$5,(M114*10)/3.4,\"zvolte typ stavby\"))))","v":"zvolte typ stavby"}]
[null,null,null,null,null,null,null,null,null,null,null,null,{"$f":"IF(B115=data!$S$2,D115*0.7+E115*0.2+F115*0.8+G115+H115*0.2+I115+J115*0.3+K115*0.5+L115*0.2,IF(B115=data!$S$3,D115*0.1+E115*0.3+F115*0.1+G115+I115+J115*0.5+K115*0.4,IF(B115=data!$S$4,D115*0.6+E115*0.7+F115+G115+I115+L115,IF(B115=data!$S$5,D115*0.7+E115+H115*0.7+I115,\"zvolte typ stavby\"))))","v":"zvolte typ stavby"},{"$f":"IF(B115=data!$S$2,(M115*10)/4.9,IF(B115=data!$S$3,(M115*10)/3.4,IF(B115=data!$S$4,(M115*10)/5.3,IF(B115=data!$S$5,(M115*10)/3.4,\"zvolte typ stavby\"))))","v":"zvolte typ stavby"}]
[null,null,null,null,null,null,null,null,null,null,null,null,{"$f":"IF(B116=data!$S$2,D116*0.7+E116*0.2+F116*0.8+G116+H116*0.2+I116+J116*0.3+K116*0.5+L116*0.2,IF(B116=data!$S$3,D116*0.1+E116*0.3+F116*0.1+G116+I116+J116*0.5+K116*0.4,IF(B116=data!$S$4,D116*0.6+E116*0.7+F116+G116+I116+L116,IF(B116=data!$S$5,D116*0.7+E116+H116*0.7+I116,\"zvolte typ stavby\"))))","v":"zvolte typ stavby"},{"$f":"IF(B116=data!$S$2,(M116*10)/4.9,IF(B116=data!$S$3,(M116*10)/3.4,IF(B116=data!$S$4,(M116*10)/5.3,IF(B116=data!$S$5,(M116*10)/3.4,\"zvolte typ stavby\"))))","v":"zvolte typ stavby"}]
["III/32916 Poděbrady - Pátek","oprava a rekonstrukce","Rekonstrukce",3,5,3,6,10,4,0,10,4,{"$f":"IF(B117=data!$S$2,D117*0.7+E117*0.2+F117*0.8+G117+H117*0.2+I117+J117*0.3+K117*0.5+L117*0.2,IF(B117=data!$S$3,D117*0.1+E117*0.3+F117*0.1+G117+I117+J117*0.5+K117*0.4,IF(B117=data!$S$4,D117*0.6+E117*0.7+F117+G117+I117+L117,IF(B117=data!$S$5,D117*0.7+E117+H117*0.7+I117,\"zvolte typ stavby\"))))","v":23.3},{"$f":"IF(B117=data!$S$2,(M117*10)/4.9,IF(B117=data!$S$3,(M117*10)/3.4,IF(B117=data!$S$4,(M117*10)/5.3,IF(B117=data!$S$5,(M117*10)/3.4,\"zvolte typ stavby\"))))","v":47.551020408163261},8000000]
["III/3284 Kolín, Sendražice","oprava a rekonstrukce","Souvislá údržba",2,5,3,6,10,4,0,10,7,{"$f":"IF(B118=data!$S$2,D118*0.7+E118*0.2+F118*0.8+G118+H118*0.2+I118+J118*0.3+K118*0.5+L118*0.2,IF(B118=data!$S$3,D118*0.1+E118*0.3+F118*0.1+G118+I118+J118*0.5+K118*0.4,IF(B118=data!$S$4,D118*0.6+E118*0.7+F118+G118+I118+L118,IF(B118=data!$S$5,D118*0.7+E118+H118*0.7+I118,\"zvolte typ stavby\"))))","v":23.2},{"$f":"IF(B118=data!$S$2,(M118*10)/4.9,IF(B118=data!$S$3,(M118*10)/3.4,IF(B118=data!$S$4,(M118*10)/5.3,IF(B118=data!$S$5,(M118*10)/3.4,\"zvolte typ stavby\"))))","v":47.346938775510203},8566284]
[null,null,null,null,null,null,null,null,null,null,null,null,{"$f":"IF(B119=data!$S$2,D119*0.7+E119*0.2+F119*0.8+G119+H119*0.2+I119+J119*0.3+K119*0.5+L119*0.2,IF(B119=data!$S$3,D119*0.1+E119*0.3+F119*0.1+G119+I119+J119*0.5+K119*0.4,IF(B119=data!$S$4,D119*0.6+E119*0.7+F119+G119+I119+L119,IF(B119=data!$S$5,D119*0.7+E119+H119*0.7+I119,\"zvolte typ stavby\"))))","v":"zvolte typ stavby"},{"$f":"IF(B119=data!$S$2,(M119*10)/4.9,IF(B119=data!$S$3,(M119*10)/3.4,IF(B119=data!$S$4,(M119*10)/5.3,IF(B119=data!$S$5,(M119*10)/3.4,\"zvolte typ stavby\"))))","v":"zvolte typ stavby"}]
["III/0086 Předboj odvodnění","oprava a rekonstrukce","Rekonstrukce",3,5,6,6,10,2,0,10,0,{"$f":"IF(B120=data!$S$2,D120*0.7+E120*0.2+F120*0.8+G120+H120*0.2+I120+J120*0.3+K120*0.5+L120*0.2,IF(B120=data!$S$3,D120*0.1+E120*0.3+F120*0.1+G120+I120+J120*0.5+K120*0.4,IF(B120=data!$S$4,D120*0.6+E120*0.7+F120+G120+I120+L120,IF(B120=data!$S$5,D120*0.7+E120+H120*0.7+I120,\"zvolte typ stavby\"))))","v":22.9},{"$f":"IF(B120=data!$S$2,(M120*10)/4.9,IF(B120=data!$S$3,(M120*10)/3.4,IF(B120=data!$S$4,(M120*10)/5.3,IF(B120=data!$S$5,(M120*10)/3.4,\"zvolte typ stavby\"))))","v":46.734693877551017},3387964]
[null,null,null,null,null,null,null,null,null,null,null,null,{"$f":"IF(B121=data!$S$2,D121*0.7+E121*0.2+F121*0.8+G121+H121*0.2+I121+J121*0.3+K121*0.5+L121*0.2,IF(B121=data!$S$3,D121*0.1+E121*0.3+F121*0.1+G121+I121+J121*0.5+K121*0.4,IF(B121=data!$S$4,D121*0.6+E121*0.7+F121+G121+I121+L121,IF(B121=data!$S$5,D121*0.7+E121+H121*0.7+I121,\"zvolte typ stavby\"))))","v":"zvolte typ stavby"},{"$f":"IF(B121=data!$S$2,(M121*10)/4.9,IF(B121=data!$S$3,(M121*10)/3.4,IF(B121=data!$S$4,(M121*10)/5.3,IF(B121=data!$S$5,(M121*10)/3.4,\"zvolte typ stavby\"))))","v":"zvolte typ stavby"}]
[null,null,null,null,null,null,null,null,null,null,null,null,{"$f":"IF(B122=data!$S$2,D122*0.7+E122*0.2+F122*0.8+G122+H122*0.2+I122+J122*0.3+K122*0.5+L122*0.2,IF(B122=data!$S$3,D122*0.1+E122*0.3+F122*0.1+G122+I122+J122*0.5+K122*0.4,IF(B122=data!$S$4,D122*0.6+E122*0.7+F122+G122+I122+L122,IF(B122=data!$S$5,D122*0.7+E122+H122*0.7+I122,\"zvolte typ stavby\"))))","v":"zvolte typ stavby"},{"$f":"IF(B122=data!$S$2,(M122*10)/4.9,IF(B122=data!$S$3,(M122*10)/3.4,IF(B122=data!$S$4,(M122*10)/5.3,IF(B122=data!$S$5,(M122*10)/3.4,\"zvolte typ stavby\"))))","v":"zvolte typ stavby"}]
[null,null,null,null,null,null,null,null,null,null,null,null,{"$f":"IF(B123=data!$S$2,D123*0.7+E123*0.2+F123*0.8+G123+H123*0.2+I123+J123*0.3+K123*0.5+L123*0.2,IF(B123=data!$S$3,D123*0.1+E123*0.3+F123*0.1+G123+I123+J123*0.5+K123*0.4,IF(B123=data!$S$4,D123*0.6+E123*0.7+F123+G123+I123+L123,IF(B123=data!$S$5,D123*0.7+E123+H123*0.7+I123,\"zvolte typ stavby\"))))","v":"zvolte typ stavby"},{"$f":"IF(B123=data!$S$2,(M123*10)/4.9,IF(B123=data!$S$3,(M123*10)/3.4,IF(B123=data!$S$4,(M123*10)/5.3,IF(B123=data!$S$5,(M123*10)/3.4,\"zvolte typ stavby\"))))","v":"zvolte typ stavby"}]
[null,null,null,null,null,null,null,null,null,null,null,null,{"$f":"IF(B124=data!$S$2,D124*0.7+E124*0.2+F124*0.8+G124+H124*0.2+I124+J124*0.3+K124*0.5+L124*0.2,IF(B124=data!$S$3,D124*0.1+E124*0.3+F124*0.1+G124+I124+J124*0.5+K124*0.4,IF(B124=data!$S$4,D124*0.6+E124*0.7+F124+G124+I124+L124,IF(B124=data!$S$5,D124*0.7+E124+H124*0.7+I124,\"zvolte typ stavby\"))))","v":"zvolte typ stavby"},{"$f":"IF(B124=data!$S$2,(M124*10)/4.9,IF(B124=data!$S$3,(M124*10)/3.4,IF(B124=data!$S$4,(M124*10)/5.3,IF(B124=data!$S$5,(M124*10)/3.4,\"zvolte typ stavby\"))))","v":"zvolte typ stavby"}]
[null,null,null,null,null,null,null,null,null,null,null,null,{"$f":"IF(B125=data!$S$2,D125*0.7+E125*0.2+F125*0.8+G125+H125*0.2+I125+J125*0.3+K125*0.5+L125*0.2,IF(B125=data!$S$3,D125*0.1+E125*0.3+F125*0.1+G125+I125+J125*0.5+K125*0.4,IF(B125=data!$S$4,D125*0.6+E125*0.7+F125+G125+I125+L125,IF(B125=data!$S$5,D125*0.7+E125+H125*0.7+I125,\"zvolte typ stavby\"))))","v":"zvolte typ stavby"},{"$f":"IF(B125=data!$S$2,(M125*10)/4.9,IF(B125=data!$S$3,(M125*10)/3.4,IF(B125=data!$S$4,(M125*10)/5.3,IF(B125=data!$S$5,(M125*10)/3.4,\"zvolte typ stavby\"))))","v":"zvolte typ stavby"}]
["III/33338 Uhlířské Janovice - Chmeliště","oprava a rekonstrukce","Rekonstrukce",2,5,3,6,10,4,0,10,2,{"$f":"IF(B126=data!$S$2,D126*0.7+E126*0.2+F126*0.8+G126+H126*0.2+I126+J126*0.3+K126*0.5+L126*0.2,IF(B126=data!$S$3,D126*0.1+E126*0.3+F126*0.1+G126+I126+J126*0.5+K126*0.4,IF(B126=data!$S$4,D126*0.6+E126*0.7+F126+G126+I126+L126,IF(B126=data!$S$5,D126*0.7+E126+H126*0.7+I126,\"zvolte typ stavby\"))))","v":22.2},{"$f":"IF(B126=data!$S$2,(M126*10)/4.9,IF(B126=data!$S$3,(M126*10)/3.4,IF(B126=data!$S$4,(M126*10)/5.3,IF(B126=data!$S$5,(M126*10)/3.4,\"zvolte typ stavby\"))))","v":45.306122448979586},2000000]
["Mnichovice, Myšlín- odvodnění","oprava a rekonstrukce","Rekonstrukce",2,5,3,6,10,4,0,10,2,{"$f":"IF(B127=data!$S$2,D127*0.7+E127*0.2+F127*0.8+G127+H127*0.2+I127+J127*0.3+K127*0.5+L127*0.2,IF(B127=data!$S$3,D127*0.1+E127*0.3+F127*0.1+G127+I127+J127*0.5+K127*0.4,IF(B127=data!$S$4,D127*0.6+E127*0.7+F127+G127+I127+L127,IF(B127=data!$S$5,D127*0.7+E127+H127*0.7+I127,\"zvolte typ stavby\"))))","v":22.2},{"$f":"IF(B127=data!$S$2,(M127*10)/4.9,IF(B127=data!$S$3,(M127*10)/3.4,IF(B127=data!$S$4,(M127*10)/5.3,IF(B127=data!$S$5,(M127*10)/3.4,\"zvolte typ stavby\"))))","v":45.306122448979586},9245374]
[null,null,null,null,null,null,null,null,null,null,null,null,{"$f":"IF(B128=data!$S$2,D128*0.7+E128*0.2+F128*0.8+G128+H128*0.2+I128+J128*0.3+K128*0.5+L128*0.2,IF(B128=data!$S$3,D128*0.1+E128*0.3+F128*0.1+G128+I128+J128*0.5+K128*0.4,IF(B128=data!$S$4,D128*0.6+E128*0.7+F128+G128+I128+L128,IF(B128=data!$S$5,D128*0.7+E128+H128*0.7+I128,\"zvolte typ stavby\"))))","v":"zvolte typ stavby"},{"$f":"IF(B128=data!$S$2,(M128*10)/4.9,IF(B128=data!$S$3,(M128*10)/3.4,IF(B128=data!$S$4,(M128*10)/5.3,IF(B128=data!$S$5,(M128*10)/3.4,\"zvolte typ stavby\"))))","v":"zvolte typ stavby"}]
[null,null,null,null,null,null,null,null,null,null,null,null,{"$f":"IF(B129=data!$S$2,D129*0.7+E129*0.2+F129*0.8+G129+H129*0.2+I129+J129*0.3+K129*0.5+L129*0.2,IF(B129=data!$S$3,D129*0.1+E129*0.3+F129*0.1+G129+I129+J129*0.5+K129*0.4,IF(B129=data!$S$4,D129*0.6+E129*0.7+F129+G129+I129+L129,IF(B129=data!$S$5,D129*0.7+E129+H129*0.7+I129,\"zvolte typ stavby\"))))","v":"zvolte typ stavby"},{"$f":"IF(B129=data!$S$2,(M129*10)/4.9,IF(B129=data!$S$3,(M129*10)/3.4,IF(B129=data!$S$4,(M129*10)/5.3,IF(B129=data!$S$5,(M129*10)/3.4,\"zvolte typ stavby\"))))","v":"zvolte typ stavby"}]
[null,null,null,null,null,null,null,null,null,null,null,null,{"$f":"IF(B130=data!$S$2,D130*0.7+E130*0.2+F130*0.8+G130+H130*0.2+I130+J130*0.3+K130*0.5+L130*0.2,IF(B130=data!$S$3,D130*0.1+E130*0.3+F130*0.1+G130+I130+J130*0.5+K130*0.4,IF(B130=data!$S$4,D130*0.6+E130*0.7+F130+G130+I130+L130,IF(B130=data!$S$5,D130*0.7+E130+H130*0.7+I130,\"zvolte typ stavby\"))))","v":"zvolte typ stavby"},{"$f":"IF(B130=data!$S$2,(M130*10)/4.9,IF(B130=data!$S$3,(M130*10)/3.4,IF(B130=data!$S$4,(M130*10)/5.3,IF(B130=data!$S$5,(M130*10)/3.4,\"zvolte typ stavby\"))))","v":"zvolte typ stavby"}]
["III/27528 Dymokury -Činěves","oprava a rekonstrukce","Rekonstrukce",1,5,6,6,10,2,0,10,2,{"$f":"IF(B131=data!$S$2,D131*0.7+E131*0.2+F131*0.8+G131+H131*0.2+I131+J131*0.3+K131*0.5+L131*0.2,IF(B131=data!$S$3,D131*0.1+E131*0.3+F131*0.1+G131+I131+J131*0.5+K131*0.4,IF(B131=data!$S$4,D131*0.6+E131*0.7+F131+G131+I131+L131,IF(B131=data!$S$5,D131*0.7+E131+H131*0.7+I131,\"zvolte typ stavby\"))))","v":21.9},{"$f":"IF(B131=data!$S$2,(M131*10)/4.9,IF(B131=data!$S$3,(M131*10)/3.4,IF(B131=data!$S$4,(M131*10)/5.3,IF(B131=data!$S$5,(M131*10)/3.4,\"zvolte typ stavby\"))))","v":44.693877551020407},13803694.52]
[null,null,null,null,null,null,null,null,null,null,null,null,{"$f":"IF(B132=data!$S$2,D132*0.7+E132*0.2+F132*0.8+G132+H132*0.2+I132+J132*0.3+K132*0.5+L132*0.2,IF(B132=data!$S$3,D132*0.1+E132*0.3+F132*0.1+G132+I132+J132*0.5+K132*0.4,IF(B132=data!$S$4,D132*0.6+E132*0.7+F132+G132+I132+L132,IF(B132=data!$S$5,D132*0.7+E132+H132*0.7+I132,\"zvolte typ stavby\"))))","v":"zvolte typ stavby"},{"$f":"IF(B132=data!$S$2,(M132*10)/4.9,IF(B132=data!$S$3,(M132*10)/3.4,IF(B132=data!$S$4,(M132*10)/5.3,IF(B132=data!$S$5,(M132*10)/3.4,\"zvolte typ stavby\"))))","v":"zvolte typ stavby"}]
[null,null,null,null,null,null,null,null,null,null,null,null,{"$f":"IF(B133=data!$S$2,D133*0.7+E133*0.2+F133*0.8+G133+H133*0.2+I133+J133*0.3+K133*0.5+L133*0.2,IF(B133=data!$S$3,D133*0.1+E133*0.3+F133*0.1+G133+I133+J133*0.5+K133*0.4,IF(B133=data!$S$4,D133*0.6+E133*0.7+F133+G133+I133+L133,IF(B133=data!$S$5,D133*0.7+E133+H133*0.7+I133,\"zvolte typ stavby\"))))","v":"zvolte typ stavby"},{"$f":"IF(B133=data!$S$2,(M133*10)/4.9,IF(B133=data!$S$3,(M133*10)/3.4,IF(B133=data!$S$4,(M133*10)/5.3,IF(B133=data!$S$5,(M133*10)/3.4,\"zvolte typ stavby\"))))","v":"zvolte typ stavby"}]
["III/12540, 1543, 12546 Lošany, Lošánky","oprava a rekonstrukce","Rekonstrukce",2,5,3,6,10,4,0,10,0,{"$f":"IF(B134=data!$S$2,D134*0.7+E134*0.2+F134*0.8+G134+H134*0.2+I134+J134*0.3+K134*0.5+L134*0.2,IF(B134=data!$S$3,D134*0.1+E134*0.3+F134*0.1+G134+I134+J134*0.5+K134*0.4,IF(B134=data!$S$4,D134*0.6+E134*0.7+F134+G134+I134+L134,IF(B134=data!$S$5,D134*0.7+E134+H134*0.7+I134,\"zvolte typ stavby\"))))","v":21.8},{"$f":"IF(B134=data!$S$2,(M134*10)/4.9,IF(B134=data!$S$3,(M134*10)/3.4,IF(B134=data!$S$4,(M134*10)/5.3,IF(B134=data!$S$5,(M134*10)/3.4,\"zvolte typ stavby\"))))","v":44.489795918367342},12000000]
[null,null,null,null,null,null,null,null,null,null,null,null,{"$f":"IF(B135=data!$S$2,D135*0.7+E135*0.2+F135*0.8+G135+H135*0.2+I135+J135*0.3+K135*0.5+L135*0.2,IF(B135=data!$S$3,D135*0.1+E135*0.3+F135*0.1+G135+I135+J135*0.5+K135*0.4,IF(B135=data!$S$4,D135*0.6+E135*0.7+F135+G135+I135+L135,IF(B135=data!$S$5,D135*0.7+E135+H135*0.7+I135,\"zvolte typ stavby\"))))","v":"zvolte typ stavby"},{"$f":"IF(B135=data!$S$2,(M135*10)/4.9,IF(B135=data!$S$3,(M135*10)/3.4,IF(B135=data!$S$4,(M135*10)/5.3,IF(B135=data!$S$5,(M135*10)/3.4,\"zvolte typ stavby\"))))","v":"zvolte typ stavby"}]
[null,null,null,null,null,null,null,null,null,null,null,null,{"$f":"IF(B136=data!$S$2,D136*0.7+E136*0.2+F136*0.8+G136+H136*0.2+I136+J136*0.3+K136*0.5+L136*0.2,IF(B136=data!$S$3,D136*0.1+E136*0.3+F136*0.1+G136+I136+J136*0.5+K136*0.4,IF(B136=data!$S$4,D136*0.6+E136*0.7+F136+G136+I136+L136,IF(B136=data!$S$5,D136*0.7+E136+H136*0.7+I136,\"zvolte typ stavby\"))))","v":"zvolte typ stavby"},{"$f":"IF(B136=data!$S$2,(M136*10)/4.9,IF(B136=data!$S$3,(M136*10)/3.4,IF(B136=data!$S$4,(M136*10)/5.3,IF(B136=data!$S$5,(M136*10)/3.4,\"zvolte typ stavby\"))))","v":"zvolte typ stavby"}]
[null,null,null,null,null,null,null,null,null,null,null,null,{"$f":"IF(B137=data!$S$2,D137*0.7+E137*0.2+F137*0.8+G137+H137*0.2+I137+J137*0.3+K137*0.5+L137*0.2,IF(B137=data!$S$3,D137*0.1+E137*0.3+F137*0.1+G137+I137+J137*0.5+K137*0.4,IF(B137=data!$S$4,D137*0.6+E137*0.7+F137+G137+I137+L137,IF(B137=data!$S$5,D137*0.7+E137+H137*0.7+I137,\"zvolte typ stavby\"))))","v":"zvolte typ stavby"},{"$f":"IF(B137=data!$S$2,(M137*10)/4.9,IF(B137=data!$S$3,(M137*10)/3.4,IF(B137=data!$S$4,(M137*10)/5.3,IF(B137=data!$S$5,(M137*10)/3.4,\"zvolte typ stavby\"))))","v":"zvolte typ stavby"}]
["III/10812 Dobré Pole - Kouřim","oprava a rekonstrukce","Rekonstrukce",1,5,3,6,10,4,0,10,2,{"$f":"IF(B138=data!$S$2,D138*0.7+E138*0.2+F138*0.8+G138+H138*0.2+I138+J138*0.3+K138*0.5+L138*0.2,IF(B138=data!$S$3,D138*0.1+E138*0.3+F138*0.1+G138+I138+J138*0.5+K138*0.4,IF(B138=data!$S$4,D138*0.6+E138*0.7+F138+G138+I138+L138,IF(B138=data!$S$5,D138*0.7+E138+H138*0.7+I138,\"zvolte typ stavby\"))))","v":21.5},{"$f":"IF(B138=data!$S$2,(M138*10)/4.9,IF(B138=data!$S$3,(M138*10)/3.4,IF(B138=data!$S$4,(M138*10)/5.3,IF(B138=data!$S$5,(M138*10)/3.4,\"zvolte typ stavby\"))))","v":43.877551020408163},10000000]
["III/33515 Sudějov - Mančice","oprava a rekonstrukce","Souvislá údržba",1,5,3,6,10,4,0,10,2,{"$f":"IF(B139=data!$S$2,D139*0.7+E139*0.2+F139*0.8+G139+H139*0.2+I139+J139*0.3+K139*0.5+L139*0.2,IF(B139=data!$S$3,D139*0.1+E139*0.3+F139*0.1+G139+I139+J139*0.5+K139*0.4,IF(B139=data!$S$4,D139*0.6+E139*0.7+F139+G139+I139+L139,IF(B139=data!$S$5,D139*0.7+E139+H139*0.7+I139,\"zvolte typ stavby\"))))","v":21.5},{"$f":"IF(B139=data!$S$2,(M139*10)/4.9,IF(B139=data!$S$3,(M139*10)/3.4,IF(B139=data!$S$4,(M139*10)/5.3,IF(B139=data!$S$5,(M139*10)/3.4,\"zvolte typ stavby\"))))","v":43.877551020408163},16202928]
[null,null,null,null,null,null,null,null,null,null,null,null,{"$f":"IF(B140=data!$S$2,D140*0.7+E140*0.2+F140*0.8+G140+H140*0.2+I140+J140*0.3+K140*0.5+L140*0.2,IF(B140=data!$S$3,D140*0.1+E140*0.3+F140*0.1+G140+I140+J140*0.5+K140*0.4,IF(B140=data!$S$4,D140*0.6+E140*0.7+F140+G140+I140+L140,IF(B140=data!$S$5,D140*0.7+E140+H140*0.7+I140,\"zvolte typ stavby\"))))","v":"zvolte typ stavby"},{"$f":"IF(B140=data!$S$2,(M140*10)/4.9,IF(B140=data!$S$3,(M140*10)/3.4,IF(B140=data!$S$4,(M140*10)/5.3,IF(B140=data!$S$5,(M140*10)/3.4,\"zvolte typ stavby\"))))","v":"zvolte typ stavby"}]
[null,null,null,null,null,null,null,null,null,null,null,null,{"$f":"IF(B141=data!$S$2,D141*0.7+E141*0.2+F141*0.8+G141+H141*0.2+I141+J141*0.3+K141*0.5+L141*0.2,IF(B141=data!$S$3,D141*0.1+E141*0.3+F141*0.1+G141+I141+J141*0.5+K141*0.4,IF(B141=data!$S$4,D141*0.6+E141*0.7+F141+G141+I141+L141,IF(B141=data!$S$5,D141*0.7+E141+H141*0.7+I141,\"zvolte typ stavby\"))))","v":"zvolte typ stavby"},{"$f":"IF(B141=data!$S$2,(M141*10)/4.9,IF(B141=data!$S$3,(M141*10)/3.4,IF(B141=data!$S$4,(M141*10)/5.3,IF(B141=data!$S$5,(M141*10)/3.4,\"zvolte typ stavby\"))))","v":"zvolte typ stavby"}]
[null,null,null,null,null,null,null,null,null,null,null,null,{"$f":"IF(B142=data!$S$2,D142*0.7+E142*0.2+F142*0.8+G142+H142*0.2+I142+J142*0.3+K142*0.5+L142*0.2,IF(B142=data!$S$3,D142*0.1+E142*0.3+F142*0.1+G142+I142+J142*0.5+K142*0.4,IF(B142=data!$S$4,D142*0.6+E142*0.7+F142+G142+I142+L142,IF(B142=data!$S$5,D142*0.7+E142+H142*0.7+I142,\"zvolte typ stavby\"))))","v":"zvolte typ stavby"},{"$f":"IF(B142=data!$S$2,(M142*10)/4.9,IF(B142=data!$S$3,(M142*10)/3.4,IF(B142=data!$S$4,(M142*10)/5.3,IF(B142=data!$S$5,(M142*10)/3.4,\"zvolte typ stavby\"))))","v":"zvolte typ stavby"}]
["III/10145 Stehelčeves-Bouchalka","oprava a rekonstrukce","Souvislá údržba",1,6,6,6,0,7,0,0,2,{"$f":"IF(B143=data!$S$2,D143*0.7+E143*0.2+F143*0.8+G143+H143*0.2+I143+J143*0.3+K143*0.5+L143*0.2,IF(B143=data!$S$3,D143*0.1+E143*0.3+F143*0.1+G143+I143+J143*0.5+K143*0.4,IF(B143=data!$S$4,D143*0.6+E143*0.7+F143+G143+I143+L143,IF(B143=data!$S$5,D143*0.7+E143+H143*0.7+I143,\"zvolte typ stavby\"))))","v":20.100000000000001},{"$f":"IF(B143=data!$S$2,(M143*10)/4.9,IF(B143=data!$S$3,(M143*10)/3.4,IF(B143=data!$S$4,(M143*10)/5.3,IF(B143=data!$S$5,(M143*10)/3.4,\"zvolte typ stavby\"))))","v":41.020408163265301},20000000]
[null,null,null,null,null,null,null,null,null,null,null,null,{"$f":"IF(B144=data!$S$2,D144*0.7+E144*0.2+F144*0.8+G144+H144*0.2+I144+J144*0.3+K144*0.5+L144*0.2,IF(B144=data!$S$3,D144*0.1+E144*0.3+F144*0.1+G144+I144+J144*0.5+K144*0.4,IF(B144=data!$S$4,D144*0.6+E144*0.7+F144+G144+I144+L144,IF(B144=data!$S$5,D144*0.7+E144+H144*0.7+I144,\"zvolte typ stavby\"))))","v":"zvolte typ stavby"},{"$f":"IF(B144=data!$S$2,(M144*10)/4.9,IF(B144=data!$S$3,(M144*10)/3.4,IF(B144=data!$S$4,(M144*10)/5.3,IF(B144=data!$S$5,(M144*10)/3.4,\"zvolte typ stavby\"))))","v":"zvolte typ stavby"}]
[null,null,null,null,null,null,null,null,null,null,null,null,{"$f":"IF(B145=data!$S$2,D145*0.7+E145*0.2+F145*0.8+G145+H145*0.2+I145+J145*0.3+K145*0.5+L145*0.2,IF(B145=data!$S$3,D145*0.1+E145*0.3+F145*0.1+G145+I145+J145*0.5+K145*0.4,IF(B145=data!$S$4,D145*0.6+E145*0.7+F145+G145+I145+L145,IF(B145=data!$S$5,D145*0.7+E145+H145*0.7+I145,\"zvolte typ stavby\"))))","v":"zvolte typ stavby"},{"$f":"IF(B145=data!$S$2,(M145*10)/4.9,IF(B145=data!$S$3,(M145*10)/3.4,IF(B145=data!$S$4,(M145*10)/5.3,IF(B145=data!$S$5,(M145*10)/3.4,\"zvolte typ stavby\"))))","v":"zvolte typ stavby"}]
["III/3369 Kácov","oprava a rekonstrukce","Souvislá údržba",3,4,3,3,10,4,0,10,2,{"$f":"IF(B146=data!$S$2,D146*0.7+E146*0.2+F146*0.8+G146+H146*0.2+I146+J146*0.3+K146*0.5+L146*0.2,IF(B146=data!$S$3,D146*0.1+E146*0.3+F146*0.1+G146+I146+J146*0.5+K146*0.4,IF(B146=data!$S$4,D146*0.6+E146*0.7+F146+G146+I146+L146,IF(B146=data!$S$5,D146*0.7+E146+H146*0.7+I146,\"zvolte typ stavby\"))))","v":19.7},{"$f":"IF(B146=data!$S$2,(M146*10)/4.9,IF(B146=data!$S$3,(M146*10)/3.4,IF(B146=data!$S$4,(M146*10)/5.3,IF(B146=data!$S$5,(M146*10)/3.4,\"zvolte typ stavby\"))))","v":40.204081632653057},12000000]
[null,null,null,null,null,null,null,null,null,null,null,null,{"$f":"IF(B147=data!$S$2,D147*0.7+E147*0.2+F147*0.8+G147+H147*0.2+I147+J147*0.3+K147*0.5+L147*0.2,IF(B147=data!$S$3,D147*0.1+E147*0.3+F147*0.1+G147+I147+J147*0.5+K147*0.4,IF(B147=data!$S$4,D147*0.6+E147*0.7+F147+G147+I147+L147,IF(B147=data!$S$5,D147*0.7+E147+H147*0.7+I147,\"zvolte typ stavby\"))))","v":"zvolte typ stavby"},{"$f":"IF(B147=data!$S$2,(M147*10)/4.9,IF(B147=data!$S$3,(M147*10)/3.4,IF(B147=data!$S$4,(M147*10)/5.3,IF(B147=data!$S$5,(M147*10)/3.4,\"zvolte typ stavby\"))))","v":"zvolte typ stavby"}]
[null,null,null,null,null,null,null,null,null,null,null,null,{"$f":"IF(B148=data!$S$2,D148*0.7+E148*0.2+F148*0.8+G148+H148*0.2+I148+J148*0.3+K148*0.5+L148*0.2,IF(B148=data!$S$3,D148*0.1+E148*0.3+F148*0.1+G148+I148+J148*0.5+K148*0.4,IF(B148=data!$S$4,D148*0.6+E148*0.7+F148+G148+I148+L148,IF(B148=data!$S$5,D148*0.7+E148+H148*0.7+I148,\"zvolte typ stavby\"))))","v":"zvolte typ stavby"},{"$f":"IF(B148=data!$S$2,(M148*10)/4.9,IF(B148=data!$S$3,(M148*10)/3.4,IF(B148=data!$S$4,(M148*10)/5.3,IF(B148=data!$S$5,(M148*10)/3.4,\"zvolte typ stavby\"))))","v":"zvolte typ stavby"}]
[null,null,null,null,null,null,null,null,null,null,null,null,{"$f":"IF(B149=data!$S$2,D149*0.7+E149*0.2+F149*0.8+G149+H149*0.2+I149+J149*0.3+K149*0.5+L149*0.2,IF(B149=data!$S$3,D149*0.1+E149*0.3+F149*0.1+G149+I149+J149*0.5+K149*0.4,IF(B149=data!$S$4,D149*0.6+E149*0.7+F149+G149+I149+L149,IF(B149=data!$S$5,D149*0.7+E149+H149*0.7+I149,\"zvolte typ stavby\"))))","v":"zvolte typ stavby"},{"$f":"IF(B149=data!$S$2,(M149*10)/4.9,IF(B149=data!$S$3,(M149*10)/3.4,IF(B149=data!$S$4,(M149*10)/5.3,IF(B149=data!$S$5,(M149*10)/3.4,\"zvolte typ stavby\"))))","v":"zvolte typ stavby"}]
[null,null,null,null,null,null,null,null,null,null,null,null,{"$f":"IF(B150=data!$S$2,D150*0.7+E150*0.2+F150*0.8+G150+H150*0.2+I150+J150*0.3+K150*0.5+L150*0.2,IF(B150=data!$S$3,D150*0.1+E150*0.3+F150*0.1+G150+I150+J150*0.5+K150*0.4,IF(B150=data!$S$4,D150*0.6+E150*0.7+F150+G150+I150+L150,IF(B150=data!$S$5,D150*0.7+E150+H150*0.7+I150,\"zvolte typ stavby\"))))","v":"zvolte typ stavby"},{"$f":"IF(B150=data!$S$2,(M150*10)/4.9,IF(B150=data!$S$3,(M150*10)/3.4,IF(B150=data!$S$4,(M150*10)/5.3,IF(B150=data!$S$5,(M150*10)/3.4,\"zvolte typ stavby\"))))","v":"zvolte typ stavby"}]
["II/339 Čáslav - Krchleby ","oprava a rekonstrukce","Souvislá údržba",3,8,3,3,1,4,0,10,4,{"$f":"IF(B151=data!$S$2,D151*0.7+E151*0.2+F151*0.8+G151+H151*0.2+I151+J151*0.3+K151*0.5+L151*0.2,IF(B151=data!$S$3,D151*0.1+E151*0.3+F151*0.1+G151+I151+J151*0.5+K151*0.4,IF(B151=data!$S$4,D151*0.6+E151*0.7+F151+G151+I151+L151,IF(B151=data!$S$5,D151*0.7+E151+H151*0.7+I151,\"zvolte typ stavby\"))))","v":19.099999999999998},{"$f":"IF(B151=data!$S$2,(M151*10)/4.9,IF(B151=data!$S$3,(M151*10)/3.4,IF(B151=data!$S$4,(M151*10)/5.3,IF(B151=data!$S$5,(M151*10)/3.4,\"zvolte typ stavby\"))))","v":38.979591836734684},29000000]
[null,null,null,null,null,null,null,null,null,null,null,null,{"$f":"IF(B152=data!$S$2,D152*0.7+E152*0.2+F152*0.8+G152+H152*0.2+I152+J152*0.3+K152*0.5+L152*0.2,IF(B152=data!$S$3,D152*0.1+E152*0.3+F152*0.1+G152+I152+J152*0.5+K152*0.4,IF(B152=data!$S$4,D152*0.6+E152*0.7+F152+G152+I152+L152,IF(B152=data!$S$5,D152*0.7+E152+H152*0.7+I152,\"zvolte typ stavby\"))))","v":"zvolte typ stavby"},{"$f":"IF(B152=data!$S$2,(M152*10)/4.9,IF(B152=data!$S$3,(M152*10)/3.4,IF(B152=data!$S$4,(M152*10)/5.3,IF(B152=data!$S$5,(M152*10)/3.4,\"zvolte typ stavby\"))))","v":"zvolte typ stavby"}]
["II/611 Starý Vestec, průtah","oprava a rekonstrukce","Rekonstrukce",4,8,3,2,1,4,0,10,4,{"$f":"IF(B153=data!$S$2,D153*0.7+E153*0.2+F153*0.8+G153+H153*0.2+I153+J153*0.3+K153*0.5+L153*0.2,IF(B153=data!$S$3,D153*0.1+E153*0.3+F153*0.1+G153+I153+J153*0.5+K153*0.4,IF(B153=data!$S$4,D153*0.6+E153*0.7+F153+G153+I153+L153,IF(B153=data!$S$5,D153*0.7+E153+H153*0.7+I153,\"zvolte typ stavby\"))))","v":18.8},{"$f":"IF(B153=data!$S$2,(M153*10)/4.9,IF(B153=data!$S$3,(M153*10)/3.4,IF(B153=data!$S$4,(M153*10)/5.3,IF(B153=data!$S$5,(M153*10)/3.4,\"zvolte typ stavby\"))))","v":38.367346938775505},4306540]
[null,null,null,null,null,null,null,null,null,null,null,null,{"$f":"IF(B154=data!$S$2,D154*0.7+E154*0.2+F154*0.8+G154+H154*0.2+I154+J154*0.3+K154*0.5+L154*0.2,IF(B154=data!$S$3,D154*0.1+E154*0.3+F154*0.1+G154+I154+J154*0.5+K154*0.4,IF(B154=data!$S$4,D154*0.6+E154*0.7+F154+G154+I154+L154,IF(B154=data!$S$5,D154*0.7+E154+H154*0.7+I154,\"zvolte typ stavby\"))))","v":"zvolte typ stavby"},{"$f":"IF(B154=data!$S$2,(M154*10)/4.9,IF(B154=data!$S$3,(M154*10)/3.4,IF(B154=data!$S$4,(M154*10)/5.3,IF(B154=data!$S$5,(M154*10)/3.4,\"zvolte typ stavby\"))))","v":"zvolte typ stavby"}]
[null,null,null,null,null,null,null,null,null,null,null,null,{"$f":"IF(B155=data!$S$2,D155*0.7+E155*0.2+F155*0.8+G155+H155*0.2+I155+J155*0.3+K155*0.5+L155*0.2,IF(B155=data!$S$3,D155*0.1+E155*0.3+F155*0.1+G155+I155+J155*0.5+K155*0.4,IF(B155=data!$S$4,D155*0.6+E155*0.7+F155+G155+I155+L155,IF(B155=data!$S$5,D155*0.7+E155+H155*0.7+I155,\"zvolte typ stavby\"))))","v":"zvolte typ stavby"},{"$f":"IF(B155=data!$S$2,(M155*10)/4.9,IF(B155=data!$S$3,(M155*10)/3.4,IF(B155=data!$S$4,(M155*10)/5.3,IF(B155=data!$S$5,(M155*10)/3.4,\"zvolte typ stavby\"))))","v":"zvolte typ stavby"}]
[null,null,null,null,null,null,null,null,null,null,null,null,{"$f":"IF(B156=data!$S$2,D156*0.7+E156*0.2+F156*0.8+G156+H156*0.2+I156+J156*0.3+K156*0.5+L156*0.2,IF(B156=data!$S$3,D156*0.1+E156*0.3+F156*0.1+G156+I156+J156*0.5+K156*0.4,IF(B156=data!$S$4,D156*0.6+E156*0.7+F156+G156+I156+L156,IF(B156=data!$S$5,D156*0.7+E156+H156*0.7+I156,\"zvolte typ stavby\"))))","v":"zvolte typ stavby"},{"$f":"IF(B156=data!$S$2,(M156*10)/4.9,IF(B156=data!$S$3,(M156*10)/3.4,IF(B156=data!$S$4,(M156*10)/5.3,IF(B156=data!$S$5,(M156*10)/3.4,\"zvolte typ stavby\"))))","v":"zvolte typ stavby"}]
[null,null,null,null,null,null,null,null,null,null,null,null,{"$f":"IF(B157=data!$S$2,D157*0.7+E157*0.2+F157*0.8+G157+H157*0.2+I157+J157*0.3+K157*0.5+L157*0.2,IF(B157=data!$S$3,D157*0.1+E157*0.3+F157*0.1+G157+I157+J157*0.5+K157*0.4,IF(B157=data!$S$4,D157*0.6+E157*0.7+F157+G157+I157+L157,IF(B157=data!$S$5,D157*0.7+E157+H157*0.7+I157,\"zvolte typ stavby\"))))","v":"zvolte typ stavby"},{"$f":"IF(B157=data!$S$2,(M157*10)/4.9,IF(B157=data!$S$3,(M157*10)/3.4,IF(B157=data!$S$4,(M157*10)/5.3,IF(B157=data!$S$5,(M157*10)/3.4,\"zvolte typ stavby\"))))","v":"zvolte typ stavby"}]
[null,null,null,null,null,null,null,null,null,null,null,null,{"$f":"IF(B158=data!$S$2,D158*0.7+E158*0.2+F158*0.8+G158+H158*0.2+I158+J158*0.3+K158*0.5+L158*0.2,IF(B158=data!$S$3,D158*0.1+E158*0.3+F158*0.1+G158+I158+J158*0.5+K158*0.4,IF(B158=data!$S$4,D158*0.6+E158*0.7+F158+G158+I158+L158,IF(B158=data!$S$5,D158*0.7+E158+H158*0.7+I158,\"zvolte typ stavby\"))))","v":"zvolte typ stavby"},{"$f":"IF(B158=data!$S$2,(M158*10)/4.9,IF(B158=data!$S$3,(M158*10)/3.4,IF(B158=data!$S$4,(M158*10)/5.3,IF(B158=data!$S$5,(M158*10)/3.4,\"zvolte typ stavby\"))))","v":"zvolte typ stavby"}]
["III/27215 Zdětín, rekonstrukce","oprava a rekonstrukce","Rekonstrukce",2,5,3,6,10,4,0,0,0,{"$f":"IF(B159=data!$S$2,D159*0.7+E159*0.2+F159*0.8+G159+H159*0.2+I159+J159*0.3+K159*0.5+L159*0.2,IF(B159=data!$S$3,D159*0.1+E159*0.3+F159*0.1+G159+I159+J159*0.5+K159*0.4,IF(B159=data!$S$4,D159*0.6+E159*0.7+F159+G159+I159+L159,IF(B159=data!$S$5,D159*0.7+E159+H159*0.7+I159,\"zvolte typ stavby\"))))","v":16.8},{"$f":"IF(B159=data!$S$2,(M159*10)/4.9,IF(B159=data!$S$3,(M159*10)/3.4,IF(B159=data!$S$4,(M159*10)/5.3,IF(B159=data!$S$5,(M159*10)/3.4,\"zvolte typ stavby\"))))","v":34.285714285714285},8000000]
[null,null,null,null,null,null,null,null,null,null,null,null,{"$f":"IF(B160=data!$S$2,D160*0.7+E160*0.2+F160*0.8+G160+H160*0.2+I160+J160*0.3+K160*0.5+L160*0.2,IF(B160=data!$S$3,D160*0.1+E160*0.3+F160*0.1+G160+I160+J160*0.5+K160*0.4,IF(B160=data!$S$4,D160*0.6+E160*0.7+F160+G160+I160+L160,IF(B160=data!$S$5,D160*0.7+E160+H160*0.7+I160,\"zvolte typ stavby\"))))","v":"zvolte typ stavby"},{"$f":"IF(B160=data!$S$2,(M160*10)/4.9,IF(B160=data!$S$3,(M160*10)/3.4,IF(B160=data!$S$4,(M160*10)/5.3,IF(B160=data!$S$5,(M160*10)/3.4,\"zvolte typ stavby\"))))","v":"zvolte typ stavby"}]
[null,null,null,null,null,null,null,null,null,null,null,null,{"$f":"IF(B161=data!$S$2,D161*0.7+E161*0.2+F161*0.8+G161+H161*0.2+I161+J161*0.3+K161*0.5+L161*0.2,IF(B161=data!$S$3,D161*0.1+E161*0.3+F161*0.1+G161+I161+J161*0.5+K161*0.4,IF(B161=data!$S$4,D161*0.6+E161*0.7+F161+G161+I161+L161,IF(B161=data!$S$5,D161*0.7+E161+H161*0.7+I161,\"zvolte typ stavby\"))))","v":"zvolte typ stavby"},{"$f":"IF(B161=data!$S$2,(M161*10)/4.9,IF(B161=data!$S$3,(M161*10)/3.4,IF(B161=data!$S$4,(M161*10)/5.3,IF(B161=data!$S$5,(M161*10)/3.4,\"zvolte typ stavby\"))))","v":"zvolte typ stavby"}]
[null,null,null,null,null,null,null,null,null,null,null,null,{"$f":"IF(B162=data!$S$2,D162*0.7+E162*0.2+F162*0.8+G162+H162*0.2+I162+J162*0.3+K162*0.5+L162*0.2,IF(B162=data!$S$3,D162*0.1+E162*0.3+F162*0.1+G162+I162+J162*0.5+K162*0.4,IF(B162=data!$S$4,D162*0.6+E162*0.7+F162+G162+I162+L162,IF(B162=data!$S$5,D162*0.7+E162+H162*0.7+I162,\"zvolte typ stavby\"))))","v":"zvolte typ stavby"},{"$f":"IF(B162=data!$S$2,(M162*10)/4.9,IF(B162=data!$S$3,(M162*10)/3.4,IF(B162=data!$S$4,(M162*10)/5.3,IF(B162=data!$S$5,(M162*10)/3.4,\"zvolte typ stavby\"))))","v":"zvolte typ stavby"}]
[null,null,null,null,null,null,null,null,null,null,null,null,{"$f":"IF(B163=data!$S$2,D163*0.7+E163*0.2+F163*0.8+G163+H163*0.2+I163+J163*0.3+K163*0.5+L163*0.2,IF(B163=data!$S$3,D163*0.1+E163*0.3+F163*0.1+G163+I163+J163*0.5+K163*0.4,IF(B163=data!$S$4,D163*0.6+E163*0.7+F163+G163+I163+L163,IF(B163=data!$S$5,D163*0.7+E163+H163*0.7+I163,\"zvolte typ stavby\"))))","v":"zvolte typ stavby"},{"$f":"IF(B163=data!$S$2,(M163*10)/4.9,IF(B163=data!$S$3,(M163*10)/3.4,IF(B163=data!$S$4,(M163*10)/5.3,IF(B163=data!$S$5,(M163*10)/3.4,\"zvolte typ stavby\"))))","v":"zvolte typ stavby"}]
["KONTROLA PŘEPOČTU","řešení bodové závady a/nebo bezpečnostního rizika (křižovatky, opěrné zdi, skalní masivy)",null,10,10,10,10,10,10,10,10,10,{"$f":"IF(B164=data!$S$2,D164*0.7+E164*0.2+F164*0.8+G164+H164*0.2+I164+J164*0.3+K164*0.5+L164*0.2,IF(B164=data!$S$3,D164*0.1+E164*0.3+F164*0.1+G164+I164+J164*0.5+K164*0.4,IF(B164=data!$S$4,D164*0.6+E164*0.7+F164+G164+I164+L164,IF(B164=data!$S$5,D164*0.7+E164+H164*0.7+I164,\"zvolte typ stavby\"))))","v":53},{"$f":"IF(B164=data!$S$2,(M164*10)/4.9,IF(B164=data!$S$3,(M164*10)/3.4,IF(B164=data!$S$4,(M164*10)/5.3,IF(B164=data!$S$5,(M164*10)/3.4,\"zvolte typ stavby\"))))","v":100},13000000]
["II/125 Ratboř, úprava křižovatky s III/12545","řešení bodové závady a/nebo bezpečnostního rizika (křižovatky, opěrné zdi, skalní masivy)","-",4,10,10,3,0,7,0,0,7,{"$f":"IF(B165=data!$S$2,D165*0.7+E165*0.2+F165*0.8+G165+H165*0.2+I165+J165*0.3+K165*0.5+L165*0.2,IF(B165=data!$S$3,D165*0.1+E165*0.3+F165*0.1+G165+I165+J165*0.5+K165*0.4,IF(B165=data!$S$4,D165*0.6+E165*0.7+F165+G165+I165+L165,IF(B165=data!$S$5,D165*0.7+E165+H165*0.7+I165,\"zvolte typ stavby\"))))","v":36.4},{"$f":"IF(B165=data!$S$2,(M165*10)/4.9,IF(B165=data!$S$3,(M165*10)/3.4,IF(B165=data!$S$4,(M165*10)/5.3,IF(B165=data!$S$5,(M165*10)/3.4,\"zvolte typ stavby\"))))","v":68.679245283018872},15000000]
["II/101 Kladno,Vrapická – havárie odvodnění - PD","řešení bodové závady a/nebo bezpečnostního rizika (křižovatky, opěrné zdi, skalní masivy)",null,2,10,3,10,0,7,0,10,4,{"$f":"IF(B166=data!$S$2,D166*0.7+E166*0.2+F166*0.8+G166+H166*0.2+I166+J166*0.3+K166*0.5+L166*0.2,IF(B166=data!$S$3,D166*0.1+E166*0.3+F166*0.1+G166+I166+J166*0.5+K166*0.4,IF(B166=data!$S$4,D166*0.6+E166*0.7+F166+G166+I166+L166,IF(B166=data!$S$5,D166*0.7+E166+H166*0.7+I166,\"zvolte typ stavby\"))))","v":32.200000000000003},{"$f":"IF(B166=data!$S$2,(M166*10)/4.9,IF(B166=data!$S$3,(M166*10)/3.4,IF(B166=data!$S$4,(M166*10)/5.3,IF(B166=data!$S$5,(M166*10)/3.4,\"zvolte typ stavby\"))))","v":60.754716981132077},4500000]
[null,null,"-",null,null,null,null,null,null,null,null,null,{"$f":"IF(B167=data!$S$2,D167*0.7+E167*0.2+F167*0.8+G167+H167*0.2+I167+J167*0.3+K167*0.5+L167*0.2,IF(B167=data!$S$3,D167*0.1+E167*0.3+F167*0.1+G167+I167+J167*0.5+K167*0.4,IF(B167=data!$S$4,D167*0.6+E167*0.7+F167+G167+I167+L167,IF(B167=data!$S$5,D167*0.7+E167+H167*0.7+I167,\"zvolte typ stavby\"))))","v":"zvolte typ stavby"},{"$f":"IF(B167=data!$S$2,(M167*10)/4.9,IF(B167=data!$S$3,(M167*10)/3.4,IF(B167=data!$S$4,(M167*10)/5.3,IF(B167=data!$S$5,(M167*10)/3.4,\"zvolte typ stavby\"))))","v":"zvolte typ stavby"}]
["II/272 Lysá nad Labem, křižovatky (Jedličkova x Smetanova a II/272 x II/332)","řešení bodové závady a/nebo bezpečnostního rizika (křižovatky, opěrné zdi, skalní masivy)","-",7,10,6,3,0,7,0,0,4,{"$f":"IF(B168=data!$S$2,D168*0.7+E168*0.2+F168*0.8+G168+H168*0.2+I168+J168*0.3+K168*0.5+L168*0.2,IF(B168=data!$S$3,D168*0.1+E168*0.3+F168*0.1+G168+I168+J168*0.5+K168*0.4,IF(B168=data!$S$4,D168*0.6+E168*0.7+F168+G168+I168+L168,IF(B168=data!$S$5,D168*0.7+E168+H168*0.7+I168,\"zvolte typ stavby\"))))","v":31.2},{"$f":"IF(B168=data!$S$2,(M168*10)/4.9,IF(B168=data!$S$3,(M168*10)/3.4,IF(B168=data!$S$4,(M168*10)/5.3,IF(B168=data!$S$5,(M168*10)/3.4,\"zvolte typ stavby\"))))","v":58.867924528301891},20000000]
["Strančice III/1015 a III/1016 okružní křižovatka","řešení bodové závady a/nebo bezpečnostního rizika (křižovatky, opěrné zdi, skalní masivy)","-",4,5,10,3,0,10,0,0,2,{"$f":"IF(B169=data!$S$2,D169*0.7+E169*0.2+F169*0.8+G169+H169*0.2+I169+J169*0.3+K169*0.5+L169*0.2,IF(B169=data!$S$3,D169*0.1+E169*0.3+F169*0.1+G169+I169+J169*0.5+K169*0.4,IF(B169=data!$S$4,D169*0.6+E169*0.7+F169+G169+I169+L169,IF(B169=data!$S$5,D169*0.7+E169+H169*0.7+I169,\"zvolte typ stavby\"))))","v":30.9},{"$f":"IF(B169=data!$S$2,(M169*10)/4.9,IF(B169=data!$S$3,(M169*10)/3.4,IF(B169=data!$S$4,(M169*10)/5.3,IF(B169=data!$S$5,(M169*10)/3.4,\"zvolte typ stavby\"))))","v":58.301886792452834},7000000]
["III/2407 Úholičky, havárie opěrné zdi - III. etapa","řešení bodové závady a/nebo bezpečnostního rizika (křižovatky, opěrné zdi, skalní masivy)","-",5,5,10,10,0,4,0,0,0,{"$f":"IF(B170=data!$S$2,D170*0.7+E170*0.2+F170*0.8+G170+H170*0.2+I170+J170*0.3+K170*0.5+L170*0.2,IF(B170=data!$S$3,D170*0.1+E170*0.3+F170*0.1+G170+I170+J170*0.5+K170*0.4,IF(B170=data!$S$4,D170*0.6+E170*0.7+F170+G170+I170+L170,IF(B170=data!$S$5,D170*0.7+E170+H170*0.7+I170,\"zvolte typ stavby\"))))","v":30.5},{"$f":"IF(B170=data!$S$2,(M170*10)/4.9,IF(B170=data!$S$3,(M170*10)/3.4,IF(B170=data!$S$4,(M170*10)/5.3,IF(B170=data!$S$5,(M170*10)/3.4,\"zvolte typ stavby\"))))","v":57.547169811320757},6000000]
[null,null,"-",null,null,null,null,null,null,null,null,null,{"$f":"IF(B171=data!$S$2,D171*0.7+E171*0.2+F171*0.8+G171+H171*0.2+I171+J171*0.3+K171*0.5+L171*0.2,IF(B171=data!$S$3,D171*0.1+E171*0.3+F171*0.1+G171+I171+J171*0.5+K171*0.4,IF(B171=data!$S$4,D171*0.6+E171*0.7+F171+G171+I171+L171,IF(B171=data!$S$5,D171*0.7+E171+H171*0.7+I171,\"zvolte typ stavby\"))))","v":"zvolte typ stavby"},{"$f":"IF(B171=data!$S$2,(M171*10)/4.9,IF(B171=data!$S$3,(M171*10)/3.4,IF(B171=data!$S$4,(M171*10)/5.3,IF(B171=data!$S$5,(M171*10)/3.4,\"zvolte typ stavby\"))))","v":"zvolte typ stavby"}]
["II/125 x III/33345 x I/38 zpřehlednění křižovatky","řešení bodové závady a/nebo bezpečnostního rizika (křižovatky, opěrné zdi, skalní masivy)","-",5,10,6,3,0,7,0,0,4,{"$f":"IF(B172=data!$S$2,D172*0.7+E172*0.2+F172*0.8+G172+H172*0.2+I172+J172*0.3+K172*0.5+L172*0.2,IF(B172=data!$S$3,D172*0.1+E172*0.3+F172*0.1+G172+I172+J172*0.5+K172*0.4,IF(B172=data!$S$4,D172*0.6+E172*0.7+F172+G172+I172+L172,IF(B172=data!$S$5,D172*0.7+E172+H172*0.7+I172,\"zvolte typ stavby\"))))","v":30},{"$f":"IF(B172=data!$S$2,(M172*10)/4.9,IF(B172=data!$S$3,(M172*10)/3.4,IF(B172=data!$S$4,(M172*10)/5.3,IF(B172=data!$S$5,(M172*10)/3.4,\"zvolte typ stavby\"))))","v":56.60377358490566},5800000]
["II/118 Bakov u Beřovic, havárie operné zdi-PD","řešení bodové závady a/nebo bezpečnostního rizika (křižovatky, opěrné zdi, skalní masivy)",null,1,9,6,10,0,7,0,0,0,{"$f":"IF(B173=data!$S$2,D173*0.7+E173*0.2+F173*0.8+G173+H173*0.2+I173+J173*0.3+K173*0.5+L173*0.2,IF(B173=data!$S$3,D173*0.1+E173*0.3+F173*0.1+G173+I173+J173*0.5+K173*0.4,IF(B173=data!$S$4,D173*0.6+E173*0.7+F173+G173+I173+L173,IF(B173=data!$S$5,D173*0.7+E173+H173*0.7+I173,\"zvolte typ stavby\"))))","v":29.9},{"$f":"IF(B173=data!$S$2,(M173*10)/4.9,IF(B173=data!$S$3,(M173*10)/3.4,IF(B173=data!$S$4,(M173*10)/5.3,IF(B173=data!$S$5,(M173*10)/3.4,\"zvolte typ stavby\"))))","v":56.415094339622641},6500000]
["II/268 Mnichovo Hradiště - bodové závady před a za mostem 268-006","řešení bodové závady a/nebo bezpečnostního rizika (křižovatky, opěrné zdi, skalní masivy)",null,6,10,3,6,0,10,0,10,0,{"$f":"IF(B174=data!$S$2,D174*0.7+E174*0.2+F174*0.8+G174+H174*0.2+I174+J174*0.3+K174*0.5+L174*0.2,IF(B174=data!$S$3,D174*0.1+E174*0.3+F174*0.1+G174+I174+J174*0.5+K174*0.4,IF(B174=data!$S$4,D174*0.6+E174*0.7+F174+G174+I174+L174,IF(B174=data!$S$5,D174*0.7+E174+H174*0.7+I174,\"zvolte typ stavby\"))))","v":29.6},{"$f":"IF(B174=data!$S$2,(M174*10)/4.9,IF(B174=data!$S$3,(M174*10)/3.4,IF(B174=data!$S$4,(M174*10)/5.3,IF(B174=data!$S$5,(M174*10)/3.4,\"zvolte typ stavby\"))))","v":55.84905660377359},6000000]
["III/2741 Kropáčova Vrutice - opěrná zeď","řešení bodové závady a/nebo bezpečnostního rizika (křižovatky, opěrné zdi, skalní masivy)","-",2,4,10,10,0,4,0,10,0,{"$f":"IF(B175=data!$S$2,D175*0.7+E175*0.2+F175*0.8+G175+H175*0.2+I175+J175*0.3+K175*0.5+L175*0.2,IF(B175=data!$S$3,D175*0.1+E175*0.3+F175*0.1+G175+I175+J175*0.5+K175*0.4,IF(B175=data!$S$4,D175*0.6+E175*0.7+F175+G175+I175+L175,IF(B175=data!$S$5,D175*0.7+E175+H175*0.7+I175,\"zvolte typ stavby\"))))","v":28},{"$f":"IF(B175=data!$S$2,(M175*10)/4.9,IF(B175=data!$S$3,(M175*10)/3.4,IF(B175=data!$S$4,(M175*10)/5.3,IF(B175=data!$S$5,(M175*10)/3.4,\"zvolte typ stavby\"))))","v":52.830188679245282},5000000]
["III-00724 a 00712 Knovíz, úprava křižovatky-bezpečnostní inspekce","řešení bodové závady a/nebo bezpečnostního rizika (křižovatky, opěrné zdi, skalní masivy)",null,3,7,3,3,0,7,0,10,7,{"$f":"IF(B176=data!$S$2,D176*0.7+E176*0.2+F176*0.8+G176+H176*0.2+I176+J176*0.3+K176*0.5+L176*0.2,IF(B176=data!$S$3,D176*0.1+E176*0.3+F176*0.1+G176+I176+J176*0.5+K176*0.4,IF(B176=data!$S$4,D176*0.6+E176*0.7+F176+G176+I176+L176,IF(B176=data!$S$5,D176*0.7+E176+H176*0.7+I176,\"zvolte typ stavby\"))))","v":26.7},{"$f":"IF(B176=data!$S$2,(M176*10)/4.9,IF(B176=data!$S$3,(M176*10)/3.4,IF(B176=data!$S$4,(M176*10)/5.3,IF(B176=data!$S$5,(M176*10)/3.4,\"zvolte typ stavby\"))))","v":50.377358490566039}]
["III/1133 Český Brod, Zahrady opěrná zeď","řešení bodové závady a/nebo bezpečnostního rizika (křižovatky, opěrné zdi, skalní masivy)","-",1,5,6,10,0,4,10,0,2,{"$f":"IF(B177=data!$S$2,D177*0.7+E177*0.2+F177*0.8+G177+H177*0.2+I177+J177*0.3+K177*0.5+L177*0.2,IF(B177=data!$S$3,D177*0.1+E177*0.3+F177*0.1+G177+I177+J177*0.5+K177*0.4,IF(B177=data!$S$4,D177*0.6+E177*0.7+F177+G177+I177+L177,IF(B177=data!$S$5,D177*0.7+E177+H177*0.7+I177,\"zvolte typ stavby\"))))","v":26.1},{"$f":"IF(B177=data!$S$2,(M177*10)/4.9,IF(B177=data!$S$3,(M177*10)/3.4,IF(B177=data!$S$4,(M177*10)/5.3,IF(B177=data!$S$5,(M177*10)/3.4,\"zvolte typ stavby\"))))","v":49.245283018867923},20000000]
["II/610 x II/245 Brandýs nad Labem, křižovatka ","řešení bodové závady a/nebo bezpečnostního rizika (křižovatky, opěrné zdi, skalní masivy)","-",9,10,6,3,0,4,0,0,0,{"$f":"IF(B178=data!$S$2,D178*0.7+E178*0.2+F178*0.8+G178+H178*0.2+I178+J178*0.3+K178*0.5+L178*0.2,IF(B178=data!$S$3,D178*0.1+E178*0.3+F178*0.1+G178+I178+J178*0.5+K178*0.4,IF(B178=data!$S$4,D178*0.6+E178*0.7+F178+G178+I178+L178,IF(B178=data!$S$5,D178*0.7+E178+H178*0.7+I178,\"zvolte typ stavby\"))))","v":25.4},{"$f":"IF(B178=data!$S$2,(M178*10)/4.9,IF(B178=data!$S$3,(M178*10)/3.4,IF(B178=data!$S$4,(M178*10)/5.3,IF(B178=data!$S$5,(M178*10)/3.4,\"zvolte typ stavby\"))))","v":47.924528301886795},10580000]
[null,"řešení bodové závady a/nebo bezpečnostního rizika (křižovatky, opěrné zdi, skalní masivy)","-",3,5,6,6,0,4,0,10,2,{"$f":"IF(B179=data!$S$2,D179*0.7+E179*0.2+F179*0.8+G179+H179*0.2+I179+J179*0.3+K179*0.5+L179*0.2,IF(B179=data!$S$3,D179*0.1+E179*0.3+F179*0.1+G179+I179+J179*0.5+K179*0.4,IF(B179=data!$S$4,D179*0.6+E179*0.7+F179+G179+I179+L179,IF(B179=data!$S$5,D179*0.7+E179+H179*0.7+I179,\"zvolte typ stavby\"))))","v":23.3},{"$f":"IF(B179=data!$S$2,(M179*10)/4.9,IF(B179=data!$S$3,(M179*10)/3.4,IF(B179=data!$S$4,(M179*10)/5.3,IF(B179=data!$S$5,(M179*10)/3.4,\"zvolte typ stavby\"))))","v":43.962264150943398}]
["III/27234A Bělá pod Bezdězem - opěrná zeď","řešení bodové závady a/nebo bezpečnostního rizika (křižovatky, opěrné zdi, skalní masivy)","-",3,5,1,10,0,4,0,0,2,{"$f":"IF(B180=data!$S$2,D180*0.7+E180*0.2+F180*0.8+G180+H180*0.2+I180+J180*0.3+K180*0.5+L180*0.2,IF(B180=data!$S$3,D180*0.1+E180*0.3+F180*0.1+G180+I180+J180*0.5+K180*0.4,IF(B180=data!$S$4,D180*0.6+E180*0.7+F180+G180+I180+L180,IF(B180=data!$S$5,D180*0.7+E180+H180*0.7+I180,\"zvolte typ stavby\"))))","v":22.3},{"$f":"IF(B180=data!$S$2,(M180*10)/4.9,IF(B180=data!$S$3,(M180*10)/3.4,IF(B180=data!$S$4,(M180*10)/5.3,IF(B180=data!$S$5,(M180*10)/3.4,\"zvolte typ stavby\"))))","v":42.075471698113212},30000000]
["II/238, III/23631 a III/2384 úprava křižovatek-bezpečnostní inspekce","řešení bodové závady a/nebo bezpečnostního rizika (křižovatky, opěrné zdi, skalní masivy)",null,2,9,3,3,0,4,0,10,4,{"$f":"IF(B181=data!$S$2,D181*0.7+E181*0.2+F181*0.8+G181+H181*0.2+I181+J181*0.3+K181*0.5+L181*0.2,IF(B181=data!$S$3,D181*0.1+E181*0.3+F181*0.1+G181+I181+J181*0.5+K181*0.4,IF(B181=data!$S$4,D181*0.6+E181*0.7+F181+G181+I181+L181,IF(B181=data!$S$5,D181*0.7+E181+H181*0.7+I181,\"zvolte typ stavby\"))))","v":21.5},{"$f":"IF(B181=data!$S$2,(M181*10)/4.9,IF(B181=data!$S$3,(M181*10)/3.4,IF(B181=data!$S$4,(M181*10)/5.3,IF(B181=data!$S$5,(M181*10)/3.4,\"zvolte typ stavby\"))))","v":40.566037735849058}]
["III/24217 Netřeba, sanace svahu","řešení bodové závady a/nebo bezpečnostního rizika (křižovatky, opěrné zdi, skalní masivy)","-",3,5,6,6,0,2,0,0,2,{"$f":"IF(B182=data!$S$2,D182*0.7+E182*0.2+F182*0.8+G182+H182*0.2+I182+J182*0.3+K182*0.5+L182*0.2,IF(B182=data!$S$3,D182*0.1+E182*0.3+F182*0.1+G182+I182+J182*0.5+K182*0.4,IF(B182=data!$S$4,D182*0.6+E182*0.7+F182+G182+I182+L182,IF(B182=data!$S$5,D182*0.7+E182+H182*0.7+I182,\"zvolte typ stavby\"))))","v":21.3},{"$f":"IF(B182=data!$S$2,(M182*10)/4.9,IF(B182=data!$S$3,(M182*10)/3.4,IF(B182=data!$S$4,(M182*10)/5.3,IF(B182=data!$S$5,(M182*10)/3.4,\"zvolte typ stavby\"))))","v":40.188679245283019},7000000]
["III-1169 Sv.Jan pod Sklalou-zabezpečení skalního masivu-PD","řešení bodové závady a/nebo bezpečnostního rizika (křižovatky, opěrné zdi, skalní masivy)","-",3,4,6,6,0,4,0,10,0,{"$f":"IF(B183=data!$S$2,D183*0.7+E183*0.2+F183*0.8+G183+H183*0.2+I183+J183*0.3+K183*0.5+L183*0.2,IF(B183=data!$S$3,D183*0.1+E183*0.3+F183*0.1+G183+I183+J183*0.5+K183*0.4,IF(B183=data!$S$4,D183*0.6+E183*0.7+F183+G183+I183+L183,IF(B183=data!$S$5,D183*0.7+E183+H183*0.7+I183,\"zvolte typ stavby\"))))","v":20.6},{"$f":"IF(B183=data!$S$2,(M183*10)/4.9,IF(B183=data!$S$3,(M183*10)/3.4,IF(B183=data!$S$4,(M183*10)/5.3,IF(B183=data!$S$5,(M183*10)/3.4,\"zvolte typ stavby\"))))","v":38.867924528301891},20000000]
["III/27314 Hleďsebe, havárie zemního tělesa ","řešení bodové závady a/nebo bezpečnostního rizika (křižovatky, opěrné zdi, skalní masivy)","-",1,5,1,10,0,2,0,0,2,{"$f":"IF(B184=data!$S$2,D184*0.7+E184*0.2+F184*0.8+G184+H184*0.2+I184+J184*0.3+K184*0.5+L184*0.2,IF(B184=data!$S$3,D184*0.1+E184*0.3+F184*0.1+G184+I184+J184*0.5+K184*0.4,IF(B184=data!$S$4,D184*0.6+E184*0.7+F184+G184+I184+L184,IF(B184=data!$S$5,D184*0.7+E184+H184*0.7+I184,\"zvolte typ stavby\"))))","v":19.100000000000001},{"$f":"IF(B184=data!$S$2,(M184*10)/4.9,IF(B184=data!$S$3,(M184*10)/3.4,IF(B184=data!$S$4,(M184*10)/5.3,IF(B184=data!$S$5,(M184*10)/3.4,\"zvolte typ stavby\"))))","v":36.037735849056602},19000000]
["III/26811 Hoškovice - bodová závada před mostem 26811-2","řešení bodové závady a/nebo bezpečnostního rizika (křižovatky, opěrné zdi, skalní masivy)",null,1,2,1,6,0,2,0,null,0,{"$f":"IF(B185=data!$S$2,D185*0.7+E185*0.2+F185*0.8+G185+H185*0.2+I185+J185*0.3+K185*0.5+L185*0.2,IF(B185=data!$S$3,D185*0.1+E185*0.3+F185*0.1+G185+I185+J185*0.5+K185*0.4,IF(B185=data!$S$4,D185*0.6+E185*0.7+F185+G185+I185+L185,IF(B185=data!$S$5,D185*0.7+E185+H185*0.7+I185,\"zvolte typ stavby\"))))","v":11},{"$f":"IF(B185=data!$S$2,(M185*10)/4.9,IF(B185=data!$S$3,(M185*10)/3.4,IF(B185=data!$S$4,(M185*10)/5.3,IF(B185=data!$S$5,(M185*10)/3.4,\"zvolte typ stavby\"))))","v":20.754716981132077},10000000]
[null,null,null,null,null,null,null,null,null,null,null,null,{"$f":"IF(B186=data!$S$2,D186*0.7+E186*0.2+F186*0.8+G186+H186*0.2+I186+J186*0.3+K186*0.5+L186*0.2,IF(B186=data!$S$3,D186*0.1+E186*0.3+F186*0.1+G186+I186+J186*0.5+K186*0.4,IF(B186=data!$S$4,D186*0.6+E186*0.7+F186+G186+I186+L186,IF(B186=data!$S$5,D186*0.7+E186+H186*0.7+I186,\"zvolte typ stavby\"))))","v":"zvolte typ stavby"},{"$f":"IF(B186=data!$S$2,(M186*10)/4.9,IF(B186=data!$S$3,(M186*10)/3.4,IF(B186=data!$S$4,(M186*10)/5.3,IF(B186=data!$S$5,(M186*10)/3.4,\"zvolte typ stavby\"))))","v":"zvolte typ stavby"}]
["II/116 Srbsko, havárie odvodnění ","řešení bodové závady a/nebo bezpečnostního rizika (křižovatky, opěrné zdi, skalní masivy)",null,4,7,10,10,1,7,0,0,2,{"$f":"IF(B187=data!$S$2,D187*0.7+E187*0.2+F187*0.8+G187+H187*0.2+I187+J187*0.3+K187*0.5+L187*0.2,IF(B187=data!$S$3,D187*0.1+E187*0.3+F187*0.1+G187+I187+J187*0.5+K187*0.4,IF(B187=data!$S$4,D187*0.6+E187*0.7+F187+G187+I187+L187,IF(B187=data!$S$5,D187*0.7+E187+H187*0.7+I187,\"zvolte typ stavby\"))))","v":36.299999999999997},{"$f":"IF(B187=data!$S$2,(M187*10)/4.9,IF(B187=data!$S$3,(M187*10)/3.4,IF(B187=data!$S$4,(M187*10)/5.3,IF(B187=data!$S$5,(M187*10)/3.4,\"zvolte typ stavby\"))))","v":68.490566037735846},1500000]
["II/11553 Pičín, rekonstrukce opěrné zdi","řešení bodové závady a/nebo bezpečnostního rizika (křižovatky, opěrné zdi, skalní masivy)",null,2,7,10,10,1,7,0,0,4,{"$f":"IF(B188=data!$S$2,D188*0.7+E188*0.2+F188*0.8+G188+H188*0.2+I188+J188*0.3+K188*0.5+L188*0.2,IF(B188=data!$S$3,D188*0.1+E188*0.3+F188*0.1+G188+I188+J188*0.5+K188*0.4,IF(B188=data!$S$4,D188*0.6+E188*0.7+F188+G188+I188+L188,IF(B188=data!$S$5,D188*0.7+E188+H188*0.7+I188,\"zvolte typ stavby\"))))","v":37.1},{"$f":"IF(B188=data!$S$2,(M188*10)/4.9,IF(B188=data!$S$3,(M188*10)/3.4,IF(B188=data!$S$4,(M188*10)/5.3,IF(B188=data!$S$5,(M188*10)/3.4,\"zvolte typ stavby\"))))","v":70},"6 000 000,-"]
["II/150 Načeradec - Horní Lhota - hr. kraje","oprava a rekonstrukce",null,3,10,10,10,10,10,0,10,4,{"$f":"IF(B189=data!$S$2,D189*0.7+E189*0.2+F189*0.8+G189+H189*0.2+I189+J189*0.3+K189*0.5+L189*0.2,IF(B189=data!$S$3,D189*0.1+E189*0.3+F189*0.1+G189+I189+J189*0.5+K189*0.4,IF(B189=data!$S$4,D189*0.6+E189*0.7+F189+G189+I189+L189,IF(B189=data!$S$5,D189*0.7+E189+H189*0.7+I189,\"zvolte typ stavby\"))))","v":39.9},{"$f":"IF(B189=data!$S$2,(M189*10)/4.9,IF(B189=data!$S$3,(M189*10)/3.4,IF(B189=data!$S$4,(M189*10)/5.3,IF(B189=data!$S$5,(M189*10)/3.4,\"zvolte typ stavby\"))))","v":81.428571428571416},"132   000 000,-"]
["III/33310 Zeleneč - Svémyslice","oprava a rekonstrukce","Rekonstrukce",4,7,10,6,10,10,0,10,2,{"$f":"IF(B190=data!$S$2,D190*0.7+E190*0.2+F190*0.8+G190+H190*0.2+I190+J190*0.3+K190*0.5+L190*0.2,IF(B190=data!$S$3,D190*0.1+E190*0.3+F190*0.1+G190+I190+J190*0.5+K190*0.4,IF(B190=data!$S$4,D190*0.6+E190*0.7+F190+G190+I190+L190,IF(B190=data!$S$5,D190*0.7+E190+H190*0.7+I190,\"zvolte typ stavby\"))))","v":35.6},{"$f":"IF(B190=data!$S$2,(M190*10)/4.9,IF(B190=data!$S$3,(M190*10)/3.4,IF(B190=data!$S$4,(M190*10)/5.3,IF(B190=data!$S$5,(M190*10)/3.4,\"zvolte typ stavby\"))))","v":72.65306122448979},30000000]
["II/101 Neratovice - Jiřice","oprava a rekonstrukce","Rekonstrukce",5,10,10,10,1,10,0,10,2,{"$f":"IF(B191=data!$S$2,D191*0.7+E191*0.2+F191*0.8+G191+H191*0.2+I191+J191*0.3+K191*0.5+L191*0.2,IF(B191=data!$S$3,D191*0.1+E191*0.3+F191*0.1+G191+I191+J191*0.5+K191*0.4,IF(B191=data!$S$4,D191*0.6+E191*0.7+F191+G191+I191+L191,IF(B191=data!$S$5,D191*0.7+E191+H191*0.7+I191,\"zvolte typ stavby\"))))","v":39.1},{"$f":"IF(B191=data!$S$2,(M191*10)/4.9,IF(B191=data!$S$3,(M191*10)/3.4,IF(B191=data!$S$4,(M191*10)/5.3,IF(B191=data!$S$5,(M191*10)/3.4,\"zvolte typ stavby\"))))","v":79.795918367346928},30000000]
["III32914 Kostelní Lhota -Pečky","oprava a rekonstrukce",null,null,null,null,null,null,null,null,null,null,{"$f":"IF(B192=data!$S$2,D192*0.7+E192*0.2+F192*0.8+G192+H192*0.2+I192+J192*0.3+K192*0.5+L192*0.2,IF(B192=data!$S$3,D192*0.1+E192*0.3+F192*0.1+G192+I192+J192*0.5+K192*0.4,IF(B192=data!$S$4,D192*0.6+E192*0.7+F192+G192+I192+L192,IF(B192=data!$S$5,D192*0.7+E192+H192*0.7+I192,\"zvolte typ stavby\"))))","v":0},{"$f":"IF(B192=data!$S$2,(M192*10)/4.9,IF(B192=data!$S$3,(M192*10)/3.4,IF(B192=data!$S$4,(M192*10)/5.3,IF(B192=data!$S$5,(M192*10)/3.4,\"zvolte typ stavby\"))))","v":0},20000000]
["III/32710 Týnec nad Labem-Hranice kraje","oprava a rekonstrukce",null,null,null,null,null,null,null,null,null,null,{"$f":"IF(B193=data!$S$2,D193*0.7+E193*0.2+F193*0.8+G193+H193*0.2+I193+J193*0.3+K193*0.5+L193*0.2,IF(B193=data!$S$3,D193*0.1+E193*0.3+F193*0.1+G193+I193+J193*0.5+K193*0.4,IF(B193=data!$S$4,D193*0.6+E193*0.7+F193+G193+I193+L193,IF(B193=data!$S$5,D193*0.7+E193+H193*0.7+I193,\"zvolte typ stavby\"))))","v":0},{"$f":"IF(B193=data!$S$2,(M193*10)/4.9,IF(B193=data!$S$3,(M193*10)/3.4,IF(B193=data!$S$4,(M193*10)/5.3,IF(B193=data!$S$5,(M193*10)/3.4,\"zvolte typ stavby\"))))","v":0},10000000]
[null,null,null,null,null,null,null,null,null,null,null,null,{"$f":"IF(B194=data!$S$2,D194*0.7+E194*0.2+F194*0.8+G194+H194*0.2+I194+J194*0.3+K194*0.5+L194*0.2,IF(B194=data!$S$3,D194*0.1+E194*0.3+F194*0.1+G194+I194+J194*0.5+K194*0.4,IF(B194=data!$S$4,D194*0.6+E194*0.7+F194+G194+I194+L194,IF(B194=data!$S$5,D194*0.7+E194+H194*0.7+I194,\"zvolte typ stavby\"))))","v":"zvolte typ stavby"},{"$f":"IF(B194=data!$S$2,(M194*10)/4.9,IF(B194=data!$S$3,(M194*10)/3.4,IF(B194=data!$S$4,(M194*10)/5.3,IF(B194=data!$S$5,(M194*10)/3.4,\"zvolte typ stavby\"))))","v":"zvolte typ stavby"}]
[null,null,null,null,null,null,null,null,null,null,null,null,{"$f":"IF(B195=data!$S$2,D195*0.7+E195*0.2+F195*0.8+G195+H195*0.2+I195+J195*0.3+K195*0.5+L195*0.2,IF(B195=data!$S$3,D195*0.1+E195*0.3+F195*0.1+G195+I195+J195*0.5+K195*0.4,IF(B195=data!$S$4,D195*0.6+E195*0.7+F195+G195+I195+L195,IF(B195=data!$S$5,D195*0.7+E195+H195*0.7+I195,\"zvolte typ stavby\"))))","v":"zvolte typ stavby"},{"$f":"IF(B195=data!$S$2,(M195*10)/4.9,IF(B195=data!$S$3,(M195*10)/3.4,IF(B195=data!$S$4,(M195*10)/5.3,IF(B195=data!$S$5,(M195*10)/3.4,\"zvolte typ stavby\"))))","v":"zvolte typ stavby"}]
[null,null,null,null,null,null,null,null,null,null,null,null,{"$f":"IF(B196=data!$S$2,D196*0.7+E196*0.2+F196*0.8+G196+H196*0.2+I196+J196*0.3+K196*0.5+L196*0.2,IF(B196=data!$S$3,D196*0.1+E196*0.3+F196*0.1+G196+I196+J196*0.5+K196*0.4,IF(B196=data!$S$4,D196*0.6+E196*0.7+F196+G196+I196+L196,IF(B196=data!$S$5,D196*0.7+E196+H196*0.7+I196,\"zvolte typ stavby\"))))","v":"zvolte typ stavby"},{"$f":"IF(B196=data!$S$2,(M196*10)/4.9,IF(B196=data!$S$3,(M196*10)/3.4,IF(B196=data!$S$4,(M196*10)/5.3,IF(B196=data!$S$5,(M196*10)/3.4,\"zvolte typ stavby\"))))","v":"zvolte typ stavby"}]
[null,null,null,null,null,null,null,null,null,null,null,null,{"$f":"IF(B197=data!$S$2,D197*0.7+E197*0.2+F197*0.8+G197+H197*0.2+I197+J197*0.3+K197*0.5+L197*0.2,IF(B197=data!$S$3,D197*0.1+E197*0.3+F197*0.1+G197+I197+J197*0.5+K197*0.4,IF(B197=data!$S$4,D197*0.6+E197*0.7+F197+G197+I197+L197,IF(B197=data!$S$5,D197*0.7+E197+H197*0.7+I197,\"zvolte typ stavby\"))))","v":"zvolte typ stavby"},{"$f":"IF(B197=data!$S$2,(M197*10)/4.9,IF(B197=data!$S$3,(M197*10)/3.4,IF(B197=data!$S$4,(M197*10)/5.3,IF(B197=data!$S$5,(M197*10)/3.4,\"zvolte typ stavby\"))))","v":"zvolte typ stavby"}]
[null,null,null,null,null,null,null,null,null,null,null,null,{"$f":"IF(B198=data!$S$2,D198*0.7+E198*0.2+F198*0.8+G198+H198*0.2+I198+J198*0.3+K198*0.5+L198*0.2,IF(B198=data!$S$3,D198*0.1+E198*0.3+F198*0.1+G198+I198+J198*0.5+K198*0.4,IF(B198=data!$S$4,D198*0.6+E198*0.7+F198+G198+I198+L198,IF(B198=data!$S$5,D198*0.7+E198+H198*0.7+I198,\"zvolte typ stavby\"))))","v":"zvolte typ stavby"},{"$f":"IF(B198=data!$S$2,(M198*10)/4.9,IF(B198=data!$S$3,(M198*10)/3.4,IF(B198=data!$S$4,(M198*10)/5.3,IF(B198=data!$S$5,(M198*10)/3.4,\"zvolte typ stavby\"))))","v":"zvolte typ stavby"}]
[null,null,null,null,null,null,null,null,null,null,null,null,{"$f":"IF(B199=data!$S$2,D199*0.7+E199*0.2+F199*0.8+G199+H199*0.2+I199+J199*0.3+K199*0.5+L199*0.2,IF(B199=data!$S$3,D199*0.1+E199*0.3+F199*0.1+G199+I199+J199*0.5+K199*0.4,IF(B199=data!$S$4,D199*0.6+E199*0.7+F199+G199+I199+L199,IF(B199=data!$S$5,D199*0.7+E199+H199*0.7+I199,\"zvolte typ stavby\"))))","v":"zvolte typ stavby"},{"$f":"IF(B199=data!$S$2,(M199*10)/4.9,IF(B199=data!$S$3,(M199*10)/3.4,IF(B199=data!$S$4,(M199*10)/5.3,IF(B199=data!$S$5,(M199*10)/3.4,\"zvolte typ stavby\"))))","v":"zvolte typ stavby"}]
[null,null,null,null,null,null,null,null,null,null,null,null,{"$f":"IF(B200=data!$S$2,D200*0.7+E200*0.2+F200*0.8+G200+H200*0.2+I200+J200*0.3+K200*0.5+L200*0.2,IF(B200=data!$S$3,D200*0.1+E200*0.3+F200*0.1+G200+I200+J200*0.5+K200*0.4,IF(B200=data!$S$4,D200*0.6+E200*0.7+F200+G200+I200+L200,IF(B200=data!$S$5,D200*0.7+E200+H200*0.7+I200,\"zvolte typ stavby\"))))","v":"zvolte typ stavby"},{"$f":"IF(B200=data!$S$2,(M200*10)/4.9,IF(B200=data!$S$3,(M200*10)/3.4,IF(B200=data!$S$4,(M200*10)/5.3,IF(B200=data!$S$5,(M200*10)/3.4,\"zvolte typ stavby\"))))","v":"zvolte typ stavby"}]
[null,null,null,null,null,null,null,null,null,null,null,null,{"$f":"IF(B201=data!$S$2,D201*0.7+E201*0.2+F201*0.8+G201+H201*0.2+I201+J201*0.3+K201*0.5+L201*0.2,IF(B201=data!$S$3,D201*0.1+E201*0.3+F201*0.1+G201+I201+J201*0.5+K201*0.4,IF(B201=data!$S$4,D201*0.6+E201*0.7+F201+G201+I201+L201,IF(B201=data!$S$5,D201*0.7+E201+H201*0.7+I201,\"zvolte typ stavby\"))))","v":"zvolte typ stavby"},{"$f":"IF(B201=data!$S$2,(M201*10)/4.9,IF(B201=data!$S$3,(M201*10)/3.4,IF(B201=data!$S$4,(M201*10)/5.3,IF(B201=data!$S$5,(M201*10)/3.4,\"zvolte typ stavby\"))))","v":"zvolte typ stavby"}]
[null,null,null,null,null,null,null,null,null,null,null,null,{"$f":"IF(B202=data!$S$2,D202*0.7+E202*0.2+F202*0.8+G202+H202*0.2+I202+J202*0.3+K202*0.5+L202*0.2,IF(B202=data!$S$3,D202*0.1+E202*0.3+F202*0.1+G202+I202+J202*0.5+K202*0.4,IF(B202=data!$S$4,D202*0.6+E202*0.7+F202+G202+I202+L202,IF(B202=data!$S$5,D202*0.7+E202+H202*0.7+I202,\"zvolte typ stavby\"))))","v":"zvolte typ stavby"},{"$f":"IF(B202=data!$S$2,(M202*10)/4.9,IF(B202=data!$S$3,(M202*10)/3.4,IF(B202=data!$S$4,(M202*10)/5.3,IF(B202=data!$S$5,(M202*10)/3.4,\"zvolte typ stavby\"))))","v":"zvolte typ stavby"}]
[null,null,null,null,null,null,null,null,null,null,null,null,{"$f":"IF(B203=data!$S$2,D203*0.7+E203*0.2+F203*0.8+G203+H203*0.2+I203+J203*0.3+K203*0.5+L203*0.2,IF(B203=data!$S$3,D203*0.1+E203*0.3+F203*0.1+G203+I203+J203*0.5+K203*0.4,IF(B203=data!$S$4,D203*0.6+E203*0.7+F203+G203+I203+L203,IF(B203=data!$S$5,D203*0.7+E203+H203*0.7+I203,\"zvolte typ stavby\"))))","v":"zvolte typ stavby"},{"$f":"IF(B203=data!$S$2,(M203*10)/4.9,IF(B203=data!$S$3,(M203*10)/3.4,IF(B203=data!$S$4,(M203*10)/5.3,IF(B203=data!$S$5,(M203*10)/3.4,\"zvolte typ stavby\"))))","v":"zvolte typ stavby"}]
[null,null,null,null,null,null,null,null,null,null,null,null,{"$f":"IF(B204=data!$S$2,D204*0.7+E204*0.2+F204*0.8+G204+H204*0.2+I204+J204*0.3+K204*0.5+L204*0.2,IF(B204=data!$S$3,D204*0.1+E204*0.3+F204*0.1+G204+I204+J204*0.5+K204*0.4,IF(B204=data!$S$4,D204*0.6+E204*0.7+F204+G204+I204+L204,IF(B204=data!$S$5,D204*0.7+E204+H204*0.7+I204,\"zvolte typ stavby\"))))","v":"zvolte typ stavby"},{"$f":"IF(B204=data!$S$2,(M204*10)/4.9,IF(B204=data!$S$3,(M204*10)/3.4,IF(B204=data!$S$4,(M204*10)/5.3,IF(B204=data!$S$5,(M204*10)/3.4,\"zvolte typ stavby\"))))","v":"zvolte typ stavby"}]
[null,null,null,null,null,null,null,null,null,null,null,null,{"$f":"IF(B205=data!$S$2,D205*0.7+E205*0.2+F205*0.8+G205+H205*0.2+I205+J205*0.3+K205*0.5+L205*0.2,IF(B205=data!$S$3,D205*0.1+E205*0.3+F205*0.1+G205+I205+J205*0.5+K205*0.4,IF(B205=data!$S$4,D205*0.6+E205*0.7+F205+G205+I205+L205,IF(B205=data!$S$5,D205*0.7+E205+H205*0.7+I205,\"zvolte typ stavby\"))))","v":"zvolte typ stavby"},{"$f":"IF(B205=data!$S$2,(M205*10)/4.9,IF(B205=data!$S$3,(M205*10)/3.4,IF(B205=data!$S$4,(M205*10)/5.3,IF(B205=data!$S$5,(M205*10)/3.4,\"zvolte typ stavby\"))))","v":"zvolte typ stavby"}]
[null,null,null,null,null,null,null,null,null,null,null,null,{"$f":"IF(B206=data!$S$2,D206*0.7+E206*0.2+F206*0.8+G206+H206*0.2+I206+J206*0.3+K206*0.5+L206*0.2,IF(B206=data!$S$3,D206*0.1+E206*0.3+F206*0.1+G206+I206+J206*0.5+K206*0.4,IF(B206=data!$S$4,D206*0.6+E206*0.7+F206+G206+I206+L206,IF(B206=data!$S$5,D206*0.7+E206+H206*0.7+I206,\"zvolte typ stavby\"))))","v":"zvolte typ stavby"},{"$f":"IF(B206=data!$S$2,(M206*10)/4.9,IF(B206=data!$S$3,(M206*10)/3.4,IF(B206=data!$S$4,(M206*10)/5.3,IF(B206=data!$S$5,(M206*10)/3.4,\"zvolte typ stavby\"))))","v":"zvolte typ stavby"}]
[null,null,null,null,null,null,null,null,null,null,null,null,{"$f":"IF(B207=data!$S$2,D207*0.7+E207*0.2+F207*0.8+G207+H207*0.2+I207+J207*0.3+K207*0.5+L207*0.2,IF(B207=data!$S$3,D207*0.1+E207*0.3+F207*0.1+G207+I207+J207*0.5+K207*0.4,IF(B207=data!$S$4,D207*0.6+E207*0.7+F207+G207+I207+L207,IF(B207=data!$S$5,D207*0.7+E207+H207*0.7+I207,\"zvolte typ stavby\"))))","v":"zvolte typ stavby"},{"$f":"IF(B207=data!$S$2,(M207*10)/4.9,IF(B207=data!$S$3,(M207*10)/3.4,IF(B207=data!$S$4,(M207*10)/5.3,IF(B207=data!$S$5,(M207*10)/3.4,\"zvolte typ stavby\"))))","v":"zvolte typ stavby"}]
[null,null,null,null,null,null,null,null,null,null,null,null,{"$f":"IF(B208=data!$S$2,D208*0.7+E208*0.2+F208*0.8+G208+H208*0.2+I208+J208*0.3+K208*0.5+L208*0.2,IF(B208=data!$S$3,D208*0.1+E208*0.3+F208*0.1+G208+I208+J208*0.5+K208*0.4,IF(B208=data!$S$4,D208*0.6+E208*0.7+F208+G208+I208+L208,IF(B208=data!$S$5,D208*0.7+E208+H208*0.7+I208,\"zvolte typ stavby\"))))","v":"zvolte typ stavby"},{"$f":"IF(B208=data!$S$2,(M208*10)/4.9,IF(B208=data!$S$3,(M208*10)/3.4,IF(B208=data!$S$4,(M208*10)/5.3,IF(B208=data!$S$5,(M208*10)/3.4,\"zvolte typ stavby\"))))","v":"zvolte typ stavby"}]
[null,null,null,null,null,null,null,null,null,null,null,null,{"$f":"IF(B209=data!$S$2,D209*0.7+E209*0.2+F209*0.8+G209+H209*0.2+I209+J209*0.3+K209*0.5+L209*0.2,IF(B209=data!$S$3,D209*0.1+E209*0.3+F209*0.1+G209+I209+J209*0.5+K209*0.4,IF(B209=data!$S$4,D209*0.6+E209*0.7+F209+G209+I209+L209,IF(B209=data!$S$5,D209*0.7+E209+H209*0.7+I209,\"zvolte typ stavby\"))))","v":"zvolte typ stavby"},{"$f":"IF(B209=data!$S$2,(M209*10)/4.9,IF(B209=data!$S$3,(M209*10)/3.4,IF(B209=data!$S$4,(M209*10)/5.3,IF(B209=data!$S$5,(M209*10)/3.4,\"zvolte typ stavby\"))))","v":"zvolte typ stavby"}]
[null,null,null,null,null,null,null,null,null,null,null,null,{"$f":"IF(B210=data!$S$2,D210*0.7+E210*0.2+F210*0.8+G210+H210*0.2+I210+J210*0.3+K210*0.5+L210*0.2,IF(B210=data!$S$3,D210*0.1+E210*0.3+F210*0.1+G210+I210+J210*0.5+K210*0.4,IF(B210=data!$S$4,D210*0.6+E210*0.7+F210+G210+I210+L210,IF(B210=data!$S$5,D210*0.7+E210+H210*0.7+I210,\"zvolte typ stavby\"))))","v":"zvolte typ stavby"},{"$f":"IF(B210=data!$S$2,(M210*10)/4.9,IF(B210=data!$S$3,(M210*10)/3.4,IF(B210=data!$S$4,(M210*10)/5.3,IF(B210=data!$S$5,(M210*10)/3.4,\"zvolte typ stavby\"))))","v":"zvolte typ stavby"}]
[null,null,null,null,null,null,null,null,null,null,null,null,{"$f":"IF(B211=data!$S$2,D211*0.7+E211*0.2+F211*0.8+G211+H211*0.2+I211+J211*0.3+K211*0.5+L211*0.2,IF(B211=data!$S$3,D211*0.1+E211*0.3+F211*0.1+G211+I211+J211*0.5+K211*0.4,IF(B211=data!$S$4,D211*0.6+E211*0.7+F211+G211+I211+L211,IF(B211=data!$S$5,D211*0.7+E211+H211*0.7+I211,\"zvolte typ stavby\"))))","v":"zvolte typ stavby"},{"$f":"IF(B211=data!$S$2,(M211*10)/4.9,IF(B211=data!$S$3,(M211*10)/3.4,IF(B211=data!$S$4,(M211*10)/5.3,IF(B211=data!$S$5,(M211*10)/3.4,\"zvolte typ stavby\"))))","v":"zvolte typ stavby"}]
[null,null,null,null,null,null,null,null,null,null,null,null,{"$f":"IF(B212=data!$S$2,D212*0.7+E212*0.2+F212*0.8+G212+H212*0.2+I212+J212*0.3+K212*0.5+L212*0.2,IF(B212=data!$S$3,D212*0.1+E212*0.3+F212*0.1+G212+I212+J212*0.5+K212*0.4,IF(B212=data!$S$4,D212*0.6+E212*0.7+F212+G212+I212+L212,IF(B212=data!$S$5,D212*0.7+E212+H212*0.7+I212,\"zvolte typ stavby\"))))","v":"zvolte typ stavby"},{"$f":"IF(B212=data!$S$2,(M212*10)/4.9,IF(B212=data!$S$3,(M212*10)/3.4,IF(B212=data!$S$4,(M212*10)/5.3,IF(B212=data!$S$5,(M212*10)/3.4,\"zvolte typ stavby\"))))","v":"zvolte typ stavby"}]
[null,null,null,null,null,null,null,null,null,null,null,null,{"$f":"IF(B213=data!$S$2,D213*0.7+E213*0.2+F213*0.8+G213+H213*0.2+I213+J213*0.3+K213*0.5+L213*0.2,IF(B213=data!$S$3,D213*0.1+E213*0.3+F213*0.1+G213+I213+J213*0.5+K213*0.4,IF(B213=data!$S$4,D213*0.6+E213*0.7+F213+G213+I213+L213,IF(B213=data!$S$5,D213*0.7+E213+H213*0.7+I213,\"zvolte typ stavby\"))))","v":"zvolte typ stavby"},{"$f":"IF(B213=data!$S$2,(M213*10)/4.9,IF(B213=data!$S$3,(M213*10)/3.4,IF(B213=data!$S$4,(M213*10)/5.3,IF(B213=data!$S$5,(M213*10)/3.4,\"zvolte typ stavby\"))))","v":"zvolte typ stavby"}]
[null,null,null,null,null,null,null,null,null,null,null,null,{"$f":"IF(B214=data!$S$2,D214*0.7+E214*0.2+F214*0.8+G214+H214*0.2+I214+J214*0.3+K214*0.5+L214*0.2,IF(B214=data!$S$3,D214*0.1+E214*0.3+F214*0.1+G214+I214+J214*0.5+K214*0.4,IF(B214=data!$S$4,D214*0.6+E214*0.7+F214+G214+I214+L214,IF(B214=data!$S$5,D214*0.7+E214+H214*0.7+I214,\"zvolte typ stavby\"))))","v":"zvolte typ stavby"},{"$f":"IF(B214=data!$S$2,(M214*10)/4.9,IF(B214=data!$S$3,(M214*10)/3.4,IF(B214=data!$S$4,(M214*10)/5.3,IF(B214=data!$S$5,(M214*10)/3.4,\"zvolte typ stavby\"))))","v":"zvolte typ stavby"}]
[null,null,null,null,null,null,null,null,null,null,null,null,{"$f":"IF(B215=data!$S$2,D215*0.7+E215*0.2+F215*0.8+G215+H215*0.2+I215+J215*0.3+K215*0.5+L215*0.2,IF(B215=data!$S$3,D215*0.1+E215*0.3+F215*0.1+G215+I215+J215*0.5+K215*0.4,IF(B215=data!$S$4,D215*0.6+E215*0.7+F215+G215+I215+L215,IF(B215=data!$S$5,D215*0.7+E215+H215*0.7+I215,\"zvolte typ stavby\"))))","v":"zvolte typ stavby"},{"$f":"IF(B215=data!$S$2,(M215*10)/4.9,IF(B215=data!$S$3,(M215*10)/3.4,IF(B215=data!$S$4,(M215*10)/5.3,IF(B215=data!$S$5,(M215*10)/3.4,\"zvolte typ stavby\"))))","v":"zvolte typ stavby"}]
[null,null,null,null,null,null,null,null,null,null,null,null,{"$f":"IF(B216=data!$S$2,D216*0.7+E216*0.2+F216*0.8+G216+H216*0.2+I216+J216*0.3+K216*0.5+L216*0.2,IF(B216=data!$S$3,D216*0.1+E216*0.3+F216*0.1+G216+I216+J216*0.5+K216*0.4,IF(B216=data!$S$4,D216*0.6+E216*0.7+F216+G216+I216+L216,IF(B216=data!$S$5,D216*0.7+E216+H216*0.7+I216,\"zvolte typ stavby\"))))","v":"zvolte typ stavby"},{"$f":"IF(B216=data!$S$2,(M216*10)/4.9,IF(B216=data!$S$3,(M216*10)/3.4,IF(B216=data!$S$4,(M216*10)/5.3,IF(B216=data!$S$5,(M216*10)/3.4,\"zvolte typ stavby\"))))","v":"zvolte typ stavby"}]
[null,null,null,null,null,null,null,null,null,null,null,null,{"$f":"IF(B217=data!$S$2,D217*0.7+E217*0.2+F217*0.8+G217+H217*0.2+I217+J217*0.3+K217*0.5+L217*0.2,IF(B217=data!$S$3,D217*0.1+E217*0.3+F217*0.1+G217+I217+J217*0.5+K217*0.4,IF(B217=data!$S$4,D217*0.6+E217*0.7+F217+G217+I217+L217,IF(B217=data!$S$5,D217*0.7+E217+H217*0.7+I217,\"zvolte typ stavby\"))))","v":"zvolte typ stavby"},{"$f":"IF(B217=data!$S$2,(M217*10)/4.9,IF(B217=data!$S$3,(M217*10)/3.4,IF(B217=data!$S$4,(M217*10)/5.3,IF(B217=data!$S$5,(M217*10)/3.4,\"zvolte typ stavby\"))))","v":"zvolte typ stavby"}]
[null,null,null,null,null,null,null,null,null,null,null,null,{"$f":"IF(B218=data!$S$2,D218*0.7+E218*0.2+F218*0.8+G218+H218*0.2+I218+J218*0.3+K218*0.5+L218*0.2,IF(B218=data!$S$3,D218*0.1+E218*0.3+F218*0.1+G218+I218+J218*0.5+K218*0.4,IF(B218=data!$S$4,D218*0.6+E218*0.7+F218+G218+I218+L218,IF(B218=data!$S$5,D218*0.7+E218+H218*0.7+I218,\"zvolte typ stavby\"))))","v":"zvolte typ stavby"},{"$f":"IF(B218=data!$S$2,(M218*10)/4.9,IF(B218=data!$S$3,(M218*10)/3.4,IF(B218=data!$S$4,(M218*10)/5.3,IF(B218=data!$S$5,(M218*10)/3.4,\"zvolte typ stavby\"))))","v":"zvolte typ stavby"}]
[null,null,null,null,null,null,null,null,null,null,null,null,{"$f":"IF(B219=data!$S$2,D219*0.7+E219*0.2+F219*0.8+G219+H219*0.2+I219+J219*0.3+K219*0.5+L219*0.2,IF(B219=data!$S$3,D219*0.1+E219*0.3+F219*0.1+G219+I219+J219*0.5+K219*0.4,IF(B219=data!$S$4,D219*0.6+E219*0.7+F219+G219+I219+L219,IF(B219=data!$S$5,D219*0.7+E219+H219*0.7+I219,\"zvolte typ stavby\"))))","v":"zvolte typ stavby"},{"$f":"IF(B219=data!$S$2,(M219*10)/4.9,IF(B219=data!$S$3,(M219*10)/3.4,IF(B219=data!$S$4,(M219*10)/5.3,IF(B219=data!$S$5,(M219*10)/3.4,\"zvolte typ stavby\"))))","v":"zvolte typ stavby"}]
[null,null,null,null,null,null,null,null,null,null,null,null,{"$f":"IF(B220=data!$S$2,D220*0.7+E220*0.2+F220*0.8+G220+H220*0.2+I220+J220*0.3+K220*0.5+L220*0.2,IF(B220=data!$S$3,D220*0.1+E220*0.3+F220*0.1+G220+I220+J220*0.5+K220*0.4,IF(B220=data!$S$4,D220*0.6+E220*0.7+F220+G220+I220+L220,IF(B220=data!$S$5,D220*0.7+E220+H220*0.7+I220,\"zvolte typ stavby\"))))","v":"zvolte typ stavby"},{"$f":"IF(B220=data!$S$2,(M220*10)/4.9,IF(B220=data!$S$3,(M220*10)/3.4,IF(B220=data!$S$4,(M220*10)/5.3,IF(B220=data!$S$5,(M220*10)/3.4,\"zvolte typ stavby\"))))","v":"zvolte typ stavby"}]
[null,null,null,null,null,null,null,null,null,null,null,null,{"$f":"IF(B221=data!$S$2,D221*0.7+E221*0.2+F221*0.8+G221+H221*0.2+I221+J221*0.3+K221*0.5+L221*0.2,IF(B221=data!$S$3,D221*0.1+E221*0.3+F221*0.1+G221+I221+J221*0.5+K221*0.4,IF(B221=data!$S$4,D221*0.6+E221*0.7+F221+G221+I221+L221,IF(B221=data!$S$5,D221*0.7+E221+H221*0.7+I221,\"zvolte typ stavby\"))))","v":"zvolte typ stavby"},{"$f":"IF(B221=data!$S$2,(M221*10)/4.9,IF(B221=data!$S$3,(M221*10)/3.4,IF(B221=data!$S$4,(M221*10)/5.3,IF(B221=data!$S$5,(M221*10)/3.4,\"zvolte typ stavby\"))))","v":"zvolte typ stavby"}]
[null,null,null,null,null,null,null,null,null,null,null,null,{"$f":"IF(B222=data!$S$2,D222*0.7+E222*0.2+F222*0.8+G222+H222*0.2+I222+J222*0.3+K222*0.5+L222*0.2,IF(B222=data!$S$3,D222*0.1+E222*0.3+F222*0.1+G222+I222+J222*0.5+K222*0.4,IF(B222=data!$S$4,D222*0.6+E222*0.7+F222+G222+I222+L222,IF(B222=data!$S$5,D222*0.7+E222+H222*0.7+I222,\"zvolte typ stavby\"))))","v":"zvolte typ stavby"},{"$f":"IF(B222=data!$S$2,(M222*10)/4.9,IF(B222=data!$S$3,(M222*10)/3.4,IF(B222=data!$S$4,(M222*10)/5.3,IF(B222=data!$S$5,(M222*10)/3.4,\"zvolte typ stavby\"))))","v":"zvolte typ stavby"}]
[null,null,null,null,null,null,null,null,null,null,null,null,{"$f":"IF(B223=data!$S$2,D223*0.7+E223*0.2+F223*0.8+G223+H223*0.2+I223+J223*0.3+K223*0.5+L223*0.2,IF(B223=data!$S$3,D223*0.1+E223*0.3+F223*0.1+G223+I223+J223*0.5+K223*0.4,IF(B223=data!$S$4,D223*0.6+E223*0.7+F223+G223+I223+L223,IF(B223=data!$S$5,D223*0.7+E223+H223*0.7+I223,\"zvolte typ stavby\"))))","v":"zvolte typ stavby"},{"$f":"IF(B223=data!$S$2,(M223*10)/4.9,IF(B223=data!$S$3,(M223*10)/3.4,IF(B223=data!$S$4,(M223*10)/5.3,IF(B223=data!$S$5,(M223*10)/3.4,\"zvolte typ stavby\"))))","v":"zvolte typ stavby"}]
[null,null,null,null,null,null,null,null,null,null,null,null,{"$f":"IF(B224=data!$S$2,D224*0.7+E224*0.2+F224*0.8+G224+H224*0.2+I224+J224*0.3+K224*0.5+L224*0.2,IF(B224=data!$S$3,D224*0.1+E224*0.3+F224*0.1+G224+I224+J224*0.5+K224*0.4,IF(B224=data!$S$4,D224*0.6+E224*0.7+F224+G224+I224+L224,IF(B224=data!$S$5,D224*0.7+E224+H224*0.7+I224,\"zvolte typ stavby\"))))","v":"zvolte typ stavby"},{"$f":"IF(B224=data!$S$2,(M224*10)/4.9,IF(B224=data!$S$3,(M224*10)/3.4,IF(B224=data!$S$4,(M224*10)/5.3,IF(B224=data!$S$5,(M224*10)/3.4,\"zvolte typ stavby\"))))","v":"zvolte typ stavby"}]
[null,null,null,null,null,null,null,null,null,null,null,null,{"$f":"IF(B225=data!$S$2,D225*0.7+E225*0.2+F225*0.8+G225+H225*0.2+I225+J225*0.3+K225*0.5+L225*0.2,IF(B225=data!$S$3,D225*0.1+E225*0.3+F225*0.1+G225+I225+J225*0.5+K225*0.4,IF(B225=data!$S$4,D225*0.6+E225*0.7+F225+G225+I225+L225,IF(B225=data!$S$5,D225*0.7+E225+H225*0.7+I225,\"zvolte typ stavby\"))))","v":"zvolte typ stavby"},{"$f":"IF(B225=data!$S$2,(M225*10)/4.9,IF(B225=data!$S$3,(M225*10)/3.4,IF(B225=data!$S$4,(M225*10)/5.3,IF(B225=data!$S$5,(M225*10)/3.4,\"zvolte typ stavby\"))))","v":"zvolte typ stavby"}]
[null,null,null,null,null,null,null,null,null,null,null,null,{"$f":"IF(B226=data!$S$2,D226*0.7+E226*0.2+F226*0.8+G226+H226*0.2+I226+J226*0.3+K226*0.5+L226*0.2,IF(B226=data!$S$3,D226*0.1+E226*0.3+F226*0.1+G226+I226+J226*0.5+K226*0.4,IF(B226=data!$S$4,D226*0.6+E226*0.7+F226+G226+I226+L226,IF(B226=data!$S$5,D226*0.7+E226+H226*0.7+I226,\"zvolte typ stavby\"))))","v":"zvolte typ stavby"},{"$f":"IF(B226=data!$S$2,(M226*10)/4.9,IF(B226=data!$S$3,(M226*10)/3.4,IF(B226=data!$S$4,(M226*10)/5.3,IF(B226=data!$S$5,(M226*10)/3.4,\"zvolte typ stavby\"))))","v":"zvolte typ stavby"}]
[null,null,null,null,null,null,null,null,null,null,null,null,{"$f":"IF(B227=data!$S$2,D227*0.7+E227*0.2+F227*0.8+G227+H227*0.2+I227+J227*0.3+K227*0.5+L227*0.2,IF(B227=data!$S$3,D227*0.1+E227*0.3+F227*0.1+G227+I227+J227*0.5+K227*0.4,IF(B227=data!$S$4,D227*0.6+E227*0.7+F227+G227+I227+L227,IF(B227=data!$S$5,D227*0.7+E227+H227*0.7+I227,\"zvolte typ stavby\"))))","v":"zvolte typ stavby"},{"$f":"IF(B227=data!$S$2,(M227*10)/4.9,IF(B227=data!$S$3,(M227*10)/3.4,IF(B227=data!$S$4,(M227*10)/5.3,IF(B227=data!$S$5,(M227*10)/3.4,\"zvolte typ stavby\"))))","v":"zvolte typ stavby"}]
[null,null,null,null,null,null,null,null,null,null,null,null,{"$f":"IF(B228=data!$S$2,D228*0.7+E228*0.2+F228*0.8+G228+H228*0.2+I228+J228*0.3+K228*0.5+L228*0.2,IF(B228=data!$S$3,D228*0.1+E228*0.3+F228*0.1+G228+I228+J228*0.5+K228*0.4,IF(B228=data!$S$4,D228*0.6+E228*0.7+F228+G228+I228+L228,IF(B228=data!$S$5,D228*0.7+E228+H228*0.7+I228,\"zvolte typ stavby\"))))","v":"zvolte typ stavby"},{"$f":"IF(B228=data!$S$2,(M228*10)/4.9,IF(B228=data!$S$3,(M228*10)/3.4,IF(B228=data!$S$4,(M228*10)/5.3,IF(B228=data!$S$5,(M228*10)/3.4,\"zvolte typ stavby\"))))","v":"zvolte typ stavby"}]
[null,null,null,null,null,null,null,null,null,null,null,null,{"$f":"IF(B229=data!$S$2,D229*0.7+E229*0.2+F229*0.8+G229+H229*0.2+I229+J229*0.3+K229*0.5+L229*0.2,IF(B229=data!$S$3,D229*0.1+E229*0.3+F229*0.1+G229+I229+J229*0.5+K229*0.4,IF(B229=data!$S$4,D229*0.6+E229*0.7+F229+G229+I229+L229,IF(B229=data!$S$5,D229*0.7+E229+H229*0.7+I229,\"zvolte typ stavby\"))))","v":"zvolte typ stavby"},{"$f":"IF(B229=data!$S$2,(M229*10)/4.9,IF(B229=data!$S$3,(M229*10)/3.4,IF(B229=data!$S$4,(M229*10)/5.3,IF(B229=data!$S$5,(M229*10)/3.4,\"zvolte typ stavby\"))))","v":"zvolte typ stavby"}]
[null,null,null,null,null,null,null,null,null,null,null,null,{"$f":"IF(B230=data!$S$2,D230*0.7+E230*0.2+F230*0.8+G230+H230*0.2+I230+J230*0.3+K230*0.5+L230*0.2,IF(B230=data!$S$3,D230*0.1+E230*0.3+F230*0.1+G230+I230+J230*0.5+K230*0.4,IF(B230=data!$S$4,D230*0.6+E230*0.7+F230+G230+I230+L230,IF(B230=data!$S$5,D230*0.7+E230+H230*0.7+I230,\"zvolte typ stavby\"))))","v":"zvolte typ stavby"},{"$f":"IF(B230=data!$S$2,(M230*10)/4.9,IF(B230=data!$S$3,(M230*10)/3.4,IF(B230=data!$S$4,(M230*10)/5.3,IF(B230=data!$S$5,(M230*10)/3.4,\"zvolte typ stavby\"))))","v":"zvolte typ stavby"}]
[null,null,null,null,null,null,null,null,null,null,null,null,{"$f":"IF(B231=data!$S$2,D231*0.7+E231*0.2+F231*0.8+G231+H231*0.2+I231+J231*0.3+K231*0.5+L231*0.2,IF(B231=data!$S$3,D231*0.1+E231*0.3+F231*0.1+G231+I231+J231*0.5+K231*0.4,IF(B231=data!$S$4,D231*0.6+E231*0.7+F231+G231+I231+L231,IF(B231=data!$S$5,D231*0.7+E231+H231*0.7+I231,\"zvolte typ stavby\"))))","v":"zvolte typ stavby"},{"$f":"IF(B231=data!$S$2,(M231*10)/4.9,IF(B231=data!$S$3,(M231*10)/3.4,IF(B231=data!$S$4,(M231*10)/5.3,IF(B231=data!$S$5,(M231*10)/3.4,\"zvolte typ stavby\"))))","v":"zvolte typ stavby"}]
[null,null,null,null,null,null,null,null,null,null,null,null,{"$f":"IF(B232=data!$S$2,D232*0.7+E232*0.2+F232*0.8+G232+H232*0.2+I232+J232*0.3+K232*0.5+L232*0.2,IF(B232=data!$S$3,D232*0.1+E232*0.3+F232*0.1+G232+I232+J232*0.5+K232*0.4,IF(B232=data!$S$4,D232*0.6+E232*0.7+F232+G232+I232+L232,IF(B232=data!$S$5,D232*0.7+E232+H232*0.7+I232,\"zvolte typ stavby\"))))","v":"zvolte typ stavby"},{"$f":"IF(B232=data!$S$2,(M232*10)/4.9,IF(B232=data!$S$3,(M232*10)/3.4,IF(B232=data!$S$4,(M232*10)/5.3,IF(B232=data!$S$5,(M232*10)/3.4,\"zvolte typ stavby\"))))","v":"zvolte typ stavby"}]
[null,null,null,null,null,null,null,null,null,null,null,null,{"$f":"IF(B233=data!$S$2,D233*0.7+E233*0.2+F233*0.8+G233+H233*0.2+I233+J233*0.3+K233*0.5+L233*0.2,IF(B233=data!$S$3,D233*0.1+E233*0.3+F233*0.1+G233+I233+J233*0.5+K233*0.4,IF(B233=data!$S$4,D233*0.6+E233*0.7+F233+G233+I233+L233,IF(B233=data!$S$5,D233*0.7+E233+H233*0.7+I233,\"zvolte typ stavby\"))))","v":"zvolte typ stavby"},{"$f":"IF(B233=data!$S$2,(M233*10)/4.9,IF(B233=data!$S$3,(M233*10)/3.4,IF(B233=data!$S$4,(M233*10)/5.3,IF(B233=data!$S$5,(M233*10)/3.4,\"zvolte typ stavby\"))))","v":"zvolte typ stavby"}]
[null,null,null,null,null,null,null,null,null,null,null,null,{"$f":"IF(B234=data!$S$2,D234*0.7+E234*0.2+F234*0.8+G234+H234*0.2+I234+J234*0.3+K234*0.5+L234*0.2,IF(B234=data!$S$3,D234*0.1+E234*0.3+F234*0.1+G234+I234+J234*0.5+K234*0.4,IF(B234=data!$S$4,D234*0.6+E234*0.7+F234+G234+I234+L234,IF(B234=data!$S$5,D234*0.7+E234+H234*0.7+I234,\"zvolte typ stavby\"))))","v":"zvolte typ stavby"},{"$f":"IF(B234=data!$S$2,(M234*10)/4.9,IF(B234=data!$S$3,(M234*10)/3.4,IF(B234=data!$S$4,(M234*10)/5.3,IF(B234=data!$S$5,(M234*10)/3.4,\"zvolte typ stavby\"))))","v":"zvolte typ stavby"}]
[null,null,null,null,null,null,null,null,null,null,null,null,{"$f":"IF(B235=data!$S$2,D235*0.7+E235*0.2+F235*0.8+G235+H235*0.2+I235+J235*0.3+K235*0.5+L235*0.2,IF(B235=data!$S$3,D235*0.1+E235*0.3+F235*0.1+G235+I235+J235*0.5+K235*0.4,IF(B235=data!$S$4,D235*0.6+E235*0.7+F235+G235+I235+L235,IF(B235=data!$S$5,D235*0.7+E235+H235*0.7+I235,\"zvolte typ stavby\"))))","v":"zvolte typ stavby"},{"$f":"IF(B235=data!$S$2,(M235*10)/4.9,IF(B235=data!$S$3,(M235*10)/3.4,IF(B235=data!$S$4,(M235*10)/5.3,IF(B235=data!$S$5,(M235*10)/3.4,\"zvolte typ stavby\"))))","v":"zvolte typ stavby"}]
[null,null,null,null,null,null,null,null,null,null,null,null,{"$f":"IF(B236=data!$S$2,D236*0.7+E236*0.2+F236*0.8+G236+H236*0.2+I236+J236*0.3+K236*0.5+L236*0.2,IF(B236=data!$S$3,D236*0.1+E236*0.3+F236*0.1+G236+I236+J236*0.5+K236*0.4,IF(B236=data!$S$4,D236*0.6+E236*0.7+F236+G236+I236+L236,IF(B236=data!$S$5,D236*0.7+E236+H236*0.7+I236,\"zvolte typ stavby\"))))","v":"zvolte typ stavby"},{"$f":"IF(B236=data!$S$2,(M236*10)/4.9,IF(B236=data!$S$3,(M236*10)/3.4,IF(B236=data!$S$4,(M236*10)/5.3,IF(B236=data!$S$5,(M236*10)/3.4,\"zvolte typ stavby\"))))","v":"zvolte typ stavby"}]
[null,null,null,null,null,null,null,null,null,null,null,null,{"$f":"IF(B237=data!$S$2,D237*0.7+E237*0.2+F237*0.8+G237+H237*0.2+I237+J237*0.3+K237*0.5+L237*0.2,IF(B237=data!$S$3,D237*0.1+E237*0.3+F237*0.1+G237+I237+J237*0.5+K237*0.4,IF(B237=data!$S$4,D237*0.6+E237*0.7+F237+G237+I237+L237,IF(B237=data!$S$5,D237*0.7+E237+H237*0.7+I237,\"zvolte typ stavby\"))))","v":"zvolte typ stavby"},{"$f":"IF(B237=data!$S$2,(M237*10)/4.9,IF(B237=data!$S$3,(M237*10)/3.4,IF(B237=data!$S$4,(M237*10)/5.3,IF(B237=data!$S$5,(M237*10)/3.4,\"zvolte typ stavby\"))))","v":"zvolte typ stavby"}]
[null,null,null,null,null,null,null,null,null,null,null,null,{"$f":"IF(B238=data!$S$2,D238*0.7+E238*0.2+F238*0.8+G238+H238*0.2+I238+J238*0.3+K238*0.5+L238*0.2,IF(B238=data!$S$3,D238*0.1+E238*0.3+F238*0.1+G238+I238+J238*0.5+K238*0.4,IF(B238=data!$S$4,D238*0.6+E238*0.7+F238+G238+I238+L238,IF(B238=data!$S$5,D238*0.7+E238+H238*0.7+I238,\"zvolte typ stavby\"))))","v":"zvolte typ stavby"},{"$f":"IF(B238=data!$S$2,(M238*10)/4.9,IF(B238=data!$S$3,(M238*10)/3.4,IF(B238=data!$S$4,(M238*10)/5.3,IF(B238=data!$S$5,(M238*10)/3.4,\"zvolte typ stavby\"))))","v":"zvolte typ stavby"}]
[null,null,null,null,null,null,null,null,null,null,null,null,{"$f":"IF(B239=data!$S$2,D239*0.7+E239*0.2+F239*0.8+G239+H239*0.2+I239+J239*0.3+K239*0.5+L239*0.2,IF(B239=data!$S$3,D239*0.1+E239*0.3+F239*0.1+G239+I239+J239*0.5+K239*0.4,IF(B239=data!$S$4,D239*0.6+E239*0.7+F239+G239+I239+L239,IF(B239=data!$S$5,D239*0.7+E239+H239*0.7+I239,\"zvolte typ stavby\"))))","v":"zvolte typ stavby"},{"$f":"IF(B239=data!$S$2,(M239*10)/4.9,IF(B239=data!$S$3,(M239*10)/3.4,IF(B239=data!$S$4,(M239*10)/5.3,IF(B239=data!$S$5,(M239*10)/3.4,\"zvolte typ stavby\"))))","v":"zvolte typ stavby"}]
[null,null,null,null,null,null,null,null,null,null,null,null,{"$f":"IF(B240=data!$S$2,D240*0.7+E240*0.2+F240*0.8+G240+H240*0.2+I240+J240*0.3+K240*0.5+L240*0.2,IF(B240=data!$S$3,D240*0.1+E240*0.3+F240*0.1+G240+I240+J240*0.5+K240*0.4,IF(B240=data!$S$4,D240*0.6+E240*0.7+F240+G240+I240+L240,IF(B240=data!$S$5,D240*0.7+E240+H240*0.7+I240,\"zvolte typ stavby\"))))","v":"zvolte typ stavby"},{"$f":"IF(B240=data!$S$2,(M240*10)/4.9,IF(B240=data!$S$3,(M240*10)/3.4,IF(B240=data!$S$4,(M240*10)/5.3,IF(B240=data!$S$5,(M240*10)/3.4,\"zvolte typ stavby\"))))","v":"zvolte typ stavby"}]
[null,null,null,null,null,null,null,null,null,null,null,null,{"$f":"IF(B241=data!$S$2,D241*0.7+E241*0.2+F241*0.8+G241+H241*0.2+I241+J241*0.3+K241*0.5+L241*0.2,IF(B241=data!$S$3,D241*0.1+E241*0.3+F241*0.1+G241+I241+J241*0.5+K241*0.4,IF(B241=data!$S$4,D241*0.6+E241*0.7+F241+G241+I241+L241,IF(B241=data!$S$5,D241*0.7+E241+H241*0.7+I241,\"zvolte typ stavby\"))))","v":"zvolte typ stavby"},{"$f":"IF(B241=data!$S$2,(M241*10)/4.9,IF(B241=data!$S$3,(M241*10)/3.4,IF(B241=data!$S$4,(M241*10)/5.3,IF(B241=data!$S$5,(M241*10)/3.4,\"zvolte typ stavby\"))))","v":"zvolte typ stavby"}]
[null,null,null,null,null,null,null,null,null,null,null,null,{"$f":"IF(B242=data!$S$2,D242*0.7+E242*0.2+F242*0.8+G242+H242*0.2+I242+J242*0.3+K242*0.5+L242*0.2,IF(B242=data!$S$3,D242*0.1+E242*0.3+F242*0.1+G242+I242+J242*0.5+K242*0.4,IF(B242=data!$S$4,D242*0.6+E242*0.7+F242+G242+I242+L242,IF(B242=data!$S$5,D242*0.7+E242+H242*0.7+I242,\"zvolte typ stavby\"))))","v":"zvolte typ stavby"},{"$f":"IF(B242=data!$S$2,(M242*10)/4.9,IF(B242=data!$S$3,(M242*10)/3.4,IF(B242=data!$S$4,(M242*10)/5.3,IF(B242=data!$S$5,(M242*10)/3.4,\"zvolte typ stavby\"))))","v":"zvolte typ stavby"}]
[null,null,null,null,null,null,null,null,null,null,null,null,{"$f":"IF(B243=data!$S$2,D243*0.7+E243*0.2+F243*0.8+G243+H243*0.2+I243+J243*0.3+K243*0.5+L243*0.2,IF(B243=data!$S$3,D243*0.1+E243*0.3+F243*0.1+G243+I243+J243*0.5+K243*0.4,IF(B243=data!$S$4,D243*0.6+E243*0.7+F243+G243+I243+L243,IF(B243=data!$S$5,D243*0.7+E243+H243*0.7+I243,\"zvolte typ stavby\"))))","v":"zvolte typ stavby"},{"$f":"IF(B243=data!$S$2,(M243*10)/4.9,IF(B243=data!$S$3,(M243*10)/3.4,IF(B243=data!$S$4,(M243*10)/5.3,IF(B243=data!$S$5,(M243*10)/3.4,\"zvolte typ stavby\"))))","v":"zvolte typ stavby"}]
[null,null,null,null,null,null,null,null,null,null,null,null,{"$f":"IF(B244=data!$S$2,D244*0.7+E244*0.2+F244*0.8+G244+H244*0.2+I244+J244*0.3+K244*0.5+L244*0.2,IF(B244=data!$S$3,D244*0.1+E244*0.3+F244*0.1+G244+I244+J244*0.5+K244*0.4,IF(B244=data!$S$4,D244*0.6+E244*0.7+F244+G244+I244+L244,IF(B244=data!$S$5,D244*0.7+E244+H244*0.7+I244,\"zvolte typ stavby\"))))","v":"zvolte typ stavby"},{"$f":"IF(B244=data!$S$2,(M244*10)/4.9,IF(B244=data!$S$3,(M244*10)/3.4,IF(B244=data!$S$4,(M244*10)/5.3,IF(B244=data!$S$5,(M244*10)/3.4,\"zvolte typ stavby\"))))","v":"zvolte typ stavby"}]
[null,null,null,null,null,null,null,null,null,null,null,null,{"$f":"IF(B245=data!$S$2,D245*0.7+E245*0.2+F245*0.8+G245+H245*0.2+I245+J245*0.3+K245*0.5+L245*0.2,IF(B245=data!$S$3,D245*0.1+E245*0.3+F245*0.1+G245+I245+J245*0.5+K245*0.4,IF(B245=data!$S$4,D245*0.6+E245*0.7+F245+G245+I245+L245,IF(B245=data!$S$5,D245*0.7+E245+H245*0.7+I245,\"zvolte typ stavby\"))))","v":"zvolte typ stavby"},{"$f":"IF(B245=data!$S$2,(M245*10)/4.9,IF(B245=data!$S$3,(M245*10)/3.4,IF(B245=data!$S$4,(M245*10)/5.3,IF(B245=data!$S$5,(M245*10)/3.4,\"zvolte typ stavby\"))))","v":"zvolte typ stavby"}]
[null,null,null,null,null,null,null,null,null,null,null,null,{"$f":"IF(B246=data!$S$2,D246*0.7+E246*0.2+F246*0.8+G246+H246*0.2+I246+J246*0.3+K246*0.5+L246*0.2,IF(B246=data!$S$3,D246*0.1+E246*0.3+F246*0.1+G246+I246+J246*0.5+K246*0.4,IF(B246=data!$S$4,D246*0.6+E246*0.7+F246+G246+I246+L246,IF(B246=data!$S$5,D246*0.7+E246+H246*0.7+I246,\"zvolte typ stavby\"))))","v":"zvolte typ stavby"},{"$f":"IF(B246=data!$S$2,(M246*10)/4.9,IF(B246=data!$S$3,(M246*10)/3.4,IF(B246=data!$S$4,(M246*10)/5.3,IF(B246=data!$S$5,(M246*10)/3.4,\"zvolte typ stavby\"))))","v":"zvolte typ stavby"}]
[null,null,null,null,null,null,null,null,null,null,null,null,{"$f":"IF(B247=data!$S$2,D247*0.7+E247*0.2+F247*0.8+G247+H247*0.2+I247+J247*0.3+K247*0.5+L247*0.2,IF(B247=data!$S$3,D247*0.1+E247*0.3+F247*0.1+G247+I247+J247*0.5+K247*0.4,IF(B247=data!$S$4,D247*0.6+E247*0.7+F247+G247+I247+L247,IF(B247=data!$S$5,D247*0.7+E247+H247*0.7+I247,\"zvolte typ stavby\"))))","v":"zvolte typ stavby"},{"$f":"IF(B247=data!$S$2,(M247*10)/4.9,IF(B247=data!$S$3,(M247*10)/3.4,IF(B247=data!$S$4,(M247*10)/5.3,IF(B247=data!$S$5,(M247*10)/3.4,\"zvolte typ stavby\"))))","v":"zvolte typ stavby"}]
[null,null,null,null,null,null,null,null,null,null,null,null,{"$f":"IF(B248=data!$S$2,D248*0.7+E248*0.2+F248*0.8+G248+H248*0.2+I248+J248*0.3+K248*0.5+L248*0.2,IF(B248=data!$S$3,D248*0.1+E248*0.3+F248*0.1+G248+I248+J248*0.5+K248*0.4,IF(B248=data!$S$4,D248*0.6+E248*0.7+F248+G248+I248+L248,IF(B248=data!$S$5,D248*0.7+E248+H248*0.7+I248,\"zvolte typ stavby\"))))","v":"zvolte typ stavby"},{"$f":"IF(B248=data!$S$2,(M248*10)/4.9,IF(B248=data!$S$3,(M248*10)/3.4,IF(B248=data!$S$4,(M248*10)/5.3,IF(B248=data!$S$5,(M248*10)/3.4,\"zvolte typ stavby\"))))","v":"zvolte typ stavby"}]
[null,null,null,null,null,null,null,null,null,null,null,null,{"$f":"IF(B249=data!$S$2,D249*0.7+E249*0.2+F249*0.8+G249+H249*0.2+I249+J249*0.3+K249*0.5+L249*0.2,IF(B249=data!$S$3,D249*0.1+E249*0.3+F249*0.1+G249+I249+J249*0.5+K249*0.4,IF(B249=data!$S$4,D249*0.6+E249*0.7+F249+G249+I249+L249,IF(B249=data!$S$5,D249*0.7+E249+H249*0.7+I249,\"zvolte typ stavby\"))))","v":"zvolte typ stavby"},{"$f":"IF(B249=data!$S$2,(M249*10)/4.9,IF(B249=data!$S$3,(M249*10)/3.4,IF(B249=data!$S$4,(M249*10)/5.3,IF(B249=data!$S$5,(M249*10)/3.4,\"zvolte typ stavby\"))))","v":"zvolte typ stavby"}]
[null,null,null,null,null,null,null,null,null,null,null,null,{"$f":"IF(B250=data!$S$2,D250*0.7+E250*0.2+F250*0.8+G250+H250*0.2+I250+J250*0.3+K250*0.5+L250*0.2,IF(B250=data!$S$3,D250*0.1+E250*0.3+F250*0.1+G250+I250+J250*0.5+K250*0.4,IF(B250=data!$S$4,D250*0.6+E250*0.7+F250+G250+I250+L250,IF(B250=data!$S$5,D250*0.7+E250+H250*0.7+I250,\"zvolte typ stavby\"))))","v":"zvolte typ stavby"},{"$f":"IF(B250=data!$S$2,(M250*10)/4.9,IF(B250=data!$S$3,(M250*10)/3.4,IF(B250=data!$S$4,(M250*10)/5.3,IF(B250=data!$S$5,(M250*10)/3.4,\"zvolte typ stavby\"))))","v":"zvolte typ stavby"}]
[null,null,null,null,null,null,null,null,null,null,null,null,{"$f":"IF(B251=data!$S$2,D251*0.7+E251*0.2+F251*0.8+G251+H251*0.2+I251+J251*0.3+K251*0.5+L251*0.2,IF(B251=data!$S$3,D251*0.1+E251*0.3+F251*0.1+G251+I251+J251*0.5+K251*0.4,IF(B251=data!$S$4,D251*0.6+E251*0.7+F251+G251+I251+L251,IF(B251=data!$S$5,D251*0.7+E251+H251*0.7+I251,\"zvolte typ stavby\"))))","v":"zvolte typ stavby"},{"$f":"IF(B251=data!$S$2,(M251*10)/4.9,IF(B251=data!$S$3,(M251*10)/3.4,IF(B251=data!$S$4,(M251*10)/5.3,IF(B251=data!$S$5,(M251*10)/3.4,\"zvolte typ stavby\"))))","v":"zvolte typ stavby"}]
[null,null,null,null,null,null,null,null,null,null,null,null,{"$f":"IF(B252=data!$S$2,D252*0.7+E252*0.2+F252*0.8+G252+H252*0.2+I252+J252*0.3+K252*0.5+L252*0.2,IF(B252=data!$S$3,D252*0.1+E252*0.3+F252*0.1+G252+I252+J252*0.5+K252*0.4,IF(B252=data!$S$4,D252*0.6+E252*0.7+F252+G252+I252+L252,IF(B252=data!$S$5,D252*0.7+E252+H252*0.7+I252,\"zvolte typ stavby\"))))","v":"zvolte typ stavby"},{"$f":"IF(B252=data!$S$2,(M252*10)/4.9,IF(B252=data!$S$3,(M252*10)/3.4,IF(B252=data!$S$4,(M252*10)/5.3,IF(B252=data!$S$5,(M252*10)/3.4,\"zvolte typ stavby\"))))","v":"zvolte typ stavby"}]
[null,null,null,null,null,null,null,null,null,null,null,null,{"$f":"IF(B253=data!$S$2,D253*0.7+E253*0.2+F253*0.8+G253+H253*0.2+I253+J253*0.3+K253*0.5+L253*0.2,IF(B253=data!$S$3,D253*0.1+E253*0.3+F253*0.1+G253+I253+J253*0.5+K253*0.4,IF(B253=data!$S$4,D253*0.6+E253*0.7+F253+G253+I253+L253,IF(B253=data!$S$5,D253*0.7+E253+H253*0.7+I253,\"zvolte typ stavby\"))))","v":"zvolte typ stavby"},{"$f":"IF(B253=data!$S$2,(M253*10)/4.9,IF(B253=data!$S$3,(M253*10)/3.4,IF(B253=data!$S$4,(M253*10)/5.3,IF(B253=data!$S$5,(M253*10)/3.4,\"zvolte typ stavby\"))))","v":"zvolte typ stavby"}]
[null,null,null,null,null,null,null,null,null,null,null,null,{"$f":"IF(B254=data!$S$2,D254*0.7+E254*0.2+F254*0.8+G254+H254*0.2+I254+J254*0.3+K254*0.5+L254*0.2,IF(B254=data!$S$3,D254*0.1+E254*0.3+F254*0.1+G254+I254+J254*0.5+K254*0.4,IF(B254=data!$S$4,D254*0.6+E254*0.7+F254+G254+I254+L254,IF(B254=data!$S$5,D254*0.7+E254+H254*0.7+I254,\"zvolte typ stavby\"))))","v":"zvolte typ stavby"},{"$f":"IF(B254=data!$S$2,(M254*10)/4.9,IF(B254=data!$S$3,(M254*10)/3.4,IF(B254=data!$S$4,(M254*10)/5.3,IF(B254=data!$S$5,(M254*10)/3.4,\"zvolte typ stavby\"))))","v":"zvolte typ stavby"}]
[null,null,null,null,null,null,null,null,null,null,null,null,{"$f":"IF(B255=data!$S$2,D255*0.7+E255*0.2+F255*0.8+G255+H255*0.2+I255+J255*0.3+K255*0.5+L255*0.2,IF(B255=data!$S$3,D255*0.1+E255*0.3+F255*0.1+G255+I255+J255*0.5+K255*0.4,IF(B255=data!$S$4,D255*0.6+E255*0.7+F255+G255+I255+L255,IF(B255=data!$S$5,D255*0.7+E255+H255*0.7+I255,\"zvolte typ stavby\"))))","v":"zvolte typ stavby"},{"$f":"IF(B255=data!$S$2,(M255*10)/4.9,IF(B255=data!$S$3,(M255*10)/3.4,IF(B255=data!$S$4,(M255*10)/5.3,IF(B255=data!$S$5,(M255*10)/3.4,\"zvolte typ stavby\"))))","v":"zvolte typ stavby"}]
[null,null,null,null,null,null,null,null,null,null,null,null,{"$f":"IF(B256=data!$S$2,D256*0.7+E256*0.2+F256*0.8+G256+H256*0.2+I256+J256*0.3+K256*0.5+L256*0.2,IF(B256=data!$S$3,D256*0.1+E256*0.3+F256*0.1+G256+I256+J256*0.5+K256*0.4,IF(B256=data!$S$4,D256*0.6+E256*0.7+F256+G256+I256+L256,IF(B256=data!$S$5,D256*0.7+E256+H256*0.7+I256,\"zvolte typ stavby\"))))","v":"zvolte typ stavby"},{"$f":"IF(B256=data!$S$2,(M256*10)/4.9,IF(B256=data!$S$3,(M256*10)/3.4,IF(B256=data!$S$4,(M256*10)/5.3,IF(B256=data!$S$5,(M256*10)/3.4,\"zvolte typ stavby\"))))","v":"zvolte typ stavby"}]
[null,null,null,null,null,null,null,null,null,null,null,null,{"$f":"IF(B257=data!$S$2,D257*0.7+E257*0.2+F257*0.8+G257+H257*0.2+I257+J257*0.3+K257*0.5+L257*0.2,IF(B257=data!$S$3,D257*0.1+E257*0.3+F257*0.1+G257+I257+J257*0.5+K257*0.4,IF(B257=data!$S$4,D257*0.6+E257*0.7+F257+G257+I257+L257,IF(B257=data!$S$5,D257*0.7+E257+H257*0.7+I257,\"zvolte typ stavby\"))))","v":"zvolte typ stavby"},{"$f":"IF(B257=data!$S$2,(M257*10)/4.9,IF(B257=data!$S$3,(M257*10)/3.4,IF(B257=data!$S$4,(M257*10)/5.3,IF(B257=data!$S$5,(M257*10)/3.4,\"zvolte typ stavby\"))))","v":"zvolte typ stavby"}]
[null,null,null,null,null,null,null,null,null,null,null,null,{"$f":"IF(B258=data!$S$2,D258*0.7+E258*0.2+F258*0.8+G258+H258*0.2+I258+J258*0.3+K258*0.5+L258*0.2,IF(B258=data!$S$3,D258*0.1+E258*0.3+F258*0.1+G258+I258+J258*0.5+K258*0.4,IF(B258=data!$S$4,D258*0.6+E258*0.7+F258+G258+I258+L258,IF(B258=data!$S$5,D258*0.7+E258+H258*0.7+I258,\"zvolte typ stavby\"))))","v":"zvolte typ stavby"},{"$f":"IF(B258=data!$S$2,(M258*10)/4.9,IF(B258=data!$S$3,(M258*10)/3.4,IF(B258=data!$S$4,(M258*10)/5.3,IF(B258=data!$S$5,(M258*10)/3.4,\"zvolte typ stavby\"))))","v":"zvolte typ stavby"}]
[null,null,null,null,null,null,null,null,null,null,null,null,{"$f":"IF(B259=data!$S$2,D259*0.7+E259*0.2+F259*0.8+G259+H259*0.2+I259+J259*0.3+K259*0.5+L259*0.2,IF(B259=data!$S$3,D259*0.1+E259*0.3+F259*0.1+G259+I259+J259*0.5+K259*0.4,IF(B259=data!$S$4,D259*0.6+E259*0.7+F259+G259+I259+L259,IF(B259=data!$S$5,D259*0.7+E259+H259*0.7+I259,\"zvolte typ stavby\"))))","v":"zvolte typ stavby"},{"$f":"IF(B259=data!$S$2,(M259*10)/4.9,IF(B259=data!$S$3,(M259*10)/3.4,IF(B259=data!$S$4,(M259*10)/5.3,IF(B259=data!$S$5,(M259*10)/3.4,\"zvolte typ stavby\"))))","v":"zvolte typ stavby"}]
[null,null,null,null,null,null,null,null,null,null,null,null,{"$f":"IF(B260=data!$S$2,D260*0.7+E260*0.2+F260*0.8+G260+H260*0.2+I260+J260*0.3+K260*0.5+L260*0.2,IF(B260=data!$S$3,D260*0.1+E260*0.3+F260*0.1+G260+I260+J260*0.5+K260*0.4,IF(B260=data!$S$4,D260*0.6+E260*0.7+F260+G260+I260+L260,IF(B260=data!$S$5,D260*0.7+E260+H260*0.7+I260,\"zvolte typ stavby\"))))","v":"zvolte typ stavby"},{"$f":"IF(B260=data!$S$2,(M260*10)/4.9,IF(B260=data!$S$3,(M260*10)/3.4,IF(B260=data!$S$4,(M260*10)/5.3,IF(B260=data!$S$5,(M260*10)/3.4,\"zvolte typ stavby\"))))","v":"zvolte typ stavby"}]
[null,null,null,null,null,null,null,null,null,null,null,null,{"$f":"IF(B261=data!$S$2,D261*0.7+E261*0.2+F261*0.8+G261+H261*0.2+I261+J261*0.3+K261*0.5+L261*0.2,IF(B261=data!$S$3,D261*0.1+E261*0.3+F261*0.1+G261+I261+J261*0.5+K261*0.4,IF(B261=data!$S$4,D261*0.6+E261*0.7+F261+G261+I261+L261,IF(B261=data!$S$5,D261*0.7+E261+H261*0.7+I261,\"zvolte typ stavby\"))))","v":"zvolte typ stavby"},{"$f":"IF(B261=data!$S$2,(M261*10)/4.9,IF(B261=data!$S$3,(M261*10)/3.4,IF(B261=data!$S$4,(M261*10)/5.3,IF(B261=data!$S$5,(M261*10)/3.4,\"zvolte typ stavby\"))))","v":"zvolte typ stavby"}]
[null,null,null,null,null,null,null,null,null,null,null,null,{"$f":"IF(B262=data!$S$2,D262*0.7+E262*0.2+F262*0.8+G262+H262*0.2+I262+J262*0.3+K262*0.5+L262*0.2,IF(B262=data!$S$3,D262*0.1+E262*0.3+F262*0.1+G262+I262+J262*0.5+K262*0.4,IF(B262=data!$S$4,D262*0.6+E262*0.7+F262+G262+I262+L262,IF(B262=data!$S$5,D262*0.7+E262+H262*0.7+I262,\"zvolte typ stavby\"))))","v":"zvolte typ stavby"},{"$f":"IF(B262=data!$S$2,(M262*10)/4.9,IF(B262=data!$S$3,(M262*10)/3.4,IF(B262=data!$S$4,(M262*10)/5.3,IF(B262=data!$S$5,(M262*10)/3.4,\"zvolte typ stavby\"))))","v":"zvolte typ stavby"}]
[null,null,null,null,null,null,null,null,null,null,null,null,{"$f":"IF(B263=data!$S$2,D263*0.7+E263*0.2+F263*0.8+G263+H263*0.2+I263+J263*0.3+K263*0.5+L263*0.2,IF(B263=data!$S$3,D263*0.1+E263*0.3+F263*0.1+G263+I263+J263*0.5+K263*0.4,IF(B263=data!$S$4,D263*0.6+E263*0.7+F263+G263+I263+L263,IF(B263=data!$S$5,D263*0.7+E263+H263*0.7+I263,\"zvolte typ stavby\"))))","v":"zvolte typ stavby"},{"$f":"IF(B263=data!$S$2,(M263*10)/4.9,IF(B263=data!$S$3,(M263*10)/3.4,IF(B263=data!$S$4,(M263*10)/5.3,IF(B263=data!$S$5,(M263*10)/3.4,\"zvolte typ stavby\"))))","v":"zvolte typ stavby"}]
[null,null,null,null,null,null,null,null,null,null,null,null,{"$f":"IF(B264=data!$S$2,D264*0.7+E264*0.2+F264*0.8+G264+H264*0.2+I264+J264*0.3+K264*0.5+L264*0.2,IF(B264=data!$S$3,D264*0.1+E264*0.3+F264*0.1+G264+I264+J264*0.5+K264*0.4,IF(B264=data!$S$4,D264*0.6+E264*0.7+F264+G264+I264+L264,IF(B264=data!$S$5,D264*0.7+E264+H264*0.7+I264,\"zvolte typ stavby\"))))","v":"zvolte typ stavby"},{"$f":"IF(B264=data!$S$2,(M264*10)/4.9,IF(B264=data!$S$3,(M264*10)/3.4,IF(B264=data!$S$4,(M264*10)/5.3,IF(B264=data!$S$5,(M264*10)/3.4,\"zvolte typ stavby\"))))","v":"zvolte typ stavby"}]
[null,null,null,null,null,null,null,null,null,null,null,null,{"$f":"IF(B265=data!$S$2,D265*0.7+E265*0.2+F265*0.8+G265+H265*0.2+I265+J265*0.3+K265*0.5+L265*0.2,IF(B265=data!$S$3,D265*0.1+E265*0.3+F265*0.1+G265+I265+J265*0.5+K265*0.4,IF(B265=data!$S$4,D265*0.6+E265*0.7+F265+G265+I265+L265,IF(B265=data!$S$5,D265*0.7+E265+H265*0.7+I265,\"zvolte typ stavby\"))))","v":"zvolte typ stavby"},{"$f":"IF(B265=data!$S$2,(M265*10)/4.9,IF(B265=data!$S$3,(M265*10)/3.4,IF(B265=data!$S$4,(M265*10)/5.3,IF(B265=data!$S$5,(M265*10)/3.4,\"zvolte typ stavby\"))))","v":"zvolte typ stavby"}]
[null,null,null,null,null,null,null,null,null,null,null,null,{"$f":"IF(B266=data!$S$2,D266*0.7+E266*0.2+F266*0.8+G266+H266*0.2+I266+J266*0.3+K266*0.5+L266*0.2,IF(B266=data!$S$3,D266*0.1+E266*0.3+F266*0.1+G266+I266+J266*0.5+K266*0.4,IF(B266=data!$S$4,D266*0.6+E266*0.7+F266+G266+I266+L266,IF(B266=data!$S$5,D266*0.7+E266+H266*0.7+I266,\"zvolte typ stavby\"))))","v":"zvolte typ stavby"},{"$f":"IF(B266=data!$S$2,(M266*10)/4.9,IF(B266=data!$S$3,(M266*10)/3.4,IF(B266=data!$S$4,(M266*10)/5.3,IF(B266=data!$S$5,(M266*10)/3.4,\"zvolte typ stavby\"))))","v":"zvolte typ stavby"}]
[null,null,null,null,null,null,null,null,null,null,null,null,{"$f":"IF(B267=data!$S$2,D267*0.7+E267*0.2+F267*0.8+G267+H267*0.2+I267+J267*0.3+K267*0.5+L267*0.2,IF(B267=data!$S$3,D267*0.1+E267*0.3+F267*0.1+G267+I267+J267*0.5+K267*0.4,IF(B267=data!$S$4,D267*0.6+E267*0.7+F267+G267+I267+L267,IF(B267=data!$S$5,D267*0.7+E267+H267*0.7+I267,\"zvolte typ stavby\"))))","v":"zvolte typ stavby"},{"$f":"IF(B267=data!$S$2,(M267*10)/4.9,IF(B267=data!$S$3,(M267*10)/3.4,IF(B267=data!$S$4,(M267*10)/5.3,IF(B267=data!$S$5,(M267*10)/3.4,\"zvolte typ stavby\"))))","v":"zvolte typ stavby"}]
[null,null,null,null,null,null,null,null,null,null,null,null,{"$f":"IF(B268=data!$S$2,D268*0.7+E268*0.2+F268*0.8+G268+H268*0.2+I268+J268*0.3+K268*0.5+L268*0.2,IF(B268=data!$S$3,D268*0.1+E268*0.3+F268*0.1+G268+I268+J268*0.5+K268*0.4,IF(B268=data!$S$4,D268*0.6+E268*0.7+F268+G268+I268+L268,IF(B268=data!$S$5,D268*0.7+E268+H268*0.7+I268,\"zvolte typ stavby\"))))","v":"zvolte typ stavby"},{"$f":"IF(B268=data!$S$2,(M268*10)/4.9,IF(B268=data!$S$3,(M268*10)/3.4,IF(B268=data!$S$4,(M268*10)/5.3,IF(B268=data!$S$5,(M268*10)/3.4,\"zvolte typ stavby\"))))","v":"zvolte typ stavby"}]
[null,null,null,null,null,null,null,null,null,null,null,null,{"$f":"IF(B269=data!$S$2,D269*0.7+E269*0.2+F269*0.8+G269+H269*0.2+I269+J269*0.3+K269*0.5+L269*0.2,IF(B269=data!$S$3,D269*0.1+E269*0.3+F269*0.1+G269+I269+J269*0.5+K269*0.4,IF(B269=data!$S$4,D269*0.6+E269*0.7+F269+G269+I269+L269,IF(B269=data!$S$5,D269*0.7+E269+H269*0.7+I269,\"zvolte typ stavby\"))))","v":"zvolte typ stavby"},{"$f":"IF(B269=data!$S$2,(M269*10)/4.9,IF(B269=data!$S$3,(M269*10)/3.4,IF(B269=data!$S$4,(M269*10)/5.3,IF(B269=data!$S$5,(M269*10)/3.4,\"zvolte typ stavby\"))))","v":"zvolte typ stavby"}]
[null,null,null,null,null,null,null,null,null,null,null,null,{"$f":"IF(B270=data!$S$2,D270*0.7+E270*0.2+F270*0.8+G270+H270*0.2+I270+J270*0.3+K270*0.5+L270*0.2,IF(B270=data!$S$3,D270*0.1+E270*0.3+F270*0.1+G270+I270+J270*0.5+K270*0.4,IF(B270=data!$S$4,D270*0.6+E270*0.7+F270+G270+I270+L270,IF(B270=data!$S$5,D270*0.7+E270+H270*0.7+I270,\"zvolte typ stavby\"))))","v":"zvolte typ stavby"},{"$f":"IF(B270=data!$S$2,(M270*10)/4.9,IF(B270=data!$S$3,(M270*10)/3.4,IF(B270=data!$S$4,(M270*10)/5.3,IF(B270=data!$S$5,(M270*10)/3.4,\"zvolte typ stavby\"))))","v":"zvolte typ stavby"}]
[null,null,null,null,null,null,null,null,null,null,null,null,{"$f":"IF(B271=data!$S$2,D271*0.7+E271*0.2+F271*0.8+G271+H271*0.2+I271+J271*0.3+K271*0.5+L271*0.2,IF(B271=data!$S$3,D271*0.1+E271*0.3+F271*0.1+G271+I271+J271*0.5+K271*0.4,IF(B271=data!$S$4,D271*0.6+E271*0.7+F271+G271+I271+L271,IF(B271=data!$S$5,D271*0.7+E271+H271*0.7+I271,\"zvolte typ stavby\"))))","v":"zvolte typ stavby"},{"$f":"IF(B271=data!$S$2,(M271*10)/4.9,IF(B271=data!$S$3,(M271*10)/3.4,IF(B271=data!$S$4,(M271*10)/5.3,IF(B271=data!$S$5,(M271*10)/3.4,\"zvolte typ stavby\"))))","v":"zvolte typ stavby"}]
[null,null,null,null,null,null,null,null,null,null,null,null,{"$f":"IF(B272=data!$S$2,D272*0.7+E272*0.2+F272*0.8+G272+H272*0.2+I272+J272*0.3+K272*0.5+L272*0.2,IF(B272=data!$S$3,D272*0.1+E272*0.3+F272*0.1+G272+I272+J272*0.5+K272*0.4,IF(B272=data!$S$4,D272*0.6+E272*0.7+F272+G272+I272+L272,IF(B272=data!$S$5,D272*0.7+E272+H272*0.7+I272,\"zvolte typ stavby\"))))","v":"zvolte typ stavby"},{"$f":"IF(B272=data!$S$2,(M272*10)/4.9,IF(B272=data!$S$3,(M272*10)/3.4,IF(B272=data!$S$4,(M272*10)/5.3,IF(B272=data!$S$5,(M272*10)/3.4,\"zvolte typ stavby\"))))","v":"zvolte typ stavby"}]
[null,null,null,null,null,null,null,null,null,null,null,null,{"$f":"IF(B273=data!$S$2,D273*0.7+E273*0.2+F273*0.8+G273+H273*0.2+I273+J273*0.3+K273*0.5+L273*0.2,IF(B273=data!$S$3,D273*0.1+E273*0.3+F273*0.1+G273+I273+J273*0.5+K273*0.4,IF(B273=data!$S$4,D273*0.6+E273*0.7+F273+G273+I273+L273,IF(B273=data!$S$5,D273*0.7+E273+H273*0.7+I273,\"zvolte typ stavby\"))))","v":"zvolte typ stavby"},{"$f":"IF(B273=data!$S$2,(M273*10)/4.9,IF(B273=data!$S$3,(M273*10)/3.4,IF(B273=data!$S$4,(M273*10)/5.3,IF(B273=data!$S$5,(M273*10)/3.4,\"zvolte typ stavby\"))))","v":"zvolte typ stavby"}]
[null,null,null,null,null,null,null,null,null,null,null,null,{"$f":"IF(B274=data!$S$2,D274*0.7+E274*0.2+F274*0.8+G274+H274*0.2+I274+J274*0.3+K274*0.5+L274*0.2,IF(B274=data!$S$3,D274*0.1+E274*0.3+F274*0.1+G274+I274+J274*0.5+K274*0.4,IF(B274=data!$S$4,D274*0.6+E274*0.7+F274+G274+I274+L274,IF(B274=data!$S$5,D274*0.7+E274+H274*0.7+I274,\"zvolte typ stavby\"))))","v":"zvolte typ stavby"},{"$f":"IF(B274=data!$S$2,(M274*10)/4.9,IF(B274=data!$S$3,(M274*10)/3.4,IF(B274=data!$S$4,(M274*10)/5.3,IF(B274=data!$S$5,(M274*10)/3.4,\"zvolte typ stavby\"))))","v":"zvolte typ stavby"}]
[null,null,null,null,null,null,null,null,null,null,null,null,{"$f":"IF(B275=data!$S$2,D275*0.7+E275*0.2+F275*0.8+G275+H275*0.2+I275+J275*0.3+K275*0.5+L275*0.2,IF(B275=data!$S$3,D275*0.1+E275*0.3+F275*0.1+G275+I275+J275*0.5+K275*0.4,IF(B275=data!$S$4,D275*0.6+E275*0.7+F275+G275+I275+L275,IF(B275=data!$S$5,D275*0.7+E275+H275*0.7+I275,\"zvolte typ stavby\"))))","v":"zvolte typ stavby"},{"$f":"IF(B275=data!$S$2,(M275*10)/4.9,IF(B275=data!$S$3,(M275*10)/3.4,IF(B275=data!$S$4,(M275*10)/5.3,IF(B275=data!$S$5,(M275*10)/3.4,\"zvolte typ stavby\"))))","v":"zvolte typ stavby"}]
[null,null,null,null,null,null,null,null,null,null,null,null,{"$f":"IF(B276=data!$S$2,D276*0.7+E276*0.2+F276*0.8+G276+H276*0.2+I276+J276*0.3+K276*0.5+L276*0.2,IF(B276=data!$S$3,D276*0.1+E276*0.3+F276*0.1+G276+I276+J276*0.5+K276*0.4,IF(B276=data!$S$4,D276*0.6+E276*0.7+F276+G276+I276+L276,IF(B276=data!$S$5,D276*0.7+E276+H276*0.7+I276,\"zvolte typ stavby\"))))","v":"zvolte typ stavby"},{"$f":"IF(B276=data!$S$2,(M276*10)/4.9,IF(B276=data!$S$3,(M276*10)/3.4,IF(B276=data!$S$4,(M276*10)/5.3,IF(B276=data!$S$5,(M276*10)/3.4,\"zvolte typ stavby\"))))","v":"zvolte typ stavby"}]
[null,null,null,null,null,null,null,null,null,null,null,null,{"$f":"IF(B277=data!$S$2,D277*0.7+E277*0.2+F277*0.8+G277+H277*0.2+I277+J277*0.3+K277*0.5+L277*0.2,IF(B277=data!$S$3,D277*0.1+E277*0.3+F277*0.1+G277+I277+J277*0.5+K277*0.4,IF(B277=data!$S$4,D277*0.6+E277*0.7+F277+G277+I277+L277,IF(B277=data!$S$5,D277*0.7+E277+H277*0.7+I277,\"zvolte typ stavby\"))))","v":"zvolte typ stavby"},{"$f":"IF(B277=data!$S$2,(M277*10)/4.9,IF(B277=data!$S$3,(M277*10)/3.4,IF(B277=data!$S$4,(M277*10)/5.3,IF(B277=data!$S$5,(M277*10)/3.4,\"zvolte typ stavby\"))))","v":"zvolte typ stavby"}]
[null,null,null,null,null,null,null,null,null,null,null,null,{"$f":"IF(B278=data!$S$2,D278*0.7+E278*0.2+F278*0.8+G278+H278*0.2+I278+J278*0.3+K278*0.5+L278*0.2,IF(B278=data!$S$3,D278*0.1+E278*0.3+F278*0.1+G278+I278+J278*0.5+K278*0.4,IF(B278=data!$S$4,D278*0.6+E278*0.7+F278+G278+I278+L278,IF(B278=data!$S$5,D278*0.7+E278+H278*0.7+I278,\"zvolte typ stavby\"))))","v":"zvolte typ stavby"},{"$f":"IF(B278=data!$S$2,(M278*10)/4.9,IF(B278=data!$S$3,(M278*10)/3.4,IF(B278=data!$S$4,(M278*10)/5.3,IF(B278=data!$S$5,(M278*10)/3.4,\"zvolte typ stavby\"))))","v":"zvolte typ stavby"}]
[null,null,null,null,null,null,null,null,null,null,null,null,{"$f":"IF(B279=data!$S$2,D279*0.7+E279*0.2+F279*0.8+G279+H279*0.2+I279+J279*0.3+K279*0.5+L279*0.2,IF(B279=data!$S$3,D279*0.1+E279*0.3+F279*0.1+G279+I279+J279*0.5+K279*0.4,IF(B279=data!$S$4,D279*0.6+E279*0.7+F279+G279+I279+L279,IF(B279=data!$S$5,D279*0.7+E279+H279*0.7+I279,\"zvolte typ stavby\"))))","v":"zvolte typ stavby"},{"$f":"IF(B279=data!$S$2,(M279*10)/4.9,IF(B279=data!$S$3,(M279*10)/3.4,IF(B279=data!$S$4,(M279*10)/5.3,IF(B279=data!$S$5,(M279*10)/3.4,\"zvolte typ stavby\"))))","v":"zvolte typ stavby"}]
[null,null,null,null,null,null,null,null,null,null,null,null,{"$f":"IF(B280=data!$S$2,D280*0.7+E280*0.2+F280*0.8+G280+H280*0.2+I280+J280*0.3+K280*0.5+L280*0.2,IF(B280=data!$S$3,D280*0.1+E280*0.3+F280*0.1+G280+I280+J280*0.5+K280*0.4,IF(B280=data!$S$4,D280*0.6+E280*0.7+F280+G280+I280+L280,IF(B280=data!$S$5,D280*0.7+E280+H280*0.7+I280,\"zvolte typ stavby\"))))","v":"zvolte typ stavby"},{"$f":"IF(B280=data!$S$2,(M280*10)/4.9,IF(B280=data!$S$3,(M280*10)/3.4,IF(B280=data!$S$4,(M280*10)/5.3,IF(B280=data!$S$5,(M280*10)/3.4,\"zvolte typ stavby\"))))","v":"zvolte typ stavby"}]
[null,null,null,null,null,null,null,null,null,null,null,null,{"$f":"IF(B281=data!$S$2,D281*0.7+E281*0.2+F281*0.8+G281+H281*0.2+I281+J281*0.3+K281*0.5+L281*0.2,IF(B281=data!$S$3,D281*0.1+E281*0.3+F281*0.1+G281+I281+J281*0.5+K281*0.4,IF(B281=data!$S$4,D281*0.6+E281*0.7+F281+G281+I281+L281,IF(B281=data!$S$5,D281*0.7+E281+H281*0.7+I281,\"zvolte typ stavby\"))))","v":"zvolte typ stavby"},{"$f":"IF(B281=data!$S$2,(M281*10)/4.9,IF(B281=data!$S$3,(M281*10)/3.4,IF(B281=data!$S$4,(M281*10)/5.3,IF(B281=data!$S$5,(M281*10)/3.4,\"zvolte typ stavby\"))))","v":"zvolte typ stavby"}]
[null,null,null,null,null,null,null,null,null,null,null,null,{"$f":"IF(B282=data!$S$2,D282*0.7+E282*0.2+F282*0.8+G282+H282*0.2+I282+J282*0.3+K282*0.5+L282*0.2,IF(B282=data!$S$3,D282*0.1+E282*0.3+F282*0.1+G282+I282+J282*0.5+K282*0.4,IF(B282=data!$S$4,D282*0.6+E282*0.7+F282+G282+I282+L282,IF(B282=data!$S$5,D282*0.7+E282+H282*0.7+I282,\"zvolte typ stavby\"))))","v":"zvolte typ stavby"},{"$f":"IF(B282=data!$S$2,(M282*10)/4.9,IF(B282=data!$S$3,(M282*10)/3.4,IF(B282=data!$S$4,(M282*10)/5.3,IF(B282=data!$S$5,(M282*10)/3.4,\"zvolte typ stavby\"))))","v":"zvolte typ stavby"}]
[null,null,null,null,null,null,null,null,null,null,null,null,{"$f":"IF(B283=data!$S$2,D283*0.7+E283*0.2+F283*0.8+G283+H283*0.2+I283+J283*0.3+K283*0.5+L283*0.2,IF(B283=data!$S$3,D283*0.1+E283*0.3+F283*0.1+G283+I283+J283*0.5+K283*0.4,IF(B283=data!$S$4,D283*0.6+E283*0.7+F283+G283+I283+L283,IF(B283=data!$S$5,D283*0.7+E283+H283*0.7+I283,\"zvolte typ stavby\"))))","v":"zvolte typ stavby"},{"$f":"IF(B283=data!$S$2,(M283*10)/4.9,IF(B283=data!$S$3,(M283*10)/3.4,IF(B283=data!$S$4,(M283*10)/5.3,IF(B283=data!$S$5,(M283*10)/3.4,\"zvolte typ stavby\"))))","v":"zvolte typ stavby"}]
[null,null,null,null,null,null,null,null,null,null,null,null,{"$f":"IF(B284=data!$S$2,D284*0.7+E284*0.2+F284*0.8+G284+H284*0.2+I284+J284*0.3+K284*0.5+L284*0.2,IF(B284=data!$S$3,D284*0.1+E284*0.3+F284*0.1+G284+I284+J284*0.5+K284*0.4,IF(B284=data!$S$4,D284*0.6+E284*0.7+F284+G284+I284+L284,IF(B284=data!$S$5,D284*0.7+E284+H284*0.7+I284,\"zvolte typ stavby\"))))","v":"zvolte typ stavby"},{"$f":"IF(B284=data!$S$2,(M284*10)/4.9,IF(B284=data!$S$3,(M284*10)/3.4,IF(B284=data!$S$4,(M284*10)/5.3,IF(B284=data!$S$5,(M284*10)/3.4,\"zvolte typ stavby\"))))","v":"zvolte typ stavby"}]
[null,null,null,null,null,null,null,null,null,null,null,null,{"$f":"IF(B285=data!$S$2,D285*0.7+E285*0.2+F285*0.8+G285+H285*0.2+I285+J285*0.3+K285*0.5+L285*0.2,IF(B285=data!$S$3,D285*0.1+E285*0.3+F285*0.1+G285+I285+J285*0.5+K285*0.4,IF(B285=data!$S$4,D285*0.6+E285*0.7+F285+G285+I285+L285,IF(B285=data!$S$5,D285*0.7+E285+H285*0.7+I285,\"zvolte typ stavby\"))))","v":"zvolte typ stavby"},{"$f":"IF(B285=data!$S$2,(M285*10)/4.9,IF(B285=data!$S$3,(M285*10)/3.4,IF(B285=data!$S$4,(M285*10)/5.3,IF(B285=data!$S$5,(M285*10)/3.4,\"zvolte typ stavby\"))))","v":"zvolte typ stavby"}]
[null,null,null,null,null,null,null,null,null,null,null,null,{"$f":"IF(B286=data!$S$2,D286*0.7+E286*0.2+F286*0.8+G286+H286*0.2+I286+J286*0.3+K286*0.5+L286*0.2,IF(B286=data!$S$3,D286*0.1+E286*0.3+F286*0.1+G286+I286+J286*0.5+K286*0.4,IF(B286=data!$S$4,D286*0.6+E286*0.7+F286+G286+I286+L286,IF(B286=data!$S$5,D286*0.7+E286+H286*0.7+I286,\"zvolte typ stavby\"))))","v":"zvolte typ stavby"},{"$f":"IF(B286=data!$S$2,(M286*10)/4.9,IF(B286=data!$S$3,(M286*10)/3.4,IF(B286=data!$S$4,(M286*10)/5.3,IF(B286=data!$S$5,(M286*10)/3.4,\"zvolte typ stavby\"))))","v":"zvolte typ stavby"}]
[null,null,null,null,null,null,null,null,null,null,null,null,{"$f":"IF(B287=data!$S$2,D287*0.7+E287*0.2+F287*0.8+G287+H287*0.2+I287+J287*0.3+K287*0.5+L287*0.2,IF(B287=data!$S$3,D287*0.1+E287*0.3+F287*0.1+G287+I287+J287*0.5+K287*0.4,IF(B287=data!$S$4,D287*0.6+E287*0.7+F287+G287+I287+L287,IF(B287=data!$S$5,D287*0.7+E287+H287*0.7+I287,\"zvolte typ stavby\"))))","v":"zvolte typ stavby"},{"$f":"IF(B287=data!$S$2,(M287*10)/4.9,IF(B287=data!$S$3,(M287*10)/3.4,IF(B287=data!$S$4,(M287*10)/5.3,IF(B287=data!$S$5,(M287*10)/3.4,\"zvolte typ stavby\"))))","v":"zvolte typ stavby"}]
[null,null,null,null,null,null,null,null,null,null,null,null,{"$f":"IF(B288=data!$S$2,D288*0.7+E288*0.2+F288*0.8+G288+H288*0.2+I288+J288*0.3+K288*0.5+L288*0.2,IF(B288=data!$S$3,D288*0.1+E288*0.3+F288*0.1+G288+I288+J288*0.5+K288*0.4,IF(B288=data!$S$4,D288*0.6+E288*0.7+F288+G288+I288+L288,IF(B288=data!$S$5,D288*0.7+E288+H288*0.7+I288,\"zvolte typ stavby\"))))","v":"zvolte typ stavby"},{"$f":"IF(B288=data!$S$2,(M288*10)/4.9,IF(B288=data!$S$3,(M288*10)/3.4,IF(B288=data!$S$4,(M288*10)/5.3,IF(B288=data!$S$5,(M288*10)/3.4,\"zvolte typ stavby\"))))","v":"zvolte typ stavby"}]
[null,null,null,null,null,null,null,null,null,null,null,null,{"$f":"IF(B289=data!$S$2,D289*0.7+E289*0.2+F289*0.8+G289+H289*0.2+I289+J289*0.3+K289*0.5+L289*0.2,IF(B289=data!$S$3,D289*0.1+E289*0.3+F289*0.1+G289+I289+J289*0.5+K289*0.4,IF(B289=data!$S$4,D289*0.6+E289*0.7+F289+G289+I289+L289,IF(B289=data!$S$5,D289*0.7+E289+H289*0.7+I289,\"zvolte typ stavby\"))))","v":"zvolte typ stavby"},{"$f":"IF(B289=data!$S$2,(M289*10)/4.9,IF(B289=data!$S$3,(M289*10)/3.4,IF(B289=data!$S$4,(M289*10)/5.3,IF(B289=data!$S$5,(M289*10)/3.4,\"zvolte typ stavby\"))))","v":"zvolte typ stavby"}]
[null,null,null,null,null,null,null,null,null,null,null,null,{"$f":"IF(B290=data!$S$2,D290*0.7+E290*0.2+F290*0.8+G290+H290*0.2+I290+J290*0.3+K290*0.5+L290*0.2,IF(B290=data!$S$3,D290*0.1+E290*0.3+F290*0.1+G290+I290+J290*0.5+K290*0.4,IF(B290=data!$S$4,D290*0.6+E290*0.7+F290+G290+I290+L290,IF(B290=data!$S$5,D290*0.7+E290+H290*0.7+I290,\"zvolte typ stavby\"))))","v":"zvolte typ stavby"},{"$f":"IF(B290=data!$S$2,(M290*10)/4.9,IF(B290=data!$S$3,(M290*10)/3.4,IF(B290=data!$S$4,(M290*10)/5.3,IF(B290=data!$S$5,(M290*10)/3.4,\"zvolte typ stavby\"))))","v":"zvolte typ stavby"}]
[null,null,null,null,null,null,null,null,null,null,null,null,{"$f":"IF(B291=data!$S$2,D291*0.7+E291*0.2+F291*0.8+G291+H291*0.2+I291+J291*0.3+K291*0.5+L291*0.2,IF(B291=data!$S$3,D291*0.1+E291*0.3+F291*0.1+G291+I291+J291*0.5+K291*0.4,IF(B291=data!$S$4,D291*0.6+E291*0.7+F291+G291+I291+L291,IF(B291=data!$S$5,D291*0.7+E291+H291*0.7+I291,\"zvolte typ stavby\"))))","v":"zvolte typ stavby"},{"$f":"IF(B291=data!$S$2,(M291*10)/4.9,IF(B291=data!$S$3,(M291*10)/3.4,IF(B291=data!$S$4,(M291*10)/5.3,IF(B291=data!$S$5,(M291*10)/3.4,\"zvolte typ stavby\"))))","v":"zvolte typ stavby"}]
[null,null,null,null,null,null,null,null,null,null,null,null,{"$f":"IF(B292=data!$S$2,D292*0.7+E292*0.2+F292*0.8+G292+H292*0.2+I292+J292*0.3+K292*0.5+L292*0.2,IF(B292=data!$S$3,D292*0.1+E292*0.3+F292*0.1+G292+I292+J292*0.5+K292*0.4,IF(B292=data!$S$4,D292*0.6+E292*0.7+F292+G292+I292+L292,IF(B292=data!$S$5,D292*0.7+E292+H292*0.7+I292,\"zvolte typ stavby\"))))","v":"zvolte typ stavby"},{"$f":"IF(B292=data!$S$2,(M292*10)/4.9,IF(B292=data!$S$3,(M292*10)/3.4,IF(B292=data!$S$4,(M292*10)/5.3,IF(B292=data!$S$5,(M292*10)/3.4,\"zvolte typ stavby\"))))","v":"zvolte typ stavby"}]
[null,null,null,null,null,null,null,null,null,null,null,null,{"$f":"IF(B293=data!$S$2,D293*0.7+E293*0.2+F293*0.8+G293+H293*0.2+I293+J293*0.3+K293*0.5+L293*0.2,IF(B293=data!$S$3,D293*0.1+E293*0.3+F293*0.1+G293+I293+J293*0.5+K293*0.4,IF(B293=data!$S$4,D293*0.6+E293*0.7+F293+G293+I293+L293,IF(B293=data!$S$5,D293*0.7+E293+H293*0.7+I293,\"zvolte typ stavby\"))))","v":"zvolte typ stavby"},{"$f":"IF(B293=data!$S$2,(M293*10)/4.9,IF(B293=data!$S$3,(M293*10)/3.4,IF(B293=data!$S$4,(M293*10)/5.3,IF(B293=data!$S$5,(M293*10)/3.4,\"zvolte typ stavby\"))))","v":"zvolte typ stavby"}]
[null,null,null,null,null,null,null,null,null,null,null,null,{"$f":"IF(B294=data!$S$2,D294*0.7+E294*0.2+F294*0.8+G294+H294*0.2+I294+J294*0.3+K294*0.5+L294*0.2,IF(B294=data!$S$3,D294*0.1+E294*0.3+F294*0.1+G294+I294+J294*0.5+K294*0.4,IF(B294=data!$S$4,D294*0.6+E294*0.7+F294+G294+I294+L294,IF(B294=data!$S$5,D294*0.7+E294+H294*0.7+I294,\"zvolte typ stavby\"))))","v":"zvolte typ stavby"},{"$f":"IF(B294=data!$S$2,(M294*10)/4.9,IF(B294=data!$S$3,(M294*10)/3.4,IF(B294=data!$S$4,(M294*10)/5.3,IF(B294=data!$S$5,(M294*10)/3.4,\"zvolte typ stavby\"))))","v":"zvolte typ stavby"}]
[null,null,null,null,null,null,null,null,null,null,null,null,{"$f":"IF(B295=data!$S$2,D295*0.7+E295*0.2+F295*0.8+G295+H295*0.2+I295+J295*0.3+K295*0.5+L295*0.2,IF(B295=data!$S$3,D295*0.1+E295*0.3+F295*0.1+G295+I295+J295*0.5+K295*0.4,IF(B295=data!$S$4,D295*0.6+E295*0.7+F295+G295+I295+L295,IF(B295=data!$S$5,D295*0.7+E295+H295*0.7+I295,\"zvolte typ stavby\"))))","v":"zvolte typ stavby"},{"$f":"IF(B295=data!$S$2,(M295*10)/4.9,IF(B295=data!$S$3,(M295*10)/3.4,IF(B295=data!$S$4,(M295*10)/5.3,IF(B295=data!$S$5,(M295*10)/3.4,\"zvolte typ stavby\"))))","v":"zvolte typ stavby"}]
[null,null,null,null,null,null,null,null,null,null,null,null,{"$f":"IF(B296=data!$S$2,D296*0.7+E296*0.2+F296*0.8+G296+H296*0.2+I296+J296*0.3+K296*0.5+L296*0.2,IF(B296=data!$S$3,D296*0.1+E296*0.3+F296*0.1+G296+I296+J296*0.5+K296*0.4,IF(B296=data!$S$4,D296*0.6+E296*0.7+F296+G296+I296+L296,IF(B296=data!$S$5,D296*0.7+E296+H296*0.7+I296,\"zvolte typ stavby\"))))","v":"zvolte typ stavby"},{"$f":"IF(B296=data!$S$2,(M296*10)/4.9,IF(B296=data!$S$3,(M296*10)/3.4,IF(B296=data!$S$4,(M296*10)/5.3,IF(B296=data!$S$5,(M296*10)/3.4,\"zvolte typ stavby\"))))","v":"zvolte typ stavby"}]
[null,null,null,null,null,null,null,null,null,null,null,null,{"$f":"IF(B297=data!$S$2,D297*0.7+E297*0.2+F297*0.8+G297+H297*0.2+I297+J297*0.3+K297*0.5+L297*0.2,IF(B297=data!$S$3,D297*0.1+E297*0.3+F297*0.1+G297+I297+J297*0.5+K297*0.4,IF(B297=data!$S$4,D297*0.6+E297*0.7+F297+G297+I297+L297,IF(B297=data!$S$5,D297*0.7+E297+H297*0.7+I297,\"zvolte typ stavby\"))))","v":"zvolte typ stavby"},{"$f":"IF(B297=data!$S$2,(M297*10)/4.9,IF(B297=data!$S$3,(M297*10)/3.4,IF(B297=data!$S$4,(M297*10)/5.3,IF(B297=data!$S$5,(M297*10)/3.4,\"zvolte typ stavby\"))))","v":"zvolte typ stavby"}]
[null,null,null,null,null,null,null,null,null,null,null,null,{"$f":"IF(B298=data!$S$2,D298*0.7+E298*0.2+F298*0.8+G298+H298*0.2+I298+J298*0.3+K298*0.5+L298*0.2,IF(B298=data!$S$3,D298*0.1+E298*0.3+F298*0.1+G298+I298+J298*0.5+K298*0.4,IF(B298=data!$S$4,D298*0.6+E298*0.7+F298+G298+I298+L298,IF(B298=data!$S$5,D298*0.7+E298+H298*0.7+I298,\"zvolte typ stavby\"))))","v":"zvolte typ stavby"},{"$f":"IF(B298=data!$S$2,(M298*10)/4.9,IF(B298=data!$S$3,(M298*10)/3.4,IF(B298=data!$S$4,(M298*10)/5.3,IF(B298=data!$S$5,(M298*10)/3.4,\"zvolte typ stavby\"))))","v":"zvolte typ stavby"}]
[null,null,null,null,null,null,null,null,null,null,null,null,{"$f":"IF(B299=data!$S$2,D299*0.7+E299*0.2+F299*0.8+G299+H299*0.2+I299+J299*0.3+K299*0.5+L299*0.2,IF(B299=data!$S$3,D299*0.1+E299*0.3+F299*0.1+G299+I299+J299*0.5+K299*0.4,IF(B299=data!$S$4,D299*0.6+E299*0.7+F299+G299+I299+L299,IF(B299=data!$S$5,D299*0.7+E299+H299*0.7+I299,\"zvolte typ stavby\"))))","v":"zvolte typ stavby"},{"$f":"IF(B299=data!$S$2,(M299*10)/4.9,IF(B299=data!$S$3,(M299*10)/3.4,IF(B299=data!$S$4,(M299*10)/5.3,IF(B299=data!$S$5,(M299*10)/3.4,\"zvolte typ stavby\"))))","v":"zvolte typ stavby"}]
[null,null,null,null,null,null,null,null,null,null,null,null,{"$f":"IF(B300=data!$S$2,D300*0.7+E300*0.2+F300*0.8+G300+H300*0.2+I300+J300*0.3+K300*0.5+L300*0.2,IF(B300=data!$S$3,D300*0.1+E300*0.3+F300*0.1+G300+I300+J300*0.5+K300*0.4,IF(B300=data!$S$4,D300*0.6+E300*0.7+F300+G300+I300+L300,IF(B300=data!$S$5,D300*0.7+E300+H300*0.7+I300,\"zvolte typ stavby\"))))","v":"zvolte typ stavby"},{"$f":"IF(B300=data!$S$2,(M300*10)/4.9,IF(B300=data!$S$3,(M300*10)/3.4,IF(B300=data!$S$4,(M300*10)/5.3,IF(B300=data!$S$5,(M300*10)/3.4,\"zvolte typ stavby\"))))","v":"zvolte typ stavby"}]
[null,null,null,null,null,null,null,null,null,null,null,null,{"$f":"IF(B301=data!$S$2,D301*0.7+E301*0.2+F301*0.8+G301+H301*0.2+I301+J301*0.3+K301*0.5+L301*0.2,IF(B301=data!$S$3,D301*0.1+E301*0.3+F301*0.1+G301+I301+J301*0.5+K301*0.4,IF(B301=data!$S$4,D301*0.6+E301*0.7+F301+G301+I301+L301,IF(B301=data!$S$5,D301*0.7+E301+H301*0.7+I301,\"zvolte typ stavby\"))))","v":"zvolte typ stavby"},{"$f":"IF(B301=data!$S$2,(M301*10)/4.9,IF(B301=data!$S$3,(M301*10)/3.4,IF(B301=data!$S$4,(M301*10)/5.3,IF(B301=data!$S$5,(M301*10)/3.4,\"zvolte typ stavby\"))))","v":"zvolte typ stavby"}]
[null,null,null,null,null,null,null,null,null,null,null,null,{"$f":"IF(B302=data!$S$2,D302*0.7+E302*0.2+F302*0.8+G302+H302*0.2+I302+J302*0.3+K302*0.5+L302*0.2,IF(B302=data!$S$3,D302*0.1+E302*0.3+F302*0.1+G302+I302+J302*0.5+K302*0.4,IF(B302=data!$S$4,D302*0.6+E302*0.7+F302+G302+I302+L302,IF(B302=data!$S$5,D302*0.7+E302+H302*0.7+I302,\"zvolte typ stavby\"))))","v":"zvolte typ stavby"},{"$f":"IF(B302=data!$S$2,(M302*10)/4.9,IF(B302=data!$S$3,(M302*10)/3.4,IF(B302=data!$S$4,(M302*10)/5.3,IF(B302=data!$S$5,(M302*10)/3.4,\"zvolte typ stavby\"))))","v":"zvolte typ stavby"}]
[null,null,null,null,null,null,null,null,null,null,null,null,{"$f":"IF(B303=data!$S$2,D303*0.7+E303*0.2+F303*0.8+G303+H303*0.2+I303+J303*0.3+K303*0.5+L303*0.2,IF(B303=data!$S$3,D303*0.1+E303*0.3+F303*0.1+G303+I303+J303*0.5+K303*0.4,IF(B303=data!$S$4,D303*0.6+E303*0.7+F303+G303+I303+L303,IF(B303=data!$S$5,D303*0.7+E303+H303*0.7+I303,\"zvolte typ stavby\"))))","v":"zvolte typ stavby"},{"$f":"IF(B303=data!$S$2,(M303*10)/4.9,IF(B303=data!$S$3,(M303*10)/3.4,IF(B303=data!$S$4,(M303*10)/5.3,IF(B303=data!$S$5,(M303*10)/3.4,\"zvolte typ stavby\"))))","v":"zvolte typ stavby"}]
[null,null,null,null,null,null,null,null,null,null,null,null,{"$f":"IF(B304=data!$S$2,D304*0.7+E304*0.2+F304*0.8+G304+H304*0.2+I304+J304*0.3+K304*0.5+L304*0.2,IF(B304=data!$S$3,D304*0.1+E304*0.3+F304*0.1+G304+I304+J304*0.5+K304*0.4,IF(B304=data!$S$4,D304*0.6+E304*0.7+F304+G304+I304+L304,IF(B304=data!$S$5,D304*0.7+E304+H304*0.7+I304,\"zvolte typ stavby\"))))","v":"zvolte typ stavby"},{"$f":"IF(B304=data!$S$2,(M304*10)/4.9,IF(B304=data!$S$3,(M304*10)/3.4,IF(B304=data!$S$4,(M304*10)/5.3,IF(B304=data!$S$5,(M304*10)/3.4,\"zvolte typ stavby\"))))","v":"zvolte typ stavby"}]
[null,null,null,null,null,null,null,null,null,null,null,null,{"$f":"IF(B305=data!$S$2,D305*0.7+E305*0.2+F305*0.8+G305+H305*0.2+I305+J305*0.3+K305*0.5+L305*0.2,IF(B305=data!$S$3,D305*0.1+E305*0.3+F305*0.1+G305+I305+J305*0.5+K305*0.4,IF(B305=data!$S$4,D305*0.6+E305*0.7+F305+G305+I305+L305,IF(B305=data!$S$5,D305*0.7+E305+H305*0.7+I305,\"zvolte typ stavby\"))))","v":"zvolte typ stavby"},{"$f":"IF(B305=data!$S$2,(M305*10)/4.9,IF(B305=data!$S$3,(M305*10)/3.4,IF(B305=data!$S$4,(M305*10)/5.3,IF(B305=data!$S$5,(M305*10)/3.4,\"zvolte typ stavby\"))))","v":"zvolte typ stavby"}]
[null,null,null,null,null,null,null,null,null,null,null,null,{"$f":"IF(B306=data!$S$2,D306*0.7+E306*0.2+F306*0.8+G306+H306*0.2+I306+J306*0.3+K306*0.5+L306*0.2,IF(B306=data!$S$3,D306*0.1+E306*0.3+F306*0.1+G306+I306+J306*0.5+K306*0.4,IF(B306=data!$S$4,D306*0.6+E306*0.7+F306+G306+I306+L306,IF(B306=data!$S$5,D306*0.7+E306+H306*0.7+I306,\"zvolte typ stavby\"))))","v":"zvolte typ stavby"},{"$f":"IF(B306=data!$S$2,(M306*10)/4.9,IF(B306=data!$S$3,(M306*10)/3.4,IF(B306=data!$S$4,(M306*10)/5.3,IF(B306=data!$S$5,(M306*10)/3.4,\"zvolte typ stavby\"))))","v":"zvolte typ stavby"}]
[null,null,null,null,null,null,null,null,null,null,null,null,{"$f":"IF(B307=data!$S$2,D307*0.7+E307*0.2+F307*0.8+G307+H307*0.2+I307+J307*0.3+K307*0.5+L307*0.2,IF(B307=data!$S$3,D307*0.1+E307*0.3+F307*0.1+G307+I307+J307*0.5+K307*0.4,IF(B307=data!$S$4,D307*0.6+E307*0.7+F307+G307+I307+L307,IF(B307=data!$S$5,D307*0.7+E307+H307*0.7+I307,\"zvolte typ stavby\"))))","v":"zvolte typ stavby"},{"$f":"IF(B307=data!$S$2,(M307*10)/4.9,IF(B307=data!$S$3,(M307*10)/3.4,IF(B307=data!$S$4,(M307*10)/5.3,IF(B307=data!$S$5,(M307*10)/3.4,\"zvolte typ stavby\"))))","v":"zvolte typ stavby"}]
[null,null,null,null,null,null,null,null,null,null,null,null,{"$f":"IF(B308=data!$S$2,D308*0.7+E308*0.2+F308*0.8+G308+H308*0.2+I308+J308*0.3+K308*0.5+L308*0.2,IF(B308=data!$S$3,D308*0.1+E308*0.3+F308*0.1+G308+I308+J308*0.5+K308*0.4,IF(B308=data!$S$4,D308*0.6+E308*0.7+F308+G308+I308+L308,IF(B308=data!$S$5,D308*0.7+E308+H308*0.7+I308,\"zvolte typ stavby\"))))","v":"zvolte typ stavby"},{"$f":"IF(B308=data!$S$2,(M308*10)/4.9,IF(B308=data!$S$3,(M308*10)/3.4,IF(B308=data!$S$4,(M308*10)/5.3,IF(B308=data!$S$5,(M308*10)/3.4,\"zvolte typ stavby\"))))","v":"zvolte typ stavby"}]
[null,null,null,null,null,null,null,null,null,null,null,null,{"$f":"IF(B309=data!$S$2,D309*0.7+E309*0.2+F309*0.8+G309+H309*0.2+I309+J309*0.3+K309*0.5+L309*0.2,IF(B309=data!$S$3,D309*0.1+E309*0.3+F309*0.1+G309+I309+J309*0.5+K309*0.4,IF(B309=data!$S$4,D309*0.6+E309*0.7+F309+G309+I309+L309,IF(B309=data!$S$5,D309*0.7+E309+H309*0.7+I309,\"zvolte typ stavby\"))))","v":"zvolte typ stavby"},{"$f":"IF(B309=data!$S$2,(M309*10)/4.9,IF(B309=data!$S$3,(M309*10)/3.4,IF(B309=data!$S$4,(M309*10)/5.3,IF(B309=data!$S$5,(M309*10)/3.4,\"zvolte typ stavby\"))))","v":"zvolte typ stavby"}]
[null,null,null,null,null,null,null,null,null,null,null,null,{"$f":"IF(B310=data!$S$2,D310*0.7+E310*0.2+F310*0.8+G310+H310*0.2+I310+J310*0.3+K310*0.5+L310*0.2,IF(B310=data!$S$3,D310*0.1+E310*0.3+F310*0.1+G310+I310+J310*0.5+K310*0.4,IF(B310=data!$S$4,D310*0.6+E310*0.7+F310+G310+I310+L310,IF(B310=data!$S$5,D310*0.7+E310+H310*0.7+I310,\"zvolte typ stavby\"))))","v":"zvolte typ stavby"},{"$f":"IF(B310=data!$S$2,(M310*10)/4.9,IF(B310=data!$S$3,(M310*10)/3.4,IF(B310=data!$S$4,(M310*10)/5.3,IF(B310=data!$S$5,(M310*10)/3.4,\"zvolte typ stavby\"))))","v":"zvolte typ stavby"}]
[null,null,null,null,null,null,null,null,null,null,null,null,{"$f":"IF(B311=data!$S$2,D311*0.7+E311*0.2+F311*0.8+G311+H311*0.2+I311+J311*0.3+K311*0.5+L311*0.2,IF(B311=data!$S$3,D311*0.1+E311*0.3+F311*0.1+G311+I311+J311*0.5+K311*0.4,IF(B311=data!$S$4,D311*0.6+E311*0.7+F311+G311+I311+L311,IF(B311=data!$S$5,D311*0.7+E311+H311*0.7+I311,\"zvolte typ stavby\"))))","v":"zvolte typ stavby"},{"$f":"IF(B311=data!$S$2,(M311*10)/4.9,IF(B311=data!$S$3,(M311*10)/3.4,IF(B311=data!$S$4,(M311*10)/5.3,IF(B311=data!$S$5,(M311*10)/3.4,\"zvolte typ stavby\"))))","v":"zvolte typ stavby"}]
[null,null,null,null,null,null,null,null,null,null,null,null,{"$f":"IF(B312=data!$S$2,D312*0.7+E312*0.2+F312*0.8+G312+H312*0.2+I312+J312*0.3+K312*0.5+L312*0.2,IF(B312=data!$S$3,D312*0.1+E312*0.3+F312*0.1+G312+I312+J312*0.5+K312*0.4,IF(B312=data!$S$4,D312*0.6+E312*0.7+F312+G312+I312+L312,IF(B312=data!$S$5,D312*0.7+E312+H312*0.7+I312,\"zvolte typ stavby\"))))","v":"zvolte typ stavby"},{"$f":"IF(B312=data!$S$2,(M312*10)/4.9,IF(B312=data!$S$3,(M312*10)/3.4,IF(B312=data!$S$4,(M312*10)/5.3,IF(B312=data!$S$5,(M312*10)/3.4,\"zvolte typ stavby\"))))","v":"zvolte typ stavby"}]
[null,null,null,null,null,null,null,null,null,null,null,null,{"$f":"IF(B313=data!$S$2,D313*0.7+E313*0.2+F313*0.8+G313+H313*0.2+I313+J313*0.3+K313*0.5+L313*0.2,IF(B313=data!$S$3,D313*0.1+E313*0.3+F313*0.1+G313+I313+J313*0.5+K313*0.4,IF(B313=data!$S$4,D313*0.6+E313*0.7+F313+G313+I313+L313,IF(B313=data!$S$5,D313*0.7+E313+H313*0.7+I313,\"zvolte typ stavby\"))))","v":"zvolte typ stavby"},{"$f":"IF(B313=data!$S$2,(M313*10)/4.9,IF(B313=data!$S$3,(M313*10)/3.4,IF(B313=data!$S$4,(M313*10)/5.3,IF(B313=data!$S$5,(M313*10)/3.4,\"zvolte typ stavby\"))))","v":"zvolte typ stavby"}]
[null,null,null,null,null,null,null,null,null,null,null,null,{"$f":"IF(B314=data!$S$2,D314*0.7+E314*0.2+F314*0.8+G314+H314*0.2+I314+J314*0.3+K314*0.5+L314*0.2,IF(B314=data!$S$3,D314*0.1+E314*0.3+F314*0.1+G314+I314+J314*0.5+K314*0.4,IF(B314=data!$S$4,D314*0.6+E314*0.7+F314+G314+I314+L314,IF(B314=data!$S$5,D314*0.7+E314+H314*0.7+I314,\"zvolte typ stavby\"))))","v":"zvolte typ stavby"},{"$f":"IF(B314=data!$S$2,(M314*10)/4.9,IF(B314=data!$S$3,(M314*10)/3.4,IF(B314=data!$S$4,(M314*10)/5.3,IF(B314=data!$S$5,(M314*10)/3.4,\"zvolte typ stavby\"))))","v":"zvolte typ stavby"}]
[null,null,null,null,null,null,null,null,null,null,null,null,{"$f":"IF(B315=data!$S$2,D315*0.7+E315*0.2+F315*0.8+G315+H315*0.2+I315+J315*0.3+K315*0.5+L315*0.2,IF(B315=data!$S$3,D315*0.1+E315*0.3+F315*0.1+G315+I315+J315*0.5+K315*0.4,IF(B315=data!$S$4,D315*0.6+E315*0.7+F315+G315+I315+L315,IF(B315=data!$S$5,D315*0.7+E315+H315*0.7+I315,\"zvolte typ stavby\"))))","v":"zvolte typ stavby"},{"$f":"IF(B315=data!$S$2,(M315*10)/4.9,IF(B315=data!$S$3,(M315*10)/3.4,IF(B315=data!$S$4,(M315*10)/5.3,IF(B315=data!$S$5,(M315*10)/3.4,\"zvolte typ stavby\"))))","v":"zvolte typ stavby"}]
[null,null,null,null,null,null,null,null,null,null,null,null,{"$f":"IF(B316=data!$S$2,D316*0.7+E316*0.2+F316*0.8+G316+H316*0.2+I316+J316*0.3+K316*0.5+L316*0.2,IF(B316=data!$S$3,D316*0.1+E316*0.3+F316*0.1+G316+I316+J316*0.5+K316*0.4,IF(B316=data!$S$4,D316*0.6+E316*0.7+F316+G316+I316+L316,IF(B316=data!$S$5,D316*0.7+E316+H316*0.7+I316,\"zvolte typ stavby\"))))","v":"zvolte typ stavby"},{"$f":"IF(B316=data!$S$2,(M316*10)/4.9,IF(B316=data!$S$3,(M316*10)/3.4,IF(B316=data!$S$4,(M316*10)/5.3,IF(B316=data!$S$5,(M316*10)/3.4,\"zvolte typ stavby\"))))","v":"zvolte typ stavby"}]
[null,null,null,null,null,null,null,null,null,null,null,null,{"$f":"IF(B317=data!$S$2,D317*0.7+E317*0.2+F317*0.8+G317+H317*0.2+I317+J317*0.3+K317*0.5+L317*0.2,IF(B317=data!$S$3,D317*0.1+E317*0.3+F317*0.1+G317+I317+J317*0.5+K317*0.4,IF(B317=data!$S$4,D317*0.6+E317*0.7+F317+G317+I317+L317,IF(B317=data!$S$5,D317*0.7+E317+H317*0.7+I317,\"zvolte typ stavby\"))))","v":"zvolte typ stavby"},{"$f":"IF(B317=data!$S$2,(M317*10)/4.9,IF(B317=data!$S$3,(M317*10)/3.4,IF(B317=data!$S$4,(M317*10)/5.3,IF(B317=data!$S$5,(M317*10)/3.4,\"zvolte typ stavby\"))))","v":"zvolte typ stavby"}]
[null,null,null,null,null,null,null,null,null,null,null,null,{"$f":"IF(B318=data!$S$2,D318*0.7+E318*0.2+F318*0.8+G318+H318*0.2+I318+J318*0.3+K318*0.5+L318*0.2,IF(B318=data!$S$3,D318*0.1+E318*0.3+F318*0.1+G318+I318+J318*0.5+K318*0.4,IF(B318=data!$S$4,D318*0.6+E318*0.7+F318+G318+I318+L318,IF(B318=data!$S$5,D318*0.7+E318+H318*0.7+I318,\"zvolte typ stavby\"))))","v":"zvolte typ stavby"},{"$f":"IF(B318=data!$S$2,(M318*10)/4.9,IF(B318=data!$S$3,(M318*10)/3.4,IF(B318=data!$S$4,(M318*10)/5.3,IF(B318=data!$S$5,(M318*10)/3.4,\"zvolte typ stavby\"))))","v":"zvolte typ stavby"}]
[null,null,null,null,null,null,null,null,null,null,null,null,{"$f":"IF(B319=data!$S$2,D319*0.7+E319*0.2+F319*0.8+G319+H319*0.2+I319+J319*0.3+K319*0.5+L319*0.2,IF(B319=data!$S$3,D319*0.1+E319*0.3+F319*0.1+G319+I319+J319*0.5+K319*0.4,IF(B319=data!$S$4,D319*0.6+E319*0.7+F319+G319+I319+L319,IF(B319=data!$S$5,D319*0.7+E319+H319*0.7+I319,\"zvolte typ stavby\"))))","v":"zvolte typ stavby"},{"$f":"IF(B319=data!$S$2,(M319*10)/4.9,IF(B319=data!$S$3,(M319*10)/3.4,IF(B319=data!$S$4,(M319*10)/5.3,IF(B319=data!$S$5,(M319*10)/3.4,\"zvolte typ stavby\"))))","v":"zvolte typ stavby"}]
[null,null,null,null,null,null,null,null,null,null,null,null,{"$f":"IF(B320=data!$S$2,D320*0.7+E320*0.2+F320*0.8+G320+H320*0.2+I320+J320*0.3+K320*0.5+L320*0.2,IF(B320=data!$S$3,D320*0.1+E320*0.3+F320*0.1+G320+I320+J320*0.5+K320*0.4,IF(B320=data!$S$4,D320*0.6+E320*0.7+F320+G320+I320+L320,IF(B320=data!$S$5,D320*0.7+E320+H320*0.7+I320,\"zvolte typ stavby\"))))","v":"zvolte typ stavby"},{"$f":"IF(B320=data!$S$2,(M320*10)/4.9,IF(B320=data!$S$3,(M320*10)/3.4,IF(B320=data!$S$4,(M320*10)/5.3,IF(B320=data!$S$5,(M320*10)/3.4,\"zvolte typ stavby\"))))","v":"zvolte typ stavby"}]
[null,null,null,null,null,null,null,null,null,null,null,null,{"$f":"IF(B321=data!$S$2,D321*0.7+E321*0.2+F321*0.8+G321+H321*0.2+I321+J321*0.3+K321*0.5+L321*0.2,IF(B321=data!$S$3,D321*0.1+E321*0.3+F321*0.1+G321+I321+J321*0.5+K321*0.4,IF(B321=data!$S$4,D321*0.6+E321*0.7+F321+G321+I321+L321,IF(B321=data!$S$5,D321*0.7+E321+H321*0.7+I321,\"zvolte typ stavby\"))))","v":"zvolte typ stavby"},{"$f":"IF(B321=data!$S$2,(M321*10)/4.9,IF(B321=data!$S$3,(M321*10)/3.4,IF(B321=data!$S$4,(M321*10)/5.3,IF(B321=data!$S$5,(M321*10)/3.4,\"zvolte typ stavby\"))))","v":"zvolte typ stavby"}]
[null,null,null,null,null,null,null,null,null,null,null,null,{"$f":"IF(B322=data!$S$2,D322*0.7+E322*0.2+F322*0.8+G322+H322*0.2+I322+J322*0.3+K322*0.5+L322*0.2,IF(B322=data!$S$3,D322*0.1+E322*0.3+F322*0.1+G322+I322+J322*0.5+K322*0.4,IF(B322=data!$S$4,D322*0.6+E322*0.7+F322+G322+I322+L322,IF(B322=data!$S$5,D322*0.7+E322+H322*0.7+I322,\"zvolte typ stavby\"))))","v":"zvolte typ stavby"},{"$f":"IF(B322=data!$S$2,(M322*10)/4.9,IF(B322=data!$S$3,(M322*10)/3.4,IF(B322=data!$S$4,(M322*10)/5.3,IF(B322=data!$S$5,(M322*10)/3.4,\"zvolte typ stavby\"))))","v":"zvolte typ stavby"}]
[null,null,null,null,null,null,null,null,null,null,null,null,{"$f":"IF(B323=data!$S$2,D323*0.7+E323*0.2+F323*0.8+G323+H323*0.2+I323+J323*0.3+K323*0.5+L323*0.2,IF(B323=data!$S$3,D323*0.1+E323*0.3+F323*0.1+G323+I323+J323*0.5+K323*0.4,IF(B323=data!$S$4,D323*0.6+E323*0.7+F323+G323+I323+L323,IF(B323=data!$S$5,D323*0.7+E323+H323*0.7+I323,\"zvolte typ stavby\"))))","v":"zvolte typ stavby"},{"$f":"IF(B323=data!$S$2,(M323*10)/4.9,IF(B323=data!$S$3,(M323*10)/3.4,IF(B323=data!$S$4,(M323*10)/5.3,IF(B323=data!$S$5,(M323*10)/3.4,\"zvolte typ stavby\"))))","v":"zvolte typ stavby"}]
[null,null,null,null,null,null,null,null,null,null,null,null,{"$f":"IF(B324=data!$S$2,D324*0.7+E324*0.2+F324*0.8+G324+H324*0.2+I324+J324*0.3+K324*0.5+L324*0.2,IF(B324=data!$S$3,D324*0.1+E324*0.3+F324*0.1+G324+I324+J324*0.5+K324*0.4,IF(B324=data!$S$4,D324*0.6+E324*0.7+F324+G324+I324+L324,IF(B324=data!$S$5,D324*0.7+E324+H324*0.7+I324,\"zvolte typ stavby\"))))","v":"zvolte typ stavby"},{"$f":"IF(B324=data!$S$2,(M324*10)/4.9,IF(B324=data!$S$3,(M324*10)/3.4,IF(B324=data!$S$4,(M324*10)/5.3,IF(B324=data!$S$5,(M324*10)/3.4,\"zvolte typ stavby\"))))","v":"zvolte typ stavby"}]
[null,null,null,null,null,null,null,null,null,null,null,null,{"$f":"IF(B325=data!$S$2,D325*0.7+E325*0.2+F325*0.8+G325+H325*0.2+I325+J325*0.3+K325*0.5+L325*0.2,IF(B325=data!$S$3,D325*0.1+E325*0.3+F325*0.1+G325+I325+J325*0.5+K325*0.4,IF(B325=data!$S$4,D325*0.6+E325*0.7+F325+G325+I325+L325,IF(B325=data!$S$5,D325*0.7+E325+H325*0.7+I325,\"zvolte typ stavby\"))))","v":"zvolte typ stavby"},{"$f":"IF(B325=data!$S$2,(M325*10)/4.9,IF(B325=data!$S$3,(M325*10)/3.4,IF(B325=data!$S$4,(M325*10)/5.3,IF(B325=data!$S$5,(M325*10)/3.4,\"zvolte typ stavby\"))))","v":"zvolte typ stavby"}]
[null,null,null,null,null,null,null,null,null,null,null,null,{"$f":"IF(B326=data!$S$2,D326*0.7+E326*0.2+F326*0.8+G326+H326*0.2+I326+J326*0.3+K326*0.5+L326*0.2,IF(B326=data!$S$3,D326*0.1+E326*0.3+F326*0.1+G326+I326+J326*0.5+K326*0.4,IF(B326=data!$S$4,D326*0.6+E326*0.7+F326+G326+I326+L326,IF(B326=data!$S$5,D326*0.7+E326+H326*0.7+I326,\"zvolte typ stavby\"))))","v":"zvolte typ stavby"},{"$f":"IF(B326=data!$S$2,(M326*10)/4.9,IF(B326=data!$S$3,(M326*10)/3.4,IF(B326=data!$S$4,(M326*10)/5.3,IF(B326=data!$S$5,(M326*10)/3.4,\"zvolte typ stavby\"))))","v":"zvolte typ stavby"}]
[null,null,null,null,null,null,null,null,null,null,null,null,{"$f":"IF(B327=data!$S$2,D327*0.7+E327*0.2+F327*0.8+G327+H327*0.2+I327+J327*0.3+K327*0.5+L327*0.2,IF(B327=data!$S$3,D327*0.1+E327*0.3+F327*0.1+G327+I327+J327*0.5+K327*0.4,IF(B327=data!$S$4,D327*0.6+E327*0.7+F327+G327+I327+L327,IF(B327=data!$S$5,D327*0.7+E327+H327*0.7+I327,\"zvolte typ stavby\"))))","v":"zvolte typ stavby"},{"$f":"IF(B327=data!$S$2,(M327*10)/4.9,IF(B327=data!$S$3,(M327*10)/3.4,IF(B327=data!$S$4,(M327*10)/5.3,IF(B327=data!$S$5,(M327*10)/3.4,\"zvolte typ stavby\"))))","v":"zvolte typ stavby"}]
[null,null,null,null,null,null,null,null,null,null,null,null,{"$f":"IF(B328=data!$S$2,D328*0.7+E328*0.2+F328*0.8+G328+H328*0.2+I328+J328*0.3+K328*0.5+L328*0.2,IF(B328=data!$S$3,D328*0.1+E328*0.3+F328*0.1+G328+I328+J328*0.5+K328*0.4,IF(B328=data!$S$4,D328*0.6+E328*0.7+F328+G328+I328+L328,IF(B328=data!$S$5,D328*0.7+E328+H328*0.7+I328,\"zvolte typ stavby\"))))","v":"zvolte typ stavby"},{"$f":"IF(B328=data!$S$2,(M328*10)/4.9,IF(B328=data!$S$3,(M328*10)/3.4,IF(B328=data!$S$4,(M328*10)/5.3,IF(B328=data!$S$5,(M328*10)/3.4,\"zvolte typ stavby\"))))","v":"zvolte typ stavby"}]
[null,null,null,null,null,null,null,null,null,null,null,null,{"$f":"IF(B329=data!$S$2,D329*0.7+E329*0.2+F329*0.8+G329+H329*0.2+I329+J329*0.3+K329*0.5+L329*0.2,IF(B329=data!$S$3,D329*0.1+E329*0.3+F329*0.1+G329+I329+J329*0.5+K329*0.4,IF(B329=data!$S$4,D329*0.6+E329*0.7+F329+G329+I329+L329,IF(B329=data!$S$5,D329*0.7+E329+H329*0.7+I329,\"zvolte typ stavby\"))))","v":"zvolte typ stavby"},{"$f":"IF(B329=data!$S$2,(M329*10)/4.9,IF(B329=data!$S$3,(M329*10)/3.4,IF(B329=data!$S$4,(M329*10)/5.3,IF(B329=data!$S$5,(M329*10)/3.4,\"zvolte typ stavby\"))))","v":"zvolte typ stavby"}]
[null,null,null,null,null,null,null,null,null,null,null,null,{"$f":"IF(B330=data!$S$2,D330*0.7+E330*0.2+F330*0.8+G330+H330*0.2+I330+J330*0.3+K330*0.5+L330*0.2,IF(B330=data!$S$3,D330*0.1+E330*0.3+F330*0.1+G330+I330+J330*0.5+K330*0.4,IF(B330=data!$S$4,D330*0.6+E330*0.7+F330+G330+I330+L330,IF(B330=data!$S$5,D330*0.7+E330+H330*0.7+I330,\"zvolte typ stavby\"))))","v":"zvolte typ stavby"},{"$f":"IF(B330=data!$S$2,(M330*10)/4.9,IF(B330=data!$S$3,(M330*10)/3.4,IF(B330=data!$S$4,(M330*10)/5.3,IF(B330=data!$S$5,(M330*10)/3.4,\"zvolte typ stavby\"))))","v":"zvolte typ stavby"}]
[null,null,null,null,null,null,null,null,null,null,null,null,{"$f":"IF(B331=data!$S$2,D331*0.7+E331*0.2+F331*0.8+G331+H331*0.2+I331+J331*0.3+K331*0.5+L331*0.2,IF(B331=data!$S$3,D331*0.1+E331*0.3+F331*0.1+G331+I331+J331*0.5+K331*0.4,IF(B331=data!$S$4,D331*0.6+E331*0.7+F331+G331+I331+L331,IF(B331=data!$S$5,D331*0.7+E331+H331*0.7+I331,\"zvolte typ stavby\"))))","v":"zvolte typ stavby"},{"$f":"IF(B331=data!$S$2,(M331*10)/4.9,IF(B331=data!$S$3,(M331*10)/3.4,IF(B331=data!$S$4,(M331*10)/5.3,IF(B331=data!$S$5,(M331*10)/3.4,\"zvolte typ stavby\"))))","v":"zvolte typ stavby"}]
[null,null,null,null,null,null,null,null,null,null,null,null,{"$f":"IF(B332=data!$S$2,D332*0.7+E332*0.2+F332*0.8+G332+H332*0.2+I332+J332*0.3+K332*0.5+L332*0.2,IF(B332=data!$S$3,D332*0.1+E332*0.3+F332*0.1+G332+I332+J332*0.5+K332*0.4,IF(B332=data!$S$4,D332*0.6+E332*0.7+F332+G332+I332+L332,IF(B332=data!$S$5,D332*0.7+E332+H332*0.7+I332,\"zvolte typ stavby\"))))","v":"zvolte typ stavby"},{"$f":"IF(B332=data!$S$2,(M332*10)/4.9,IF(B332=data!$S$3,(M332*10)/3.4,IF(B332=data!$S$4,(M332*10)/5.3,IF(B332=data!$S$5,(M332*10)/3.4,\"zvolte typ stavby\"))))","v":"zvolte typ stavby"}]
[null,null,null,null,null,null,null,null,null,null,null,null,{"$f":"IF(B333=data!$S$2,D333*0.7+E333*0.2+F333*0.8+G333+H333*0.2+I333+J333*0.3+K333*0.5+L333*0.2,IF(B333=data!$S$3,D333*0.1+E333*0.3+F333*0.1+G333+I333+J333*0.5+K333*0.4,IF(B333=data!$S$4,D333*0.6+E333*0.7+F333+G333+I333+L333,IF(B333=data!$S$5,D333*0.7+E333+H333*0.7+I333,\"zvolte typ stavby\"))))","v":"zvolte typ stavby"},{"$f":"IF(B333=data!$S$2,(M333*10)/4.9,IF(B333=data!$S$3,(M333*10)/3.4,IF(B333=data!$S$4,(M333*10)/5.3,IF(B333=data!$S$5,(M333*10)/3.4,\"zvolte typ stavby\"))))","v":"zvolte typ stavby"}]
[null,null,null,null,null,null,null,null,null,null,null,null,{"$f":"IF(B334=data!$S$2,D334*0.7+E334*0.2+F334*0.8+G334+H334*0.2+I334+J334*0.3+K334*0.5+L334*0.2,IF(B334=data!$S$3,D334*0.1+E334*0.3+F334*0.1+G334+I334+J334*0.5+K334*0.4,IF(B334=data!$S$4,D334*0.6+E334*0.7+F334+G334+I334+L334,IF(B334=data!$S$5,D334*0.7+E334+H334*0.7+I334,\"zvolte typ stavby\"))))","v":"zvolte typ stavby"},{"$f":"IF(B334=data!$S$2,(M334*10)/4.9,IF(B334=data!$S$3,(M334*10)/3.4,IF(B334=data!$S$4,(M334*10)/5.3,IF(B334=data!$S$5,(M334*10)/3.4,\"zvolte typ stavby\"))))","v":"zvolte typ stavby"}]
[null,null,null,null,null,null,null,null,null,null,null,null,{"$f":"IF(B335=data!$S$2,D335*0.7+E335*0.2+F335*0.8+G335+H335*0.2+I335+J335*0.3+K335*0.5+L335*0.2,IF(B335=data!$S$3,D335*0.1+E335*0.3+F335*0.1+G335+I335+J335*0.5+K335*0.4,IF(B335=data!$S$4,D335*0.6+E335*0.7+F335+G335+I335+L335,IF(B335=data!$S$5,D335*0.7+E335+H335*0.7+I335,\"zvolte typ stavby\"))))","v":"zvolte typ stavby"},{"$f":"IF(B335=data!$S$2,(M335*10)/4.9,IF(B335=data!$S$3,(M335*10)/3.4,IF(B335=data!$S$4,(M335*10)/5.3,IF(B335=data!$S$5,(M335*10)/3.4,\"zvolte typ stavby\"))))","v":"zvolte typ stavby"}]
[null,null,null,null,null,null,null,null,null,null,null,null,{"$f":"IF(B336=data!$S$2,D336*0.7+E336*0.2+F336*0.8+G336+H336*0.2+I336+J336*0.3+K336*0.5+L336*0.2,IF(B336=data!$S$3,D336*0.1+E336*0.3+F336*0.1+G336+I336+J336*0.5+K336*0.4,IF(B336=data!$S$4,D336*0.6+E336*0.7+F336+G336+I336+L336,IF(B336=data!$S$5,D336*0.7+E336+H336*0.7+I336,\"zvolte typ stavby\"))))","v":"zvolte typ stavby"},{"$f":"IF(B336=data!$S$2,(M336*10)/4.9,IF(B336=data!$S$3,(M336*10)/3.4,IF(B336=data!$S$4,(M336*10)/5.3,IF(B336=data!$S$5,(M336*10)/3.4,\"zvolte typ stavby\"))))","v":"zvolte typ stavby"}]
[null,null,null,null,null,null,null,null,null,null,null,null,{"$f":"IF(B337=data!$S$2,D337*0.7+E337*0.2+F337*0.8+G337+H337*0.2+I337+J337*0.3+K337*0.5+L337*0.2,IF(B337=data!$S$3,D337*0.1+E337*0.3+F337*0.1+G337+I337+J337*0.5+K337*0.4,IF(B337=data!$S$4,D337*0.6+E337*0.7+F337+G337+I337+L337,IF(B337=data!$S$5,D337*0.7+E337+H337*0.7+I337,\"zvolte typ stavby\"))))","v":"zvolte typ stavby"},{"$f":"IF(B337=data!$S$2,(M337*10)/4.9,IF(B337=data!$S$3,(M337*10)/3.4,IF(B337=data!$S$4,(M337*10)/5.3,IF(B337=data!$S$5,(M337*10)/3.4,\"zvolte typ stavby\"))))","v":"zvolte typ stavby"}]
[null,null,null,null,null,null,null,null,null,null,null,null,{"$f":"IF(B338=data!$S$2,D338*0.7+E338*0.2+F338*0.8+G338+H338*0.2+I338+J338*0.3+K338*0.5+L338*0.2,IF(B338=data!$S$3,D338*0.1+E338*0.3+F338*0.1+G338+I338+J338*0.5+K338*0.4,IF(B338=data!$S$4,D338*0.6+E338*0.7+F338+G338+I338+L338,IF(B338=data!$S$5,D338*0.7+E338+H338*0.7+I338,\"zvolte typ stavby\"))))","v":"zvolte typ stavby"},{"$f":"IF(B338=data!$S$2,(M338*10)/4.9,IF(B338=data!$S$3,(M338*10)/3.4,IF(B338=data!$S$4,(M338*10)/5.3,IF(B338=data!$S$5,(M338*10)/3.4,\"zvolte typ stavby\"))))","v":"zvolte typ stavby"}]
[null,null,null,null,null,null,null,null,null,null,null,null,{"$f":"IF(B339=data!$S$2,D339*0.7+E339*0.2+F339*0.8+G339+H339*0.2+I339+J339*0.3+K339*0.5+L339*0.2,IF(B339=data!$S$3,D339*0.1+E339*0.3+F339*0.1+G339+I339+J339*0.5+K339*0.4,IF(B339=data!$S$4,D339*0.6+E339*0.7+F339+G339+I339+L339,IF(B339=data!$S$5,D339*0.7+E339+H339*0.7+I339,\"zvolte typ stavby\"))))","v":"zvolte typ stavby"},{"$f":"IF(B339=data!$S$2,(M339*10)/4.9,IF(B339=data!$S$3,(M339*10)/3.4,IF(B339=data!$S$4,(M339*10)/5.3,IF(B339=data!$S$5,(M339*10)/3.4,\"zvolte typ stavby\"))))","v":"zvolte typ stavby"}]
[null,null,null,null,null,null,null,null,null,null,null,null,{"$f":"IF(B340=data!$S$2,D340*0.7+E340*0.2+F340*0.8+G340+H340*0.2+I340+J340*0.3+K340*0.5+L340*0.2,IF(B340=data!$S$3,D340*0.1+E340*0.3+F340*0.1+G340+I340+J340*0.5+K340*0.4,IF(B340=data!$S$4,D340*0.6+E340*0.7+F340+G340+I340+L340,IF(B340=data!$S$5,D340*0.7+E340+H340*0.7+I340,\"zvolte typ stavby\"))))","v":"zvolte typ stavby"},{"$f":"IF(B340=data!$S$2,(M340*10)/4.9,IF(B340=data!$S$3,(M340*10)/3.4,IF(B340=data!$S$4,(M340*10)/5.3,IF(B340=data!$S$5,(M340*10)/3.4,\"zvolte typ stavby\"))))","v":"zvolte typ stavby"}]
[null,null,null,null,null,null,null,null,null,null,null,null,{"$f":"IF(B341=data!$S$2,D341*0.7+E341*0.2+F341*0.8+G341+H341*0.2+I341+J341*0.3+K341*0.5+L341*0.2,IF(B341=data!$S$3,D341*0.1+E341*0.3+F341*0.1+G341+I341+J341*0.5+K341*0.4,IF(B341=data!$S$4,D341*0.6+E341*0.7+F341+G341+I341+L341,IF(B341=data!$S$5,D341*0.7+E341+H341*0.7+I341,\"zvolte typ stavby\"))))","v":"zvolte typ stavby"},{"$f":"IF(B341=data!$S$2,(M341*10)/4.9,IF(B341=data!$S$3,(M341*10)/3.4,IF(B341=data!$S$4,(M341*10)/5.3,IF(B341=data!$S$5,(M341*10)/3.4,\"zvolte typ stavby\"))))","v":"zvolte typ stavby"}]
[null,null,null,null,null,null,null,null,null,null,null,null,{"$f":"IF(B342=data!$S$2,D342*0.7+E342*0.2+F342*0.8+G342+H342*0.2+I342+J342*0.3+K342*0.5+L342*0.2,IF(B342=data!$S$3,D342*0.1+E342*0.3+F342*0.1+G342+I342+J342*0.5+K342*0.4,IF(B342=data!$S$4,D342*0.6+E342*0.7+F342+G342+I342+L342,IF(B342=data!$S$5,D342*0.7+E342+H342*0.7+I342,\"zvolte typ stavby\"))))","v":"zvolte typ stavby"},{"$f":"IF(B342=data!$S$2,(M342*10)/4.9,IF(B342=data!$S$3,(M342*10)/3.4,IF(B342=data!$S$4,(M342*10)/5.3,IF(B342=data!$S$5,(M342*10)/3.4,\"zvolte typ stavby\"))))","v":"zvolte typ stavby"}]
[null,null,null,null,null,null,null,null,null,null,null,null,{"$f":"IF(B343=data!$S$2,D343*0.7+E343*0.2+F343*0.8+G343+H343*0.2+I343+J343*0.3+K343*0.5+L343*0.2,IF(B343=data!$S$3,D343*0.1+E343*0.3+F343*0.1+G343+I343+J343*0.5+K343*0.4,IF(B343=data!$S$4,D343*0.6+E343*0.7+F343+G343+I343+L343,IF(B343=data!$S$5,D343*0.7+E343+H343*0.7+I343,\"zvolte typ stavby\"))))","v":"zvolte typ stavby"},{"$f":"IF(B343=data!$S$2,(M343*10)/4.9,IF(B343=data!$S$3,(M343*10)/3.4,IF(B343=data!$S$4,(M343*10)/5.3,IF(B343=data!$S$5,(M343*10)/3.4,\"zvolte typ stavby\"))))","v":"zvolte typ stavby"}]
[null,null,null,null,null,null,null,null,null,null,null,null,{"$f":"IF(B344=data!$S$2,D344*0.7+E344*0.2+F344*0.8+G344+H344*0.2+I344+J344*0.3+K344*0.5+L344*0.2,IF(B344=data!$S$3,D344*0.1+E344*0.3+F344*0.1+G344+I344+J344*0.5+K344*0.4,IF(B344=data!$S$4,D344*0.6+E344*0.7+F344+G344+I344+L344,IF(B344=data!$S$5,D344*0.7+E344+H344*0.7+I344,\"zvolte typ stavby\"))))","v":"zvolte typ stavby"},{"$f":"IF(B344=data!$S$2,(M344*10)/4.9,IF(B344=data!$S$3,(M344*10)/3.4,IF(B344=data!$S$4,(M344*10)/5.3,IF(B344=data!$S$5,(M344*10)/3.4,\"zvolte typ stavby\"))))","v":"zvolte typ stavby"}]
[null,null,null,null,null,null,null,null,null,null,null,null,{"$f":"IF(B345=data!$S$2,D345*0.7+E345*0.2+F345*0.8+G345+H345*0.2+I345+J345*0.3+K345*0.5+L345*0.2,IF(B345=data!$S$3,D345*0.1+E345*0.3+F345*0.1+G345+I345+J345*0.5+K345*0.4,IF(B345=data!$S$4,D345*0.6+E345*0.7+F345+G345+I345+L345,IF(B345=data!$S$5,D345*0.7+E345+H345*0.7+I345,\"zvolte typ stavby\"))))","v":"zvolte typ stavby"},{"$f":"IF(B345=data!$S$2,(M345*10)/4.9,IF(B345=data!$S$3,(M345*10)/3.4,IF(B345=data!$S$4,(M345*10)/5.3,IF(B345=data!$S$5,(M345*10)/3.4,\"zvolte typ stavby\"))))","v":"zvolte typ stavby"}]
[null,null,null,null,null,null,null,null,null,null,null,null,{"$f":"IF(B346=data!$S$2,D346*0.7+E346*0.2+F346*0.8+G346+H346*0.2+I346+J346*0.3+K346*0.5+L346*0.2,IF(B346=data!$S$3,D346*0.1+E346*0.3+F346*0.1+G346+I346+J346*0.5+K346*0.4,IF(B346=data!$S$4,D346*0.6+E346*0.7+F346+G346+I346+L346,IF(B346=data!$S$5,D346*0.7+E346+H346*0.7+I346,\"zvolte typ stavby\"))))","v":"zvolte typ stavby"},{"$f":"IF(B346=data!$S$2,(M346*10)/4.9,IF(B346=data!$S$3,(M346*10)/3.4,IF(B346=data!$S$4,(M346*10)/5.3,IF(B346=data!$S$5,(M346*10)/3.4,\"zvolte typ stavby\"))))","v":"zvolte typ stavby"}]
[null,null,null,null,null,null,null,null,null,null,null,null,{"$f":"IF(B347=data!$S$2,D347*0.7+E347*0.2+F347*0.8+G347+H347*0.2+I347+J347*0.3+K347*0.5+L347*0.2,IF(B347=data!$S$3,D347*0.1+E347*0.3+F347*0.1+G347+I347+J347*0.5+K347*0.4,IF(B347=data!$S$4,D347*0.6+E347*0.7+F347+G347+I347+L347,IF(B347=data!$S$5,D347*0.7+E347+H347*0.7+I347,\"zvolte typ stavby\"))))","v":"zvolte typ stavby"},{"$f":"IF(B347=data!$S$2,(M347*10)/4.9,IF(B347=data!$S$3,(M347*10)/3.4,IF(B347=data!$S$4,(M347*10)/5.3,IF(B347=data!$S$5,(M347*10)/3.4,\"zvolte typ stavby\"))))","v":"zvolte typ stavby"}]
[null,null,null,null,null,null,null,null,null,null,null,null,{"$f":"IF(B348=data!$S$2,D348*0.7+E348*0.2+F348*0.8+G348+H348*0.2+I348+J348*0.3+K348*0.5+L348*0.2,IF(B348=data!$S$3,D348*0.1+E348*0.3+F348*0.1+G348+I348+J348*0.5+K348*0.4,IF(B348=data!$S$4,D348*0.6+E348*0.7+F348+G348+I348+L348,IF(B348=data!$S$5,D348*0.7+E348+H348*0.7+I348,\"zvolte typ stavby\"))))","v":"zvolte typ stavby"},{"$f":"IF(B348=data!$S$2,(M348*10)/4.9,IF(B348=data!$S$3,(M348*10)/3.4,IF(B348=data!$S$4,(M348*10)/5.3,IF(B348=data!$S$5,(M348*10)/3.4,\"zvolte typ stavby\"))))","v":"zvolte typ stavby"}]
[null,null,null,null,null,null,null,null,null,null,null,null,{"$f":"IF(B349=data!$S$2,D349*0.7+E349*0.2+F349*0.8+G349+H349*0.2+I349+J349*0.3+K349*0.5+L349*0.2,IF(B349=data!$S$3,D349*0.1+E349*0.3+F349*0.1+G349+I349+J349*0.5+K349*0.4,IF(B349=data!$S$4,D349*0.6+E349*0.7+F349+G349+I349+L349,IF(B349=data!$S$5,D349*0.7+E349+H349*0.7+I349,\"zvolte typ stavby\"))))","v":"zvolte typ stavby"},{"$f":"IF(B349=data!$S$2,(M349*10)/4.9,IF(B349=data!$S$3,(M349*10)/3.4,IF(B349=data!$S$4,(M349*10)/5.3,IF(B349=data!$S$5,(M349*10)/3.4,\"zvolte typ stavby\"))))","v":"zvolte typ stavby"}]
[null,null,null,null,null,null,null,null,null,null,null,null,{"$f":"IF(B350=data!$S$2,D350*0.7+E350*0.2+F350*0.8+G350+H350*0.2+I350+J350*0.3+K350*0.5+L350*0.2,IF(B350=data!$S$3,D350*0.1+E350*0.3+F350*0.1+G350+I350+J350*0.5+K350*0.4,IF(B350=data!$S$4,D350*0.6+E350*0.7+F350+G350+I350+L350,IF(B350=data!$S$5,D350*0.7+E350+H350*0.7+I350,\"zvolte typ stavby\"))))","v":"zvolte typ stavby"},{"$f":"IF(B350=data!$S$2,(M350*10)/4.9,IF(B350=data!$S$3,(M350*10)/3.4,IF(B350=data!$S$4,(M350*10)/5.3,IF(B350=data!$S$5,(M350*10)/3.4,\"zvolte typ stavby\"))))","v":"zvolte typ stavby"}]
[null,null,null,null,null,null,null,null,null,null,null,null,{"$f":"IF(B351=data!$S$2,D351*0.7+E351*0.2+F351*0.8+G351+H351*0.2+I351+J351*0.3+K351*0.5+L351*0.2,IF(B351=data!$S$3,D351*0.1+E351*0.3+F351*0.1+G351+I351+J351*0.5+K351*0.4,IF(B351=data!$S$4,D351*0.6+E351*0.7+F351+G351+I351+L351,IF(B351=data!$S$5,D351*0.7+E351+H351*0.7+I351,\"zvolte typ stavby\"))))","v":"zvolte typ stavby"},{"$f":"IF(B351=data!$S$2,(M351*10)/4.9,IF(B351=data!$S$3,(M351*10)/3.4,IF(B351=data!$S$4,(M351*10)/5.3,IF(B351=data!$S$5,(M351*10)/3.4,\"zvolte typ stavby\"))))","v":"zvolte typ stavby"}]
[null,null,null,null,null,null,null,null,null,null,null,null,{"$f":"IF(B352=data!$S$2,D352*0.7+E352*0.2+F352*0.8+G352+H352*0.2+I352+J352*0.3+K352*0.5+L352*0.2,IF(B352=data!$S$3,D352*0.1+E352*0.3+F352*0.1+G352+I352+J352*0.5+K352*0.4,IF(B352=data!$S$4,D352*0.6+E352*0.7+F352+G352+I352+L352,IF(B352=data!$S$5,D352*0.7+E352+H352*0.7+I352,\"zvolte typ stavby\"))))","v":"zvolte typ stavby"},{"$f":"IF(B352=data!$S$2,(M352*10)/4.9,IF(B352=data!$S$3,(M352*10)/3.4,IF(B352=data!$S$4,(M352*10)/5.3,IF(B352=data!$S$5,(M352*10)/3.4,\"zvolte typ stavby\"))))","v":"zvolte typ stavby"}]
[null,null,null,null,null,null,null,null,null,null,null,null,{"$f":"IF(B353=data!$S$2,D353*0.7+E353*0.2+F353*0.8+G353+H353*0.2+I353+J353*0.3+K353*0.5+L353*0.2,IF(B353=data!$S$3,D353*0.1+E353*0.3+F353*0.1+G353+I353+J353*0.5+K353*0.4,IF(B353=data!$S$4,D353*0.6+E353*0.7+F353+G353+I353+L353,IF(B353=data!$S$5,D353*0.7+E353+H353*0.7+I353,\"zvolte typ stavby\"))))","v":"zvolte typ stavby"},{"$f":"IF(B353=data!$S$2,(M353*10)/4.9,IF(B353=data!$S$3,(M353*10)/3.4,IF(B353=data!$S$4,(M353*10)/5.3,IF(B353=data!$S$5,(M353*10)/3.4,\"zvolte typ stavby\"))))","v":"zvolte typ stavby"}]
[null,null,null,null,null,null,null,null,null,null,null,null,{"$f":"IF(B354=data!$S$2,D354*0.7+E354*0.2+F354*0.8+G354+H354*0.2+I354+J354*0.3+K354*0.5+L354*0.2,IF(B354=data!$S$3,D354*0.1+E354*0.3+F354*0.1+G354+I354+J354*0.5+K354*0.4,IF(B354=data!$S$4,D354*0.6+E354*0.7+F354+G354+I354+L354,IF(B354=data!$S$5,D354*0.7+E354+H354*0.7+I354,\"zvolte typ stavby\"))))","v":"zvolte typ stavby"},{"$f":"IF(B354=data!$S$2,(M354*10)/4.9,IF(B354=data!$S$3,(M354*10)/3.4,IF(B354=data!$S$4,(M354*10)/5.3,IF(B354=data!$S$5,(M354*10)/3.4,\"zvolte typ stavby\"))))","v":"zvolte typ stavby"}]

{"sheet":"data","index":2,"n_rows":815,"n_cols":30,"rows_kept":815,"cut":false,"hidden":true,"merged":[]}
["data pro list Příprava",null,null,null,null,null,null,null,null,null,null,"podkategorie",null,null,null,null,null,"data pro list Záměry",null,null,null,null,null,null,null,null,null,null,"podkategorie"]
[null,"oprava a rekonstrukce",0,0,0,0,0,0,0,0,null,{"$f":"IF('v přípravě a připraveno'!B2=data!$B$2,\"Souvislá údržba\",IF('v přípravě a připraveno'!B2=data!$B$3,\"Most\",\"-\"))","v":"-"},{"$f":"IF('v přípravě a připraveno'!B2=data!$B$2,\"Rekonstrukce\",IF('v přípravě a připraveno'!B2=data!$B$3,\"Propustek\",\"-\"))","v":"-"},null,null,null,null,null,"oprava a rekonstrukce",0,0,0,0,0,0,0,0,null,{"$f":"IF('náměty na projekční přípravu'!B2=data!$S$2,\"Souvislá údržba\",IF('náměty na projekční přípravu'!B2=data!$S$3,\"Most\",\"-\"))","v":"Most"},{"$f":"IF('náměty na projekční přípravu'!B2=data!$S$2,\"Rekonstrukce\",IF('náměty na projekční přípravu'!B2=data!$S$3,\"Propustek\",\"-\"))","v":"Propustek"}]
[null,"mostní objekty a propustky",1,5,1,1,1,2,10,2,null,{"$f":"IF('v přípravě a připraveno'!#REF!=data!$B$2,\"Souvislá údržba\",IF('v přípravě a připraveno'!#REF!=data!$B$3,\"Most\",\"-\"))","v":{"$error":"#REF!"}},{"$f":"IF('v přípravě a připraveno'!#REF!=data!$B$2,\"Rekonstrukce\",IF('v přípravě a připraveno'!#REF!=data!$B$3,\"Propustek\",\"-\"))","v":{"$error":"#REF!"}},null,null,null,null,null,"mostní objekty a propustky",1,5,1,1,1,2,10,2,null,{"$f":"IF('náměty na projekční přípravu'!B3=data!$S$2,\"Souvislá údržba\",IF('náměty na projekční přípravu'!B3=data!$S$3,\"Most\",\"-\"))","v":"Most"},{"$f":"IF('náměty na projekční přípravu'!B3=data!$S$2,\"Rekonstrukce\",IF('náměty na projekční přípravu'!B3=data!$S$3,\"Propustek\",\"-\"))","v":"Propustek"}]
[null,"řešení bodové závady a/nebo bezpečnostního rizika (křižovatky, opěrné zdi, skalní masivy)",2,10,3,2,10,4,null,5,null,{"$f":"IF('v přípravě a připraveno'!B3=data!$B$2,\"Souvislá údržba\",IF('v přípravě a připraveno'!B3=data!$B$3,\"Most\",\"-\"))","v":"Souvislá údržba"},{"$f":"IF('v přípravě a připraveno'!B3=data!$B$2,\"Rekonstrukce\",IF('v přípravě a připraveno'!B3=data!$B$3,\"Propustek\",\"-\"))","v":"Rekonstrukce"},null,null,null,null,null,"řešení bodové závady a/nebo bezpečnostního rizika (křižovatky, opěrné zdi, skalní masivy)",2,10,3,2,10,4,null,5,null,{"$f":"IF('náměty na projekční přípravu'!B4=data!$S$2,\"Souvislá údržba\",IF('náměty na projekční přípravu'!B4=data!$S$3,\"Most\",\"-\"))","v":"Most"},{"$f":"IF('náměty na projekční přípravu'!B4=data!$S$2,\"Rekonstrukce\",IF('náměty na projekční přípravu'!B4=data!$S$3,\"Propustek\",\"-\"))","v":"Propustek"}]
[null,"novostavba (obchvat, přeložka, propojka)",3,null,6,3,null,7,null,8,null,{"$f":"IF('v přípravě a připraveno'!B4=data!$B$2,\"Souvislá údržba\",IF('v přípravě a připraveno'!B4=data!$B$3,\"Most\",\"-\"))","v":"-"},{"$f":"IF('v přípravě a připraveno'!B4=data!$B$2,\"Rekonstrukce\",IF('v přípravě a připraveno'!B4=data!$B$3,\"Propustek\",\"-\"))","v":"-"},null,null,null,null,null,"novostavba (obchvat, přeložka, propojka)",3,null,6,3,null,7,null,8,null,{"$f":"IF('náměty na projekční přípravu'!B5=data!$S$2,\"Souvislá údržba\",IF('náměty na projekční přípravu'!B5=data!$S$3,\"Most\",\"-\"))","v":"Most"},{"$f":"IF('náměty na projekční přípravu'!B5=data!$S$2,\"Rekonstrukce\",IF('náměty na projekční přípravu'!B5=data!$S$3,\"Propustek\",\"-\"))","v":"Propustek"}]
[null,null,4,null,10,6,null,10,null,10,null,{"$f":"IF('v přípravě a připraveno'!B5=data!$B$2,\"Souvislá údržba\",IF('v přípravě a připraveno'!B5=data!$B$3,\"Most\",\"-\"))","v":"-"},{"$f":"IF('v přípravě a připraveno'!B5=data!$B$2,\"Rekonstrukce\",IF('v přípravě a připraveno'!B5=data!$B$3,\"Propustek\",\"-\"))","v":"-"},null,null,null,null,null,null,4,null,10,6,null,10,null,10,null,{"$f":"IF('náměty na projekční přípravu'!B6=data!$S$2,\"Souvislá údržba\",IF('náměty na projekční přípravu'!B6=data!$S$3,\"Most\",\"-\"))","v":"Most"},{"$f":"IF('náměty na projekční přípravu'!B6=data!$S$2,\"Rekonstrukce\",IF('náměty na projekční přípravu'!B6=data!$S$3,\"Propustek\",\"-\"))","v":"Propustek"}]
[null,null,5,null,null,10,null,null,null,null,null,{"$f":"IF('v přípravě a připraveno'!B6=data!$B$2,\"Souvislá údržba\",IF('v přípravě a připraveno'!B6=data!$B$3,\"Most\",\"-\"))","v":"-"},{"$f":"IF('v přípravě a připraveno'!B6=data!$B$2,\"Rekonstrukce\",IF('v přípravě a připraveno'!B6=data!$B$3,\"Propustek\",\"-\"))","v":"-"},null,null,null,null,null,null,5,null,null,10,null,null,null,null,null,{"$f":"IF('náměty na projekční přípravu'!B7=data!$S$2,\"Souvislá údržba\",IF('náměty na projekční přípravu'!B7=data!$S$3,\"Most\",\"-\"))","v":"Most"},{"$f":"IF('náměty na projekční přípravu'!B7=data!$S$2,\"Rekonstrukce\",IF('náměty na projekční přípravu'!B7=data!$S$3,\"Propustek\",\"-\"))","v":"Propustek"}]
[null,null,6,null,null,null,null,null,null,null,null,{"$f":"IF('v přípravě a připraveno'!B7=data!$B$2,\"Souvislá údržba\",IF('v přípravě a připraveno'!B7=data!$B$3,\"Most\",\"-\"))","v":"-"},{"$f":"IF('v přípravě a připraveno'!B7=data!$B$2,\"Rekonstrukce\",IF('v přípravě a připraveno'!B7=data!$B$3,\"Propustek\",\"-\"))","v":"-"},null,null,null,null,null,"souvislá údržba",6,null,null,null,null,null,null,null,null,{"$f":"IF('náměty na projekční přípravu'!B8=data!$S$2,\"Souvislá údržba\",IF('náměty na projekční přípravu'!B8=data!$S$3,\"Most\",\"-\"))","v":"Most"},{"$f":"IF('náměty na projekční přípravu'!B8=data!$S$2,\"Rekonstrukce\",IF('náměty na projekční přípravu'!B8=data!$S$3,\"Propustek\",\"-\"))","v":"Propustek"}]
[null,null,7,null,null,null,null,null,null,null,null,{"$f":"IF('v přípravě a připraveno'!B8=data!$B$2,\"Souvislá údržba\",IF('v přípravě a připraveno'!B8=data!$B$3,\"Most\",\"-\"))","v":"-"},{"$f":"IF('v přípravě a připraveno'!B8=data!$B$2,\"Rekonstrukce\",IF('v přípravě a připraveno'!B8=data!$B$3,\"Propustek\",\"-\"))","v":"-"},null,null,null,null,null,"rekonstrukce",7,null,null,null,null,null,null,null,null,{"$f":"IF('náměty na projekční přípravu'!B9=data!$S$2,\"Souvislá údržba\",IF('náměty na projekční přípravu'!B9=data!$S$3,\"Most\",\"-\"))","v":"Most"},{"$f":"IF('náměty na projekční přípravu'!B9=data!$S$2,\"Rekonstrukce\",IF('náměty na projekční přípravu'!B9=data!$S$3,\"Propustek\",\"-\"))","v":"Propustek"}]
[null,null,8,null,null,null,null,null,null,null,null,{"$f":"IF('v přípravě a připraveno'!B9=data!$B$2,\"Souvislá údržba\",IF('v přípravě a připraveno'!B9=data!$B$3,\"Most\",\"-\"))","v":"-"},{"$f":"IF('v přípravě a připraveno'!B9=data!$B$2,\"Rekonstrukce\",IF('v přípravě a připraveno'!B9=data!$B$3,\"Propustek\",\"-\"))","v":"-"},null,null,null,null,null,null,8,null,null,null,null,null,null,null,null,{"$f":"IF('náměty na projekční přípravu'!B10=data!$S$2,\"Souvislá údržba\",IF('náměty na projekční přípravu'!B10=data!$S$3,\"Most\",\"-\"))","v":"Most"},{"$f":"IF('náměty na projekční přípravu'!B10=data!$S$2,\"Rekonstrukce\",IF('náměty na projekční přípravu'!B10=data!$S$3,\"Propustek\",\"-\"))","v":"Propustek"}]
[null,null,9,null,null,null,null,null,null,null,null,{"$f":"IF('v přípravě a připraveno'!B10=data!$B$2,\"Souvislá údržba\",IF('v přípravě a připraveno'!B10=data!$B$3,\"Most\",\"-\"))","v":"-"},{"$f":"IF('v přípravě a připraveno'!B10=data!$B$2,\"Rekonstrukce\",IF('v přípravě a připraveno'!B10=data!$B$3,\"Propustek\",\"-\"))","v":"-"},null,null,null,null,null,null,9,null,null,null,null,null,null,null,null,{"$f":"IF('náměty na projekční přípravu'!B11=data!$S$2,\"Souvislá údržba\",IF('náměty na projekční přípravu'!B11=data!$S$3,\"Most\",\"-\"))","v":"Most"},{"$f":"IF('náměty na projekční přípravu'!B11=data!$S$2,\"Rekonstrukce\",IF('náměty na projekční přípravu'!B11=data!$S$3,\"Propustek\",\"-\"))","v":"Propustek"}]
[null,null,10,null,null,null,null,null,null,null,null,{"$f":"IF('v přípravě a připraveno'!B11=data!$B$2,\"Souvislá údržba\",IF('v přípravě a připraveno'!B11=data!$B$3,\"Most\",\"-\"))","v":"-"},{"$f":"IF('v přípravě a připraveno'!B11=data!$B$2,\"Rekonstrukce\",IF('v přípravě a připraveno'!B11=data!$B$3,\"Propustek\",\"-\"))","v":"-"},null,null,null,null,null,null,10,null,null,null,null,null,null,null,null,{"$f":"IF('náměty na projekční přípravu'!B12=data!$S$2,\"Souvislá údržba\",IF('náměty na projekční přípravu'!B12=data!$S$3,\"Most\",\"-\"))","v":"Most"},{"$f":"IF('náměty na projekční přípravu'!B12=data!$S$2,\"Rekonstrukce\",IF('náměty na projekční přípravu'!B12=data!$S$3,\"Propustek\",\"-\"))","v":"Propustek"}]
[null,null,null,null,null,null,null,null,null,null,null,{"$f":"IF('v přípravě a připraveno'!B12=data!$B$2,\"Souvislá údržba\",IF('v přípravě a připraveno'!B12=data!$B$3,\"Most\",\"-\"))","v":"Souvislá údržba"},{"$f":"IF('v přípravě a připraveno'!B12=data!$B$2,\"Rekonstrukce\",IF('v přípravě a připraveno'!B12=data!$B$3,\"Propustek\",\"-\"))","v":"Rekonstrukce"},null,null,null,null,null,null,null,null,null,null,null,null,null,null,null,{"$f":"IF('náměty na projekční přípravu'!B13=data!$S$2,\"Souvislá údržba\",IF('náměty na projekční přípravu'!B13=data!$S$3,\"Most\",\"-\"))","v":"Most"},{"$f":"IF('náměty na projekční přípravu'!B13=data!$S$2,\"Rekonstrukce\",IF('náměty na projekční přípravu'!B13=data!$S$3,\"Propustek\",\"-\"))","v":"Propustek"}]
[null,null,null,null,null,null,null,null,null,null,null,{"$f":"IF('v přípravě a připraveno'!B13=data!$B$2,\"Souvislá údržba\",IF('v přípravě a připraveno'!B13=data!$B$3,\"Most\",\"-\"))","v":"-"},{"$f":"IF('v přípravě a připraveno'!B13=data!$B$2,\"Rekonstrukce\",IF('v přípravě a připraveno'!B13=data!$B$3,\"Propustek\",\"-\"))","v":"-"},null,null,null,null,null,null,null,null,null,null,null,null,null,null,null,{"$f":"IF('náměty na projekční přípravu'!B14=data!$S$2,\"Souvislá údržba\",IF('náměty na projekční přípravu'!B14=data!$S$3,\"Most\",\"-\"))","v":"Most"},{"$f":"IF('náměty na projekční přípravu'!B14=data!$S$2,\"Rekonstrukce\",IF('náměty na projekční přípravu'!B14=data!$S$3,\"Propustek\",\"-\"))","v":"Propustek"}]
[null,null,null,null,null,null,null,null,null,null,null,{"$f":"IF('v přípravě a připraveno'!B14=data!$B$2,\"Souvislá údržba\",IF('v přípravě a připraveno'!B14=data!$B$3,\"Most\",\"-\"))","v":"-"},{"$f":"IF('v přípravě a připraveno'!B14=data!$B$2,\"Rekonstrukce\",IF('v přípravě a připraveno'!B14=data!$B$3,\"Propustek\",\"-\"))","v":"-"},null,null,null,null,null,null,null,null,null,null,null,null,null,null,null,{"$f":"IF('náměty na projekční přípravu'!B15=data!$S$2,\"Souvislá údržba\",IF('náměty na projekční přípravu'!B15=data!$S$3,\"Most\",\"-\"))","v":"-"},{"$f":"IF('náměty na projekční přípravu'!B15=data!$S$2,\"Rekonstrukce\",IF('náměty na projekční přípravu'!B15=data!$S$3,\"Propustek\",\"-\"))","v":"-"}]
[null,null,null,null,null,null,null,null,null,null,null,{"$f":"IF('v přípravě a připraveno'!B15=data!$B$2,\"Souvislá údržba\",IF('v přípravě a připraveno'!B15=data!$B$3,\"Most\",\"-\"))","v":"-"},{"$f":"IF('v přípravě a připraveno'!B15=data!$B$2,\"Rekonstrukce\",IF('v přípravě a připraveno'!B15=data!$B$3,\"Propustek\",\"-\"))","v":"-"},null,null,null,null,null,null,null,null,null,null,null,null,null,null,null,{"$f":"IF('náměty na projekční přípravu'!#REF!=data!$S$2,\"Souvislá údržba\",IF('náměty na projekční přípravu'!#REF!=data!$S$3,\"Most\",\"-\"))","v":{"$error":"#REF!"}},{"$f":"IF('náměty na projekční přípravu'!#REF!=data!$S$2,\"Rekonstrukce\",IF('náměty na projekční přípravu'!#REF!=data!$S$3,\"Propustek\",\"-\"))","v":{"$error":"#REF!"}}]
[null,null,null,null,null,null,null,null,null,null,null,{"$f":"IF('v přípravě a připraveno'!B16=data!$B$2,\"Souvislá údržba\",IF('v přípravě a připraveno'!B16=data!$B$3,\"Most\",\"-\"))","v":"Souvislá údržba"},{"$f":"IF('v přípravě a připraveno'!B16=data!$B$2,\"Rekonstrukce\",IF('v přípravě a připraveno'!B16=data!$B$3,\"Propustek\",\"-\"))","v":"Rekonstrukce"},null,null,null,null,null,null,null,null,null,null,null,null,null,null,null,{"$f":"IF('náměty na projekční přípravu'!B16=data!$S$2,\"Souvislá údržba\",IF('náměty na projekční přípravu'!B16=data!$S$3,\"Most\",\"-\"))","v":"Souvislá údržba"},{"$f":"IF('náměty na projekční přípravu'!B16=data!$S$2,\"Rekonstrukce\",IF('náměty na projekční přípravu'!B16=data!$S$3,\"Propustek\",\"-\"))","v":"Rekonstrukce"}]
[null,"Zdroje financování",null,null,null,null,null,null,null,null,null,{"$f":"IF('v přípravě a připraveno'!B17=data!$B$2,\"Souvislá údržba\",IF('v přípravě a připraveno'!B17=data!$B$3,\"Most\",\"-\"))","v":"-"},{"$f":"IF('v přípravě a připraveno'!B17=data!$B$2,\"Rekonstrukce\",IF('v přípravě a připraveno'!B17=data!$B$3,\"Propustek\",\"-\"))","v":"-"},null,null,null,null,null,null,null,null,null,null,null,null,null,null,null,{"$f":"IF('náměty na projekční přípravu'!B17=data!$S$2,\"Souvislá údržba\",IF('náměty na projekční přípravu'!B17=data!$S$3,\"Most\",\"-\"))","v":"-"},{"$f":"IF('náměty na projekční přípravu'!B17=data!$S$2,\"Rekonstrukce\",IF('náměty na projekční přípravu'!B17=data!$S$3,\"Propustek\",\"-\"))","v":"-"}]
[null,"-",null,null,null,null,null,null,null,null,null,{"$f":"IF('v přípravě a připraveno'!B18=data!$B$2,\"Souvislá údržba\",IF('v přípravě a připraveno'!B18=data!$B$3,\"Most\",\"-\"))","v":"-"},{"$f":"IF('v přípravě a připraveno'!B18=data!$B$2,\"Rekonstrukce\",IF('v přípravě a připraveno'!B18=data!$B$3,\"Propustek\",\"-\"))","v":"-"},null,null,null,null,null,null,null,null,null,null,null,null,null,null,null,{"$f":"IF('náměty na projekční přípravu'!B18=data!$S$2,\"Souvislá údržba\",IF('náměty na projekční přípravu'!B18=data!$S$3,\"Most\",\"-\"))","v":"Souvislá údržba"},{"$f":"IF('náměty na projekční přípravu'!B18=data!$S$2,\"Rekonstrukce\",IF('náměty na projekční přípravu'!B18=data!$S$3,\"Propustek\",\"-\"))","v":"Rekonstrukce"}]
[null,"SFDI – NZ – národní zdroje",null,null,null,null,null,null,null,null,null,{"$f":"IF('v přípravě a připraveno'!B19=data!$B$2,\"Souvislá údržba\",IF('v přípravě a připraveno'!B19=data!$B$3,\"Most\",\"-\"))","v":"-"},{"$f":"IF('v přípravě a připraveno'!B19=data!$B$2,\"Rekonstrukce\",IF('v přípravě a připraveno'!B19=data!$B$3,\"Propustek\",\"-\"))","v":"-"},null,null,null,null,null,null,null,null,null,null,null,null,null,null,null,{"$f":"IF('náměty na projekční přípravu'!B19=data!$S$2,\"Souvislá údržba\",IF('náměty na projekční přípravu'!B19=data!$S$3,\"Most\",\"-\"))","v":"Souvislá údržba"},{"$f":"IF('náměty na projekční přípravu'!B19=data!$S$2,\"Rekonstrukce\",IF('náměty na projekční přípravu'!B19=data!$S$3,\"Propustek\",\"-\"))","v":"Rekonstrukce"}]
[null,"SFDI – UD – účelová dotace",null,null,null,null,null,null,null,null,null,{"$f":"IF('v přípravě a připraveno'!B20=data!$B$2,\"Souvislá údržba\",IF('v přípravě a připraveno'!B20=data!$B$3,\"Most\",\"-\"))","v":"-"},{"$f":"IF('v přípravě a připraveno'!B20=data!$B$2,\"Rekonstrukce\",IF('v přípravě a připraveno'!B20=data!$B$3,\"Propustek\",\"-\"))","v":"-"},null,null,null,null,null,null,null,null,null,null,null,null,null,null,null,{"$f":"IF('náměty na projekční přípravu'!B20=data!$S$2,\"Souvislá údržba\",IF('náměty na projekční přípravu'!B20=data!$S$3,\"Most\",\"-\"))","v":"Souvislá údržba"},{"$f":"IF('náměty na projekční přípravu'!B20=data!$S$2,\"Rekonstrukce\",IF('náměty na projekční přípravu'!B20=data!$S$3,\"Propustek\",\"-\"))","v":"Rekonstrukce"}]
[null,"KÚ – zásobník investic kap. 12",null,null,null,null,null,null,null,null,null,{"$f":"IF('v přípravě a připraveno'!B21=data!$B$2,\"Souvislá údržba\",IF('v přípravě a připraveno'!B21=data!$B$3,\"Most\",\"-\"))","v":"-"},{"$f":"IF('v přípravě a připraveno'!B21=data!$B$2,\"Rekonstrukce\",IF('v přípravě a připraveno'!B21=data!$B$3,\"Propustek\",\"-\"))","v":"-"},null,null,null,null,null,null,null,null,null,null,null,null,null,null,null,{"$f":"IF('náměty na projekční přípravu'!B21=data!$S$2,\"Souvislá údržba\",IF('náměty na projekční přípravu'!B21=data!$S$3,\"Most\",\"-\"))","v":"Souvislá údržba"},{"$f":"IF('náměty na projekční přípravu'!B21=data!$S$2,\"Rekonstrukce\",IF('náměty na projekční přípravu'!B21=data!$S$3,\"Propustek\",\"-\"))","v":"Rekonstrukce"}]
[null,"IROP 2",null,null,null,null,null,null,null,null,null,{"$f":"IF('v přípravě a připraveno'!B22=data!$B$2,\"Souvislá údržba\",IF('v přípravě a připraveno'!B22=data!$B$3,\"Most\",\"-\"))","v":"-"},{"$f":"IF('v přípravě a připraveno'!B22=data!$B$2,\"Rekonstrukce\",IF('v přípravě a připraveno'!B22=data!$B$3,\"Propustek\",\"-\"))","v":"-"},null,null,null,null,null,null,null,null,null,null,null,null,null,null,null,{"$f":"IF('náměty na projekční přípravu'!B22=data!$S$2,\"Souvislá údržba\",IF('náměty na projekční přípravu'!B22=data!$S$3,\"Most\",\"-\"))","v":"Souvislá údržba"},{"$f":"IF('náměty na projekční přípravu'!B22=data!$S$2,\"Rekonstrukce\",IF('náměty na projekční přípravu'!B22=data!$S$3,\"Propustek\",\"-\"))","v":"Rekonstrukce"}]
[null,"Vlastní zdroje KSÚS",null,null,null,null,null,null,null,null,null,{"$f":"IF('v přípravě a připraveno'!B24=data!$B$2,\"Souvislá údržba\",IF('v přípravě a připraveno'!B24=data!$B$3,\"Most\",\"-\"))","v":"Souvislá údržba"},{"$f":"IF('v přípravě a připraveno'!B24=data!$B$2,\"Rekonstrukce\",IF('v přípravě a připraveno'!B24=data!$B$3,\"Propustek\",\"-\"))","v":"Rekonstrukce"},null,null,null,null,null,null,null,null,null,null,null,null,null,null,null,{"$f":"IF('náměty na projekční přípravu'!B23=data!$S$2,\"Souvislá údržba\",IF('náměty na projekční přípravu'!B23=data!$S$3,\"Most\",\"-\"))","v":"Souvislá údržba"},{"$f":"IF('náměty na projekční přípravu'!B23=data!$S$2,\"Rekonstrukce\",IF('náměty na projekční přípravu'!B23=data!$S$3,\"Propustek\",\"-\"))","v":"Rekonstrukce"}]
[null,"OPŽP",null,null,null,null,null,null,null,null,null,{"$f":"IF('v přípravě a připraveno'!#REF!=data!$B$2,\"Souvislá údržba\",IF('v přípravě a připraveno'!#REF!=data!$B$3,\"Most\",\"-\"))","v":{"$error":"#REF!"}},{"$f":"IF('v přípravě a připraveno'!#REF!=data!$B$2,\"Rekonstrukce\",IF('v přípravě a připraveno'!#REF!=data!$B$3,\"Propustek\",\"-\"))","v":{"$error":"#REF!"}},null,null,null,null,null,null,null,null,null,null,null,null,null,null,null,{"$f":"IF('náměty na projekční přípravu'!B24=data!$S$2,\"Souvislá údržba\",IF('náměty na projekční přípravu'!B24=data!$S$3,\"Most\",\"-\"))","v":"Souvislá údržba"},{"$f":"IF('náměty na projekční přípravu'!B24=data!$S$2,\"Rekonstrukce\",IF('náměty na projekční přípravu'!B24=data!$S$3,\"Propustek\",\"-\"))","v":"Rekonstrukce"}]
[null,null,null,null,null,null,null,null,null,null,null,{"$f":"IF('v přípravě a připraveno'!B25=data!$B$2,\"Souvislá údržba\",IF('v přípravě a připraveno'!B25=data!$B$3,\"Most\",\"-\"))","v":"Souvislá údržba"},{"$f":"IF('v přípravě a připraveno'!B25=data!$B$2,\"Rekonstrukce\",IF('v přípravě a připraveno'!B25=data!$B$3,\"Propustek\",\"-\"))","v":"Rekonstrukce"},null,null,null,null,null,null,null,null,null,null,null,null,null,null,null,{"$f":"IF('náměty na projekční přípravu'!B25=data!$S$2,\"Souvislá údržba\",IF('náměty na projekční přípravu'!B25=data!$S$3,\"Most\",\"-\"))","v":"Souvislá údržba"},{"$f":"IF('náměty na projekční přípravu'!B25=data!$S$2,\"Rekonstrukce\",IF('náměty na projekční přípravu'!B25=data!$S$3,\"Propustek\",\"-\"))","v":"Rekonstrukce"}]
[null,null,null,null,null,null,null,null,null,null,null,{"$f":"IF('v přípravě a připraveno'!B26=data!$B$2,\"Souvislá údržba\",IF('v přípravě a připraveno'!B26=data!$B$3,\"Most\",\"-\"))","v":"-"},{"$f":"IF('v přípravě a připraveno'!B26=data!$B$2,\"Rekonstrukce\",IF('v přípravě a připraveno'!B26=data!$B$3,\"Propustek\",\"-\"))","v":"-"},null,null,null,null,null,null,null,null,null,null,null,null,null,null,null,{"$f":"IF('náměty na projekční přípravu'!B26=data!$S$2,\"Souvislá údržba\",IF('náměty na projekční přípravu'!B26=data!$S$3,\"Most\",\"-\"))","v":"-"},{"$f":"IF('náměty na projekční přípravu'!B26=data!$S$2,\"Rekonstrukce\",IF('náměty na projekční přípravu'!B26=data!$S$3,\"Propustek\",\"-\"))","v":"-"}]
[null,null,null,null,null,null,null,null,null,null,null,{"$f":"IF('v přípravě a připraveno'!B27=data!$B$2,\"Souvislá údržba\",IF('v přípravě a připraveno'!B27=data!$B$3,\"Most\",\"-\"))","v":"-"},{"$f":"IF('v přípravě a připraveno'!B27=data!$B$2,\"Rekonstrukce\",IF('v přípravě a připraveno'!B27=data!$B$3,\"Propustek\",\"-\"))","v":"-"},null,null,null,null,null,null,null,null,null,null,null,null,null,null,null,{"$f":"IF('náměty na projekční přípravu'!#REF!=data!$S$2,\"Souvislá údržba\",IF('náměty na projekční přípravu'!#REF!=data!$S$3,\"Most\",\"-\"))","v":{"$error":"#REF!"}},{"$f":"IF('náměty na projekční přípravu'!#REF!=data!$S$2,\"Rekonstrukce\",IF('náměty na projekční přípravu'!#REF!=data!$S$3,\"Propustek\",\"-\"))","v":{"$error":"#REF!"}}]
[null,null,null,null,null,null,null,null,null,null,null,{"$f":"IF('v přípravě a připraveno'!B28=data!$B$2,\"Souvislá údržba\",IF('v přípravě a připraveno'!B28=data!$B$3,\"Most\",\"-\"))","v":"Souvislá údržba"},{"$f":"IF('v přípravě a připraveno'!B28=data!$B$2,\"Rekonstrukce\",IF('v přípravě a připraveno'!B28=data!$B$3,\"Propustek\",\"-\"))","v":"Rekonstrukce"},null,null,null,null,null,null,null,null,null,null,null,null,null,null,null,{"$f":"IF('náměty na projekční přípravu'!B27=data!$S$2,\"Souvislá údržba\",IF('náměty na projekční přípravu'!B27=data!$S$3,\"Most\",\"-\"))","v":"-"},{"$f":"IF('náměty na projekční přípravu'!B27=data!$S$2,\"Rekonstrukce\",IF('náměty na projekční přípravu'!B27=data!$S$3,\"Propustek\",\"-\"))","v":"-"}]
[null,null,null,null,null,null,null,null,null,null,null,{"$f":"IF('v přípravě a připraveno'!B29=data!$B$2,\"Souvislá údržba\",IF('v přípravě a připraveno'!B29=data!$B$3,\"Most\",\"-\"))","v":"Souvislá údržba"},{"$f":"IF('v přípravě a připraveno'!B29=data!$B$2,\"Rekonstrukce\",IF('v přípravě a připraveno'!B29=data!$B$3,\"Propustek\",\"-\"))","v":"Rekonstrukce"},null,null,null,null,null,null,null,null,null,null,null,null,null,null,null,{"$f":"IF('náměty na projekční přípravu'!B28=data!$S$2,\"Souvislá údržba\",IF('náměty na projekční přípravu'!B28=data!$S$3,\"Most\",\"-\"))","v":"Souvislá údržba"},{"$f":"IF('náměty na projekční přípravu'!B28=data!$S$2,\"Rekonstrukce\",IF('náměty na projekční přípravu'!B28=data!$S$3,\"Propustek\",\"-\"))","v":"Rekonstrukce"}]
[null,null,null,null,null,null,null,null,null,null,null,{"$f":"IF('v přípravě a připraveno'!B30=data!$B$2,\"Souvislá údržba\",IF('v přípravě a připraveno'!B30=data!$B$3,\"Most\",\"-\"))","v":"Souvislá údržba"},{"$f":"IF('v přípravě a připraveno'!B30=data!$B$2,\"Rekonstrukce\",IF('v přípravě a připraveno'!B30=data!$B$3,\"Propustek\",\"-\"))","v":"Rekonstrukce"},null,null,null,null,null,null,null,null,null,null,null,null,null,null,null,{"$f":"IF('náměty na projekční přípravu'!B29=data!$S$2,\"Souvislá údržba\",IF('náměty na projekční přípravu'!B29=data!$S$3,\"Most\",\"-\"))","v":"Souvislá údržba"},{"$f":"IF('náměty na projekční přípravu'!B29=data!$S$2,\"Rekonstrukce\",IF('náměty na projekční přípravu'!B29=data!$S$3,\"Propustek\",\"-\"))","v":"Rekonstrukce"}]
[null,null,null,null,null,null,null,null,null,null,null,{"$f":"IF('v přípravě a připraveno'!B31=data!$B$2,\"Souvislá údržba\",IF('v přípravě a připraveno'!B31=data!$B$3,\"Most\",\"-\"))","v":"-"},{"$f":"IF('v přípravě a připraveno'!B31=data!$B$2,\"Rekonstrukce\",IF('v přípravě a připraveno'!B31=data!$B$3,\"Propustek\",\"-\"))","v":"-"},null,null,null,null,null,null,null,null,null,null,null,null,null,null,null,{"$f":"IF('náměty na projekční přípravu'!B30=data!$S$2,\"Souvislá údržba\",IF('náměty na projekční přípravu'!B30=data!$S$3,\"Most\",\"-\"))","v":"Souvislá údržba"},{"$f":"IF('náměty na projekční přípravu'!B30=data!$S$2,\"Rekonstrukce\",IF('náměty na projekční přípravu'!B30=data!$S$3,\"Propustek\",\"-\"))","v":"Rekonstrukce"}]
[null,null,null,null,null,null,null,null,null,null,null,{"$f":"IF('v přípravě a připraveno'!B32=data!$B$2,\"Souvislá údržba\",IF('v přípravě a připraveno'!B32=data!$B$3,\"Most\",\"-\"))","v":"-"},{"$f":"IF('v přípravě a připraveno'!B32=data!$B$2,\"Rekonstrukce\",IF('v přípravě a připraveno'!B32=data!$B$3,\"Propustek\",\"-\"))","v":"-"},null,null,null,null,null,null,null,null,null,null,null,null,null,null,null,{"$f":"IF('náměty na projekční přípravu'!B31=data!$S$2,\"Souvislá údržba\",IF('náměty na projekční přípravu'!B31=data!$S$3,\"Most\",\"-\"))","v":"Souvislá údržba"},{"$f":"IF('náměty na projekční přípravu'!B31=data!$S$2,\"Rekonstrukce\",IF('náměty na projekční přípravu'!B31=data!$S$3,\"Propustek\",\"-\"))","v":"Rekonstrukce"}]
[null,null,null,null,null,null,null,null,null,null,null,{"$f":"IF('v přípravě a připraveno'!#REF!=data!$B$2,\"Souvislá údržba\",IF('v přípravě a připraveno'!#REF!=data!$B$3,\"Most\",\"-\"))","v":{"$error":"#REF!"}},{"$f":"IF('v přípravě a připraveno'!#REF!=data!$B$2,\"Rekonstrukce\",IF('v přípravě a připraveno'!#REF!=data!$B$3,\"Propustek\",\"-\"))","v":{"$error":"#REF!"}},null,null,null,null,null,null,null,null,null,null,null,null,null,null,null,{"$f":"IF('náměty na projekční přípravu'!B32=data!$S$2,\"Souvislá údržba\",IF('náměty na projekční přípravu'!B32=data!$S$3,\"Most\",\"-\"))","v":"Souvislá údržba"},{"$f":"IF('náměty na projekční přípravu'!B32=data!$S$2,\"Rekonstrukce\",IF('náměty na projekční přípravu'!B32=data!$S$3,\"Propustek\",\"-\"))","v":"Rekonstrukce"}]
[null,null,null,null,null,null,null,null,null,null,null,{"$f":"IF('v přípravě a připraveno'!B33=data!$B$2,\"Souvislá údržba\",IF('v přípravě a připraveno'!B33=data!$B$3,\"Most\",\"-\"))","v":"Souvislá údržba"},{"$f":"IF('v přípravě a připraveno'!B33=data!$B$2,\"Rekonstrukce\",IF('v přípravě a připraveno'!B33=data!$B$3,\"Propustek\",\"-\"))","v":"Rekonstrukce"},null,null,null,null,null,null,null,null,null,null,null,null,null,null,null,{"$f":"IF('náměty na projekční přípravu'!B33=data!$S$2,\"Souvislá údržba\",IF('náměty na projekční přípravu'!B33=data!$S$3,\"Most\",\"-\"))","v":"Souvislá údržba"},{"$f":"IF('náměty na projekční přípravu'!B33=data!$S$2,\"Rekonstrukce\",IF('náměty na projekční přípravu'!B33=data!$S$3,\"Propustek\",\"-\"))","v":"Rekonstrukce"}]
[null,null,null,null,null,null,null,null,null,null,null,{"$f":"IF('v přípravě a připraveno'!B34=data!$B$2,\"Souvislá údržba\",IF('v přípravě a připraveno'!B34=data!$B$3,\"Most\",\"-\"))","v":"-"},{"$f":"IF('v přípravě a připraveno'!B34=data!$B$2,\"Rekonstrukce\",IF('v přípravě a připraveno'!B34=data!$B$3,\"Propustek\",\"-\"))","v":"-"},null,null,null,null,null,null,null,null,null,null,null,null,null,null,null,{"$f":"IF('náměty na projekční přípravu'!B34=data!$S$2,\"Souvislá údržba\",IF('náměty na projekční přípravu'!B34=data!$S$3,\"Most\",\"-\"))","v":"Souvislá údržba"},{"$f":"IF('náměty na projekční přípravu'!B34=data!$S$2,\"Rekonstrukce\",IF('náměty na projekční přípravu'!B34=data!$S$3,\"Propustek\",\"-\"))","v":"Rekonstrukce"}]
[null,null,null,null,null,null,null,null,null,null,null,{"$f":"IF('v přípravě a připraveno'!B35=data!$B$2,\"Souvislá údržba\",IF('v přípravě a připraveno'!B35=data!$B$3,\"Most\",\"-\"))","v":"-"},{"$f":"IF('v přípravě a připraveno'!B35=data!$B$2,\"Rekonstrukce\",IF('v přípravě a připraveno'!B35=data!$B$3,\"Propustek\",\"-\"))","v":"-"},null,null,null,null,null,null,null,null,null,null,null,null,null,null,null,{"$f":"IF('náměty na projekční přípravu'!B35=data!$S$2,\"Souvislá údržba\",IF('náměty na projekční přípravu'!B35=data!$S$3,\"Most\",\"-\"))","v":"-"},{"$f":"IF('náměty na projekční přípravu'!B35=data!$S$2,\"Rekonstrukce\",IF('náměty na projekční přípravu'!B35=data!$S$3,\"Propustek\",\"-\"))","v":"-"}]
[null,null,null,null,null,null,null,null,null,null,null,{"$f":"IF('v přípravě a připraveno'!B36=data!$B$2,\"Souvislá údržba\",IF('v přípravě a připraveno'!B36=data!$B$3,\"Most\",\"-\"))","v":"-"},{"$f":"IF('v přípravě a připraveno'!B36=data!$B$2,\"Rekonstrukce\",IF('v přípravě a připraveno'!B36=data!$B$3,\"Propustek\",\"-\"))","v":"-"},null,null,null,null,null,null,null,null,null,null,null,null,null,null,null,{"$f":"IF('náměty na projekční přípravu'!B36=data!$S$2,\"Souvislá údržba\",IF('náměty na projekční přípravu'!B36=data!$S$3,\"Most\",\"-\"))","v":"Souvislá údržba"},{"$f":"IF('náměty na projekční přípravu'!B36=data!$S$2,\"Rekonstrukce\",IF('náměty na projekční přípravu'!B36=data!$S$3,\"Propustek\",\"-\"))","v":"Rekonstrukce"}]
[null,null,null,null,null,null,null,null,null,null,null,{"$f":"IF('v přípravě a připraveno'!B37=data!$B$2,\"Souvislá údržba\",IF('v přípravě a připraveno'!B37=data!$B$3,\"Most\",\"-\"))","v":"-"},{"$f":"IF('v přípravě a připraveno'!B37=data!$B$2,\"Rekonstrukce\",IF('v přípravě a připraveno'!B37=data!$B$3,\"Propustek\",\"-\"))","v":"-"},null,null,null,null,null,null,null,null,null,null,null,null,null,null,null,{"$f":"IF('náměty na projekční přípravu'!B37=data!$S$2,\"Souvislá údržba\",IF('náměty na projekční přípravu'!B37=data!$S$3,\"Most\",\"-\"))","v":"-"},{"$f":"IF('náměty na projekční přípravu'!B37=data!$S$2,\"Rekonstrukce\",IF('náměty na projekční přípravu'!B37=data!$S$3,\"Propustek\",\"-\"))","v":"-"}]
[null,null,null,null,null,null,null,null,null,null,null,{"$f":"IF('v přípravě a připraveno'!B38=data!$B$2,\"Souvislá údržba\",IF('v přípravě a připraveno'!B38=data!$B$3,\"Most\",\"-\"))","v":"Souvislá údržba"},{"$f":"IF('v přípravě a připraveno'!B38=data!$B$2,\"Rekonstrukce\",IF('v přípravě a připraveno'!B38=data!$B$3,\"Propustek\",\"-\"))","v":"Rekonstrukce"},null,null,null,null,null,null,null,null,null,null,null,null,null,null,null,{"$f":"IF('náměty na projekční přípravu'!B38=data!$S$2,\"Souvislá údržba\",IF('náměty na projekční přípravu'!B38=data!$S$3,\"Most\",\"-\"))","v":"-"},{"$f":"IF('náměty na projekční přípravu'!B38=data!$S$2,\"Rekonstrukce\",IF('náměty na projekční přípravu'!B38=data!$S$3,\"Propustek\",\"-\"))","v":"-"}]
[null,null,null,null,null,null,null,null,null,null,null,{"$f":"IF('v přípravě a připraveno'!B39=data!$B$2,\"Souvislá údržba\",IF('v přípravě a připraveno'!B39=data!$B$3,\"Most\",\"-\"))","v":"Souvislá údržba"},{"$f":"IF('v přípravě a připraveno'!B39=data!$B$2,\"Rekonstrukce\",IF('v přípravě a připraveno'!B39=data!$B$3,\"Propustek\",\"-\"))","v":"Rekonstrukce"},null,null,null,null,null,null,null,null,null,null,null,null,null,null,null,{"$f":"IF('náměty na projekční přípravu'!B39=data!$S$2,\"Souvislá údržba\",IF('náměty na projekční přípravu'!B39=data!$S$3,\"Most\",\"-\"))","v":"Souvislá údržba"},{"$f":"IF('náměty na projekční přípravu'!B39=data!$S$2,\"Rekonstrukce\",IF('náměty na projekční přípravu'!B39=data!$S$3,\"Propustek\",\"-\"))","v":"Rekonstrukce"}]
[null,null,null,null,null,null,null,null,null,null,null,{"$f":"IF('v přípravě a připraveno'!B40=data!$B$2,\"Souvislá údržba\",IF('v přípravě a připraveno'!B40=data!$B$3,\"Most\",\"-\"))","v":"-"},{"$f":"IF('v přípravě a připraveno'!B40=data!$B$2,\"Rekonstrukce\",IF('v přípravě a připraveno'!B40=data!$B$3,\"Propustek\",\"-\"))","v":"-"},null,null,null,null,null,null,null,null,null,null,null,null,null,null,null,{"$f":"IF('náměty na projekční přípravu'!B40=data!$S$2,\"Souvislá údržba\",IF('náměty na projekční přípravu'!B40=data!$S$3,\"Most\",\"-\"))","v":"-"},{"$f":"IF('náměty na projekční přípravu'!B40=data!$S$2,\"Rekonstrukce\",IF('náměty na projekční přípravu'!B40=data!$S$3,\"Propustek\",\"-\"))","v":"-"}]
[null,null,null,null,null,null,null,null,null,null,null,{"$f":"IF('v přípravě a připraveno'!B41=data!$B$2,\"Souvislá údržba\",IF('v přípravě a připraveno'!B41=data!$B$3,\"Most\",\"-\"))","v":"-"},{"$f":"IF('v přípravě a připraveno'!B41=data!$B$2,\"Rekonstrukce\",IF('v přípravě a připraveno'!B41=data!$B$3,\"Propustek\",\"-\"))","v":"-"},null,null,null,null,null,null,null,null,null,null,null,null,null,null,null,{"$f":"IF('náměty na projekční přípravu'!B41=data!$S$2,\"Souvislá údržba\",IF('náměty na projekční přípravu'!B41=data!$S$3,\"Most\",\"-\"))","v":"-"},{"$f":"IF('náměty na projekční přípravu'!B41=data!$S$2,\"Rekonstrukce\",IF('náměty na projekční přípravu'!B41=data!$S$3,\"Propustek\",\"-\"))","v":"-"}]
[null,null,null,null,null,null,null,null,null,null,null,{"$f":"IF('v přípravě a připraveno'!B42=data!$B$2,\"Souvislá údržba\",IF('v přípravě a připraveno'!B42=data!$B$3,\"Most\",\"-\"))","v":"-"},{"$f":"IF('v přípravě a připraveno'!B42=data!$B$2,\"Rekonstrukce\",IF('v přípravě a připraveno'!B42=data!$B$3,\"Propustek\",\"-\"))","v":"-"},null,null,null,null,null,null,null,null,null,null,null,null,null,null,null,{"$f":"IF('náměty na projekční přípravu'!B42=data!$S$2,\"Souvislá údržba\",IF('náměty na projekční přípravu'!B42=data!$S$3,\"Most\",\"-\"))","v":"Souvislá údržba"},{"$f":"IF('náměty na projekční přípravu'!B42=data!$S$2,\"Rekonstrukce\",IF('náměty na projekční přípravu'!B42=data!$S$3,\"Propustek\",\"-\"))","v":"Rekonstrukce"}]
[null,null,null,null,null,null,null,null,null,null,null,{"$f":"IF('v přípravě a připraveno'!B43=data!$B$2,\"Souvislá údržba\",IF('v přípravě a připraveno'!B43=data!$B$3,\"Most\",\"-\"))","v":"-"},{"$f":"IF('v přípravě a připraveno'!B43=data!$B$2,\"Rekonstrukce\",IF('v přípravě a připraveno'!B43=data!$B$3,\"Propustek\",\"-\"))","v":"-"},null,null,null,null,null,null,null,null,null,null,null,null,null,null,null,{"$f":"IF('náměty na projekční přípravu'!B43=data!$S$2,\"Souvislá údržba\",IF('náměty na projekční přípravu'!B43=data!$S$3,\"Most\",\"-\"))","v":"Souvislá údržba"},{"$f":"IF('náměty na projekční přípravu'!B43=data!$S$2,\"Rekonstrukce\",IF('náměty na projekční přípravu'!B43=data!$S$3,\"Propustek\",\"-\"))","v":"Rekonstrukce"}]
[null,null,null,null,null,null,null,null,null,null,null,{"$f":"IF('v přípravě a připraveno'!B44=data!$B$2,\"Souvislá údržba\",IF('v přípravě a připraveno'!B44=data!$B$3,\"Most\",\"-\"))","v":"Most"},{"$f":"IF('v přípravě a připraveno'!B44=data!$B$2,\"Rekonstrukce\",IF('v přípravě a připraveno'!B44=data!$B$3,\"Propustek\",\"-\"))","v":"Propustek"},null,null,null,null,null,null,null,null,null,null,null,null,null,null,null,{"$f":"IF('náměty na projekční přípravu'!B44=data!$S$2,\"Souvislá údržba\",IF('náměty na projekční přípravu'!B44=data!$S$3,\"Most\",\"-\"))","v":"Souvislá údržba"},{"$f":"IF('náměty na projekční přípravu'!B44=data!$S$2,\"Rekonstrukce\",IF('náměty na projekční přípravu'!B44=data!$S$3,\"Propustek\",\"-\"))","v":"Rekonstrukce"}]
[null,null,null,null,null,null,null,null,null,null,null,{"$f":"IF('v přípravě a připraveno'!B45=data!$B$2,\"Souvislá údržba\",IF('v přípravě a připraveno'!B45=data!$B$3,\"Most\",\"-\"))","v":"Souvislá údržba"},{"$f":"IF('v přípravě a připraveno'!B45=data!$B$2,\"Rekonstrukce\",IF('v přípravě a připraveno'!B45=data!$B$3,\"Propustek\",\"-\"))","v":"Rekonstrukce"},null,null,null,null,null,null,null,null,null,null,null,null,null,null,null,{"$f":"IF('náměty na projekční přípravu'!B45=data!$S$2,\"Souvislá údržba\",IF('náměty na projekční přípravu'!B45=data!$S$3,\"Most\",\"-\"))","v":"Souvislá údržba"},{"$f":"IF('náměty na projekční přípravu'!B45=data!$S$2,\"Rekonstrukce\",IF('náměty na projekční přípravu'!B45=data!$S$3,\"Propustek\",\"-\"))","v":"Rekonstrukce"}]
[null,null,null,null,null,null,null,null,null,null,null,{"$f":"IF('v přípravě a připraveno'!B46=data!$B$2,\"Souvislá údržba\",IF('v přípravě a připraveno'!B46=data!$B$3,\"Most\",\"-\"))","v":"Most"},{"$f":"IF('v přípravě a připraveno'!B46=data!$B$2,\"Rekonstrukce\",IF('v přípravě a připraveno'!B46=data!$B$3,\"Propustek\",\"-\"))","v":"Propustek"},null,null,null,null,null,null,null,null,null,null,null,null,null,null,null,{"$f":"IF('náměty na projekční přípravu'!B46=data!$S$2,\"Souvislá údržba\",IF('náměty na projekční přípravu'!B46=data!$S$3,\"Most\",\"-\"))","v":"Souvislá údržba"},{"$f":"IF('náměty na projekční přípravu'!B46=data!$S$2,\"Rekonstrukce\",IF('náměty na projekční přípravu'!B46=data!$S$3,\"Propustek\",\"-\"))","v":"Rekonstrukce"}]
[null,null,null,null,null,null,null,null,null,null,null,{"$f":"IF('v přípravě a připraveno'!B47=data!$B$2,\"Souvislá údržba\",IF('v přípravě a připraveno'!B47=data!$B$3,\"Most\",\"-\"))","v":"Souvislá údržba"},{"$f":"IF('v přípravě a připraveno'!B47=data!$B$2,\"Rekonstrukce\",IF('v přípravě a připraveno'!B47=data!$B$3,\"Propustek\",\"-\"))","v":"Rekonstrukce"},null,null,null,null,null,null,null,null,null,null,null,null,null,null,null,{"$f":"IF('náměty na projekční přípravu'!B47=data!$S$2,\"Souvislá údržba\",IF('náměty na projekční přípravu'!B47=data!$S$3,\"Most\",\"-\"))","v":"Souvislá údržba"},{"$f":"IF('náměty na projekční přípravu'!B47=data!$S$2,\"Rekonstrukce\",IF('náměty na projekční přípravu'!B47=data!$S$3,\"Propustek\",\"-\"))","v":"Rekonstrukce"}]
[null,null,null,null,null,null,null,null,null,null,null,{"$f":"IF('v přípravě a připraveno'!B48=data!$B$2,\"Souvislá údržba\",IF('v přípravě a připraveno'!B48=data!$B$3,\"Most\",\"-\"))","v":"Souvislá údržba"},{"$f":"IF('v přípravě a připraveno'!B48=data!$B$2,\"Rekonstrukce\",IF('v přípravě a připraveno'!B48=data!$B$3,\"Propustek\",\"-\"))","v":"Rekonstrukce"},null,null,null,null,null,null,null,null,null,null,null,null,null,null,null,{"$f":"IF('náměty na projekční přípravu'!B48=data!$S$2,\"Souvislá údržba\",IF('náměty na projekční přípravu'!B48=data!$S$3,\"Most\",\"-\"))","v":"Souvislá údržba"},{"$f":"IF('náměty na projekční přípravu'!B48=data!$S$2,\"Rekonstrukce\",IF('náměty na projekční přípravu'!B48=data!$S$3,\"Propustek\",\"-\"))","v":"Rekonstrukce"}]
[null,null,null,null,null,null,null,null,null,null,null,{"$f":"IF('v přípravě a připraveno'!B49=data!$B$2,\"Souvislá údržba\",IF('v přípravě a připraveno'!B49=data!$B$3,\"Most\",\"-\"))","v":"Souvislá údržba"},{"$f":"IF('v přípravě a připraveno'!B49=data!$B$2,\"Rekonstrukce\",IF('v přípravě a připraveno'!B49=data!$B$3,\"Propustek\",\"-\"))","v":"Rekonstrukce"},null,null,null,null,null,null,null,null,null,null,null,null,null,null,null,{"$f":"IF('náměty na projekční přípravu'!B49=data!$S$2,\"Souvislá údržba\",IF('náměty na projekční přípravu'!B49=data!$S$3,\"Most\",\"-\"))","v":"Souvislá údržba"},{"$f":"IF('náměty na projekční přípravu'!B49=data!$S$2,\"Rekonstrukce\",IF('náměty na projekční přípravu'!B49=data!$S$3,\"Propustek\",\"-\"))","v":"Rekonstrukce"}]
[null,null,null,null,null,null,null,null,null,null,null,{"$f":"IF('v přípravě a připraveno'!B50=data!$B$2,\"Souvislá údržba\",IF('v přípravě a připraveno'!B50=data!$B$3,\"Most\",\"-\"))","v":"-"},{"$f":"IF('v přípravě a připraveno'!B50=data!$B$2,\"Rekonstrukce\",IF('v přípravě a připraveno'!B50=data!$B$3,\"Propustek\",\"-\"))","v":"-"},null,null,null,null,null,null,null,null,null,null,null,null,null,null,null,{"$f":"IF('náměty na projekční přípravu'!B50=data!$S$2,\"Souvislá údržba\",IF('náměty na projekční přípravu'!B50=data!$S$3,\"Most\",\"-\"))","v":"-"},{"$f":"IF('náměty na projekční přípravu'!B50=data!$S$2,\"Rekonstrukce\",IF('náměty na projekční přípravu'!B50=data!$S$3,\"Propustek\",\"-\"))","v":"-"}]
[null,null,null,null,null,null,null,null,null,null,null,{"$f":"IF('v přípravě a připraveno'!B51=data!$B$2,\"Souvislá údržba\",IF('v přípravě a připraveno'!B51=data!$B$3,\"Most\",\"-\"))","v":"-"},{"$f":"IF('v přípravě a připraveno'!B51=data!$B$2,\"Rekonstrukce\",IF('v přípravě a připraveno'!B51=data!$B$3,\"Propustek\",\"-\"))","v":"-"},null,null,null,null,null,null,null,null,null,null,null,null,null,null,null,{"$f":"IF('náměty na projekční přípravu'!B51=data!$S$2,\"Souvislá údržba\",IF('náměty na projekční přípravu'!B51=data!$S$3,\"Most\",\"-\"))","v":"Souvislá údržba"},{"$f":"IF('náměty na projekční přípravu'!B51=data!$S$2,\"Rekonstrukce\",IF('náměty na projekční přípravu'!B51=data!$S$3,\"Propustek\",\"-\"))","v":"Rekonstrukce"}]
[null,null,null,null,null,null,null,null,null,null,null,{"$f":"IF('v přípravě a připraveno'!B52=data!$B$2,\"Souvislá údržba\",IF('v přípravě a připraveno'!B52=data!$B$3,\"Most\",\"-\"))","v":"Most"},{"$f":"IF('v přípravě a připraveno'!B52=data!$B$2,\"Rekonstrukce\",IF('v přípravě a připraveno'!B52=data!$B$3,\"Propustek\",\"-\"))","v":"Propustek"},null,null,null,null,null,null,null,null,null,null,null,null,null,null,null,{"$f":"IF('náměty na projekční přípravu'!B52=data!$S$2,\"Souvislá údržba\",IF('náměty na projekční přípravu'!B52=data!$S$3,\"Most\",\"-\"))","v":"-"},{"$f":"IF('náměty na projekční přípravu'!B52=data!$S$2,\"Rekonstrukce\",IF('náměty na projekční přípravu'!B52=data!$S$3,\"Propustek\",\"-\"))","v":"-"}]
[null,null,null,null,null,null,null,null,null,null,null,{"$f":"IF('v přípravě a připraveno'!B53=data!$B$2,\"Souvislá údržba\",IF('v přípravě a připraveno'!B53=data!$B$3,\"Most\",\"-\"))","v":"-"},{"$f":"IF('v přípravě a připraveno'!B53=data!$B$2,\"Rekonstrukce\",IF('v přípravě a připraveno'!B53=data!$B$3,\"Propustek\",\"-\"))","v":"-"},null,null,null,null,null,null,null,null,null,null,null,null,null,null,null,{"$f":"IF('náměty na projekční přípravu'!B53=data!$S$2,\"Souvislá údržba\",IF('náměty na projekční přípravu'!B53=data!$S$3,\"Most\",\"-\"))","v":"Souvislá údržba"},{"$f":"IF('náměty na projekční přípravu'!B53=data!$S$2,\"Rekonstrukce\",IF('náměty na projekční přípravu'!B53=data!$S$3,\"Propustek\",\"-\"))","v":"Rekonstrukce"}]
[null,null,null,null,null,null,null,null,null,null,null,{"$f":"IF('v přípravě a připraveno'!B54=data!$B$2,\"Souvislá údržba\",IF('v přípravě a připraveno'!B54=data!$B$3,\"Most\",\"-\"))","v":"-"},{"$f":"IF('v přípravě a připraveno'!B54=data!$B$2,\"Rekonstrukce\",IF('v přípravě a připraveno'!B54=data!$B$3,\"Propustek\",\"-\"))","v":"-"},null,null,null,null,null,null,null,null,null,null,null,null,null,null,null,{"$f":"IF('náměty na projekční přípravu'!B54=data!$S$2,\"Souvislá údržba\",IF('náměty na projekční přípravu'!B54=data!$S$3,\"Most\",\"-\"))","v":"-"},{"$f":"IF('náměty na projekční přípravu'!B54=data!$S$2,\"Rekonstrukce\",IF('náměty na projekční přípravu'!B54=data!$S$3,\"Propustek\",\"-\"))","v":"-"}]
[null,null,null,null,null,null,null,null,null,null,null,{"$f":"IF('v přípravě a připraveno'!B55=data!$B$2,\"Souvislá údržba\",IF('v přípravě a připraveno'!B55=data!$B$3,\"Most\",\"-\"))","v":"-"},{"$f":"IF('v přípravě a připraveno'!B55=data!$B$2,\"Rekonstrukce\",IF('v přípravě a připraveno'!B55=data!$B$3,\"Propustek\",\"-\"))","v":"-"},null,null,null,null,null,null,null,null,null,null,null,null,null,null,null,{"$f":"IF('náměty na projekční přípravu'!B55=data!$S$2,\"Souvislá údržba\",IF('náměty na projekční přípravu'!B55=data!$S$3,\"Most\",\"-\"))","v":"-"},{"$f":"IF('náměty na projekční přípravu'!B55=data!$S$2,\"Rekonstrukce\",IF('náměty na projekční přípravu'!B55=data!$S$3,\"Propustek\",\"-\"))","v":"-"}]
[null,null,null,null,null,null,null,null,null,null,null,{"$f":"IF('v přípravě a připraveno'!B56=data!$B$2,\"Souvislá údržba\",IF('v přípravě a připraveno'!B56=data!$B$3,\"Most\",\"-\"))","v":"Souvislá údržba"},{"$f":"IF('v přípravě a připraveno'!B56=data!$B$2,\"Rekonstrukce\",IF('v přípravě a připraveno'!B56=data!$B$3,\"Propustek\",\"-\"))","v":"Rekonstrukce"},null,null,null,null,null,null,null,null,null,null,null,null,null,null,null,{"$f":"IF('náměty na projekční přípravu'!B56=data!$S$2,\"Souvislá údržba\",IF('náměty na projekční přípravu'!B56=data!$S$3,\"Most\",\"-\"))","v":"-"},{"$f":"IF('náměty na projekční přípravu'!B56=data!$S$2,\"Rekonstrukce\",IF('náměty na projekční přípravu'!B56=data!$S$3,\"Propustek\",\"-\"))","v":"-"}]
[null,null,null,null,null,null,null,null,null,null,null,{"$f":"IF('v přípravě a připraveno'!B57=data!$B$2,\"Souvislá údržba\",IF('v přípravě a připraveno'!B57=data!$B$3,\"Most\",\"-\"))","v":"-"},{"$f":"IF('v přípravě a připraveno'!B57=data!$B$2,\"Rekonstrukce\",IF('v přípravě a připraveno'!B57=data!$B$3,\"Propustek\",\"-\"))","v":"-"},null,null,null,null,null,null,null,null,null,null,null,null,null,null,null,{"$f":"IF('náměty na projekční přípravu'!B57=data!$S$2,\"Souvislá údržba\",IF('náměty na projekční přípravu'!B57=data!$S$3,\"Most\",\"-\"))","v":"-"},{"$f":"IF('náměty na projekční přípravu'!B57=data!$S$2,\"Rekonstrukce\",IF('náměty na projekční přípravu'!B57=data!$S$3,\"Propustek\",\"-\"))","v":"-"}]
[null,null,null,null,null,null,null,null,null,null,null,{"$f":"IF('v přípravě a připraveno'!B58=data!$B$2,\"Souvislá údržba\",IF('v přípravě a připraveno'!B58=data!$B$3,\"Most\",\"-\"))","v":"Souvislá údržba"},{"$f":"IF('v přípravě a připraveno'!B58=data!$B$2,\"Rekonstrukce\",IF('v přípravě a připraveno'!B58=data!$B$3,\"Propustek\",\"-\"))","v":"Rekonstrukce"},null,null,null,null,null,null,null,null,null,null,null,null,null,null,null,{"$f":"IF('náměty na projekční přípravu'!B58=data!$S$2,\"Souvislá údržba\",IF('náměty na projekční přípravu'!B58=data!$S$3,\"Most\",\"-\"))","v":"-"},{"$f":"IF('náměty na projekční přípravu'!B58=data!$S$2,\"Rekonstrukce\",IF('náměty na projekční přípravu'!B58=data!$S$3,\"Propustek\",\"-\"))","v":"-"}]
[null,null,null,null,null,null,null,null,null,null,null,{"$f":"IF('v přípravě a připraveno'!B59=data!$B$2,\"Souvislá údržba\",IF('v přípravě a připraveno'!B59=data!$B$3,\"Most\",\"-\"))","v":"Souvislá údržba"},{"$f":"IF('v přípravě a připraveno'!B59=data!$B$2,\"Rekonstrukce\",IF('v přípravě a připraveno'!B59=data!$B$3,\"Propustek\",\"-\"))","v":"Rekonstrukce"},null,null,null,null,null,null,null,null,null,null,null,null,null,null,null,{"$f":"IF('náměty na projekční přípravu'!B59=data!$S$2,\"Souvislá údržba\",IF('náměty na projekční přípravu'!B59=data!$S$3,\"Most\",\"-\"))","v":"Souvislá údržba"},{"$f":"IF('náměty na projekční přípravu'!B59=data!$S$2,\"Rekonstrukce\",IF('náměty na projekční přípravu'!B59=data!$S$3,\"Propustek\",\"-\"))","v":"Rekonstrukce"}]
[null,null,null,null,null,null,null,null,null,null,null,{"$f":"IF('v přípravě a připraveno'!B60=data!$B$2,\"Souvislá údržba\",IF('v přípravě a připraveno'!B60=data!$B$3,\"Most\",\"-\"))","v":"Most"},{"$f":"IF('v přípravě a připraveno'!B60=data!$B$2,\"Rekonstrukce\",IF('v přípravě a připraveno'!B60=data!$B$3,\"Propustek\",\"-\"))","v":"Propustek"},null,null,null,null,null,null,null,null,null,null,null,null,null,null,null,{"$f":"IF('náměty na projekční přípravu'!B60=data!$S$2,\"Souvislá údržba\",IF('náměty na projekční přípravu'!B60=data!$S$3,\"Most\",\"-\"))","v":"Souvislá údržba"},{"$f":"IF('náměty na projekční přípravu'!B60=data!$S$2,\"Rekonstrukce\",IF('náměty na projekční přípravu'!B60=data!$S$3,\"Propustek\",\"-\"))","v":"Rekonstrukce"}]
[null,null,null,null,null,null,null,null,null,null,null,{"$f":"IF('v přípravě a připraveno'!B61=data!$B$2,\"Souvislá údržba\",IF('v přípravě a připraveno'!B61=data!$B$3,\"Most\",\"-\"))","v":"Souvislá údržba"},{"$f":"IF('v přípravě a připraveno'!B61=data!$B$2,\"Rekonstrukce\",IF('v přípravě a připraveno'!B61=data!$B$3,\"Propustek\",\"-\"))","v":"Rekonstrukce"},null,null,null,null,null,null,null,null,null,null,null,null,null,null,null,{"$f":"IF('náměty na projekční přípravu'!B61=data!$S$2,\"Souvislá údržba\",IF('náměty na projekční přípravu'!B61=data!$S$3,\"Most\",\"-\"))","v":"-"},{"$f":"IF('náměty na projekční přípravu'!B61=data!$S$2,\"Rekonstrukce\",IF('náměty na projekční přípravu'!B61=data!$S$3,\"Propustek\",\"-\"))","v":"-"}]
[null,null,null,null,null,null,null,null,null,null,null,{"$f":"IF('v přípravě a připraveno'!#REF!=data!$B$2,\"Souvislá údržba\",IF('v přípravě a připraveno'!#REF!=data!$B$3,\"Most\",\"-\"))","v":{"$error":"#REF!"}},{"$f":"IF('v přípravě a připraveno'!#REF!=data!$B$2,\"Rekonstrukce\",IF('v přípravě a připraveno'!#REF!=data!$B$3,\"Propustek\",\"-\"))","v":{"$error":"#REF!"}},null,null,null,null,null,null,null,null,null,null,null,null,null,null,null,{"$f":"IF('náměty na projekční přípravu'!B62=data!$S$2,\"Souvislá údržba\",IF('náměty na projekční přípravu'!B62=data!$S$3,\"Most\",\"-\"))","v":"-"},{"$f":"IF('náměty na projekční přípravu'!B62=data!$S$2,\"Rekonstrukce\",IF('náměty na projekční přípravu'!B62=data!$S$3,\"Propustek\",\"-\"))","v":"-"}]
[null,null,null,null,null,null,null,null,null,null,null,{"$f":"IF('v přípravě a připraveno'!B62=data!$B$2,\"Souvislá údržba\",IF('v přípravě a připraveno'!B62=data!$B$3,\"Most\",\"-\"))","v":"Souvislá údržba"},{"$f":"IF('v přípravě a připraveno'!B62=data!$B$2,\"Rekonstrukce\",IF('v přípravě a připraveno'!B62=data!$B$3,\"Propustek\",\"-\"))","v":"Rekonstrukce"},null,null,null,null,null,null,null,null,null,null,null,null,null,null,null,{"$f":"IF('náměty na projekční přípravu'!B63=data!$S$2,\"Souvislá údržba\",IF('náměty na projekční přípravu'!B63=data!$S$3,\"Most\",\"-\"))","v":"Souvislá údržba"},{"$f":"IF('náměty na projekční přípravu'!B63=data!$S$2,\"Rekonstrukce\",IF('náměty na projekční přípravu'!B63=data!$S$3,\"Propustek\",\"-\"))","v":"Rekonstrukce"}]
[null,null,null,null,null,null,null,null,null,null,null,{"$f":"IF('v přípravě a připraveno'!B63=data!$B$2,\"Souvislá údržba\",IF('v přípravě a připraveno'!B63=data!$B$3,\"Most\",\"-\"))","v":"-"},{"$f":"IF('v přípravě a připraveno'!B63=data!$B$2,\"Rekonstrukce\",IF('v přípravě a připraveno'!B63=data!$B$3,\"Propustek\",\"-\"))","v":"-"},null,null,null,null,null,null,null,null,null,null,null,null,null,null,null,{"$f":"IF('náměty na projekční přípravu'!B64=data!$S$2,\"Souvislá údržba\",IF('náměty na projekční přípravu'!B64=data!$S$3,\"Most\",\"-\"))","v":"Souvislá údržba"},{"$f":"IF('náměty na projekční přípravu'!B64=data!$S$2,\"Rekonstrukce\",IF('náměty na projekční přípravu'!B64=data!$S$3,\"Propustek\",\"-\"))","v":"Rekonstrukce"}]
[null,null,null,null,null,null,null,null,null,null,null,{"$f":"IF('v přípravě a připraveno'!B64=data!$B$2,\"Souvislá údržba\",IF('v přípravě a připraveno'!B64=data!$B$3,\"Most\",\"-\"))","v":"-"},{"$f":"IF('v přípravě a připraveno'!B64=data!$B$2,\"Rekonstrukce\",IF('v přípravě a připraveno'!B64=data!$B$3,\"Propustek\",\"-\"))","v":"-"},null,null,null,null,null,null,null,null,null,null,null,null,null,null,null,{"$f":"IF('náměty na projekční přípravu'!B65=data!$S$2,\"Souvislá údržba\",IF('náměty na projekční přípravu'!B65=data!$S$3,\"Most\",\"-\"))","v":"Souvislá údržba"},{"$f":"IF('náměty na projekční přípravu'!B65=data!$S$2,\"Rekonstrukce\",IF('náměty na projekční přípravu'!B65=data!$S$3,\"Propustek\",\"-\"))","v":"Rekonstrukce"}]
[null,null,null,null,null,null,null,null,null,null,null,{"$f":"IF('v přípravě a připraveno'!B65=data!$B$2,\"Souvislá údržba\",IF('v přípravě a připraveno'!B65=data!$B$3,\"Most\",\"-\"))","v":"Souvislá údržba"},{"$f":"IF('v přípravě a připraveno'!B65=data!$B$2,\"Rekonstrukce\",IF('v přípravě a připraveno'!B65=data!$B$3,\"Propustek\",\"-\"))","v":"Rekonstrukce"},null,null,null,null,null,null,null,null,null,null,null,null,null,null,null,{"$f":"IF('náměty na projekční přípravu'!B66=data!$S$2,\"Souvislá údržba\",IF('náměty na projekční přípravu'!B66=data!$S$3,\"Most\",\"-\"))","v":"Souvislá údržba"},{"$f":"IF('náměty na projekční přípravu'!B66=data!$S$2,\"Rekonstrukce\",IF('náměty na projekční přípravu'!B66=data!$S$3,\"Propustek\",\"-\"))","v":"Rekonstrukce"}]
[null,null,null,null,null,null,null,null,null,null,null,{"$f":"IF('v přípravě a připraveno'!#REF!=data!$B$2,\"Souvislá údržba\",IF('v přípravě a připraveno'!#REF!=data!$B$3,\"Most\",\"-\"))","v":{"$error":"#REF!"}},{"$f":"IF('v přípravě a připraveno'!#REF!=data!$B$2,\"Rekonstrukce\",IF('v přípravě a připraveno'!#REF!=data!$B$3,\"Propustek\",\"-\"))","v":{"$error":"#REF!"}},null,null,null,null,null,null,null,null,null,null,null,null,null,null,null,{"$f":"IF('náměty na projekční přípravu'!B67=data!$S$2,\"Souvislá údržba\",IF('náměty na projekční přípravu'!B67=data!$S$3,\"Most\",\"-\"))","v":"Souvislá údržba"},{"$f":"IF('náměty na projekční přípravu'!B67=data!$S$2,\"Rekonstrukce\",IF('náměty na projekční přípravu'!B67=data!$S$3,\"Propustek\",\"-\"))","v":"Rekonstrukce"}]
[null,null,null,null,null,null,null,null,null,null,null,{"$f":"IF('v přípravě a připraveno'!B66=data!$B$2,\"Souvislá údržba\",IF('v přípravě a připraveno'!B66=data!$B$3,\"Most\",\"-\"))","v":"Souvislá údržba"},{"$f":"IF('v přípravě a připraveno'!B66=data!$B$2,\"Rekonstrukce\",IF('v přípravě a připraveno'!B66=data!$B$3,\"Propustek\",\"-\"))","v":"Rekonstrukce"},null,null,null,null,null,null,null,null,null,null,null,null,null,null,null,{"$f":"IF('náměty na projekční přípravu'!B68=data!$S$2,\"Souvislá údržba\",IF('náměty na projekční přípravu'!B68=data!$S$3,\"Most\",\"-\"))","v":"Souvislá údržba"},{"$f":"IF('náměty na projekční přípravu'!B68=data!$S$2,\"Rekonstrukce\",IF('náměty na projekční přípravu'!B68=data!$S$3,\"Propustek\",\"-\"))","v":"Rekonstrukce"}]
[null,null,null,null,null,null,null,null,null,null,null,{"$f":"IF('v přípravě a připraveno'!B67=data!$B$2,\"Souvislá údržba\",IF('v přípravě a připraveno'!B67=data!$B$3,\"Most\",\"-\"))","v":"Souvislá údržba"},{"$f":"IF('v přípravě a připraveno'!B67=data!$B$2,\"Rekonstrukce\",IF('v přípravě a připraveno'!B67=data!$B$3,\"Propustek\",\"-\"))","v":"Rekonstrukce"},null,null,null,null,null,null,null,null,null,null,null,null,null,null,null,{"$f":"IF('náměty na projekční přípravu'!B69=data!$S$2,\"Souvislá údržba\",IF('náměty na projekční přípravu'!B69=data!$S$3,\"Most\",\"-\"))","v":"-"},{"$f":"IF('náměty na projekční přípravu'!B69=data!$S$2,\"Rekonstrukce\",IF('náměty na projekční přípravu'!B69=data!$S$3,\"Propustek\",\"-\"))","v":"-"}]
[null,null,null,null,null,null,null,null,null,null,null,{"$f":"IF('v přípravě a připraveno'!B68=data!$B$2,\"Souvislá údržba\",IF('v přípravě a připraveno'!B68=data!$B$3,\"Most\",\"-\"))","v":"Souvislá údržba"},{"$f":"IF('v přípravě a připraveno'!B68=data!$B$2,\"Rekonstrukce\",IF('v přípravě a připraveno'!B68=data!$B$3,\"Propustek\",\"-\"))","v":"Rekonstrukce"},null,null,null,null,null,null,null,null,null,null,null,null,null,null,null,{"$f":"IF('náměty na projekční přípravu'!B70=data!$S$2,\"Souvislá údržba\",IF('náměty na projekční přípravu'!B70=data!$S$3,\"Most\",\"-\"))","v":"-"},{"$f":"IF('náměty na projekční přípravu'!B70=data!$S$2,\"Rekonstrukce\",IF('náměty na projekční přípravu'!B70=data!$S$3,\"Propustek\",\"-\"))","v":"-"}]
[null,null,null,null,null,null,null,null,null,null,null,{"$f":"IF('v přípravě a připraveno'!B69=data!$B$2,\"Souvislá údržba\",IF('v přípravě a připraveno'!B69=data!$B$3,\"Most\",\"-\"))","v":"Souvislá údržba"},{"$f":"IF('v přípravě a připraveno'!B69=data!$B$2,\"Rekonstrukce\",IF('v přípravě a připraveno'!B69=data!$B$3,\"Propustek\",\"-\"))","v":"Rekonstrukce"},null,null,null,null,null,null,null,null,null,null,null,null,null,null,null,{"$f":"IF('náměty na projekční přípravu'!B71=data!$S$2,\"Souvislá údržba\",IF('náměty na projekční přípravu'!B71=data!$S$3,\"Most\",\"-\"))","v":"-"},{"$f":"IF('náměty na projekční přípravu'!B71=data!$S$2,\"Rekonstrukce\",IF('náměty na projekční přípravu'!B71=data!$S$3,\"Propustek\",\"-\"))","v":"-"}]
[null,null,null,null,null,null,null,null,null,null,null,{"$f":"IF('v přípravě a připraveno'!B70=data!$B$2,\"Souvislá údržba\",IF('v přípravě a připraveno'!B70=data!$B$3,\"Most\",\"-\"))","v":"Souvislá údržba"},{"$f":"IF('v přípravě a připraveno'!B70=data!$B$2,\"Rekonstrukce\",IF('v přípravě a připraveno'!B70=data!$B$3,\"Propustek\",\"-\"))","v":"Rekonstrukce"},null,null,null,null,null,null,null,null,null,null,null,null,null,null,null,{"$f":"IF('náměty na projekční přípravu'!B72=data!$S$2,\"Souvislá údržba\",IF('náměty na projekční přípravu'!B72=data!$S$3,\"Most\",\"-\"))","v":"-"},{"$f":"IF('náměty na projekční přípravu'!B72=data!$S$2,\"Rekonstrukce\",IF('náměty na projekční přípravu'!B72=data!$S$3,\"Propustek\",\"-\"))","v":"-"}]
[null,null,null,null,null,null,null,null,null,null,null,{"$f":"IF('v přípravě a připraveno'!B71=data!$B$2,\"Souvislá údržba\",IF('v přípravě a připraveno'!B71=data!$B$3,\"Most\",\"-\"))","v":"Souvislá údržba"},{"$f":"IF('v přípravě a připraveno'!B71=data!$B$2,\"Rekonstrukce\",IF('v přípravě a připraveno'!B71=data!$B$3,\"Propustek\",\"-\"))","v":"Rekonstrukce"},null,null,null,null,null,null,null,null,null,null,null,null,null,null,null,{"$f":"IF('náměty na projekční přípravu'!B73=data!$S$2,\"Souvislá údržba\",IF('náměty na projekční přípravu'!B73=data!$S$3,\"Most\",\"-\"))","v":"Souvislá údržba"},{"$f":"IF('náměty na projekční přípravu'!B73=data!$S$2,\"Rekonstrukce\",IF('náměty na projekční přípravu'!B73=data!$S$3,\"Propustek\",\"-\"))","v":"Rekonstrukce"}]
[null,null,null,null,null,null,null,null,null,null,null,{"$f":"IF('v přípravě a připraveno'!B72=data!$B$2,\"Souvislá údržba\",IF('v přípravě a připraveno'!B72=data!$B$3,\"Most\",\"-\"))","v":"-"},{"$f":"IF('v přípravě a připraveno'!B72=data!$B$2,\"Rekonstrukce\",IF('v přípravě a připraveno'!B72=data!$B$3,\"Propustek\",\"-\"))","v":"-"},null,null,null,null,null,null,null,null,null,null,null,null,null,null,null,{"$f":"IF('náměty na projekční přípravu'!B74=data!$S$2,\"Souvislá údržba\",IF('náměty na projekční přípravu'!B74=data!$S$3,\"Most\",\"-\"))","v":"Souvislá údržba"},{"$f":"IF('náměty na projekční přípravu'!B74=data!$S$2,\"Rekonstrukce\",IF('náměty na projekční přípravu'!B74=data!$S$3,\"Propustek\",\"-\"))","v":"Rekonstrukce"}]
[null,null,null,null,null,null,null,null,null,null,null,{"$f":"IF('v přípravě a připraveno'!B73=data!$B$2,\"Souvislá údržba\",IF('v přípravě a připraveno'!B73=data!$B$3,\"Most\",\"-\"))","v":"Souvislá údržba"},{"$f":"IF('v přípravě a připraveno'!B73=data!$B$2,\"Rekonstrukce\",IF('v přípravě a připraveno'!B73=data!$B$3,\"Propustek\",\"-\"))","v":"Rekonstrukce"},null,null,null,null,null,null,null,null,null,null,null,null,null,null,null,{"$f":"IF('náměty na projekční přípravu'!B75=data!$S$2,\"Souvislá údržba\",IF('náměty na projekční přípravu'!B75=data!$S$3,\"Most\",\"-\"))","v":"Souvislá údržba"},{"$f":"IF('náměty na projekční přípravu'!B75=data!$S$2,\"Rekonstrukce\",IF('náměty na projekční přípravu'!B75=data!$S$3,\"Propustek\",\"-\"))","v":"Rekonstrukce"}]
[null,null,null,null,null,null,null,null,null,null,null,{"$f":"IF('v přípravě a připraveno'!B74=data!$B$2,\"Souvislá údržba\",IF('v přípravě a připraveno'!B74=data!$B$3,\"Most\",\"-\"))","v":"Souvislá údržba"},{"$f":"IF('v přípravě a připraveno'!B74=data!$B$2,\"Rekonstrukce\",IF('v přípravě a připraveno'!B74=data!$B$3,\"Propustek\",\"-\"))","v":"Rekonstrukce"},null,null,null,null,null,null,null,null,null,null,null,null,null,null,null,{"$f":"IF('náměty na projekční přípravu'!B76=data!$S$2,\"Souvislá údržba\",IF('náměty na projekční přípravu'!B76=data!$S$3,\"Most\",\"-\"))","v":"Souvislá údržba"},{"$f":"IF('náměty na projekční přípravu'!B76=data!$S$2,\"Rekonstrukce\",IF('náměty na projekční přípravu'!B76=data!$S$3,\"Propustek\",\"-\"))","v":"Rekonstrukce"}]
[null,null,null,null,null,null,null,null,null,null,null,{"$f":"IF('v přípravě a připraveno'!B75=data!$B$2,\"Souvislá údržba\",IF('v přípravě a připraveno'!B75=data!$B$3,\"Most\",\"-\"))","v":"-"},{"$f":"IF('v přípravě a připraveno'!B75=data!$B$2,\"Rekonstrukce\",IF('v přípravě a připraveno'!B75=data!$B$3,\"Propustek\",\"-\"))","v":"-"},null,null,null,null,null,null,null,null,null,null,null,null,null,null,null,{"$f":"IF('náměty na projekční přípravu'!B77=data!$S$2,\"Souvislá údržba\",IF('náměty na projekční přípravu'!B77=data!$S$3,\"Most\",\"-\"))","v":"Souvislá údržba"},{"$f":"IF('náměty na projekční přípravu'!B77=data!$S$2,\"Rekonstrukce\",IF('náměty na projekční přípravu'!B77=data!$S$3,\"Propustek\",\"-\"))","v":"Rekonstrukce"}]
[null,null,null,null,null,null,null,null,null,null,null,{"$f":"IF('v přípravě a připraveno'!B76=data!$B$2,\"Souvislá údržba\",IF('v přípravě a připraveno'!B76=data!$B$3,\"Most\",\"-\"))","v":"Souvislá údržba"},{"$f":"IF('v přípravě a připraveno'!B76=data!$B$2,\"Rekonstrukce\",IF('v přípravě a připraveno'!B76=data!$B$3,\"Propustek\",\"-\"))","v":"Rekonstrukce"},null,null,null,null,null,null,null,null,null,null,null,null,null,null,null,{"$f":"IF('náměty na projekční přípravu'!B78=data!$S$2,\"Souvislá údržba\",IF('náměty na projekční přípravu'!B78=data!$S$3,\"Most\",\"-\"))","v":"Souvislá údržba"},{"$f":"IF('náměty na projekční přípravu'!B78=data!$S$2,\"Rekonstrukce\",IF('náměty na projekční přípravu'!B78=data!$S$3,\"Propustek\",\"-\"))","v":"Rekonstrukce"}]
[null,null,null,null,null,null,null,null,null,null,null,{"$f":"IF('v přípravě a připraveno'!B77=data!$B$2,\"Souvislá údržba\",IF('v přípravě a připraveno'!B77=data!$B$3,\"Most\",\"-\"))","v":"Souvislá údržba"},{"$f":"IF('v přípravě a připraveno'!B77=data!$B$2,\"Rekonstrukce\",IF('v přípravě a připraveno'!B77=data!$B$3,\"Propustek\",\"-\"))","v":"Rekonstrukce"},null,null,null,null,null,null,null,null,null,null,null,null,null,null,null,{"$f":"IF('náměty na projekční přípravu'!B79=data!$S$2,\"Souvislá údržba\",IF('náměty na projekční přípravu'!B79=data!$S$3,\"Most\",\"-\"))","v":"Souvislá údržba"},{"$f":"IF('náměty na projekční přípravu'!B79=data!$S$2,\"Rekonstrukce\",IF('náměty na projekční přípravu'!B79=data!$S$3,\"Propustek\",\"-\"))","v":"Rekonstrukce"}]
[null,null,null,null,null,null,null,null,null,null,null,{"$f":"IF('v přípravě a připraveno'!B78=data!$B$2,\"Souvislá údržba\",IF('v přípravě a připraveno'!B78=data!$B$3,\"Most\",\"-\"))","v":"Souvislá údržba"},{"$f":"IF('v přípravě a připraveno'!B78=data!$B$2,\"Rekonstrukce\",IF('v přípravě a připraveno'!B78=data!$B$3,\"Propustek\",\"-\"))","v":"Rekonstrukce"},null,null,null,null,null,null,null,null,null,null,null,null,null,null,null,{"$f":"IF('náměty na projekční přípravu'!B80=data!$S$2,\"Souvislá údržba\",IF('náměty na projekční přípravu'!B80=data!$S$3,\"Most\",\"-\"))","v":"Souvislá údržba"},{"$f":"IF('náměty na projekční přípravu'!B80=data!$S$2,\"Rekonstrukce\",IF('náměty na projekční přípravu'!B80=data!$S$3,\"Propustek\",\"-\"))","v":"Rekonstrukce"}]
[null,null,null,null,null,null,null,null,null,null,null,{"$f":"IF('v přípravě a připraveno'!B79=data!$B$2,\"Souvislá údržba\",IF('v přípravě a připraveno'!B79=data!$B$3,\"Most\",\"-\"))","v":"Souvislá údržba"},{"$f":"IF('v přípravě a připraveno'!B79=data!$B$2,\"Rekonstrukce\",IF('v přípravě a připraveno'!B79=data!$B$3,\"Propustek\",\"-\"))","v":"Rekonstrukce"},null,null,null,null,null,null,null,null,null,null,null,null,null,null,null,{"$f":"IF('náměty na projekční přípravu'!B81=data!$S$2,\"Souvislá údržba\",IF('náměty na projekční přípravu'!B81=data!$S$3,\"Most\",\"-\"))","v":"Souvislá údržba"},{"$f":"IF('náměty na projekční přípravu'!B81=data!$S$2,\"Rekonstrukce\",IF('náměty na projekční přípravu'!B81=data!$S$3,\"Propustek\",\"-\"))","v":"Rekonstrukce"}]
[null,null,null,null,null,null,null,null,null,null,null,{"$f":"IF('v přípravě a připraveno'!B80=data!$B$2,\"Souvislá údržba\",IF('v přípravě a připraveno'!B80=data!$B$3,\"Most\",\"-\"))","v":"Souvislá údržba"},{"$f":"IF('v přípravě a připraveno'!B80=data!$B$2,\"Rekonstrukce\",IF('v přípravě a připraveno'!B80=data!$B$3,\"Propustek\",\"-\"))","v":"Rekonstrukce"},null,null,null,null,null,null,null,null,null,null,null,null,null,null,null,{"$f":"IF('náměty na projekční přípravu'!B82=data!$S$2,\"Souvislá údržba\",IF('náměty na projekční přípravu'!B82=data!$S$3,\"Most\",\"-\"))","v":"-"},{"$f":"IF('náměty na projekční přípravu'!B82=data!$S$2,\"Rekonstrukce\",IF('náměty na projekční přípravu'!B82=data!$S$3,\"Propustek\",\"-\"))","v":"-"}]
[null,null,null,null,null,null,null,null,null,null,null,{"$f":"IF('v přípravě a připraveno'!B81=data!$B$2,\"Souvislá údržba\",IF('v přípravě a připraveno'!B81=data!$B$3,\"Most\",\"-\"))","v":"Most"},{"$f":"IF('v přípravě a připraveno'!B81=data!$B$2,\"Rekonstrukce\",IF('v přípravě a připraveno'!B81=data!$B$3,\"Propustek\",\"-\"))","v":"Propustek"},null,null,null,null,null,null,null,null,null,null,null,null,null,null,null,{"$f":"IF('náměty na projekční přípravu'!B83=data!$S$2,\"Souvislá údržba\",IF('náměty na projekční přípravu'!B83=data!$S$3,\"Most\",\"-\"))","v":"-"},{"$f":"IF('náměty na projekční přípravu'!B83=data!$S$2,\"Rekonstrukce\",IF('náměty na projekční přípravu'!B83=data!$S$3,\"Propustek\",\"-\"))","v":"-"}]
[null,null,null,null,null,null,null,null,null,null,null,{"$f":"IF('v přípravě a připraveno'!B82=data!$B$2,\"Souvislá údržba\",IF('v přípravě a připraveno'!B82=data!$B$3,\"Most\",\"-\"))","v":"Most"},{"$f":"IF('v přípravě a připraveno'!B82=data!$B$2,\"Rekonstrukce\",IF('v přípravě a připraveno'!B82=data!$B$3,\"Propustek\",\"-\"))","v":"Propustek"},null,null,null,null,null,null,null,null,null,null,null,null,null,null,null,{"$f":"IF('náměty na projekční přípravu'!B84=data!$S$2,\"Souvislá údržba\",IF('náměty na projekční přípravu'!B84=data!$S$3,\"Most\",\"-\"))","v":"-"},{"$f":"IF('náměty na projekční přípravu'!B84=data!$S$2,\"Rekonstrukce\",IF('náměty na projekční přípravu'!B84=data!$S$3,\"Propustek\",\"-\"))","v":"-"}]
[null,null,null,null,null,null,null,null,null,null,null,{"$f":"IF('v přípravě a připraveno'!B83=data!$B$2,\"Souvislá údržba\",IF('v přípravě a připraveno'!B83=data!$B$3,\"Most\",\"-\"))","v":"Souvislá údržba"},{"$f":"IF('v přípravě a připraveno'!B83=data!$B$2,\"Rekonstrukce\",IF('v přípravě a připraveno'!B83=data!$B$3,\"Propustek\",\"-\"))","v":"Rekonstrukce"},null,null,null,null,null,null,null,null,null,null,null,null,null,null,null,{"$f":"IF('náměty na projekční přípravu'!B85=data!$S$2,\"Souvislá údržba\",IF('náměty na projekční přípravu'!B85=data!$S$3,\"Most\",\"-\"))","v":"Souvislá údržba"},{"$f":"IF('náměty na projekční přípravu'!B85=data!$S$2,\"Rekonstrukce\",IF('náměty na projekční přípravu'!B85=data!$S$3,\"Propustek\",\"-\"))","v":"Rekonstrukce"}]
[null,null,null,null,null,null,null,null,null,null,null,{"$f":"IF('v přípravě a připraveno'!B84=data!$B$2,\"Souvislá údržba\",IF('v přípravě a připraveno'!B84=data!$B$3,\"Most\",\"-\"))","v":"Souvislá údržba"},{"$f":"IF('v přípravě a připraveno'!B84=data!$B$2,\"Rekonstrukce\",IF('v přípravě a připraveno'!B84=data!$B$3,\"Propustek\",\"-\"))","v":"Rekonstrukce"},null,null,null,null,null,null,null,null,null,null,null,null,null,null,null,{"$f":"IF('náměty na projekční přípravu'!B86=data!$S$2,\"Souvislá údržba\",IF('náměty na projekční přípravu'!B86=data!$S$3,\"Most\",\"-\"))","v":"Souvislá údržba"},{"$f":"IF('náměty na projekční přípravu'!B86=data!$S$2,\"Rekonstrukce\",IF('náměty na projekční přípravu'!B86=data!$S$3,\"Propustek\",\"-\"))","v":"Rekonstrukce"}]
[null,null,null,null,null,null,null,null,null,null,null,{"$f":"IF('v přípravě a připraveno'!B85=data!$B$2,\"Souvislá údržba\",IF('v přípravě a připraveno'!B85=data!$B$3,\"Most\",\"-\"))","v":"Souvislá údržba"},{"$f":"IF('v přípravě a připraveno'!B85=data!$B$2,\"Rekonstrukce\",IF('v přípravě a připraveno'!B85=data!$B$3,\"Propustek\",\"-\"))","v":"Rekonstrukce"},null,null,null,null,null,null,null,null,null,null,null,null,null,null,null,{"$f":"IF('náměty na projekční přípravu'!B87=data!$S$2,\"Souvislá údržba\",IF('náměty na projekční přípravu'!B87=data!$S$3,\"Most\",\"-\"))","v":"Souvislá údržba"},{"$f":"IF('náměty na projekční přípravu'!B87=data!$S$2,\"Rekonstrukce\",IF('náměty na projekční přípravu'!B87=data!$S$3,\"Propustek\",\"-\"))","v":"Rekonstrukce"}]
[null,null,null,null,null,null,null,null,null,null,null,{"$f":"IF('v přípravě a připraveno'!B86=data!$B$2,\"Souvislá údržba\",IF('v přípravě a připraveno'!B86=data!$B$3,\"Most\",\"-\"))","v":"Souvislá údržba"},{"$f":"IF('v přípravě a připraveno'!B86=data!$B$2,\"Rekonstrukce\",IF('v přípravě a připraveno'!B86=data!$B$3,\"Propustek\",\"-\"))","v":"Rekonstrukce"},null,null,null,null,null,null,null,null,null,null,null,null,null,null,null,{"$f":"IF('náměty na projekční přípravu'!B88=data!$S$2,\"Souvislá údržba\",IF('náměty na projekční přípravu'!B88=data!$S$3,\"Most\",\"-\"))","v":"Souvislá údržba"},{"$f":"IF('náměty na projekční přípravu'!B88=data!$S$2,\"Rekonstrukce\",IF('náměty na projekční přípravu'!B88=data!$S$3,\"Propustek\",\"-\"))","v":"Rekonstrukce"}]
[null,null,null,null,null,null,null,null,null,null,null,{"$f":"IF('v přípravě a připraveno'!B87=data!$B$2,\"Souvislá údržba\",IF('v přípravě a připraveno'!B87=data!$B$3,\"Most\",\"-\"))","v":"-"},{"$f":"IF('v přípravě a připraveno'!B87=data!$B$2,\"Rekonstrukce\",IF('v přípravě a připraveno'!B87=data!$B$3,\"Propustek\",\"-\"))","v":"-"},null,null,null,null,null,null,null,null,null,null,null,null,null,null,null,{"$f":"IF('náměty na projekční přípravu'!B89=data!$S$2,\"Souvislá údržba\",IF('náměty na projekční přípravu'!B89=data!$S$3,\"Most\",\"-\"))","v":"Souvislá údržba"},{"$f":"IF('náměty na projekční přípravu'!B89=data!$S$2,\"Rekonstrukce\",IF('náměty na projekční přípravu'!B89=data!$S$3,\"Propustek\",\"-\"))","v":"Rekonstrukce"}]
[null,null,null,null,null,null,null,null,null,null,null,{"$f":"IF('v přípravě a připraveno'!B88=data!$B$2,\"Souvislá údržba\",IF('v přípravě a připraveno'!B88=data!$B$3,\"Most\",\"-\"))","v":"Souvislá údržba"},{"$f":"IF('v přípravě a připraveno'!B88=data!$B$2,\"Rekonstrukce\",IF('v přípravě a připraveno'!B88=data!$B$3,\"Propustek\",\"-\"))","v":"Rekonstrukce"},null,null,null,null,null,null,null,null,null,null,null,null,null,null,null,{"$f":"IF('náměty na projekční přípravu'!B90=data!$S$2,\"Souvislá údržba\",IF('náměty na projekční přípravu'!B90=data!$S$3,\"Most\",\"-\"))","v":"Souvislá údržba"},{"$f":"IF('náměty na projekční přípravu'!B90=data!$S$2,\"Rekonstrukce\",IF('náměty na projekční přípravu'!B90=data!$S$3,\"Propustek\",\"-\"))","v":"Rekonstrukce"}]
[null,null,null,null,null,null,null,null,null,null,null,{"$f":"IF('v přípravě a připraveno'!B89=data!$B$2,\"Souvislá údržba\",IF('v přípravě a připraveno'!B89=data!$B$3,\"Most\",\"-\"))","v":"Souvislá údržba"},{"$f":"IF('v přípravě a připraveno'!B89=data!$B$2,\"Rekonstrukce\",IF('v přípravě a připraveno'!B89=data!$B$3,\"Propustek\",\"-\"))","v":"Rekonstrukce"},null,null,null,null,null,null,null,null,null,null,null,null,null,null,null,{"$f":"IF('náměty na projekční přípravu'!B91=data!$S$2,\"Souvislá údržba\",IF('náměty na projekční přípravu'!B91=data!$S$3,\"Most\",\"-\"))","v":"-"},{"$f":"IF('náměty na projekční přípravu'!B91=data!$S$2,\"Rekonstrukce\",IF('náměty na projekční přípravu'!B91=data!$S$3,\"Propustek\",\"-\"))","v":"-"}]
[null,null,null,null,null,null,null,null,null,null,null,{"$f":"IF('v přípravě a připraveno'!B90=data!$B$2,\"Souvislá údržba\",IF('v přípravě a připraveno'!B90=data!$B$3,\"Most\",\"-\"))","v":"-"},{"$f":"IF('v přípravě a připraveno'!B90=data!$B$2,\"Rekonstrukce\",IF('v přípravě a připraveno'!B90=data!$B$3,\"Propustek\",\"-\"))","v":"-"},null,null,null,null,null,null,null,null,null,null,null,null,null,null,null,{"$f":"IF('náměty na projekční přípravu'!B92=data!$S$2,\"Souvislá údržba\",IF('náměty na projekční přípravu'!B92=data!$S$3,\"Most\",\"-\"))","v":"-"},{"$f":"IF('náměty na projekční přípravu'!B92=data!$S$2,\"Rekonstrukce\",IF('náměty na projekční přípravu'!B92=data!$S$3,\"Propustek\",\"-\"))","v":"-"}]
[null,null,null,null,null,null,null,null,null,null,null,{"$f":"IF('v přípravě a připraveno'!B91=data!$B$2,\"Souvislá údržba\",IF('v přípravě a připraveno'!B91=data!$B$3,\"Most\",\"-\"))","v":"Most"},{"$f":"IF('v přípravě a připraveno'!B91=data!$B$2,\"Rekonstrukce\",IF('v přípravě a připraveno'!B91=data!$B$3,\"Propustek\",\"-\"))","v":"Propustek"},null,null,null,null,null,null,null,null,null,null,null,null,null,null,null,{"$f":"IF('náměty na projekční přípravu'!B93=data!$S$2,\"Souvislá údržba\",IF('náměty na projekční přípravu'!B93=data!$S$3,\"Most\",\"-\"))","v":"-"},{"$f":"IF('náměty na projekční přípravu'!B93=data!$S$2,\"Rekonstrukce\",IF('náměty na projekční přípravu'!B93=data!$S$3,\"Propustek\",\"-\"))","v":"-"}]
[null,null,null,null,null,null,null,null,null,null,null,{"$f":"IF('v přípravě a připraveno'!B92=data!$B$2,\"Souvislá údržba\",IF('v přípravě a připraveno'!B92=data!$B$3,\"Most\",\"-\"))","v":"Souvislá údržba"},{"$f":"IF('v přípravě a připraveno'!B92=data!$B$2,\"Rekonstrukce\",IF('v přípravě a připraveno'!B92=data!$B$3,\"Propustek\",\"-\"))","v":"Rekonstrukce"},null,null,null,null,null,null,null,null,null,null,null,null,null,null,null,{"$f":"IF('náměty na projekční přípravu'!B94=data!$S$2,\"Souvislá údržba\",IF('náměty na projekční přípravu'!B94=data!$S$3,\"Most\",\"-\"))","v":"Souvislá údržba"},{"$f":"IF('náměty na projekční přípravu'!B94=data!$S$2,\"Rekonstrukce\",IF('náměty na projekční přípravu'!B94=data!$S$3,\"Propustek\",\"-\"))","v":"Rekonstrukce"}]
[null,null,null,null,null,null,null,null,null,null,null,{"$f":"IF('v přípravě a připraveno'!#REF!=data!$B$2,\"Souvislá údržba\",IF('v přípravě a připraveno'!#REF!=data!$B$3,\"Most\",\"-\"))","v":{"$error":"#REF!"}},{"$f":"IF('v přípravě a připraveno'!#REF!=data!$B$2,\"Rekonstrukce\",IF('v přípravě a připraveno'!#REF!=data!$B$3,\"Propustek\",\"-\"))","v":{"$error":"#REF!"}},null,null,null,null,null,null,null,null,null,null,null,null,null,null,null,{"$f":"IF('náměty na projekční přípravu'!B95=data!$S$2,\"Souvislá údržba\",IF('náměty na projekční přípravu'!B95=data!$S$3,\"Most\",\"-\"))","v":"-"},{"$f":"IF('náměty na projekční přípravu'!B95=data!$S$2,\"Rekonstrukce\",IF('náměty na projekční přípravu'!B95=data!$S$3,\"Propustek\",\"-\"))","v":"-"}]
[null,null,null,null,null,null,null,null,null,null,null,{"$f":"IF('v přípravě a připraveno'!B93=data!$B$2,\"Souvislá údržba\",IF('v přípravě a připraveno'!B93=data!$B$3,\"Most\",\"-\"))","v":"Souvislá údržba"},{"$f":"IF('v přípravě a připraveno'!B93=data!$B$2,\"Rekonstrukce\",IF('v přípravě a připraveno'!B93=data!$B$3,\"Propustek\",\"-\"))","v":"Rekonstrukce"},null,null,null,null,null,null,null,null,null,null,null,null,null,null,null,{"$f":"IF('náměty na projekční přípravu'!B96=data!$S$2,\"Souvislá údržba\",IF('náměty na projekční přípravu'!B96=data!$S$3,\"Most\",\"-\"))","v":"-"},{"$f":"IF('náměty na projekční přípravu'!B96=data!$S$2,\"Rekonstrukce\",IF('náměty na projekční přípravu'!B96=data!$S$3,\"Propustek\",\"-\"))","v":"-"}]
[null,null,null,null,null,null,null,null,null,null,null,{"$f":"IF('v přípravě a připraveno'!B94=data!$B$2,\"Souvislá údržba\",IF('v přípravě a připraveno'!B94=data!$B$3,\"Most\",\"-\"))","v":"Souvislá údržba"},{"$f":"IF('v přípravě a připraveno'!B94=data!$B$2,\"Rekonstrukce\",IF('v přípravě a připraveno'!B94=data!$B$3,\"Propustek\",\"-\"))","v":"Rekonstrukce"},null,null,null,null,null,null,null,null,null,null,null,null,null,null,null,{"$f":"IF('náměty na projekční přípravu'!B97=data!$S$2,\"Souvislá údržba\",IF('náměty na projekční přípravu'!B97=data!$S$3,\"Most\",\"-\"))","v":"Souvislá údržba"},{"$f":"IF('náměty na projekční přípravu'!B97=data!$S$2,\"Rekonstrukce\",IF('náměty na projekční přípravu'!B97=data!$S$3,\"Propustek\",\"-\"))","v":"Rekonstrukce"}]
[null,null,null,null,null,null,null,null,null,null,null,{"$f":"IF('v přípravě a připraveno'!B95=data!$B$2,\"Souvislá údržba\",IF('v přípravě a připraveno'!B95=data!$B$3,\"Most\",\"-\"))","v":"Souvislá údržba"},{"$f":"IF('v přípravě a připraveno'!B95=data!$B$2,\"Rekonstrukce\",IF('v přípravě a připraveno'!B95=data!$B$3,\"Propustek\",\"-\"))","v":"Rekonstrukce"},null,null,null,null,null,null,null,null,null,null,null,null,null,null,null,{"$f":"IF('náměty na projekční přípravu'!B98=data!$S$2,\"Souvislá údržba\",IF('náměty na projekční přípravu'!B98=data!$S$3,\"Most\",\"-\"))","v":"Souvislá údržba"},{"$f":"IF('náměty na projekční přípravu'!B98=data!$S$2,\"Rekonstrukce\",IF('náměty na projekční přípravu'!B98=data!$S$3,\"Propustek\",\"-\"))","v":"Rekonstrukce"}]
[null,null,null,null,null,null,null,null,null,null,null,{"$f":"IF('v přípravě a připraveno'!B96=data!$B$2,\"Souvislá údržba\",IF('v přípravě a připraveno'!B96=data!$B$3,\"Most\",\"-\"))","v":"Most"},{"$f":"IF('v přípravě a připraveno'!B96=data!$B$2,\"Rekonstrukce\",IF('v přípravě a připraveno'!B96=data!$B$3,\"Propustek\",\"-\"))","v":"Propustek"},null,null,null,null,null,null,null,null,null,null,null,null,null,null,null,{"$f":"IF('náměty na projekční přípravu'!B99=data!$S$2,\"Souvislá údržba\",IF('náměty na projekční přípravu'!B99=data!$S$3,\"Most\",\"-\"))","v":"Souvislá údržba"},{"$f":"IF('náměty na projekční přípravu'!B99=data!$S$2,\"Rekonstrukce\",IF('náměty na projekční přípravu'!B99=data!$S$3,\"Propustek\",\"-\"))","v":"Rekonstrukce"}]
[null,null,null,null,null,null,null,null,null,null,null,{"$f":"IF('v přípravě a připraveno'!B97=data!$B$2,\"Souvislá údržba\",IF('v přípravě a připraveno'!B97=data!$B$3,\"Most\",\"-\"))","v":"Souvislá údržba"},{"$f":"IF('v přípravě a připraveno'!B97=data!$B$2,\"Rekonstrukce\",IF('v přípravě a připraveno'!B97=data!$B$3,\"Propustek\",\"-\"))","v":"Rekonstrukce"},null,null,null,null,null,null,null,null,null,null,null,null,null,null,null,{"$f":"IF('náměty na projekční přípravu'!B100=data!$S$2,\"Souvislá údržba\",IF('náměty na projekční přípravu'!B100=data!$S$3,\"Most\",\"-\"))","v":"-"},{"$f":"IF('náměty na projekční přípravu'!B100=data!$S$2,\"Rekonstrukce\",IF('náměty na projekční přípravu'!B100=data!$S$3,\"Propustek\",\"-\"))","v":"-"}]
[null,null,null,null,null,null,null,null,null,null,null,{"$f":"IF('v přípravě a připraveno'!B98=data!$B$2,\"Souvislá údržba\",IF('v přípravě a připraveno'!B98=data!$B$3,\"Most\",\"-\"))","v":"Souvislá údržba"},{"$f":"IF('v přípravě a připraveno'!B98=data!$B$2,\"Rekonstrukce\",IF('v přípravě a připraveno'!B98=data!$B$3,\"Propustek\",\"-\"))","v":"Rekonstrukce"},null,null,null,null,null,null,null,null,null,null,null,null,null,null,null,{"$f":"IF('náměty na projekční přípravu'!B101=data!$S$2,\"Souvislá údržba\",IF('náměty na projekční přípravu'!B101=data!$S$3,\"Most\",\"-\"))","v":"-"},{"$f":"IF('náměty na projekční přípravu'!B101=data!$S$2,\"Rekonstrukce\",IF('náměty na projekční přípravu'!B101=data!$S$3,\"Propustek\",\"-\"))","v":"-"}]
[null,null,null,null,null,null,null,null,null,null,null,{"$f":"IF('v přípravě a připraveno'!B100=data!$B$2,\"Souvislá údržba\",IF('v přípravě a připraveno'!B100=data!$B$3,\"Most\",\"-\"))","v":"Souvislá údržba"},{"$f":"IF('v přípravě a připraveno'!B100=data!$B$2,\"Rekonstrukce\",IF('v přípravě a připraveno'!B100=data!$B$3,\"Propustek\",\"-\"))","v":"Rekonstrukce"},null,null,null,null,null,null,null,null,null,null,null,null,null,null,null,{"$f":"IF('náměty na projekční přípravu'!B102=data!$S$2,\"Souvislá údržba\",IF('náměty na projekční přípravu'!B102=data!$S$3,\"Most\",\"-\"))","v":"-"},{"$f":"IF('náměty na projekční přípravu'!B102=data!$S$2,\"Rekonstrukce\",IF('náměty na projekční přípravu'!B102=data!$S$3,\"Propustek\",\"-\"))","v":"-"}]
[null,null,null,null,null,null,null,null,null,null,null,{"$f":"IF('v přípravě a připraveno'!B101=data!$B$2,\"Souvislá údržba\",IF('v přípravě a připraveno'!B101=data!$B$3,\"Most\",\"-\"))","v":"Souvislá údržba"},{"$f":"IF('v přípravě a připraveno'!B101=data!$B$2,\"Rekonstrukce\",IF('v přípravě a připraveno'!B101=data!$B$3,\"Propustek\",\"-\"))","v":"Rekonstrukce"},null,null,null,null,null,null,null,null,null,null,null,null,null,null,null,{"$f":"IF('náměty na projekční přípravu'!B103=data!$S$2,\"Souvislá údržba\",IF('náměty na projekční přípravu'!B103=data!$S$3,\"Most\",\"-\"))","v":"-"},{"$f":"IF('náměty na projekční přípravu'!B103=data!$S$2,\"Rekonstrukce\",IF('náměty na projekční přípravu'!B103=data!$S$3,\"Propustek\",\"-\"))","v":"-"}]
[null,null,null,null,null,null,null,null,null,null,null,{"$f":"IF('v přípravě a připraveno'!B102=data!$B$2,\"Souvislá údržba\",IF('v přípravě a připraveno'!B102=data!$B$3,\"Most\",\"-\"))","v":"Souvislá údržba"},{"$f":"IF('v přípravě a připraveno'!B102=data!$B$2,\"Rekonstrukce\",IF('v přípravě a připraveno'!B102=data!$B$3,\"Propustek\",\"-\"))","v":"Rekonstrukce"},null,null,null,null,null,null,null,null,null,null,null,null,null,null,null,{"$f":"IF('náměty na projekční přípravu'!B104=data!$S$2,\"Souvislá údržba\",IF('náměty na projekční přípravu'!B104=data!$S$3,\"Most\",\"-\"))","v":"-"},{"$f":"IF('náměty na projekční přípravu'!B104=data!$S$2,\"Rekonstrukce\",IF('náměty na projekční přípravu'!B104=data!$S$3,\"Propustek\",\"-\"))","v":"-"}]
[null,null,null,null,null,null,null,null,null,null,null,{"$f":"IF('v přípravě a připraveno'!B103=data!$B$2,\"Souvislá údržba\",IF('v přípravě a připraveno'!B103=data!$B$3,\"Most\",\"-\"))","v":"Most"},{"$f":"IF('v přípravě a připraveno'!B103=data!$B$2,\"Rekonstrukce\",IF('v přípravě a připraveno'!B103=data!$B$3,\"Propustek\",\"-\"))","v":"Propustek"},null,null,null,null,null,null,null,null,null,null,null,null,null,null,null,{"$f":"IF('náměty na projekční přípravu'!B105=data!$S$2,\"Souvislá údržba\",IF('náměty na projekční přípravu'!B105=data!$S$3,\"Most\",\"-\"))","v":"-"},{"$f":"IF('náměty na projekční přípravu'!B105=data!$S$2,\"Rekonstrukce\",IF('náměty na projekční přípravu'!B105=data!$S$3,\"Propustek\",\"-\"))","v":"-"}]
[null,null,null,null,null,null,null,null,null,null,null,{"$f":"IF('v přípravě a připraveno'!B104=data!$B$2,\"Souvislá údržba\",IF('v přípravě a připraveno'!B104=data!$B$3,\"Most\",\"-\"))","v":"Souvislá údržba"},{"$f":"IF('v přípravě a připraveno'!B104=data!$B$2,\"Rekonstrukce\",IF('v přípravě a připraveno'!B104=data!$B$3,\"Propustek\",\"-\"))","v":"Rekonstrukce"},null,null,null,null,null,null,null,null,null,null,null,null,null,null,null,{"$f":"IF('náměty na projekční přípravu'!B106=data!$S$2,\"Souvislá údržba\",IF('náměty na projekční přípravu'!B106=data!$S$3,\"Most\",\"-\"))","v":"-"},{"$f":"IF('náměty na projekční přípravu'!B106=data!$S$2,\"Rekonstrukce\",IF('náměty na projekční přípravu'!B106=data!$S$3,\"Propustek\",\"-\"))","v":"-"}]
[null,null,null,null,null,null,null,null,null,null,null,{"$f":"IF('v přípravě a připraveno'!B105=data!$B$2,\"Souvislá údržba\",IF('v přípravě a připraveno'!B105=data!$B$3,\"Most\",\"-\"))","v":"Souvislá údržba"},{"$f":"IF('v přípravě a připraveno'!B105=data!$B$2,\"Rekonstrukce\",IF('v přípravě a připraveno'!B105=data!$B$3,\"Propustek\",\"-\"))","v":"Rekonstrukce"},null,null,null,null,null,null,null,null,null,null,null,null,null,null,null,{"$f":"IF('náměty na projekční přípravu'!B107=data!$S$2,\"Souvislá údržba\",IF('náměty na projekční přípravu'!B107=data!$S$3,\"Most\",\"-\"))","v":"-"},{"$f":"IF('náměty na projekční přípravu'!B107=data!$S$2,\"Rekonstrukce\",IF('náměty na projekční přípravu'!B107=data!$S$3,\"Propustek\",\"-\"))","v":"-"}]
[null,null,null,null,null,null,null,null,null,null,null,{"$f":"IF('v přípravě a připraveno'!B106=data!$B$2,\"Souvislá údržba\",IF('v přípravě a připraveno'!B106=data!$B$3,\"Most\",\"-\"))","v":"-"},{"$f":"IF('v přípravě a připraveno'!B106=data!$B$2,\"Rekonstrukce\",IF('v přípravě a připraveno'!B106=data!$B$3,\"Propustek\",\"-\"))","v":"-"},null,null,null,null,null,null,null,null,null,null,null,null,null,null,null,{"$f":"IF('náměty na projekční přípravu'!B108=data!$S$2,\"Souvislá údržba\",IF('náměty na projekční přípravu'!B108=data!$S$3,\"Most\",\"-\"))","v":"-"},{"$f":"IF('náměty na projekční přípravu'!B108=data!$S$2,\"Rekonstrukce\",IF('náměty na projekční přípravu'!B108=data!$S$3,\"Propustek\",\"-\"))","v":"-"}]
[null,null,null,null,null,null,null,null,null,null,null,{"$f":"IF('v přípravě a připraveno'!B107=data!$B$2,\"Souvislá údržba\",IF('v přípravě a připraveno'!B107=data!$B$3,\"Most\",\"-\"))","v":"Souvislá údržba"},{"$f":"IF('v přípravě a připraveno'!B107=data!$B$2,\"Rekonstrukce\",IF('v přípravě a připraveno'!B107=data!$B$3,\"Propustek\",\"-\"))","v":"Rekonstrukce"},null,null,null,null,null,null,null,null,null,null,null,null,null,null,null,{"$f":"IF('náměty na projekční přípravu'!B109=data!$S$2,\"Souvislá údržba\",IF('náměty na projekční přípravu'!B109=data!$S$3,\"Most\",\"-\"))","v":"-"},{"$f":"IF('náměty na projekční přípravu'!B109=data!$S$2,\"Rekonstrukce\",IF('náměty na projekční přípravu'!B109=data!$S$3,\"Propustek\",\"-\"))","v":"-"}]
[null,null,null,null,null,null,null,null,null,null,null,{"$f":"IF('v přípravě a připraveno'!B108=data!$B$2,\"Souvislá údržba\",IF('v přípravě a připraveno'!B108=data!$B$3,\"Most\",\"-\"))","v":"Souvislá údržba"},{"$f":"IF('v přípravě a připraveno'!B108=data!$B$2,\"Rekonstrukce\",IF('v přípravě a připraveno'!B108=data!$B$3,\"Propustek\",\"-\"))","v":"Rekonstrukce"},null,null,null,null,null,null,null,null,null,null,null,null,null,null,null,{"$f":"IF('náměty na projekční přípravu'!B110=data!$S$2,\"Souvislá údržba\",IF('náměty na projekční přípravu'!B110=data!$S$3,\"Most\",\"-\"))","v":"-"},{"$f":"IF('náměty na projekční přípravu'!B110=data!$S$2,\"Rekonstrukce\",IF('náměty na projekční přípravu'!B110=data!$S$3,\"Propustek\",\"-\"))","v":"-"}]
[null,null,null,null,null,null,null,null,null,null,null,{"$f":"IF('v přípravě a připraveno'!B109=data!$B$2,\"Souvislá údržba\",IF('v přípravě a připraveno'!B109=data!$B$3,\"Most\",\"-\"))","v":"Souvislá údržba"},{"$f":"IF('v přípravě a připraveno'!B109=data!$B$2,\"Rekonstrukce\",IF('v přípravě a připraveno'!B109=data!$B$3,\"Propustek\",\"-\"))","v":"Rekonstrukce"},null,null,null,null,null,null,null,null,null,null,null,null,null,null,null,{"$f":"IF('náměty na projekční přípravu'!B111=data!$S$2,\"Souvislá údržba\",IF('náměty na projekční přípravu'!B111=data!$S$3,\"Most\",\"-\"))","v":"-"},{"$f":"IF('náměty na projekční přípravu'!B111=data!$S$2,\"Rekonstrukce\",IF('náměty na projekční přípravu'!B111=data!$S$3,\"Propustek\",\"-\"))","v":"-"}]
[null,null,null,null,null,null,null,null,null,null,null,{"$f":"IF('v přípravě a připraveno'!B110=data!$B$2,\"Souvislá údržba\",IF('v přípravě a připraveno'!B110=data!$B$3,\"Most\",\"-\"))","v":"Souvislá údržba"},{"$f":"IF('v přípravě a připraveno'!B110=data!$B$2,\"Rekonstrukce\",IF('v přípravě a připraveno'!B110=data!$B$3,\"Propustek\",\"-\"))","v":"Rekonstrukce"},null,null,null,null,null,null,null,null,null,null,null,null,null,null,null,{"$f":"IF('náměty na projekční přípravu'!B112=data!$S$2,\"Souvislá údržba\",IF('náměty na projekční přípravu'!B112=data!$S$3,\"Most\",\"-\"))","v":"-"},{"$f":"IF('náměty na projekční přípravu'!B112=data!$S$2,\"Rekonstrukce\",IF('náměty na projekční přípravu'!B112=data!$S$3,\"Propustek\",\"-\"))","v":"-"}]
[null,null,null,null,null,null,null,null,null,null,null,{"$f":"IF('v přípravě a připraveno'!B111=data!$B$2,\"Souvislá údržba\",IF('v přípravě a připraveno'!B111=data!$B$3,\"Most\",\"-\"))","v":"Souvislá údržba"},{"$f":"IF('v přípravě a připraveno'!B111=data!$B$2,\"Rekonstrukce\",IF('v přípravě a připraveno'!B111=data!$B$3,\"Propustek\",\"-\"))","v":"Rekonstrukce"},null,null,null,null,null,null,null,null,null,null,null,null,null,null,null,{"$f":"IF('náměty na projekční přípravu'!B113=data!$S$2,\"Souvislá údržba\",IF('náměty na projekční přípravu'!B113=data!$S$3,\"Most\",\"-\"))","v":"Souvislá údržba"},{"$f":"IF('náměty na projekční přípravu'!B113=data!$S$2,\"Rekonstrukce\",IF('náměty na projekční přípravu'!B113=data!$S$3,\"Propustek\",\"-\"))","v":"Rekonstrukce"}]
[null,null,null,null,null,null,null,null,null,null,null,{"$f":"IF('v přípravě a připraveno'!B112=data!$B$2,\"Souvislá údržba\",IF('v přípravě a připraveno'!B112=data!$B$3,\"Most\",\"-\"))","v":"Souvislá údržba"},{"$f":"IF('v přípravě a připraveno'!B112=data!$B$2,\"Rekonstrukce\",IF('v přípravě a připraveno'!B112=data!$B$3,\"Propustek\",\"-\"))","v":"Rekonstrukce"},null,null,null,null,null,null,null,null,null,null,null,null,null,null,null,{"$f":"IF('náměty na projekční přípravu'!B114=data!$S$2,\"Souvislá údržba\",IF('náměty na projekční přípravu'!B114=data!$S$3,\"Most\",\"-\"))","v":"-"},{"$f":"IF('náměty na projekční přípravu'!B114=data!$S$2,\"Rekonstrukce\",IF('náměty na projekční přípravu'!B114=data!$S$3,\"Propustek\",\"-\"))","v":"-"}]
[null,null,null,null,null,null,null,null,null,null,null,{"$f":"IF('v přípravě a připraveno'!B113=data!$B$2,\"Souvislá údržba\",IF('v přípravě a připraveno'!B113=data!$B$3,\"Most\",\"-\"))","v":"Most"},{"$f":"IF('v přípravě a připraveno'!B113=data!$B$2,\"Rekonstrukce\",IF('v přípravě a připraveno'!B113=data!$B$3,\"Propustek\",\"-\"))","v":"Propustek"},null,null,null,null,null,null,null,null,null,null,null,null,null,null,null,{"$f":"IF('náměty na projekční přípravu'!B115=data!$S$2,\"Souvislá údržba\",IF('náměty na projekční přípravu'!B115=data!$S$3,\"Most\",\"-\"))","v":"-"},{"$f":"IF('náměty na projekční přípravu'!B115=data!$S$2,\"Rekonstrukce\",IF('náměty na projekční přípravu'!B115=data!$S$3,\"Propustek\",\"-\"))","v":"-"}]
[null,null,null,null,null,null,null,null,null,null,null,{"$f":"IF('v přípravě a připraveno'!B114=data!$B$2,\"Souvislá údržba\",IF('v přípravě a připraveno'!B114=data!$B$3,\"Most\",\"-\"))","v":"Most"},{"$f":"IF('v přípravě a připraveno'!B114=data!$B$2,\"Rekonstrukce\",IF('v přípravě a připraveno'!B114=data!$B$3,\"Propustek\",\"-\"))","v":"Propustek"},null,null,null,null,null,null,null,null,null,null,null,null,null,null,null,{"$f":"IF('náměty na projekční přípravu'!B116=data!$S$2,\"Souvislá údržba\",IF('náměty na projekční přípravu'!B116=data!$S$3,\"Most\",\"-\"))","v":"-"},{"$f":"IF('náměty na projekční přípravu'!B116=data!$S$2,\"Rekonstrukce\",IF('náměty na projekční přípravu'!B116=data!$S$3,\"Propustek\",\"-\"))","v":"-"}]
[null,null,null,null,null,null,null,null,null,null,null,{"$f":"IF('v přípravě a připraveno'!B115=data!$B$2,\"Souvislá údržba\",IF('v přípravě a připraveno'!B115=data!$B$3,\"Most\",\"-\"))","v":"Souvislá údržba"},{"$f":"IF('v přípravě a připraveno'!B115=data!$B$2,\"Rekonstrukce\",IF('v přípravě a připraveno'!B115=data!$B$3,\"Propustek\",\"-\"))","v":"Rekonstrukce"},null,null,null,null,null,null,null,null,null,null,null,null,null,null,null,{"$f":"IF('náměty na projekční přípravu'!B117=data!$S$2,\"Souvislá údržba\",IF('náměty na projekční přípravu'!B117=data!$S$3,\"Most\",\"-\"))","v":"Souvislá údržba"},{"$f":"IF('náměty na projekční přípravu'!B117=data!$S$2,\"Rekonstrukce\",IF('náměty na projekční přípravu'!B117=data!$S$3,\"Propustek\",\"-\"))","v":"Rekonstrukce"}]
[null,null,null,null,null,null,null,null,null,null,null,{"$f":"IF('v přípravě a připraveno'!B116=data!$B$2,\"Souvislá údržba\",IF('v přípravě a připraveno'!B116=data!$B$3,\"Most\",\"-\"))","v":"Souvislá údržba"},{"$f":"IF('v přípravě a připraveno'!B116=data!$B$2,\"Rekonstrukce\",IF('v přípravě a připraveno'!B116=data!$B$3,\"Propustek\",\"-\"))","v":"Rekonstrukce"},null,null,null,null,null,null,null,null,null,null,null,null,null,null,null,{"$f":"IF('náměty na projekční přípravu'!B118=data!$S$2,\"Souvislá údržba\",IF('náměty na projekční přípravu'!B118=data!$S$3,\"Most\",\"-\"))","v":"Souvislá údržba"},{"$f":"IF('náměty na projekční přípravu'!B118=data!$S$2,\"Rekonstrukce\",IF('náměty na projekční přípravu'!B118=data!$S$3,\"Propustek\",\"-\"))","v":"Rekonstrukce"}]
[null,null,null,null,null,null,null,null,null,null,null,{"$f":"IF('v přípravě a připraveno'!B117=data!$B$2,\"Souvislá údržba\",IF('v přípravě a připraveno'!B117=data!$B$3,\"Most\",\"-\"))","v":"Souvislá údržba"},{"$f":"IF('v přípravě a připraveno'!B117=data!$B$2,\"Rekonstrukce\",IF('v přípravě a připraveno'!B117=data!$B$3,\"Propustek\",\"-\"))","v":"Rekonstrukce"},null,null,null,null,null,null,null,null,null,null,null,null,null,null,null,{"$f":"IF('náměty na projekční přípravu'!B119=data!$S$2,\"Souvislá údržba\",IF('náměty na projekční přípravu'!B119=data!$S$3,\"Most\",\"-\"))","v":"-"},{"$f":"IF('náměty na projekční přípravu'!B119=data!$S$2,\"Rekonstrukce\",IF('náměty na projekční přípravu'!B119=data!$S$3,\"Propustek\",\"-\"))","v":"-"}]
[null,null,null,null,null,null,null,null,null,null,null,{"$f":"IF('v přípravě a připraveno'!B118=data!$B$2,\"Souvislá údržba\",IF('v přípravě a připraveno'!B118=data!$B$3,\"Most\",\"-\"))","v":"-"},{"$f":"IF('v přípravě a připraveno'!B118=data!$B$2,\"Rekonstrukce\",IF('v přípravě a připraveno'!B118=data!$B$3,\"Propustek\",\"-\"))","v":"-"},null,null,null,null,null,null,null,null,null,null,null,null,null,null,null,{"$f":"IF('náměty na projekční přípravu'!B120=data!$S$2,\"Souvislá údržba\",IF('náměty na projekční přípravu'!B120=data!$S$3,\"Most\",\"-\"))","v":"Souvislá údržba"},{"$f":"IF('náměty na projekční přípravu'!B120=data!$S$2,\"Rekonstrukce\",IF('náměty na projekční přípravu'!B120=data!$S$3,\"Propustek\",\"-\"))","v":"Rekonstrukce"}]
[null,null,null,null,null,null,null,null,null,null,null,{"$f":"IF('v přípravě a připraveno'!B119=data!$B$2,\"Souvislá údržba\",IF('v přípravě a připraveno'!B119=data!$B$3,\"Most\",\"-\"))","v":"Souvislá údržba"},{"$f":"IF('v přípravě a připraveno'!B119=data!$B$2,\"Rekonstrukce\",IF('v přípravě a připraveno'!B119=data!$B$3,\"Propustek\",\"-\"))","v":"Rekonstrukce"},null,null,null,null,null,null,null,null,null,null,null,null,null,null,null,{"$f":"IF('náměty na projekční přípravu'!B121=data!$S$2,\"Souvislá údržba\",IF('náměty na projekční přípravu'!B121=data!$S$3,\"Most\",\"-\"))","v":"-"},{"$f":"IF('náměty na projekční přípravu'!B121=data!$S$2,\"Rekonstrukce\",IF('náměty na projekční přípravu'!B121=data!$S$3,\"Propustek\",\"-\"))","v":"-"}]
[null,null,null,null,null,null,null,null,null,null,null,{"$f":"IF('v přípravě a připraveno'!B120=data!$B$2,\"Souvislá údržba\",IF('v přípravě a připraveno'!B120=data!$B$3,\"Most\",\"-\"))","v":"Souvislá údržba"},{"$f":"IF('v přípravě a připraveno'!B120=data!$B$2,\"Rekonstrukce\",IF('v přípravě a připraveno'!B120=data!$B$3,\"Propustek\",\"-\"))","v":"Rekonstrukce"},null,null,null,null,null,null,null,null,null,null,null,null,null,null,null,{"$f":"IF('náměty na projekční přípravu'!B122=data!$S$2,\"Souvislá údržba\",IF('náměty na projekční přípravu'!B122=data!$S$3,\"Most\",\"-\"))","v":"-"},{"$f":"IF('náměty na projekční přípravu'!B122=data!$S$2,\"Rekonstrukce\",IF('náměty na projekční přípravu'!B122=data!$S$3,\"Propustek\",\"-\"))","v":"-"}]
[null,null,null,null,null,null,null,null,null,null,null,{"$f":"IF('v přípravě a připraveno'!B121=data!$B$2,\"Souvislá údržba\",IF('v přípravě a připraveno'!B121=data!$B$3,\"Most\",\"-\"))","v":"Most"},{"$f":"IF('v přípravě a připraveno'!B121=data!$B$2,\"Rekonstrukce\",IF('v přípravě a připraveno'!B121=data!$B$3,\"Propustek\",\"-\"))","v":"Propustek"},null,null,null,null,null,null,null,null,null,null,null,null,null,null,null,{"$f":"IF('náměty na projekční přípravu'!B123=data!$S$2,\"Souvislá údržba\",IF('náměty na projekční přípravu'!B123=data!$S$3,\"Most\",\"-\"))","v":"-"},{"$f":"IF('náměty na projekční přípravu'!B123=data!$S$2,\"Rekonstrukce\",IF('náměty na projekční přípravu'!B123=data!$S$3,\"Propustek\",\"-\"))","v":"-"}]
[null,null,null,null,null,null,null,null,null,null,null,{"$f":"IF('v přípravě a připraveno'!B122=data!$B$2,\"Souvislá údržba\",IF('v přípravě a připraveno'!B122=data!$B$3,\"Most\",\"-\"))","v":"Souvislá údržba"},{"$f":"IF('v přípravě a připraveno'!B122=data!$B$2,\"Rekonstrukce\",IF('v přípravě a připraveno'!B122=data!$B$3,\"Propustek\",\"-\"))","v":"Rekonstrukce"},null,null,null,null,null,null,null,null,null,null,null,null,null,null,null,{"$f":"IF('náměty na projekční přípravu'!B124=data!$S$2,\"Souvislá údržba\",IF('náměty na projekční přípravu'!B124=data!$S$3,\"Most\",\"-\"))","v":"-"},{"$f":"IF('náměty na projekční přípravu'!B124=data!$S$2,\"Rekonstrukce\",IF('náměty na projekční přípravu'!B124=data!$S$3,\"Propustek\",\"-\"))","v":"-"}]
[null,null,null,null,null,null,null,null,null,null,null,{"$f":"IF('v přípravě a připraveno'!B123=data!$B$2,\"Souvislá údržba\",IF('v přípravě a připraveno'!B123=data!$B$3,\"Most\",\"-\"))","v":"Souvislá údržba"},{"$f":"IF('v přípravě a připraveno'!B123=data!$B$2,\"Rekonstrukce\",IF('v přípravě a připraveno'!B123=data!$B$3,\"Propustek\",\"-\"))","v":"Rekonstrukce"},null,null,null,null,null,null,null,null,null,null,null,null,null,null,null,{"$f":"IF('náměty na projekční přípravu'!B125=data!$S$2,\"Souvislá údržba\",IF('náměty na projekční přípravu'!B125=data!$S$3,\"Most\",\"-\"))","v":"-"},{"$f":"IF('náměty na projekční přípravu'!B125=data!$S$2,\"Rekonstrukce\",IF('náměty na projekční přípravu'!B125=data!$S$3,\"Propustek\",\"-\"))","v":"-"}]
[null,null,null,null,null,null,null,null,null,null,null,{"$f":"IF('v přípravě a připraveno'!#REF!=data!$B$2,\"Souvislá údržba\",IF('v přípravě a připraveno'!#REF!=data!$B$3,\"Most\",\"-\"))","v":{"$error":"#REF!"}},{"$f":"IF('v přípravě a připraveno'!#REF!=data!$B$2,\"Rekonstrukce\",IF('v přípravě a připraveno'!#REF!=data!$B$3,\"Propustek\",\"-\"))","v":{"$error":"#REF!"}},null,null,null,null,null,null,null,null,null,null,null,null,null,null,null,{"$f":"IF('náměty na projekční přípravu'!B126=data!$S$2,\"Souvislá údržba\",IF('náměty na projekční přípravu'!B126=data!$S$3,\"Most\",\"-\"))","v":"Souvislá údržba"},{"$f":"IF('náměty na projekční přípravu'!B126=data!$S$2,\"Rekonstrukce\",IF('náměty na projekční přípravu'!B126=data!$S$3,\"Propustek\",\"-\"))","v":"Rekonstrukce"}]
[null,null,null,null,null,null,null,null,null,null,null,{"$f":"IF('v přípravě a připraveno'!#REF!=data!$B$2,\"Souvislá údržba\",IF('v přípravě a připraveno'!#REF!=data!$B$3,\"Most\",\"-\"))","v":{"$error":"#REF!"}},{"$f":"IF('v přípravě a připraveno'!#REF!=data!$B$2,\"Rekonstrukce\",IF('v přípravě a připraveno'!#REF!=data!$B$3,\"Propustek\",\"-\"))","v":{"$error":"#REF!"}},null,null,null,null,null,null,null,null,null,null,null,null,null,null,null,{"$f":"IF('náměty na projekční přípravu'!B127=data!$S$2,\"Souvislá údržba\",IF('náměty na projekční přípravu'!B127=data!$S$3,\"Most\",\"-\"))","v":"Souvislá údržba"},{"$f":"IF('náměty na projekční přípravu'!B127=data!$S$2,\"Rekonstrukce\",IF('náměty na projekční přípravu'!B127=data!$S$3,\"Propustek\",\"-\"))","v":"Rekonstrukce"}]
[null,null,null,null,null,null,null,null,null,null,null,{"$f":"IF('v přípravě a připraveno'!B124=data!$B$2,\"Souvislá údržba\",IF('v přípravě a připraveno'!B124=data!$B$3,\"Most\",\"-\"))","v":"Souvislá údržba"},{"$f":"IF('v přípravě a připraveno'!B124=data!$B$2,\"Rekonstrukce\",IF('v přípravě a připraveno'!B124=data!$B$3,\"Propustek\",\"-\"))","v":"Rekonstrukce"},null,null,null,null,null,null,null,null,null,null,null,null,null,null,null,{"$f":"IF('náměty na projekční přípravu'!B128=data!$S$2,\"Souvislá údržba\",IF('náměty na projekční přípravu'!B128=data!$S$3,\"Most\",\"-\"))","v":"-"},{"$f":"IF('náměty na projekční přípravu'!B128=data!$S$2,\"Rekonstrukce\",IF('náměty na projekční přípravu'!B128=data!$S$3,\"Propustek\",\"-\"))","v":"-"}]
[null,null,null,null,null,null,null,null,null,null,null,{"$f":"IF('v přípravě a připraveno'!B125=data!$B$2,\"Souvislá údržba\",IF('v přípravě a připraveno'!B125=data!$B$3,\"Most\",\"-\"))","v":"Souvislá údržba"},{"$f":"IF('v přípravě a připraveno'!B125=data!$B$2,\"Rekonstrukce\",IF('v přípravě a připraveno'!B125=data!$B$3,\"Propustek\",\"-\"))","v":"Rekonstrukce"},null,null,null,null,null,null,null,null,null,null,null,null,null,null,null,{"$f":"IF('náměty na projekční přípravu'!B129=data!$S$2,\"Souvislá údržba\",IF('náměty na projekční přípravu'!B129=data!$S$3,\"Most\",\"-\"))","v":"-"},{"$f":"IF('náměty na projekční přípravu'!B129=data!$S$2,\"Rekonstrukce\",IF('náměty na projekční přípravu'!B129=data!$S$3,\"Propustek\",\"-\"))","v":"-"}]
[null,null,null,null,null,null,null,null,null,null,null,{"$f":"IF('v přípravě a připraveno'!B126=data!$B$2,\"Souvislá údržba\",IF('v přípravě a připraveno'!B126=data!$B$3,\"Most\",\"-\"))","v":"Souvislá údržba"},{"$f":"IF('v přípravě a připraveno'!B126=data!$B$2,\"Rekonstrukce\",IF('v přípravě a připraveno'!B126=data!$B$3,\"Propustek\",\"-\"))","v":"Rekonstrukce"},null,null,null,null,null,null,null,null,null,null,null,null,null,null,null,{"$f":"IF('náměty na projekční přípravu'!B130=data!$S$2,\"Souvislá údržba\",IF('náměty na projekční přípravu'!B130=data!$S$3,\"Most\",\"-\"))","v":"-"},{"$f":"IF('náměty na projekční přípravu'!B130=data!$S$2,\"Rekonstrukce\",IF('náměty na projekční přípravu'!B130=data!$S$3,\"Propustek\",\"-\"))","v":"-"}]
[null,null,null,null,null,null,null,null,null,null,null,{"$f":"IF('v přípravě a připraveno'!B127=data!$B$2,\"Souvislá údržba\",IF('v přípravě a připraveno'!B127=data!$B$3,\"Most\",\"-\"))","v":"Souvislá údržba"},{"$f":"IF('v přípravě a připraveno'!B127=data!$B$2,\"Rekonstrukce\",IF('v přípravě a připraveno'!B127=data!$B$3,\"Propustek\",\"-\"))","v":"Rekonstrukce"},null,null,null,null,null,null,null,null,null,null,null,null,null,null,null,{"$f":"IF('náměty na projekční přípravu'!B131=data!$S$2,\"Souvislá údržba\",IF('náměty na projekční přípravu'!B131=data!$S$3,\"Most\",\"-\"))","v":"Souvislá údržba"},{"$f":"IF('náměty na projekční přípravu'!B131=data!$S$2,\"Rekonstrukce\",IF('náměty na projekční přípravu'!B131=data!$S$3,\"Propustek\",\"-\"))","v":"Rekonstrukce"}]
[null,null,null,null,null,null,null,null,null,null,null,{"$f":"IF('v přípravě a připraveno'!B128=data!$B$2,\"Souvislá údržba\",IF('v přípravě a připraveno'!B128=data!$B$3,\"Most\",\"-\"))","v":"Souvislá údržba"},{"$f":"IF('v přípravě a připraveno'!B128=data!$B$2,\"Rekonstrukce\",IF('v přípravě a připraveno'!B128=data!$B$3,\"Propustek\",\"-\"))","v":"Rekonstrukce"},null,null,null,null,null,null,null,null,null,null,null,null,null,null,null,{"$f":"IF('náměty na projekční přípravu'!B132=data!$S$2,\"Souvislá údržba\",IF('náměty na projekční přípravu'!B132=data!$S$3,\"Most\",\"-\"))","v":"-"},{"$f":"IF('náměty na projekční přípravu'!B132=data!$S$2,\"Rekonstrukce\",IF('náměty na projekční přípravu'!B132=data!$S$3,\"Propustek\",\"-\"))","v":"-"}]
[null,null,null,null,null,null,null,null,null,null,null,{"$f":"IF('v přípravě a připraveno'!B129=data!$B$2,\"Souvislá údržba\",IF('v přípravě a připraveno'!B129=data!$B$3,\"Most\",\"-\"))","v":"Souvislá údržba"},{"$f":"IF('v přípravě a připraveno'!B129=data!$B$2,\"Rekonstrukce\",IF('v přípravě a připraveno'!B129=data!$B$3,\"Propustek\",\"-\"))","v":"Rekonstrukce"},null,null,null,null,null,null,null,null,null,null,null,null,null,null,null,{"$f":"IF('náměty na projekční přípravu'!B133=data!$S$2,\"Souvislá údržba\",IF('náměty na projekční přípravu'!B133=data!$S$3,\"Most\",\"-\"))","v":"-"},{"$f":"IF('náměty na projekční přípravu'!B133=data!$S$2,\"Rekonstrukce\",IF('náměty na projekční přípravu'!B133=data!$S$3,\"Propustek\",\"-\"))","v":"-"}]
[null,null,null,null,null,null,null,null,null,null,null,{"$f":"IF('v přípravě a připraveno'!B130=data!$B$2,\"Souvislá údržba\",IF('v přípravě a připraveno'!B130=data!$B$3,\"Most\",\"-\"))","v":"Souvislá údržba"},{"$f":"IF('v přípravě a připraveno'!B130=data!$B$2,\"Rekonstrukce\",IF('v přípravě a připraveno'!B130=data!$B$3,\"Propustek\",\"-\"))","v":"Rekonstrukce"},null,null,null,null,null,null,null,null,null,null,null,null,null,null,null,{"$f":"IF('náměty na projekční přípravu'!B134=data!$S$2,\"Souvislá údržba\",IF('náměty na projekční přípravu'!B134=data!$S$3,\"Most\",\"-\"))","v":"Souvislá údržba"},{"$f":"IF('náměty na projekční přípravu'!B134=data!$S$2,\"Rekonstrukce\",IF('náměty na projekční přípravu'!B134=data!$S$3,\"Propustek\",\"-\"))","v":"Rekonstrukce"}]
[null,null,null,null,null,null,null,null,null,null,null,{"$f":"IF('v přípravě a připraveno'!B131=data!$B$2,\"Souvislá údržba\",IF('v přípravě a připraveno'!B131=data!$B$3,\"Most\",\"-\"))","v":"Souvislá údržba"},{"$f":"IF('v přípravě a připraveno'!B131=data!$B$2,\"Rekonstrukce\",IF('v přípravě a připraveno'!B131=data!$B$3,\"Propustek\",\"-\"))","v":"Rekonstrukce"},null,null,null,null,null,null,null,null,null,null,null,null,null,null,null,{"$f":"IF('náměty na projekční přípravu'!#REF!=data!$S$2,\"Souvislá údržba\",IF('náměty na projekční přípravu'!#REF!=data!$S$3,\"Most\",\"-\"))","v":{"$error":"#REF!"}},{"$f":"IF('náměty na projekční přípravu'!#REF!=data!$S$2,\"Rekonstrukce\",IF('náměty na projekční přípravu'!#REF!=data!$S$3,\"Propustek\",\"-\"))","v":{"$error":"#REF!"}}]
[null,null,null,null,null,null,null,null,null,null,null,{"$f":"IF('v přípravě a připraveno'!B132=data!$B$2,\"Souvislá údržba\",IF('v přípravě a připraveno'!B132=data!$B$3,\"Most\",\"-\"))","v":"Souvislá údržba"},{"$f":"IF('v přípravě a připraveno'!B132=data!$B$2,\"Rekonstrukce\",IF('v přípravě a připraveno'!B132=data!$B$3,\"Propustek\",\"-\"))","v":"Rekonstrukce"},null,null,null,null,null,null,null,null,null,null,null,null,null,null,null,{"$f":"IF('náměty na projekční přípravu'!B135=data!$S$2,\"Souvislá údržba\",IF('náměty na projekční přípravu'!B135=data!$S$3,\"Most\",\"-\"))","v":"-"},{"$f":"IF('náměty na projekční přípravu'!B135=data!$S$2,\"Rekonstrukce\",IF('náměty na projekční přípravu'!B135=data!$S$3,\"Propustek\",\"-\"))","v":"-"}]
[null,null,null,null,null,null,null,null,null,null,null,{"$f":"IF('v přípravě a připraveno'!B133=data!$B$2,\"Souvislá údržba\",IF('v přípravě a připraveno'!B133=data!$B$3,\"Most\",\"-\"))","v":"Souvislá údržba"},{"$f":"IF('v přípravě a připraveno'!B133=data!$B$2,\"Rekonstrukce\",IF('v přípravě a připraveno'!B133=data!$B$3,\"Propustek\",\"-\"))","v":"Rekonstrukce"},null,null,null,null,null,null,null,null,null,null,null,null,null,null,null,{"$f":"IF('náměty na projekční přípravu'!B136=data!$S$2,\"Souvislá údržba\",IF('náměty na projekční přípravu'!B136=data!$S$3,\"Most\",\"-\"))","v":"-"},{"$f":"IF('náměty na projekční přípravu'!B136=data!$S$2,\"Rekonstrukce\",IF('náměty na projekční přípravu'!B136=data!$S$3,\"Propustek\",\"-\"))","v":"-"}]
[null,null,null,null,null,null,null,null,null,null,null,{"$f":"IF('v přípravě a připraveno'!B134=data!$B$2,\"Souvislá údržba\",IF('v přípravě a připraveno'!B134=data!$B$3,\"Most\",\"-\"))","v":"Most"},{"$f":"IF('v přípravě a připraveno'!B134=data!$B$2,\"Rekonstrukce\",IF('v přípravě a připraveno'!B134=data!$B$3,\"Propustek\",\"-\"))","v":"Propustek"},null,null,null,null,null,null,null,null,null,null,null,null,null,null,null,{"$f":"IF('náměty na projekční přípravu'!B137=data!$S$2,\"Souvislá údržba\",IF('náměty na projekční přípravu'!B137=data!$S$3,\"Most\",\"-\"))","v":"-"},{"$f":"IF('náměty na projekční přípravu'!B137=data!$S$2,\"Rekonstrukce\",IF('náměty na projekční přípravu'!B137=data!$S$3,\"Propustek\",\"-\"))","v":"-"}]
[null,null,null,null,null,null,null,null,null,null,null,{"$f":"IF('v přípravě a připraveno'!B135=data!$B$2,\"Souvislá údržba\",IF('v přípravě a připraveno'!B135=data!$B$3,\"Most\",\"-\"))","v":"Souvislá údržba"},{"$f":"IF('v přípravě a připraveno'!B135=data!$B$2,\"Rekonstrukce\",IF('v přípravě a připraveno'!B135=data!$B$3,\"Propustek\",\"-\"))","v":"Rekonstrukce"},null,null,null,null,null,null,null,null,null,null,null,null,null,null,null,{"$f":"IF('náměty na projekční přípravu'!B138=data!$S$2,\"Souvislá údržba\",IF('náměty na projekční přípravu'!B138=data!$S$3,\"Most\",\"-\"))","v":"Souvislá údržba"},{"$f":"IF('náměty na projekční přípravu'!B138=data!$S$2,\"Rekonstrukce\",IF('náměty na projekční přípravu'!B138=data!$S$3,\"Propustek\",\"-\"))","v":"Rekonstrukce"}]
[null,null,null,null,null,null,null,null,null,null,null,{"$f":"IF('v přípravě a připraveno'!B138=data!$B$2,\"Souvislá údržba\",IF('v přípravě a připraveno'!B138=data!$B$3,\"Most\",\"-\"))","v":"Souvislá údržba"},{"$f":"IF('v přípravě a připraveno'!B138=data!$B$2,\"Rekonstrukce\",IF('v přípravě a připraveno'!B138=data!$B$3,\"Propustek\",\"-\"))","v":"Rekonstrukce"},null,null,null,null,null,null,null,null,null,null,null,null,null,null,null,{"$f":"IF('náměty na projekční přípravu'!B139=data!$S$2,\"Souvislá údržba\",IF('náměty na projekční přípravu'!B139=data!$S$3,\"Most\",\"-\"))","v":"Souvislá údržba"},{"$f":"IF('náměty na projekční přípravu'!B139=data!$S$2,\"Rekonstrukce\",IF('náměty na projekční přípravu'!B139=data!$S$3,\"Propustek\",\"-\"))","v":"Rekonstrukce"}]
[null,null,null,null,null,null,null,null,null,null,null,{"$f":"IF('v přípravě a připraveno'!B139=data!$B$2,\"Souvislá údržba\",IF('v přípravě a připraveno'!B139=data!$B$3,\"Most\",\"-\"))","v":"Souvislá údržba"},{"$f":"IF('v přípravě a připraveno'!B139=data!$B$2,\"Rekonstrukce\",IF('v přípravě a připraveno'!B139=data!$B$3,\"Propustek\",\"-\"))","v":"Rekonstrukce"},null,null,null,null,null,null,null,null,null,null,null,null,null,null,null,{"$f":"IF('náměty na projekční přípravu'!B140=data!$S$2,\"Souvislá údržba\",IF('náměty na projekční přípravu'!B140=data!$S$3,\"Most\",\"-\"))","v":"-"},{"$f":"IF('náměty na projekční přípravu'!B140=data!$S$2,\"Rekonstrukce\",IF('náměty na projekční přípravu'!B140=data!$S$3,\"Propustek\",\"-\"))","v":"-"}]
[null,null,null,null,null,null,null,null,null,null,null,{"$f":"IF('v přípravě a připraveno'!B140=data!$B$2,\"Souvislá údržba\",IF('v přípravě a připraveno'!B140=data!$B$3,\"Most\",\"-\"))","v":"Most"},{"$f":"IF('v přípravě a připraveno'!B140=data!$B$2,\"Rekonstrukce\",IF('v přípravě a připraveno'!B140=data!$B$3,\"Propustek\",\"-\"))","v":"Propustek"},null,null,null,null,null,null,null,null,null,null,null,null,null,null,null,{"$f":"IF('náměty na projekční přípravu'!B141=data!$S$2,\"Souvislá údržba\",IF('náměty na projekční přípravu'!B141=data!$S$3,\"Most\",\"-\"))","v":"-"},{"$f":"IF('náměty na projekční přípravu'!B141=data!$S$2,\"Rekonstrukce\",IF('náměty na projekční přípravu'!B141=data!$S$3,\"Propustek\",\"-\"))","v":"-"}]
[null,null,null,null,null,null,null,null,null,null,null,{"$f":"IF('v přípravě a připraveno'!B142=data!$B$2,\"Souvislá údržba\",IF('v přípravě a připraveno'!B142=data!$B$3,\"Most\",\"-\"))","v":"Souvislá údržba"},{"$f":"IF('v přípravě a připraveno'!B142=data!$B$2,\"Rekonstrukce\",IF('v přípravě a připraveno'!B142=data!$B$3,\"Propustek\",\"-\"))","v":"Rekonstrukce"},null,null,null,null,null,null,null,null,null,null,null,null,null,null,null,{"$f":"IF('náměty na projekční přípravu'!B142=data!$S$2,\"Souvislá údržba\",IF('náměty na projekční přípravu'!B142=data!$S$3,\"Most\",\"-\"))","v":"-"},{"$f":"IF('náměty na projekční přípravu'!B142=data!$S$2,\"Rekonstrukce\",IF('náměty na projekční přípravu'!B142=data!$S$3,\"Propustek\",\"-\"))","v":"-"}]
[null,null,null,null,null,null,null,null,null,null,null,{"$f":"IF('v přípravě a připraveno'!B143=data!$B$2,\"Souvislá údržba\",IF('v přípravě a připraveno'!B143=data!$B$3,\"Most\",\"-\"))","v":"Souvislá údržba"},{"$f":"IF('v přípravě a připraveno'!B143=data!$B$2,\"Rekonstrukce\",IF('v přípravě a připraveno'!B143=data!$B$3,\"Propustek\",\"-\"))","v":"Rekonstrukce"},null,null,null,null,null,null,null,null,null,null,null,null,null,null,null,{"$f":"IF('náměty na projekční přípravu'!#REF!=data!$S$2,\"Souvislá údržba\",IF('náměty na projekční přípravu'!#REF!=data!$S$3,\"Most\",\"-\"))","v":{"$error":"#REF!"}},{"$f":"IF('náměty na projekční přípravu'!#REF!=data!$S$2,\"Rekonstrukce\",IF('náměty na projekční přípravu'!#REF!=data!$S$3,\"Propustek\",\"-\"))","v":{"$error":"#REF!"}}]
[null,null,null,null,null,null,null,null,null,null,null,{"$f":"IF('v přípravě a připraveno'!B144=data!$B$2,\"Souvislá údržba\",IF('v přípravě a připraveno'!B144=data!$B$3,\"Most\",\"-\"))","v":"Souvislá údržba"},{"$f":"IF('v přípravě a připraveno'!B144=data!$B$2,\"Rekonstrukce\",IF('v přípravě a připraveno'!B144=data!$B$3,\"Propustek\",\"-\"))","v":"Rekonstrukce"},null,null,null,null,null,null,null,null,null,null,null,null,null,null,null,{"$f":"IF('náměty na projekční přípravu'!B143=data!$S$2,\"Souvislá údržba\",IF('náměty na projekční přípravu'!B143=data!$S$3,\"Most\",\"-\"))","v":"Souvislá údržba"},{"$f":"IF('náměty na projekční přípravu'!B143=data!$S$2,\"Rekonstrukce\",IF('náměty na projekční přípravu'!B143=data!$S$3,\"Propustek\",\"-\"))","v":"Rekonstrukce"}]
[null,null,null,null,null,null,null,null,null,null,null,{"$f":"IF('v přípravě a připraveno'!#REF!=data!$B$2,\"Souvislá údržba\",IF('v přípravě a připraveno'!#REF!=data!$B$3,\"Most\",\"-\"))","v":{"$error":"#REF!"}},{"$f":"IF('v přípravě a připraveno'!#REF!=data!$B$2,\"Rekonstrukce\",IF('v přípravě a připraveno'!#REF!=data!$B$3,\"Propustek\",\"-\"))","v":{"$error":"#REF!"}},null,null,null,null,null,null,null,null,null,null,null,null,null,null,null,{"$f":"IF('náměty na projekční přípravu'!B144=data!$S$2,\"Souvislá údržba\",IF('náměty na projekční přípravu'!B144=data!$S$3,\"Most\",\"-\"))","v":"-"},{"$f":"IF('náměty na projekční přípravu'!B144=data!$S$2,\"Rekonstrukce\",IF('náměty na projekční přípravu'!B144=data!$S$3,\"Propustek\",\"-\"))","v":"-"}]
[null,null,null,null,null,null,null,null,null,null,null,{"$f":"IF('v přípravě a připraveno'!B145=data!$B$2,\"Souvislá údržba\",IF('v přípravě a připraveno'!B145=data!$B$3,\"Most\",\"-\"))","v":"Souvislá údržba"},{"$f":"IF('v přípravě a připraveno'!B145=data!$B$2,\"Rekonstrukce\",IF('v přípravě a připraveno'!B145=data!$B$3,\"Propustek\",\"-\"))","v":"Rekonstrukce"},null,null,null,null,null,null,null,null,null,null,null,null,null,null,null,{"$f":"IF('náměty na projekční přípravu'!B145=data!$S$2,\"Souvislá údržba\",IF('náměty na projekční přípravu'!B145=data!$S$3,\"Most\",\"-\"))","v":"-"},{"$f":"IF('náměty na projekční přípravu'!B145=data!$S$2,\"Rekonstrukce\",IF('náměty na projekční přípravu'!B145=data!$S$3,\"Propustek\",\"-\"))","v":"-"}]
[null,null,null,null,null,null,null,null,null,null,null,{"$f":"IF('v přípravě a připraveno'!B146=data!$B$2,\"Souvislá údržba\",IF('v přípravě a připraveno'!B146=data!$B$3,\"Most\",\"-\"))","v":"Souvislá údržba"},{"$f":"IF('v přípravě a připraveno'!B146=data!$B$2,\"Rekonstrukce\",IF('v přípravě a připraveno'!B146=data!$B$3,\"Propustek\",\"-\"))","v":"Rekonstrukce"},null,null,null,null,null,null,null,null,null,null,null,null,null,null,null,{"$f":"IF('náměty na projekční přípravu'!B146=data!$S$2,\"Souvislá údržba\",IF('náměty na projekční přípravu'!B146=data!$S$3,\"Most\",\"-\"))","v":"Souvislá údržba"},{"$f":"IF('náměty na projekční přípravu'!B146=data!$S$2,\"Rekonstrukce\",IF('náměty na projekční přípravu'!B146=data!$S$3,\"Propustek\",\"-\"))","v":"Rekonstrukce"}]
[null,null,null,null,null,null,null,null,null,null,null,{"$f":"IF('v přípravě a připraveno'!B147=data!$B$2,\"Souvislá údržba\",IF('v přípravě a připraveno'!B147=data!$B$3,\"Most\",\"-\"))","v":"Souvislá údržba"},{"$f":"IF('v přípravě a připraveno'!B147=data!$B$2,\"Rekonstrukce\",IF('v přípravě a připraveno'!B147=data!$B$3,\"Propustek\",\"-\"))","v":"Rekonstrukce"},null,null,null,null,null,null,null,null,null,null,null,null,null,null,null,{"$f":"IF('náměty na projekční přípravu'!B147=data!$S$2,\"Souvislá údržba\",IF('náměty na projekční přípravu'!B147=data!$S$3,\"Most\",\"-\"))","v":"-"},{"$f":"IF('náměty na projekční přípravu'!B147=data!$S$2,\"Rekonstrukce\",IF('náměty na projekční přípravu'!B147=data!$S$3,\"Propustek\",\"-\"))","v":"-"}]
[null,null,null,null,null,null,null,null,null,null,null,{"$f":"IF('v přípravě a připraveno'!#REF!=data!$B$2,\"Souvislá údržba\",IF('v přípravě a připraveno'!#REF!=data!$B$3,\"Most\",\"-\"))","v":{"$error":"#REF!"}},{"$f":"IF('v přípravě a připraveno'!#REF!=data!$B$2,\"Rekonstrukce\",IF('v přípravě a připraveno'!#REF!=data!$B$3,\"Propustek\",\"-\"))","v":{"$error":"#REF!"}},null,null,null,null,null,null,null,null,null,null,null,null,null,null,null,{"$f":"IF('náměty na projekční přípravu'!B148=data!$S$2,\"Souvislá údržba\",IF('náměty na projekční přípravu'!B148=data!$S$3,\"Most\",\"-\"))","v":"-"},{"$f":"IF('náměty na projekční přípravu'!B148=data!$S$2,\"Rekonstrukce\",IF('náměty na projekční přípravu'!B148=data!$S$3,\"Propustek\",\"-\"))","v":"-"}]
[null,null,null,null,null,null,null,null,null,null,null,{"$f":"IF('v přípravě a připraveno'!B148=data!$B$2,\"Souvislá údržba\",IF('v přípravě a připraveno'!B148=data!$B$3,\"Most\",\"-\"))","v":"Souvislá údržba"},{"$f":"IF('v přípravě a připraveno'!B148=data!$B$2,\"Rekonstrukce\",IF('v přípravě a připraveno'!B148=data!$B$3,\"Propustek\",\"-\"))","v":"Rekonstrukce"},null,null,null,null,null,null,null,null,null,null,null,null,null,null,null,{"$f":"IF('náměty na projekční přípravu'!B149=data!$S$2,\"Souvislá údržba\",IF('náměty na projekční přípravu'!B149=data!$S$3,\"Most\",\"-\"))","v":"-"},{"$f":"IF('náměty na projekční přípravu'!B149=data!$S$2,\"Rekonstrukce\",IF('náměty na projekční přípravu'!B149=data!$S$3,\"Propustek\",\"-\"))","v":"-"}]
[null,null,null,null,null,null,null,null,null,null,null,{"$f":"IF('v přípravě a připraveno'!#REF!=data!$B$2,\"Souvislá údržba\",IF('v přípravě a připraveno'!#REF!=data!$B$3,\"Most\",\"-\"))","v":{"$error":"#REF!"}},{"$f":"IF('v přípravě a připraveno'!#REF!=data!$B$2,\"Rekonstrukce\",IF('v přípravě a připraveno'!#REF!=data!$B$3,\"Propustek\",\"-\"))","v":{"$error":"#REF!"}},null,null,null,null,null,null,null,null,null,null,null,null,null,null,null,{"$f":"IF('náměty na projekční přípravu'!B150=data!$S$2,\"Souvislá údržba\",IF('náměty na projekční přípravu'!B150=data!$S$3,\"Most\",\"-\"))","v":"-"},{"$f":"IF('náměty na projekční přípravu'!B150=data!$S$2,\"Rekonstrukce\",IF('náměty na projekční přípravu'!B150=data!$S$3,\"Propustek\",\"-\"))","v":"-"}]
[null,null,null,null,null,null,null,null,null,null,null,{"$f":"IF('v přípravě a připraveno'!#REF!=data!$B$2,\"Souvislá údržba\",IF('v přípravě a připraveno'!#REF!=data!$B$3,\"Most\",\"-\"))","v":{"$error":"#REF!"}},{"$f":"IF('v přípravě a připraveno'!#REF!=data!$B$2,\"Rekonstrukce\",IF('v přípravě a připraveno'!#REF!=data!$B$3,\"Propustek\",\"-\"))","v":{"$error":"#REF!"}},null,null,null,null,null,null,null,null,null,null,null,null,null,null,null,{"$f":"IF('náměty na projekční přípravu'!B151=data!$S$2,\"Souvislá údržba\",IF('náměty na projekční přípravu'!B151=data!$S$3,\"Most\",\"-\"))","v":"Souvislá údržba"},{"$f":"IF('náměty na projekční přípravu'!B151=data!$S$2,\"Rekonstrukce\",IF('náměty na projekční přípravu'!B151=data!$S$3,\"Propustek\",\"-\"))","v":"Rekonstrukce"}]
[null,null,null,null,null,null,null,null,null,null,null,{"$f":"IF('v přípravě a připraveno'!B149=data!$B$2,\"Souvislá údržba\",IF('v přípravě a připraveno'!B149=data!$B$3,\"Most\",\"-\"))","v":"Souvislá údržba"},{"$f":"IF('v přípravě a připraveno'!B149=data!$B$2,\"Rekonstrukce\",IF('v přípravě a připraveno'!B149=data!$B$3,\"Propustek\",\"-\"))","v":"Rekonstrukce"},null,null,null,null,null,null,null,null,null,null,null,null,null,null,null,{"$f":"IF('náměty na projekční přípravu'!B152=data!$S$2,\"Souvislá údržba\",IF('náměty na projekční přípravu'!B152=data!$S$3,\"Most\",\"-\"))","v":"-"},{"$f":"IF('náměty na projekční přípravu'!B152=data!$S$2,\"Rekonstrukce\",IF('náměty na projekční přípravu'!B152=data!$S$3,\"Propustek\",\"-\"))","v":"-"}]
[null,null,null,null,null,null,null,null,null,null,null,{"$f":"IF('v přípravě a připraveno'!B150=data!$B$2,\"Souvislá údržba\",IF('v přípravě a připraveno'!B150=data!$B$3,\"Most\",\"-\"))","v":"Souvislá údržba"},{"$f":"IF('v přípravě a připraveno'!B150=data!$B$2,\"Rekonstrukce\",IF('v přípravě a připraveno'!B150=data!$B$3,\"Propustek\",\"-\"))","v":"Rekonstrukce"},null,null,null,null,null,null,null,null,null,null,null,null,null,null,null,{"$f":"IF('náměty na projekční přípravu'!B153=data!$S$2,\"Souvislá údržba\",IF('náměty na projekční přípravu'!B153=data!$S$3,\"Most\",\"-\"))","v":"Souvislá údržba"},{"$f":"IF('náměty na projekční přípravu'!B153=data!$S$2,\"Rekonstrukce\",IF('náměty na projekční přípravu'!B153=data!$S$3,\"Propustek\",\"-\"))","v":"Rekonstrukce"}]
[null,null,null,null,null,null,null,null,null,null,null,{"$f":"IF('v přípravě a připraveno'!#REF!=data!$B$2,\"Souvislá údržba\",IF('v přípravě a připraveno'!#REF!=data!$B$3,\"Most\",\"-\"))","v":{"$error":"#REF!"}},{"$f":"IF('v přípravě a připraveno'!#REF!=data!$B$2,\"Rekonstrukce\",IF('v přípravě a připraveno'!#REF!=data!$B$3,\"Propustek\",\"-\"))","v":{"$error":"#REF!"}},null,null,null,null,null,null,null,null,null,null,null,null,null,null,null,{"$f":"IF('náměty na projekční přípravu'!B154=data!$S$2,\"Souvislá údržba\",IF('náměty na projekční přípravu'!B154=data!$S$3,\"Most\",\"-\"))","v":"-"},{"$f":"IF('náměty na projekční přípravu'!B154=data!$S$2,\"Rekonstrukce\",IF('náměty na projekční přípravu'!B154=data!$S$3,\"Propustek\",\"-\"))","v":"-"}]
[null,null,null,null,null,null,null,null,null,null,null,{"$f":"IF('v přípravě a připraveno'!B151=data!$B$2,\"Souvislá údržba\",IF('v přípravě a připraveno'!B151=data!$B$3,\"Most\",\"-\"))","v":"Souvislá údržba"},{"$f":"IF('v přípravě a připraveno'!B151=data!$B$2,\"Rekonstrukce\",IF('v přípravě a připraveno'!B151=data!$B$3,\"Propustek\",\"-\"))","v":"Rekonstrukce"},null,null,null,null,null,null,null,null,null,null,null,null,null,null,null,{"$f":"IF('náměty na projekční přípravu'!B155=data!$S$2,\"Souvislá údržba\",IF('náměty na projekční přípravu'!B155=data!$S$3,\"Most\",\"-\"))","v":"-"},{"$f":"IF('náměty na projekční přípravu'!B155=data!$S$2,\"Rekonstrukce\",IF('náměty na projekční přípravu'!B155=data!$S$3,\"Propustek\",\"-\"))","v":"-"}]
[null,null,null,null,null,null,null,null,null,null,null,{"$f":"IF('v přípravě a připraveno'!B152=data!$B$2,\"Souvislá údržba\",IF('v přípravě a připraveno'!B152=data!$B$3,\"Most\",\"-\"))","v":"Souvislá údržba"},{"$f":"IF('v přípravě a připraveno'!B152=data!$B$2,\"Rekonstrukce\",IF('v přípravě a připraveno'!B152=data!$B$3,\"Propustek\",\"-\"))","v":"Rekonstrukce"},null,null,null,null,null,null,null,null,null,null,null,null,null,null,null,{"$f":"IF('náměty na projekční přípravu'!B156=data!$S$2,\"Souvislá údržba\",IF('náměty na projekční přípravu'!B156=data!$S$3,\"Most\",\"-\"))","v":"-"},{"$f":"IF('náměty na projekční přípravu'!B156=data!$S$2,\"Rekonstrukce\",IF('náměty na projekční přípravu'!B156=data!$S$3,\"Propustek\",\"-\"))","v":"-"}]
[null,null,null,null,null,null,null,null,null,null,null,{"$f":"IF('v přípravě a připraveno'!B153=data!$B$2,\"Souvislá údržba\",IF('v přípravě a připraveno'!B153=data!$B$3,\"Most\",\"-\"))","v":"Souvislá údržba"},{"$f":"IF('v přípravě a připraveno'!B153=data!$B$2,\"Rekonstrukce\",IF('v přípravě a připraveno'!B153=data!$B$3,\"Propustek\",\"-\"))","v":"Rekonstrukce"},null,null,null,null,null,null,null,null,null,null,null,null,null,null,null,{"$f":"IF('náměty na projekční přípravu'!B157=data!$S$2,\"Souvislá údržba\",IF('náměty na projekční přípravu'!B157=data!$S$3,\"Most\",\"-\"))","v":"-"},{"$f":"IF('náměty na projekční přípravu'!B157=data!$S$2,\"Rekonstrukce\",IF('náměty na projekční přípravu'!B157=data!$S$3,\"Propustek\",\"-\"))","v":"-"}]
[null,null,null,null,null,null,null,null,null,null,null,{"$f":"IF('v přípravě a připraveno'!B154=data!$B$2,\"Souvislá údržba\",IF('v přípravě a připraveno'!B154=data!$B$3,\"Most\",\"-\"))","v":"Souvislá údržba"},{"$f":"IF('v přípravě a připraveno'!B154=data!$B$2,\"Rekonstrukce\",IF('v přípravě a připraveno'!B154=data!$B$3,\"Propustek\",\"-\"))","v":"Rekonstrukce"},null,null,null,null,null,null,null,null,null,null,null,null,null,null,null,{"$f":"IF('náměty na projekční přípravu'!B158=data!$S$2,\"Souvislá údržba\",IF('náměty na projekční přípravu'!B158=data!$S$3,\"Most\",\"-\"))","v":"-"},{"$f":"IF('náměty na projekční přípravu'!B158=data!$S$2,\"Rekonstrukce\",IF('náměty na projekční přípravu'!B158=data!$S$3,\"Propustek\",\"-\"))","v":"-"}]
[null,null,null,null,null,null,null,null,null,null,null,{"$f":"IF('v přípravě a připraveno'!B155=data!$B$2,\"Souvislá údržba\",IF('v přípravě a připraveno'!B155=data!$B$3,\"Most\",\"-\"))","v":"Souvislá údržba"},{"$f":"IF('v přípravě a připraveno'!B155=data!$B$2,\"Rekonstrukce\",IF('v přípravě a připraveno'!B155=data!$B$3,\"Propustek\",\"-\"))","v":"Rekonstrukce"},null,null,null,null,null,null,null,null,null,null,null,null,null,null,null,{"$f":"IF('náměty na projekční přípravu'!B159=data!$S$2,\"Souvislá údržba\",IF('náměty na projekční přípravu'!B159=data!$S$3,\"Most\",\"-\"))","v":"Souvislá údržba"},{"$f":"IF('náměty na projekční přípravu'!B159=data!$S$2,\"Rekonstrukce\",IF('náměty na projekční přípravu'!B159=data!$S$3,\"Propustek\",\"-\"))","v":"Rekonstrukce"}]
[null,null,null,null,null,null,null,null,null,null,null,{"$f":"IF('v přípravě a připraveno'!B156=data!$B$2,\"Souvislá údržba\",IF('v přípravě a připraveno'!B156=data!$B$3,\"Most\",\"-\"))","v":"-"},{"$f":"IF('v přípravě a připraveno'!B156=data!$B$2,\"Rekonstrukce\",IF('v přípravě a připraveno'!B156=data!$B$3,\"Propustek\",\"-\"))","v":"-"},null,null,null,null,null,null,null,null,null,null,null,null,null,null,null,{"$f":"IF('náměty na projekční přípravu'!B160=data!$S$2,\"Souvislá údržba\",IF('náměty na projekční přípravu'!B160=data!$S$3,\"Most\",\"-\"))","v":"-"},{"$f":"IF('náměty na projekční přípravu'!B160=data!$S$2,\"Rekonstrukce\",IF('náměty na projekční přípravu'!B160=data!$S$3,\"Propustek\",\"-\"))","v":"-"}]
[null,null,null,null,null,null,null,null,null,null,null,{"$f":"IF('v přípravě a připraveno'!#REF!=data!$B$2,\"Souvislá údržba\",IF('v přípravě a připraveno'!#REF!=data!$B$3,\"Most\",\"-\"))","v":{"$error":"#REF!"}},{"$f":"IF('v přípravě a připraveno'!#REF!=data!$B$2,\"Rekonstrukce\",IF('v přípravě a připraveno'!#REF!=data!$B$3,\"Propustek\",\"-\"))","v":{"$error":"#REF!"}},null,null,null,null,null,null,null,null,null,null,null,null,null,null,null,{"$f":"IF('náměty na projekční přípravu'!B161=data!$S$2,\"Souvislá údržba\",IF('náměty na projekční přípravu'!B161=data!$S$3,\"Most\",\"-\"))","v":"-"},{"$f":"IF('náměty na projekční přípravu'!B161=data!$S$2,\"Rekonstrukce\",IF('náměty na projekční přípravu'!B161=data!$S$3,\"Propustek\",\"-\"))","v":"-"}]
[null,null,null,null,null,null,null,null,null,null,null,{"$f":"IF('v přípravě a připraveno'!B157=data!$B$2,\"Souvislá údržba\",IF('v přípravě a připraveno'!B157=data!$B$3,\"Most\",\"-\"))","v":"Souvislá údržba"},{"$f":"IF('v přípravě a připraveno'!B157=data!$B$2,\"Rekonstrukce\",IF('v přípravě a připraveno'!B157=data!$B$3,\"Propustek\",\"-\"))","v":"Rekonstrukce"},null,null,null,null,null,null,null,null,null,null,null,null,null,null,null,{"$f":"IF('náměty na projekční přípravu'!B162=data!$S$2,\"Souvislá údržba\",IF('náměty na projekční přípravu'!B162=data!$S$3,\"Most\",\"-\"))","v":"-"},{"$f":"IF('náměty na projekční přípravu'!B162=data!$S$2,\"Rekonstrukce\",IF('náměty na projekční přípravu'!B162=data!$S$3,\"Propustek\",\"-\"))","v":"-"}]
[null,null,null,null,null,null,null,null,null,null,null,{"$f":"IF('v přípravě a připraveno'!B158=data!$B$2,\"Souvislá údržba\",IF('v přípravě a připraveno'!B158=data!$B$3,\"Most\",\"-\"))","v":"Souvislá údržba"},{"$f":"IF('v přípravě a připraveno'!B158=data!$B$2,\"Rekonstrukce\",IF('v přípravě a připraveno'!B158=data!$B$3,\"Propustek\",\"-\"))","v":"Rekonstrukce"},null,null,null,null,null,null,null,null,null,null,null,null,null,null,null,{"$f":"IF('náměty na projekční přípravu'!B163=data!$S$2,\"Souvislá údržba\",IF('náměty na projekční přípravu'!B163=data!$S$3,\"Most\",\"-\"))","v":"-"},{"$f":"IF('náměty na projekční přípravu'!B163=data!$S$2,\"Rekonstrukce\",IF('náměty na projekční přípravu'!B163=data!$S$3,\"Propustek\",\"-\"))","v":"-"}]
[null,null,null,null,null,null,null,null,null,null,null,{"$f":"IF('v přípravě a připraveno'!B159=data!$B$2,\"Souvislá údržba\",IF('v přípravě a připraveno'!B159=data!$B$3,\"Most\",\"-\"))","v":"Most"},{"$f":"IF('v přípravě a připraveno'!B159=data!$B$2,\"Rekonstrukce\",IF('v přípravě a připraveno'!B159=data!$B$3,\"Propustek\",\"-\"))","v":"Propustek"},null,null,null,null,null,null,null,null,null,null,null,null,null,null,null,{"$f":"IF('náměty na projekční přípravu'!B164=data!$S$2,\"Souvislá údržba\",IF('náměty na projekční přípravu'!B164=data!$S$3,\"Most\",\"-\"))","v":"-"},{"$f":"IF('náměty na projekční přípravu'!B164=data!$S$2,\"Rekonstrukce\",IF('náměty na projekční přípravu'!B164=data!$S$3,\"Propustek\",\"-\"))","v":"-"}]
[null,null,null,null,null,null,null,null,null,null,null,{"$f":"IF('v přípravě a připraveno'!#REF!=data!$B$2,\"Souvislá údržba\",IF('v přípravě a připraveno'!#REF!=data!$B$3,\"Most\",\"-\"))","v":{"$error":"#REF!"}},{"$f":"IF('v přípravě a připraveno'!#REF!=data!$B$2,\"Rekonstrukce\",IF('v přípravě a připraveno'!#REF!=data!$B$3,\"Propustek\",\"-\"))","v":{"$error":"#REF!"}},null,null,null,null,null,null,null,null,null,null,null,null,null,null,null,{"$f":"IF('náměty na projekční přípravu'!B165=data!$S$2,\"Souvislá údržba\",IF('náměty na projekční přípravu'!B165=data!$S$3,\"Most\",\"-\"))","v":"-"},{"$f":"IF('náměty na projekční přípravu'!B165=data!$S$2,\"Rekonstrukce\",IF('náměty na projekční přípravu'!B165=data!$S$3,\"Propustek\",\"-\"))","v":"-"}]
[null,null,null,null,null,null,null,null,null,null,null,{"$f":"IF('v přípravě a připraveno'!#REF!=data!$B$2,\"Souvislá údržba\",IF('v přípravě a připraveno'!#REF!=data!$B$3,\"Most\",\"-\"))","v":{"$error":"#REF!"}},{"$f":"IF('v přípravě a připraveno'!#REF!=data!$B$2,\"Rekonstrukce\",IF('v přípravě a připraveno'!#REF!=data!$B$3,\"Propustek\",\"-\"))","v":{"$error":"#REF!"}},null,null,null,null,null,null,null,null,null,null,null,null,null,null,null,{"$f":"IF('náměty na projekční přípravu'!B166=data!$S$2,\"Souvislá údržba\",IF('náměty na projekční přípravu'!B166=data!$S$3,\"Most\",\"-\"))","v":"-"},{"$f":"IF('náměty na projekční přípravu'!B166=data!$S$2,\"Rekonstrukce\",IF('náměty na projekční přípravu'!B166=data!$S$3,\"Propustek\",\"-\"))","v":"-"}]
[null,null,null,null,null,null,null,null,null,null,null,{"$f":"IF('v přípravě a připraveno'!B160=data!$B$2,\"Souvislá údržba\",IF('v přípravě a připraveno'!B160=data!$B$3,\"Most\",\"-\"))","v":"-"},{"$f":"IF('v přípravě a připraveno'!B160=data!$B$2,\"Rekonstrukce\",IF('v přípravě a připraveno'!B160=data!$B$3,\"Propustek\",\"-\"))","v":"-"},null,null,null,null,null,null,null,null,null,null,null,null,null,null,null,{"$f":"IF('náměty na projekční přípravu'!B167=data!$S$2,\"Souvislá údržba\",IF('náměty na projekční přípravu'!B167=data!$S$3,\"Most\",\"-\"))","v":"-"},{"$f":"IF('náměty na projekční přípravu'!B167=data!$S$2,\"Rekonstrukce\",IF('náměty na projekční přípravu'!B167=data!$S$3,\"Propustek\",\"-\"))","v":"-"}]
[null,null,null,null,null,null,null,null,null,null,null,{"$f":"IF('v přípravě a připraveno'!B161=data!$B$2,\"Souvislá údržba\",IF('v přípravě a připraveno'!B161=data!$B$3,\"Most\",\"-\"))","v":"-"},{"$f":"IF('v přípravě a připraveno'!B161=data!$B$2,\"Rekonstrukce\",IF('v přípravě a připraveno'!B161=data!$B$3,\"Propustek\",\"-\"))","v":"-"},null,null,null,null,null,null,null,null,null,null,null,null,null,null,null,{"$f":"IF('náměty na projekční přípravu'!B168=data!$S$2,\"Souvislá údržba\",IF('náměty na projekční přípravu'!B168=data!$S$3,\"Most\",\"-\"))","v":"-"},{"$f":"IF('náměty na projekční přípravu'!B168=data!$S$2,\"Rekonstrukce\",IF('náměty na projekční přípravu'!B168=data!$S$3,\"Propustek\",\"-\"))","v":"-"}]
[null,null,null,null,null,null,null,null,null,null,null,{"$f":"IF('v přípravě a připraveno'!#REF!=data!$B$2,\"Souvislá údržba\",IF('v přípravě a připraveno'!#REF!=data!$B$3,\"Most\",\"-\"))","v":{"$error":"#REF!"}},{"$f":"IF('v přípravě a připraveno'!#REF!=data!$B$2,\"Rekonstrukce\",IF('v přípravě a připraveno'!#REF!=data!$B$3,\"Propustek\",\"-\"))","v":{"$error":"#REF!"}},null,null,null,null,null,null,null,null,null,null,null,null,null,null,null,{"$f":"IF('náměty na projekční přípravu'!B169=data!$S$2,\"Souvislá údržba\",IF('náměty na projekční přípravu'!B169=data!$S$3,\"Most\",\"-\"))","v":"-"},{"$f":"IF('náměty na projekční přípravu'!B169=data!$S$2,\"Rekonstrukce\",IF('náměty na projekční přípravu'!B169=data!$S$3,\"Propustek\",\"-\"))","v":"-"}]
[null,null,null,null,null,null,null,null,null,null,null,{"$f":"IF('v přípravě a připraveno'!#REF!=data!$B$2,\"Souvislá údržba\",IF('v přípravě a připraveno'!#REF!=data!$B$3,\"Most\",\"-\"))","v":{"$error":"#REF!"}},{"$f":"IF('v přípravě a připraveno'!#REF!=data!$B$2,\"Rekonstrukce\",IF('v přípravě a připraveno'!#REF!=data!$B$3,\"Propustek\",\"-\"))","v":{"$error":"#REF!"}},null,null,null,null,null,null,null,null,null,null,null,null,null,null,null,{"$f":"IF('náměty na projekční přípravu'!B170=data!$S$2,\"Souvislá údržba\",IF('náměty na projekční přípravu'!B170=data!$S$3,\"Most\",\"-\"))","v":"-"},{"$f":"IF('náměty na projekční přípravu'!B170=data!$S$2,\"Rekonstrukce\",IF('náměty na projekční přípravu'!B170=data!$S$3,\"Propustek\",\"-\"))","v":"-"}]
[null,null,null,null,null,null,null,null,null,null,null,{"$f":"IF('v přípravě a připraveno'!B162=data!$B$2,\"Souvislá údržba\",IF('v přípravě a připraveno'!B162=data!$B$3,\"Most\",\"-\"))","v":"Souvislá údržba"},{"$f":"IF('v přípravě a připraveno'!B162=data!$B$2,\"Rekonstrukce\",IF('v přípravě a připraveno'!B162=data!$B$3,\"Propustek\",\"-\"))","v":"Rekonstrukce"},null,null,null,null,null,null,null,null,null,null,null,null,null,null,null,{"$f":"IF('náměty na projekční přípravu'!B171=data!$S$2,\"Souvislá údržba\",IF('náměty na projekční přípravu'!B171=data!$S$3,\"Most\",\"-\"))","v":"-"},{"$f":"IF('náměty na projekční přípravu'!B171=data!$S$2,\"Rekonstrukce\",IF('náměty na projekční přípravu'!B171=data!$S$3,\"Propustek\",\"-\"))","v":"-"}]
[null,null,null,null,null,null,null,null,null,null,null,{"$f":"IF('v přípravě a připraveno'!B163=data!$B$2,\"Souvislá údržba\",IF('v přípravě a připraveno'!B163=data!$B$3,\"Most\",\"-\"))","v":"Souvislá údržba"},{"$f":"IF('v přípravě a připraveno'!B163=data!$B$2,\"Rekonstrukce\",IF('v přípravě a připraveno'!B163=data!$B$3,\"Propustek\",\"-\"))","v":"Rekonstrukce"},null,null,null,null,null,null,null,null,null,null,null,null,null,null,null,{"$f":"IF('náměty na projekční přípravu'!B172=data!$S$2,\"Souvislá údržba\",IF('náměty na projekční přípravu'!B172=data!$S$3,\"Most\",\"-\"))","v":"-"},{"$f":"IF('náměty na projekční přípravu'!B172=data!$S$2,\"Rekonstrukce\",IF('náměty na projekční přípravu'!B172=data!$S$3,\"Propustek\",\"-\"))","v":"-"}]
[null,null,null,null,null,null,null,null,null,null,null,{"$f":"IF('v přípravě a připraveno'!B164=data!$B$2,\"Souvislá údržba\",IF('v přípravě a připraveno'!B164=data!$B$3,\"Most\",\"-\"))","v":"Souvislá údržba"},{"$f":"IF('v přípravě a připraveno'!B164=data!$B$2,\"Rekonstrukce\",IF('v přípravě a připraveno'!B164=data!$B$3,\"Propustek\",\"-\"))","v":"Rekonstrukce"},null,null,null,null,null,null,null,null,null,null,null,null,null,null,null,{"$f":"IF('náměty na projekční přípravu'!B173=data!$S$2,\"Souvislá údržba\",IF('náměty na projekční přípravu'!B173=data!$S$3,\"Most\",\"-\"))","v":"-"},{"$f":"IF('náměty na projekční přípravu'!B173=data!$S$2,\"Rekonstrukce\",IF('náměty na projekční přípravu'!B173=data!$S$3,\"Propustek\",\"-\"))","v":"-"}]
[null,null,null,null,null,null,null,null,null,null,null,{"$f":"IF('v přípravě a připraveno'!#REF!=data!$B$2,\"Souvislá údržba\",IF('v přípravě a připraveno'!#REF!=data!$B$3,\"Most\",\"-\"))","v":{"$error":"#REF!"}},{"$f":"IF('v přípravě a připraveno'!#REF!=data!$B$2,\"Rekonstrukce\",IF('v přípravě a připraveno'!#REF!=data!$B$3,\"Propustek\",\"-\"))","v":{"$error":"#REF!"}},null,null,null,null,null,null,null,null,null,null,null,null,null,null,null,{"$f":"IF('náměty na projekční přípravu'!B174=data!$S$2,\"Souvislá údržba\",IF('náměty na projekční přípravu'!B174=data!$S$3,\"Most\",\"-\"))","v":"-"},{"$f":"IF('náměty na projekční přípravu'!B174=data!$S$2,\"Rekonstrukce\",IF('náměty na projekční přípravu'!B174=data!$S$3,\"Propustek\",\"-\"))","v":"-"}]
[null,null,null,null,null,null,null,null,null,null,null,{"$f":"IF('v přípravě a připraveno'!B165=data!$B$2,\"Souvislá údržba\",IF('v přípravě a připraveno'!B165=data!$B$3,\"Most\",\"-\"))","v":"Souvislá údržba"},{"$f":"IF('v přípravě a připraveno'!B165=data!$B$2,\"Rekonstrukce\",IF('v přípravě a připraveno'!B165=data!$B$3,\"Propustek\",\"-\"))","v":"Rekonstrukce"},null,null,null,null,null,null,null,null,null,null,null,null,null,null,null,{"$f":"IF('náměty na projekční přípravu'!B175=data!$S$2,\"Souvislá údržba\",IF('náměty na projekční přípravu'!B175=data!$S$3,\"Most\",\"-\"))","v":"-"},{"$f":"IF('náměty na projekční přípravu'!B175=data!$S$2,\"Rekonstrukce\",IF('náměty na projekční přípravu'!B175=data!$S$3,\"Propustek\",\"-\"))","v":"-"}]
[null,null,null,null,null,null,null,null,null,null,null,{"$f":"IF('v přípravě a připraveno'!B166=data!$B$2,\"Souvislá údržba\",IF('v přípravě a připraveno'!B166=data!$B$3,\"Most\",\"-\"))","v":"Souvislá údržba"},{"$f":"IF('v přípravě a připraveno'!B166=data!$B$2,\"Rekonstrukce\",IF('v přípravě a připraveno'!B166=data!$B$3,\"Propustek\",\"-\"))","v":"Rekonstrukce"},null,null,null,null,null,null,null,null,null,null,null,null,null,null,null,{"$f":"IF('náměty na projekční přípravu'!B176=data!$S$2,\"Souvislá údržba\",IF('náměty na projekční přípravu'!B176=data!$S$3,\"Most\",\"-\"))","v":"-"},{"$f":"IF('náměty na projekční přípravu'!B176=data!$S$2,\"Rekonstrukce\",IF('náměty na projekční přípravu'!B176=data!$S$3,\"Propustek\",\"-\"))","v":"-"}]
[null,null,null,null,null,null,null,null,null,null,null,{"$f":"IF('v přípravě a připraveno'!#REF!=data!$B$2,\"Souvislá údržba\",IF('v přípravě a připraveno'!#REF!=data!$B$3,\"Most\",\"-\"))","v":{"$error":"#REF!"}},{"$f":"IF('v přípravě a připraveno'!#REF!=data!$B$2,\"Rekonstrukce\",IF('v přípravě a připraveno'!#REF!=data!$B$3,\"Propustek\",\"-\"))","v":{"$error":"#REF!"}},null,null,null,null,null,null,null,null,null,null,null,null,null,null,null,{"$f":"IF('náměty na projekční přípravu'!B177=data!$S$2,\"Souvislá údržba\",IF('náměty na projekční přípravu'!B177=data!$S$3,\"Most\",\"-\"))","v":"-"},{"$f":"IF('náměty na projekční přípravu'!B177=data!$S$2,\"Rekonstrukce\",IF('náměty na projekční přípravu'!B177=data!$S$3,\"Propustek\",\"-\"))","v":"-"}]
[null,null,null,null,null,null,null,null,null,null,null,{"$f":"IF('v přípravě a připraveno'!#REF!=data!$B$2,\"Souvislá údržba\",IF('v přípravě a připraveno'!#REF!=data!$B$3,\"Most\",\"-\"))","v":{"$error":"#REF!"}},{"$f":"IF('v přípravě a připraveno'!#REF!=data!$B$2,\"Rekonstrukce\",IF('v přípravě a připraveno'!#REF!=data!$B$3,\"Propustek\",\"-\"))","v":{"$error":"#REF!"}},null,null,null,null,null,null,null,null,null,null,null,null,null,null,null,{"$f":"IF('náměty na projekční přípravu'!B178=data!$S$2,\"Souvislá údržba\",IF('náměty na projekční přípravu'!B178=data!$S$3,\"Most\",\"-\"))","v":"-"},{"$f":"IF('náměty na projekční přípravu'!B178=data!$S$2,\"Rekonstrukce\",IF('náměty na projekční přípravu'!B178=data!$S$3,\"Propustek\",\"-\"))","v":"-"}]
[null,null,null,null,null,null,null,null,null,null,null,{"$f":"IF('v přípravě a připraveno'!#REF!=data!$B$2,\"Souvislá údržba\",IF('v přípravě a připraveno'!#REF!=data!$B$3,\"Most\",\"-\"))","v":{"$error":"#REF!"}},{"$f":"IF('v přípravě a připraveno'!#REF!=data!$B$2,\"Rekonstrukce\",IF('v přípravě a připraveno'!#REF!=data!$B$3,\"Propustek\",\"-\"))","v":{"$error":"#REF!"}},null,null,null,null,null,null,null,null,null,null,null,null,null,null,null,{"$f":"IF('náměty na projekční přípravu'!B179=data!$S$2,\"Souvislá údržba\",IF('náměty na projekční přípravu'!B179=data!$S$3,\"Most\",\"-\"))","v":"-"},{"$f":"IF('náměty na projekční přípravu'!B179=data!$S$2,\"Rekonstrukce\",IF('náměty na projekční přípravu'!B179=data!$S$3,\"Propustek\",\"-\"))","v":"-"}]
[null,null,null,null,null,null,null,null,null,null,null,{"$f":"IF('v přípravě a připraveno'!B167=data!$B$2,\"Souvislá údržba\",IF('v přípravě a připraveno'!B167=data!$B$3,\"Most\",\"-\"))","v":"-"},{"$f":"IF('v přípravě a připraveno'!B167=data!$B$2,\"Rekonstrukce\",IF('v přípravě a připraveno'!B167=data!$B$3,\"Propustek\",\"-\"))","v":"-"},null,null,null,null,null,null,null,null,null,null,null,null,null,null,null,{"$f":"IF('náměty na projekční přípravu'!B180=data!$S$2,\"Souvislá údržba\",IF('náměty na projekční přípravu'!B180=data!$S$3,\"Most\",\"-\"))","v":"-"},{"$f":"IF('náměty na projekční přípravu'!B180=data!$S$2,\"Rekonstrukce\",IF('náměty na projekční přípravu'!B180=data!$S$3,\"Propustek\",\"-\"))","v":"-"}]
[null,null,null,null,null,null,null,null,null,null,null,{"$f":"IF('v přípravě a připraveno'!B168=data!$B$2,\"Souvislá údržba\",IF('v přípravě a připraveno'!B168=data!$B$3,\"Most\",\"-\"))","v":"-"},{"$f":"IF('v přípravě a připraveno'!B168=data!$B$2,\"Rekonstrukce\",IF('v přípravě a připraveno'!B168=data!$B$3,\"Propustek\",\"-\"))","v":"-"},null,null,null,null,null,null,null,null,null,null,null,null,null,null,null,{"$f":"IF('náměty na projekční přípravu'!B181=data!$S$2,\"Souvislá údržba\",IF('náměty na projekční přípravu'!B181=data!$S$3,\"Most\",\"-\"))","v":"-"},{"$f":"IF('náměty na projekční přípravu'!B181=data!$S$2,\"Rekonstrukce\",IF('náměty na projekční přípravu'!B181=data!$S$3,\"Propustek\",\"-\"))","v":"-"}]
[null,null,null,null,null,null,null,null,null,null,null,{"$f":"IF('v přípravě a připraveno'!#REF!=data!$B$2,\"Souvislá údržba\",IF('v přípravě a připraveno'!#REF!=data!$B$3,\"Most\",\"-\"))","v":{"$error":"#REF!"}},{"$f":"IF('v přípravě a připraveno'!#REF!=data!$B$2,\"Rekonstrukce\",IF('v přípravě a připraveno'!#REF!=data!$B$3,\"Propustek\",\"-\"))","v":{"$error":"#REF!"}},null,null,null,null,null,null,null,null,null,null,null,null,null,null,null,{"$f":"IF('náměty na projekční přípravu'!B182=data!$S$2,\"Souvislá údržba\",IF('náměty na projekční přípravu'!B182=data!$S$3,\"Most\",\"-\"))","v":"-"},{"$f":"IF('náměty na projekční přípravu'!B182=data!$S$2,\"Rekonstrukce\",IF('náměty na projekční přípravu'!B182=data!$S$3,\"Propustek\",\"-\"))","v":"-"}]
[null,null,null,null,null,null,null,null,null,null,null,{"$f":"IF('v přípravě a připraveno'!B169=data!$B$2,\"Souvislá údržba\",IF('v přípravě a připraveno'!B169=data!$B$3,\"Most\",\"-\"))","v":"Souvislá údržba"},{"$f":"IF('v přípravě a připraveno'!B169=data!$B$2,\"Rekonstrukce\",IF('v přípravě a připraveno'!B169=data!$B$3,\"Propustek\",\"-\"))","v":"Rekonstrukce"},null,null,null,null,null,null,null,null,null,null,null,null,null,null,null,{"$f":"IF('náměty na projekční přípravu'!B183=data!$S$2,\"Souvislá údržba\",IF('náměty na projekční přípravu'!B183=data!$S$3,\"Most\",\"-\"))","v":"-"},{"$f":"IF('náměty na projekční přípravu'!B183=data!$S$2,\"Rekonstrukce\",IF('náměty na projekční přípravu'!B183=data!$S$3,\"Propustek\",\"-\"))","v":"-"}]
[null,null,null,null,null,null,null,null,null,null,null,{"$f":"IF('v přípravě a připraveno'!B170=data!$B$2,\"Souvislá údržba\",IF('v přípravě a připraveno'!B170=data!$B$3,\"Most\",\"-\"))","v":"Souvislá údržba"},{"$f":"IF('v přípravě a připraveno'!B170=data!$B$2,\"Rekonstrukce\",IF('v přípravě a připraveno'!B170=data!$B$3,\"Propustek\",\"-\"))","v":"Rekonstrukce"},null,null,null,null,null,null,null,null,null,null,null,null,null,null,null,{"$f":"IF('náměty na projekční přípravu'!B184=data!$S$2,\"Souvislá údržba\",IF('náměty na projekční přípravu'!B184=data!$S$3,\"Most\",\"-\"))","v":"-"},{"$f":"IF('náměty na projekční přípravu'!B184=data!$S$2,\"Rekonstrukce\",IF('náměty na projekční přípravu'!B184=data!$S$3,\"Propustek\",\"-\"))","v":"-"}]
[null,null,null,null,null,null,null,null,null,null,null,{"$f":"IF('v přípravě a připraveno'!B171=data!$B$2,\"Souvislá údržba\",IF('v přípravě a připraveno'!B171=data!$B$3,\"Most\",\"-\"))","v":"Souvislá údržba"},{"$f":"IF('v přípravě a připraveno'!B171=data!$B$2,\"Rekonstrukce\",IF('v přípravě a připraveno'!B171=data!$B$3,\"Propustek\",\"-\"))","v":"Rekonstrukce"},null,null,null,null,null,null,null,null,null,null,null,null,null,null,null,{"$f":"IF('náměty na projekční přípravu'!B185=data!$S$2,\"Souvislá údržba\",IF('náměty na projekční přípravu'!B185=data!$S$3,\"Most\",\"-\"))","v":"-"},{"$f":"IF('náměty na projekční přípravu'!B185=data!$S$2,\"Rekonstrukce\",IF('náměty na projekční přípravu'!B185=data!$S$3,\"Propustek\",\"-\"))","v":"-"}]
[null,null,null,null,null,null,null,null,null,null,null,{"$f":"IF('v přípravě a připraveno'!B172=data!$B$2,\"Souvislá údržba\",IF('v přípravě a připraveno'!B172=data!$B$3,\"Most\",\"-\"))","v":"-"},{"$f":"IF('v přípravě a připraveno'!B172=data!$B$2,\"Rekonstrukce\",IF('v přípravě a připraveno'!B172=data!$B$3,\"Propustek\",\"-\"))","v":"-"},null,null,null,null,null,null,null,null,null,null,null,null,null,null,null,{"$f":"IF('náměty na projekční přípravu'!B186=data!$S$2,\"Souvislá údržba\",IF('náměty na projekční přípravu'!B186=data!$S$3,\"Most\",\"-\"))","v":"-"},{"$f":"IF('náměty na projekční přípravu'!B186=data!$S$2,\"Rekonstrukce\",IF('náměty na projekční přípravu'!B186=data!$S$3,\"Propustek\",\"-\"))","v":"-"}]
[null,null,null,null,null,null,null,null,null,null,null,{"$f":"IF('v přípravě a připraveno'!B173=data!$B$2,\"Souvislá údržba\",IF('v přípravě a připraveno'!B173=data!$B$3,\"Most\",\"-\"))","v":"Souvislá údržba"},{"$f":"IF('v přípravě a připraveno'!B173=data!$B$2,\"Rekonstrukce\",IF('v přípravě a připraveno'!B173=data!$B$3,\"Propustek\",\"-\"))","v":"Rekonstrukce"},null,null,null,null,null,null,null,null,null,null,null,null,null,null,null,{"$f":"IF('náměty na projekční přípravu'!B187=data!$S$2,\"Souvislá údržba\",IF('náměty na projekční přípravu'!B187=data!$S$3,\"Most\",\"-\"))","v":"-"},{"$f":"IF('náměty na projekční přípravu'!B187=data!$S$2,\"Rekonstrukce\",IF('náměty na projekční přípravu'!B187=data!$S$3,\"Propustek\",\"-\"))","v":"-"}]
[null,null,null,null,null,null,null,null,null,null,null,{"$f":"IF('v přípravě a připraveno'!B174=data!$B$2,\"Souvislá údržba\",IF('v přípravě a připraveno'!B174=data!$B$3,\"Most\",\"-\"))","v":"Most"},{"$f":"IF('v přípravě a připraveno'!B174=data!$B$2,\"Rekonstrukce\",IF('v přípravě a připraveno'!B174=data!$B$3,\"Propustek\",\"-\"))","v":"Propustek"},null,null,null,null,null,null,null,null,null,null,null,null,null,null,null,{"$f":"IF('náměty na projekční přípravu'!#REF!=data!$S$2,\"Souvislá údržba\",IF('náměty na projekční přípravu'!#REF!=data!$S$3,\"Most\",\"-\"))","v":{"$error":"#REF!"}},{"$f":"IF('náměty na projekční přípravu'!#REF!=data!$S$2,\"Rekonstrukce\",IF('náměty na projekční přípravu'!#REF!=data!$S$3,\"Propustek\",\"-\"))","v":{"$error":"#REF!"}}]
[null,null,null,null,null,null,null,null,null,null,null,{"$f":"IF('v přípravě a připraveno'!B175=data!$B$2,\"Souvislá údržba\",IF('v přípravě a připraveno'!B175=data!$B$3,\"Most\",\"-\"))","v":"Souvislá údržba"},{"$f":"IF('v přípravě a připraveno'!B175=data!$B$2,\"Rekonstrukce\",IF('v přípravě a připraveno'!B175=data!$B$3,\"Propustek\",\"-\"))","v":"Rekonstrukce"},null,null,null,null,null,null,null,null,null,null,null,null,null,null,null,{"$f":"IF('náměty na projekční přípravu'!#REF!=data!$S$2,\"Souvislá údržba\",IF('náměty na projekční přípravu'!#REF!=data!$S$3,\"Most\",\"-\"))","v":{"$error":"#REF!"}},{"$f":"IF('náměty na projekční přípravu'!#REF!=data!$S$2,\"Rekonstrukce\",IF('náměty na projekční přípravu'!#REF!=data!$S$3,\"Propustek\",\"-\"))","v":{"$error":"#REF!"}}]
[null,null,null,null,null,null,null,null,null,null,null,{"$f":"IF('v přípravě a připraveno'!B176=data!$B$2,\"Souvislá údržba\",IF('v přípravě a připraveno'!B176=data!$B$3,\"Most\",\"-\"))","v":"Souvislá údržba"},{"$f":"IF('v přípravě a připraveno'!B176=data!$B$2,\"Rekonstrukce\",IF('v přípravě a připraveno'!B176=data!$B$3,\"Propustek\",\"-\"))","v":"Rekonstrukce"},null,null,null,null,null,null,null,null,null,null,null,null,null,null,null,{"$f":"IF('náměty na projekční přípravu'!B188=data!$S$2,\"Souvislá údržba\",IF('náměty na projekční přípravu'!B188=data!$S$3,\"Most\",\"-\"))","v":"-"},{"$f":"IF('náměty na projekční přípravu'!B188=data!$S$2,\"Rekonstrukce\",IF('náměty na projekční přípravu'!B188=data!$S$3,\"Propustek\",\"-\"))","v":"-"}]
[null,null,null,null,null,null,null,null,null,null,null,{"$f":"IF('v přípravě a připraveno'!B177=data!$B$2,\"Souvislá údržba\",IF('v přípravě a připraveno'!B177=data!$B$3,\"Most\",\"-\"))","v":"-"},{"$f":"IF('v přípravě a připraveno'!B177=data!$B$2,\"Rekonstrukce\",IF('v přípravě a připraveno'!B177=data!$B$3,\"Propustek\",\"-\"))","v":"-"},null,null,null,null,null,null,null,null,null,null,null,null,null,null,null,{"$f":"IF('náměty na projekční přípravu'!B189=data!$S$2,\"Souvislá údržba\",IF('náměty na projekční přípravu'!B189=data!$S$3,\"Most\",\"-\"))","v":"Souvislá údržba"},{"$f":"IF('náměty na projekční přípravu'!B189=data!$S$2,\"Rekonstrukce\",IF('náměty na projekční přípravu'!B189=data!$S$3,\"Propustek\",\"-\"))","v":"Rekonstrukce"}]
[null,null,null,null,null,null,null,null,null,null,null,{"$f":"IF('v přípravě a připraveno'!B178=data!$B$2,\"Souvislá údržba\",IF('v přípravě a připraveno'!B178=data!$B$3,\"Most\",\"-\"))","v":"Souvislá údržba"},{"$f":"IF('v přípravě a připraveno'!B178=data!$B$2,\"Rekonstrukce\",IF('v přípravě a připraveno'!B178=data!$B$3,\"Propustek\",\"-\"))","v":"Rekonstrukce"},null,null,null,null,null,null,null,null,null,null,null,null,null,null,null,{"$f":"IF('náměty na projekční přípravu'!B190=data!$S$2,\"Souvislá údržba\",IF('náměty na projekční přípravu'!B190=data!$S$3,\"Most\",\"-\"))","v":"Souvislá údržba"},{"$f":"IF('náměty na projekční přípravu'!B190=data!$S$2,\"Rekonstrukce\",IF('náměty na projekční přípravu'!B190=data!$S$3,\"Propustek\",\"-\"))","v":"Rekonstrukce"}]
[null,null,null,null,null,null,null,null,null,null,null,{"$f":"IF('v přípravě a připraveno'!B179=data!$B$2,\"Souvislá údržba\",IF('v přípravě a připraveno'!B179=data!$B$3,\"Most\",\"-\"))","v":"-"},{"$f":"IF('v přípravě a připraveno'!B179=data!$B$2,\"Rekonstrukce\",IF('v přípravě a připraveno'!B179=data!$B$3,\"Propustek\",\"-\"))","v":"-"},null,null,null,null,null,null,null,null,null,null,null,null,null,null,null,{"$f":"IF('náměty na projekční přípravu'!B191=data!$S$2,\"Souvislá údržba\",IF('náměty na projekční přípravu'!B191=data!$S$3,\"Most\",\"-\"))","v":"Souvislá údržba"},{"$f":"IF('náměty na projekční přípravu'!B191=data!$S$2,\"Rekonstrukce\",IF('náměty na projekční přípravu'!B191=data!$S$3,\"Propustek\",\"-\"))","v":"Rekonstrukce"}]
[null,null,null,null,null,null,null,null,null,null,null,{"$f":"IF('v přípravě a připraveno'!B180=data!$B$2,\"Souvislá údržba\",IF('v přípravě a připraveno'!B180=data!$B$3,\"Most\",\"-\"))","v":"Souvislá údržba"},{"$f":"IF('v přípravě a připraveno'!B180=data!$B$2,\"Rekonstrukce\",IF('v přípravě a připraveno'!B180=data!$B$3,\"Propustek\",\"-\"))","v":"Rekonstrukce"},null,null,null,null,null,null,null,null,null,null,null,null,null,null,null,{"$f":"IF('náměty na projekční přípravu'!B192=data!$S$2,\"Souvislá údržba\",IF('náměty na projekční přípravu'!B192=data!$S$3,\"Most\",\"-\"))","v":"Souvislá údržba"},{"$f":"IF('náměty na projekční přípravu'!B192=data!$S$2,\"Rekonstrukce\",IF('náměty na projekční přípravu'!B192=data!$S$3,\"Propustek\",\"-\"))","v":"Rekonstrukce"}]
[null,null,null,null,null,null,null,null,null,null,null,{"$f":"IF('v přípravě a připraveno'!B181=data!$B$2,\"Souvislá údržba\",IF('v přípravě a připraveno'!B181=data!$B$3,\"Most\",\"-\"))","v":"Souvislá údržba"},{"$f":"IF('v přípravě a připraveno'!B181=data!$B$2,\"Rekonstrukce\",IF('v přípravě a připraveno'!B181=data!$B$3,\"Propustek\",\"-\"))","v":"Rekonstrukce"},null,null,null,null,null,null,null,null,null,null,null,null,null,null,null,{"$f":"IF('náměty na projekční přípravu'!B193=data!$S$2,\"Souvislá údržba\",IF('náměty na projekční přípravu'!B193=data!$S$3,\"Most\",\"-\"))","v":"Souvislá údržba"},{"$f":"IF('náměty na projekční přípravu'!B193=data!$S$2,\"Rekonstrukce\",IF('náměty na projekční přípravu'!B193=data!$S$3,\"Propustek\",\"-\"))","v":"Rekonstrukce"}]
[null,null,null,null,null,null,null,null,null,null,null,{"$f":"IF('v přípravě a připraveno'!B182=data!$B$2,\"Souvislá údržba\",IF('v přípravě a připraveno'!B182=data!$B$3,\"Most\",\"-\"))","v":"Souvislá údržba"},{"$f":"IF('v přípravě a připraveno'!B182=data!$B$2,\"Rekonstrukce\",IF('v přípravě a připraveno'!B182=data!$B$3,\"Propustek\",\"-\"))","v":"Rekonstrukce"},null,null,null,null,null,null,null,null,null,null,null,null,null,null,null,{"$f":"IF('náměty na projekční přípravu'!B194=data!$S$2,\"Souvislá údržba\",IF('náměty na projekční přípravu'!B194=data!$S$3,\"Most\",\"-\"))","v":"-"},{"$f":"IF('náměty na projekční přípravu'!B194=data!$S$2,\"Rekonstrukce\",IF('náměty na projekční přípravu'!B194=data!$S$3,\"Propustek\",\"-\"))","v":"-"}]
[null,null,null,null,null,null,null,null,null,null,null,{"$f":"IF('v přípravě a připraveno'!B183=data!$B$2,\"Souvislá údržba\",IF('v přípravě a připraveno'!B183=data!$B$3,\"Most\",\"-\"))","v":"Most"},{"$f":"IF('v přípravě a připraveno'!B183=data!$B$2,\"Rekonstrukce\",IF('v přípravě a připraveno'!B183=data!$B$3,\"Propustek\",\"-\"))","v":"Propustek"},null,null,null,null,null,null,null,null,null,null,null,null,null,null,null,{"$f":"IF('náměty na projekční přípravu'!B195=data!$S$2,\"Souvislá údržba\",IF('náměty na projekční přípravu'!B195=data!$S$3,\"Most\",\"-\"))","v":"-"},{"$f":"IF('náměty na projekční přípravu'!B195=data!$S$2,\"Rekonstrukce\",IF('náměty na projekční přípravu'!B195=data!$S$3,\"Propustek\",\"-\"))","v":"-"}]
[null,null,null,null,null,null,null,null,null,null,null,{"$f":"IF('v přípravě a připraveno'!B184=data!$B$2,\"Souvislá údržba\",IF('v přípravě a připraveno'!B184=data!$B$3,\"Most\",\"-\"))","v":"Souvislá údržba"},{"$f":"IF('v přípravě a připraveno'!B184=data!$B$2,\"Rekonstrukce\",IF('v přípravě a připraveno'!B184=data!$B$3,\"Propustek\",\"-\"))","v":"Rekonstrukce"},null,null,null,null,null,null,null,null,null,null,null,null,null,null,null,{"$f":"IF('náměty na projekční přípravu'!B196=data!$S$2,\"Souvislá údržba\",IF('náměty na projekční přípravu'!B196=data!$S$3,\"Most\",\"-\"))","v":"-"},{"$f":"IF('náměty na projekční přípravu'!B196=data!$S$2,\"Rekonstrukce\",IF('náměty na projekční přípravu'!B196=data!$S$3,\"Propustek\",\"-\"))","v":"-"}]
[null,null,null,null,null,null,null,null,null,null,null,{"$f":"IF('v přípravě a připraveno'!B185=data!$B$2,\"Souvislá údržba\",IF('v přípravě a připraveno'!B185=data!$B$3,\"Most\",\"-\"))","v":"-"},{"$f":"IF('v přípravě a připraveno'!B185=data!$B$2,\"Rekonstrukce\",IF('v přípravě a připraveno'!B185=data!$B$3,\"Propustek\",\"-\"))","v":"-"},null,null,null,null,null,null,null,null,null,null,null,null,null,null,null,{"$f":"IF('náměty na projekční přípravu'!B197=data!$S$2,\"Souvislá údržba\",IF('náměty na projekční přípravu'!B197=data!$S$3,\"Most\",\"-\"))","v":"-"},{"$f":"IF('náměty na projekční přípravu'!B197=data!$S$2,\"Rekonstrukce\",IF('náměty na projekční přípravu'!B197=data!$S$3,\"Propustek\",\"-\"))","v":"-"}]
[null,null,null,null,null,null,null,null,null,null,null,{"$f":"IF('v přípravě a připraveno'!#REF!=data!$B$2,\"Souvislá údržba\",IF('v přípravě a připraveno'!#REF!=data!$B$3,\"Most\",\"-\"))","v":{"$error":"#REF!"}},{"$f":"IF('v přípravě a připraveno'!#REF!=data!$B$2,\"Rekonstrukce\",IF('v přípravě a připraveno'!#REF!=data!$B$3,\"Propustek\",\"-\"))","v":{"$error":"#REF!"}},null,null,null,null,null,null,null,null,null,null,null,null,null,null,null,{"$f":"IF('náměty na projekční přípravu'!B198=data!$S$2,\"Souvislá údržba\",IF('náměty na projekční přípravu'!B198=data!$S$3,\"Most\",\"-\"))","v":"-"},{"$f":"IF('náměty na projekční přípravu'!B198=data!$S$2,\"Rekonstrukce\",IF('náměty na projekční přípravu'!B198=data!$S$3,\"Propustek\",\"-\"))","v":"-"}]
[null,null,null,null,null,null,null,null,null,null,null,{"$f":"IF('v přípravě a připraveno'!B186=data!$B$2,\"Souvislá údržba\",IF('v přípravě a připraveno'!B186=data!$B$3,\"Most\",\"-\"))","v":"Souvislá údržba"},{"$f":"IF('v přípravě a připraveno'!B186=data!$B$2,\"Rekonstrukce\",IF('v přípravě a připraveno'!B186=data!$B$3,\"Propustek\",\"-\"))","v":"Rekonstrukce"},null,null,null,null,null,null,null,null,null,null,null,null,null,null,null,{"$f":"IF('náměty na projekční přípravu'!B199=data!$S$2,\"Souvislá údržba\",IF('náměty na projekční přípravu'!B199=data!$S$3,\"Most\",\"-\"))","v":"-"},{"$f":"IF('náměty na projekční přípravu'!B199=data!$S$2,\"Rekonstrukce\",IF('náměty na projekční přípravu'!B199=data!$S$3,\"Propustek\",\"-\"))","v":"-"}]
[null,null,null,null,null,null,null,null,null,null,null,{"$f":"IF('v přípravě a připraveno'!B187=data!$B$2,\"Souvislá údržba\",IF('v přípravě a připraveno'!B187=data!$B$3,\"Most\",\"-\"))","v":"-"},{"$f":"IF('v přípravě a připraveno'!B187=data!$B$2,\"Rekonstrukce\",IF('v přípravě a připraveno'!B187=data!$B$3,\"Propustek\",\"-\"))","v":"-"},null,null,null,null,null,null,null,null,null,null,null,null,null,null,null,{"$f":"IF('náměty na projekční přípravu'!B200=data!$S$2,\"Souvislá údržba\",IF('náměty na projekční přípravu'!B200=data!$S$3,\"Most\",\"-\"))","v":"-"},{"$f":"IF('náměty na projekční přípravu'!B200=data!$S$2,\"Rekonstrukce\",IF('náměty na projekční přípravu'!B200=data!$S$3,\"Propustek\",\"-\"))","v":"-"}]
[null,null,null,null,null,null,null,null,null,null,null,{"$f":"IF('v přípravě a připraveno'!B188=data!$B$2,\"Souvislá údržba\",IF('v přípravě a připraveno'!B188=data!$B$3,\"Most\",\"-\"))","v":"-"},{"$f":"IF('v přípravě a připraveno'!B188=data!$B$2,\"Rekonstrukce\",IF('v přípravě a připraveno'!B188=data!$B$3,\"Propustek\",\"-\"))","v":"-"},null,null,null,null,null,null,null,null,null,null,null,null,null,null,null,{"$f":"IF('náměty na projekční přípravu'!B201=data!$S$2,\"Souvislá údržba\",IF('náměty na projekční přípravu'!B201=data!$S$3,\"Most\",\"-\"))","v":"-"},{"$f":"IF('náměty na projekční přípravu'!B201=data!$S$2,\"Rekonstrukce\",IF('náměty na projekční přípravu'!B201=data!$S$3,\"Propustek\",\"-\"))","v":"-"}]
[null,null,null,null,null,null,null,null,null,null,null,{"$f":"IF('v přípravě a připraveno'!B189=data!$B$2,\"Souvislá údržba\",IF('v přípravě a připraveno'!B189=data!$B$3,\"Most\",\"-\"))","v":"Souvislá údržba"},{"$f":"IF('v přípravě a připraveno'!B189=data!$B$2,\"Rekonstrukce\",IF('v přípravě a připraveno'!B189=data!$B$3,\"Propustek\",\"-\"))","v":"Rekonstrukce"},null,null,null,null,null,null,null,null,null,null,null,null,null,null,null,{"$f":"IF('náměty na projekční přípravu'!B202=data!$S$2,\"Souvislá údržba\",IF('náměty na projekční přípravu'!B202=data!$S$3,\"Most\",\"-\"))","v":"-"},{"$f":"IF('náměty na projekční přípravu'!B202=data!$S$2,\"Rekonstrukce\",IF('náměty na projekční přípravu'!B202=data!$S$3,\"Propustek\",\"-\"))","v":"-"}]
[null,null,null,null,null,null,null,null,null,null,null,{"$f":"IF('v přípravě a připraveno'!B190=data!$B$2,\"Souvislá údržba\",IF('v přípravě a připraveno'!B190=data!$B$3,\"Most\",\"-\"))","v":"Souvislá údržba"},{"$f":"IF('v přípravě a připraveno'!B190=data!$B$2,\"Rekonstrukce\",IF('v přípravě a připraveno'!B190=data!$B$3,\"Propustek\",\"-\"))","v":"Rekonstrukce"},null,null,null,null,null,null,null,null,null,null,null,null,null,null,null,{"$f":"IF('náměty na projekční přípravu'!B203=data!$S$2,\"Souvislá údržba\",IF('náměty na projekční přípravu'!B203=data!$S$3,\"Most\",\"-\"))","v":"-"},{"$f":"IF('náměty na projekční přípravu'!B203=data!$S$2,\"Rekonstrukce\",IF('náměty na projekční přípravu'!B203=data!$S$3,\"Propustek\",\"-\"))","v":"-"}]
[null,null,null,null,null,null,null,null,null,null,null,{"$f":"IF('v přípravě a připraveno'!B191=data!$B$2,\"Souvislá údržba\",IF('v přípravě a připraveno'!B191=data!$B$3,\"Most\",\"-\"))","v":"-"},{"$f":"IF('v přípravě a připraveno'!B191=data!$B$2,\"Rekonstrukce\",IF('v přípravě a připraveno'!B191=data!$B$3,\"Propustek\",\"-\"))","v":"-"},null,null,null,null,null,null,null,null,null,null,null,null,null,null,null,{"$f":"IF('náměty na projekční přípravu'!B204=data!$S$2,\"Souvislá údržba\",IF('náměty na projekční přípravu'!B204=data!$S$3,\"Most\",\"-\"))","v":"-"},{"$f":"IF('náměty na projekční přípravu'!B204=data!$S$2,\"Rekonstrukce\",IF('náměty na projekční přípravu'!B204=data!$S$3,\"Propustek\",\"-\"))","v":"-"}]
[null,null,null,null,null,null,null,null,null,null,null,{"$f":"IF('v přípravě a připraveno'!B192=data!$B$2,\"Souvislá údržba\",IF('v přípravě a připraveno'!B192=data!$B$3,\"Most\",\"-\"))","v":"-"},{"$f":"IF('v přípravě a připraveno'!B192=data!$B$2,\"Rekonstrukce\",IF('v přípravě a připraveno'!B192=data!$B$3,\"Propustek\",\"-\"))","v":"-"},null,null,null,null,null,null,null,null,null,null,null,null,null,null,null,{"$f":"IF('náměty na projekční přípravu'!B205=data!$S$2,\"Souvislá údržba\",IF('náměty na projekční přípravu'!B205=data!$S$3,\"Most\",\"-\"))","v":"-"},{"$f":"IF('náměty na projekční přípravu'!B205=data!$S$2,\"Rekonstrukce\",IF('náměty na projekční přípravu'!B205=data!$S$3,\"Propustek\",\"-\"))","v":"-"}]
[null,null,null,null,null,null,null,null,null,null,null,{"$f":"IF('v přípravě a připraveno'!B193=data!$B$2,\"Souvislá údržba\",IF('v přípravě a připraveno'!B193=data!$B$3,\"Most\",\"-\"))","v":"Most"},{"$f":"IF('v přípravě a připraveno'!B193=data!$B$2,\"Rekonstrukce\",IF('v přípravě a připraveno'!B193=data!$B$3,\"Propustek\",\"-\"))","v":"Propustek"},null,null,null,null,null,null,null,null,null,null,null,null,null,null,null,{"$f":"IF('náměty na projekční přípravu'!B206=data!$S$2,\"Souvislá údržba\",IF('náměty na projekční přípravu'!B206=data!$S$3,\"Most\",\"-\"))","v":"-"},{"$f":"IF('náměty na projekční přípravu'!B206=data!$S$2,\"Rekonstrukce\",IF('náměty na projekční přípravu'!B206=data!$S$3,\"Propustek\",\"-\"))","v":"-"}]
[null,null,null,null,null,null,null,null,null,null,null,{"$f":"IF('v přípravě a připraveno'!B194=data!$B$2,\"Souvislá údržba\",IF('v přípravě a připraveno'!B194=data!$B$3,\"Most\",\"-\"))","v":"Most"},{"$f":"IF('v přípravě a připraveno'!B194=data!$B$2,\"Rekonstrukce\",IF('v přípravě a připraveno'!B194=data!$B$3,\"Propustek\",\"-\"))","v":"Propustek"},null,null,null,null,null,null,null,null,null,null,null,null,null,null,null,{"$f":"IF('náměty na projekční přípravu'!B207=data!$S$2,\"Souvislá údržba\",IF('náměty na projekční přípravu'!B207=data!$S$3,\"Most\",\"-\"))","v":"-"},{"$f":"IF('náměty na projekční přípravu'!B207=data!$S$2,\"Rekonstrukce\",IF('náměty na projekční přípravu'!B207=data!$S$3,\"Propustek\",\"-\"))","v":"-"}]
[null,null,null,null,null,null,null,null,null,null,null,{"$f":"IF('v přípravě a připraveno'!B195=data!$B$2,\"Souvislá údržba\",IF('v přípravě a připraveno'!B195=data!$B$3,\"Most\",\"-\"))","v":"-"},{"$f":"IF('v přípravě a připraveno'!B195=data!$B$2,\"Rekonstrukce\",IF('v přípravě a připraveno'!B195=data!$B$3,\"Propustek\",\"-\"))","v":"-"},null,null,null,null,null,null,null,null,null,null,null,null,null,null,null,{"$f":"IF('náměty na projekční přípravu'!B208=data!$S$2,\"Souvislá údržba\",IF('náměty na projekční přípravu'!B208=data!$S$3,\"Most\",\"-\"))","v":"-"},{"$f":"IF('náměty na projekční přípravu'!B208=data!$S$2,\"Rekonstrukce\",IF('náměty na projekční přípravu'!B208=data!$S$3,\"Propustek\",\"-\"))","v":"-"}]
[null,null,null,null,null,null,null,null,null,null,null,{"$f":"IF('v přípravě a připraveno'!B196=data!$B$2,\"Souvislá údržba\",IF('v přípravě a připraveno'!B196=data!$B$3,\"Most\",\"-\"))","v":"-"},{"$f":"IF('v přípravě a připraveno'!B196=data!$B$2,\"Rekonstrukce\",IF('v přípravě a připraveno'!B196=data!$B$3,\"Propustek\",\"-\"))","v":"-"},null,null,null,null,null,null,null,null,null,null,null,null,null,null,null,{"$f":"IF('náměty na projekční přípravu'!B209=data!$S$2,\"Souvislá údržba\",IF('náměty na projekční přípravu'!B209=data!$S$3,\"Most\",\"-\"))","v":"-"},{"$f":"IF('náměty na projekční přípravu'!B209=data!$S$2,\"Rekonstrukce\",IF('náměty na projekční přípravu'!B209=data!$S$3,\"Propustek\",\"-\"))","v":"-"}]
[null,null,null,null,null,null,null,null,null,null,null,{"$f":"IF('v přípravě a připraveno'!B197=data!$B$2,\"Souvislá údržba\",IF('v přípravě a připraveno'!B197=data!$B$3,\"Most\",\"-\"))","v":"Most"},{"$f":"IF('v přípravě a připraveno'!B197=data!$B$2,\"Rekonstrukce\",IF('v přípravě a připraveno'!B197=data!$B$3,\"Propustek\",\"-\"))","v":"Propustek"},null,null,null,null,null,null,null,null,null,null,null,null,null,null,null,{"$f":"IF('náměty na projekční přípravu'!B210=data!$S$2,\"Souvislá údržba\",IF('náměty na projekční přípravu'!B210=data!$S$3,\"Most\",\"-\"))","v":"-"},{"$f":"IF('náměty na projekční přípravu'!B210=data!$S$2,\"Rekonstrukce\",IF('náměty na projekční přípravu'!B210=data!$S$3,\"Propustek\",\"-\"))","v":"-"}]
[null,null,null,null,null,null,null,null,null,null,null,{"$f":"IF('v přípravě a připraveno'!B198=data!$B$2,\"Souvislá údržba\",IF('v přípravě a připraveno'!B198=data!$B$3,\"Most\",\"-\"))","v":"Souvislá údržba"},{"$f":"IF('v přípravě a připraveno'!B198=data!$B$2,\"Rekonstrukce\",IF('v přípravě a připraveno'!B198=data!$B$3,\"Propustek\",\"-\"))","v":"Rekonstrukce"},null,null,null,null,null,null,null,null,null,null,null,null,null,null,null,{"$f":"IF('náměty na projekční přípravu'!B211=data!$S$2,\"Souvislá údržba\",IF('náměty na projekční přípravu'!B211=data!$S$3,\"Most\",\"-\"))","v":"-"},{"$f":"IF('náměty na projekční přípravu'!B211=data!$S$2,\"Rekonstrukce\",IF('náměty na projekční přípravu'!B211=data!$S$3,\"Propustek\",\"-\"))","v":"-"}]
[null,null,null,null,null,null,null,null,null,null,null,{"$f":"IF('v přípravě a připraveno'!B199=data!$B$2,\"Souvislá údržba\",IF('v přípravě a připraveno'!B199=data!$B$3,\"Most\",\"-\"))","v":"Most"},{"$f":"IF('v přípravě a připraveno'!B199=data!$B$2,\"Rekonstrukce\",IF('v přípravě a připraveno'!B199=data!$B$3,\"Propustek\",\"-\"))","v":"Propustek"},null,null,null,null,null,null,null,null,null,null,null,null,null,null,null,{"$f":"IF('náměty na projekční přípravu'!B212=data!$S$2,\"Souvislá údržba\",IF('náměty na projekční přípravu'!B212=data!$S$3,\"Most\",\"-\"))","v":"-"},{"$f":"IF('náměty na projekční přípravu'!B212=data!$S$2,\"Rekonstrukce\",IF('náměty na projekční přípravu'!B212=data!$S$3,\"Propustek\",\"-\"))","v":"-"}]
[null,null,null,null,null,null,null,null,null,null,null,{"$f":"IF('v přípravě a připraveno'!B200=data!$B$2,\"Souvislá údržba\",IF('v přípravě a připraveno'!B200=data!$B$3,\"Most\",\"-\"))","v":"Souvislá údržba"},{"$f":"IF('v přípravě a připraveno'!B200=data!$B$2,\"Rekonstrukce\",IF('v přípravě a připraveno'!B200=data!$B$3,\"Propustek\",\"-\"))","v":"Rekonstrukce"},null,null,null,null,null,null,null,null,null,null,null,null,null,null,null,{"$f":"IF('náměty na projekční přípravu'!B213=data!$S$2,\"Souvislá údržba\",IF('náměty na projekční přípravu'!B213=data!$S$3,\"Most\",\"-\"))","v":"-"},{"$f":"IF('náměty na projekční přípravu'!B213=data!$S$2,\"Rekonstrukce\",IF('náměty na projekční přípravu'!B213=data!$S$3,\"Propustek\",\"-\"))","v":"-"}]
[null,null,null,null,null,null,null,null,null,null,null,{"$f":"IF('v přípravě a připraveno'!#REF!=data!$B$2,\"Souvislá údržba\",IF('v přípravě a připraveno'!#REF!=data!$B$3,\"Most\",\"-\"))","v":{"$error":"#REF!"}},{"$f":"IF('v přípravě a připraveno'!#REF!=data!$B$2,\"Rekonstrukce\",IF('v přípravě a připraveno'!#REF!=data!$B$3,\"Propustek\",\"-\"))","v":{"$error":"#REF!"}},null,null,null,null,null,null,null,null,null,null,null,null,null,null,null,{"$f":"IF('náměty na projekční přípravu'!B214=data!$S$2,\"Souvislá údržba\",IF('náměty na projekční přípravu'!B214=data!$S$3,\"Most\",\"-\"))","v":"-"},{"$f":"IF('náměty na projekční přípravu'!B214=data!$S$2,\"Rekonstrukce\",IF('náměty na projekční přípravu'!B214=data!$S$3,\"Propustek\",\"-\"))","v":"-"}]
[null,null,null,null,null,null,null,null,null,null,null,{"$f":"IF('v přípravě a připraveno'!#REF!=data!$B$2,\"Souvislá údržba\",IF('v přípravě a připraveno'!#REF!=data!$B$3,\"Most\",\"-\"))","v":{"$error":"#REF!"}},{"$f":"IF('v přípravě a připraveno'!#REF!=data!$B$2,\"Rekonstrukce\",IF('v přípravě a připraveno'!#REF!=data!$B$3,\"Propustek\",\"-\"))","v":{"$error":"#REF!"}},null,null,null,null,null,null,null,null,null,null,null,null,null,null,null,{"$f":"IF('náměty na projekční přípravu'!B215=data!$S$2,\"Souvislá údržba\",IF('náměty na projekční přípravu'!B215=data!$S$3,\"Most\",\"-\"))","v":"-"},{"$f":"IF('náměty na projekční přípravu'!B215=data!$S$2,\"Rekonstrukce\",IF('náměty na projekční přípravu'!B215=data!$S$3,\"Propustek\",\"-\"))","v":"-"}]
[null,null,null,null,null,null,null,null,null,null,null,{"$f":"IF('v přípravě a připraveno'!#REF!=data!$B$2,\"Souvislá údržba\",IF('v přípravě a připraveno'!#REF!=data!$B$3,\"Most\",\"-\"))","v":{"$error":"#REF!"}},{"$f":"IF('v přípravě a připraveno'!#REF!=data!$B$2,\"Rekonstrukce\",IF('v přípravě a připraveno'!#REF!=data!$B$3,\"Propustek\",\"-\"))","v":{"$error":"#REF!"}},null,null,null,null,null,null,null,null,null,null,null,null,null,null,null,{"$f":"IF('náměty na projekční přípravu'!B216=data!$S$2,\"Souvislá údržba\",IF('náměty na projekční přípravu'!B216=data!$S$3,\"Most\",\"-\"))","v":"-"},{"$f":"IF('náměty na projekční přípravu'!B216=data!$S$2,\"Rekonstrukce\",IF('náměty na projekční přípravu'!B216=data!$S$3,\"Propustek\",\"-\"))","v":"-"}]
[null,null,null,null,null,null,null,null,null,null,null,{"$f":"IF('v přípravě a připraveno'!B201=data!$B$2,\"Souvislá údržba\",IF('v přípravě a připraveno'!B201=data!$B$3,\"Most\",\"-\"))","v":"Most"},{"$f":"IF('v přípravě a připraveno'!B201=data!$B$2,\"Rekonstrukce\",IF('v přípravě a připraveno'!B201=data!$B$3,\"Propustek\",\"-\"))","v":"Propustek"},null,null,null,null,null,null,null,null,null,null,null,null,null,null,null,{"$f":"IF('náměty na projekční přípravu'!B217=data!$S$2,\"Souvislá údržba\",IF('náměty na projekční přípravu'!B217=data!$S$3,\"Most\",\"-\"))","v":"-"},{"$f":"IF('náměty na projekční přípravu'!B217=data!$S$2,\"Rekonstrukce\",IF('náměty na projekční přípravu'!B217=data!$S$3,\"Propustek\",\"-\"))","v":"-"}]
[null,null,null,null,null,null,null,null,null,null,null,{"$f":"IF('v přípravě a připraveno'!#REF!=data!$B$2,\"Souvislá údržba\",IF('v přípravě a připraveno'!#REF!=data!$B$3,\"Most\",\"-\"))","v":{"$error":"#REF!"}},{"$f":"IF('v přípravě a připraveno'!#REF!=data!$B$2,\"Rekonstrukce\",IF('v přípravě a připraveno'!#REF!=data!$B$3,\"Propustek\",\"-\"))","v":{"$error":"#REF!"}},null,null,null,null,null,null,null,null,null,null,null,null,null,null,null,{"$f":"IF('náměty na projekční přípravu'!B218=data!$S$2,\"Souvislá údržba\",IF('náměty na projekční přípravu'!B218=data!$S$3,\"Most\",\"-\"))","v":"-"},{"$f":"IF('náměty na projekční přípravu'!B218=data!$S$2,\"Rekonstrukce\",IF('náměty na projekční přípravu'!B218=data!$S$3,\"Propustek\",\"-\"))","v":"-"}]
[null,null,null,null,null,null,null,null,null,null,null,{"$f":"IF('v přípravě a připraveno'!B202=data!$B$2,\"Souvislá údržba\",IF('v přípravě a připraveno'!B202=data!$B$3,\"Most\",\"-\"))","v":"Souvislá údržba"},{"$f":"IF('v přípravě a připraveno'!B202=data!$B$2,\"Rekonstrukce\",IF('v přípravě a připraveno'!B202=data!$B$3,\"Propustek\",\"-\"))","v":"Rekonstrukce"},null,null,null,null,null,null,null,null,null,null,null,null,null,null,null,{"$f":"IF('náměty na projekční přípravu'!B219=data!$S$2,\"Souvislá údržba\",IF('náměty na projekční přípravu'!B219=data!$S$3,\"Most\",\"-\"))","v":"-"},{"$f":"IF('náměty na projekční přípravu'!B219=data!$S$2,\"Rekonstrukce\",IF('náměty na projekční přípravu'!B219=data!$S$3,\"Propustek\",\"-\"))","v":"-"}]
[null,null,null,null,null,null,null,null,null,null,null,{"$f":"IF('v přípravě a připraveno'!#REF!=data!$B$2,\"Souvislá údržba\",IF('v přípravě a připraveno'!#REF!=data!$B$3,\"Most\",\"-\"))","v":{"$error":"#REF!"}},{"$f":"IF('v přípravě a připraveno'!#REF!=data!$B$2,\"Rekonstrukce\",IF('v přípravě a připraveno'!#REF!=data!$B$3,\"Propustek\",\"-\"))","v":{"$error":"#REF!"}},null,null,null,null,null,null,null,null,null,null,null,null,null,null,null,{"$f":"IF('náměty na projekční přípravu'!B220=data!$S$2,\"Souvislá údržba\",IF('náměty na projekční přípravu'!B220=data!$S$3,\"Most\",\"-\"))","v":"-"},{"$f":"IF('náměty na projekční přípravu'!B220=data!$S$2,\"Rekonstrukce\",IF('náměty na projekční přípravu'!B220=data!$S$3,\"Propustek\",\"-\"))","v":"-"}]
[null,null,null,null,null,null,null,null,null,null,null,{"$f":"IF('v přípravě a připraveno'!B203=data!$B$2,\"Souvislá údržba\",IF('v přípravě a připraveno'!B203=data!$B$3,\"Most\",\"-\"))","v":"Souvislá údržba"},{"$f":"IF('v přípravě a připraveno'!B203=data!$B$2,\"Rekonstrukce\",IF('v přípravě a připraveno'!B203=data!$B$3,\"Propustek\",\"-\"))","v":"Rekonstrukce"},null,null,null,null,null,null,null,null,null,null,null,null,null,null,null,{"$f":"IF('náměty na projekční přípravu'!B221=data!$S$2,\"Souvislá údržba\",IF('náměty na projekční přípravu'!B221=data!$S$3,\"Most\",\"-\"))","v":"-"},{"$f":"IF('náměty na projekční přípravu'!B221=data!$S$2,\"Rekonstrukce\",IF('náměty na projekční přípravu'!B221=data!$S$3,\"Propustek\",\"-\"))","v":"-"}]
[null,null,null,null,null,null,null,null,null,null,null,{"$f":"IF('v přípravě a připraveno'!#REF!=data!$B$2,\"Souvislá údržba\",IF('v přípravě a připraveno'!#REF!=data!$B$3,\"Most\",\"-\"))","v":{"$error":"#REF!"}},{"$f":"IF('v přípravě a připraveno'!#REF!=data!$B$2,\"Rekonstrukce\",IF('v přípravě a připraveno'!#REF!=data!$B$3,\"Propustek\",\"-\"))","v":{"$error":"#REF!"}},null,null,null,null,null,null,null,null,null,null,null,null,null,null,null,{"$f":"IF('náměty na projekční přípravu'!B222=data!$S$2,\"Souvislá údržba\",IF('náměty na projekční přípravu'!B222=data!$S$3,\"Most\",\"-\"))","v":"-"},{"$f":"IF('náměty na projekční přípravu'!B222=data!$S$2,\"Rekonstrukce\",IF('náměty na projekční přípravu'!B222=data!$S$3,\"Propustek\",\"-\"))","v":"-"}]
[null,null,null,null,null,null,null,null,null,null,null,{"$f":"IF('v přípravě a připraveno'!#REF!=data!$B$2,\"Souvislá údržba\",IF('v přípravě a připraveno'!#REF!=data!$B$3,\"Most\",\"-\"))","v":{"$error":"#REF!"}},{"$f":"IF('v přípravě a připraveno'!#REF!=data!$B$2,\"Rekonstrukce\",IF('v přípravě a připraveno'!#REF!=data!$B$3,\"Propustek\",\"-\"))","v":{"$error":"#REF!"}},null,null,null,null,null,null,null,null,null,null,null,null,null,null,null,{"$f":"IF('náměty na projekční přípravu'!B223=data!$S$2,\"Souvislá údržba\",IF('náměty na projekční přípravu'!B223=data!$S$3,\"Most\",\"-\"))","v":"-"},{"$f":"IF('náměty na projekční přípravu'!B223=data!$S$2,\"Rekonstrukce\",IF('náměty na projekční přípravu'!B223=data!$S$3,\"Propustek\",\"-\"))","v":"-"}]
[null,null,null,null,null,null,null,null,null,null,null,{"$f":"IF('v přípravě a připraveno'!B204=data!$B$2,\"Souvislá údržba\",IF('v přípravě a připraveno'!B204=data!$B$3,\"Most\",\"-\"))","v":"Souvislá údržba"},{"$f":"IF('v přípravě a připraveno'!B204=data!$B$2,\"Rekonstrukce\",IF('v přípravě a připraveno'!B204=data!$B$3,\"Propustek\",\"-\"))","v":"Rekonstrukce"},null,null,null,null,null,null,null,null,null,null,null,null,null,null,null,{"$f":"IF('náměty na projekční přípravu'!B224=data!$S$2,\"Souvislá údržba\",IF('náměty na projekční přípravu'!B224=data!$S$3,\"Most\",\"-\"))","v":"-"},{"$f":"IF('náměty na projekční přípravu'!B224=data!$S$2,\"Rekonstrukce\",IF('náměty na projekční přípravu'!B224=data!$S$3,\"Propustek\",\"-\"))","v":"-"}]
[null,null,null,null,null,null,null,null,null,null,null,{"$f":"IF('v přípravě a připraveno'!B205=data!$B$2,\"Souvislá údržba\",IF('v přípravě a připraveno'!B205=data!$B$3,\"Most\",\"-\"))","v":"Souvislá údržba"},{"$f":"IF('v přípravě a připraveno'!B205=data!$B$2,\"Rekonstrukce\",IF('v přípravě a připraveno'!B205=data!$B$3,\"Propustek\",\"-\"))","v":"Rekonstrukce"},null,null,null,null,null,null,null,null,null,null,null,null,null,null,null,{"$f":"IF('náměty na projekční přípravu'!B225=data!$S$2,\"Souvislá údržba\",IF('náměty na projekční přípravu'!B225=data!$S$3,\"Most\",\"-\"))","v":"-"},{"$f":"IF('náměty na projekční přípravu'!B225=data!$S$2,\"Rekonstrukce\",IF('náměty na projekční přípravu'!B225=data!$S$3,\"Propustek\",\"-\"))","v":"-"}]
[null,null,null,null,null,null,null,null,null,null,null,{"$f":"IF('v přípravě a připraveno'!#REF!=data!$B$2,\"Souvislá údržba\",IF('v přípravě a připraveno'!#REF!=data!$B$3,\"Most\",\"-\"))","v":{"$error":"#REF!"}},{"$f":"IF('v přípravě a připraveno'!#REF!=data!$B$2,\"Rekonstrukce\",IF('v přípravě a připraveno'!#REF!=data!$B$3,\"Propustek\",\"-\"))","v":{"$error":"#REF!"}},null,null,null,null,null,null,null,null,null,null,null,null,null,null,null,{"$f":"IF('náměty na projekční přípravu'!B226=data!$S$2,\"Souvislá údržba\",IF('náměty na projekční přípravu'!B226=data!$S$3,\"Most\",\"-\"))","v":"-"},{"$f":"IF('náměty na projekční přípravu'!B226=data!$S$2,\"Rekonstrukce\",IF('náměty na projekční přípravu'!B226=data!$S$3,\"Propustek\",\"-\"))","v":"-"}]
[null,null,null,null,null,null,null,null,null,null,null,{"$f":"IF('v přípravě a připraveno'!B206=data!$B$2,\"Souvislá údržba\",IF('v přípravě a připraveno'!B206=data!$B$3,\"Most\",\"-\"))","v":"Most"},{"$f":"IF('v přípravě a připraveno'!B206=data!$B$2,\"Rekonstrukce\",IF('v přípravě a připraveno'!B206=data!$B$3,\"Propustek\",\"-\"))","v":"Propustek"},null,null,null,null,null,null,null,null,null,null,null,null,null,null,null,{"$f":"IF('náměty na projekční přípravu'!B227=data!$S$2,\"Souvislá údržba\",IF('náměty na projekční přípravu'!B227=data!$S$3,\"Most\",\"-\"))","v":"-"},{"$f":"IF('náměty na projekční přípravu'!B227=data!$S$2,\"Rekonstrukce\",IF('náměty na projekční přípravu'!B227=data!$S$3,\"Propustek\",\"-\"))","v":"-"}]
[null,null,null,null,null,null,null,null,null,null,null,{"$f":"IF('v přípravě a připraveno'!B207=data!$B$2,\"Souvislá údržba\",IF('v přípravě a připraveno'!B207=data!$B$3,\"Most\",\"-\"))","v":"Souvislá údržba"},{"$f":"IF('v přípravě a připraveno'!B207=data!$B$2,\"Rekonstrukce\",IF('v přípravě a připraveno'!B207=data!$B$3,\"Propustek\",\"-\"))","v":"Rekonstrukce"},null,null,null,null,null,null,null,null,null,null,null,null,null,null,null,{"$f":"IF('náměty na projekční přípravu'!B228=data!$S$2,\"Souvislá údržba\",IF('náměty na projekční přípravu'!B228=data!$S$3,\"Most\",\"-\"))","v":"-"},{"$f":"IF('náměty na projekční přípravu'!B228=data!$S$2,\"Rekonstrukce\",IF('náměty na projekční přípravu'!B228=data!$S$3,\"Propustek\",\"-\"))","v":"-"}]
[null,null,null,null,null,null,null,null,null,null,null,{"$f":"IF('v přípravě a připraveno'!B208=data!$B$2,\"Souvislá údržba\",IF('v přípravě a připraveno'!B208=data!$B$3,\"Most\",\"-\"))","v":"Souvislá údržba"},{"$f":"IF('v přípravě a připraveno'!B208=data!$B$2,\"Rekonstrukce\",IF('v přípravě a připraveno'!B208=data!$B$3,\"Propustek\",\"-\"))","v":"Rekonstrukce"},null,null,null,null,null,null,null,null,null,null,null,null,null,null,null,{"$f":"IF('náměty na projekční přípravu'!B229=data!$S$2,\"Souvislá údržba\",IF('náměty na projekční přípravu'!B229=data!$S$3,\"Most\",\"-\"))","v":"-"},{"$f":"IF('náměty na projekční přípravu'!B229=data!$S$2,\"Rekonstrukce\",IF('náměty na projekční přípravu'!B229=data!$S$3,\"Propustek\",\"-\"))","v":"-"}]
[null,null,null,null,null,null,null,null,null,null,null,{"$f":"IF('v přípravě a připraveno'!B209=data!$B$2,\"Souvislá údržba\",IF('v přípravě a připraveno'!B209=data!$B$3,\"Most\",\"-\"))","v":"Souvislá údržba"},{"$f":"IF('v přípravě a připraveno'!B209=data!$B$2,\"Rekonstrukce\",IF('v přípravě a připraveno'!B209=data!$B$3,\"Propustek\",\"-\"))","v":"Rekonstrukce"},null,null,null,null,null,null,null,null,null,null,null,null,null,null,null,{"$f":"IF('náměty na projekční přípravu'!B230=data!$S$2,\"Souvislá údržba\",IF('náměty na projekční přípravu'!B230=data!$S$3,\"Most\",\"-\"))","v":"-"},{"$f":"IF('náměty na projekční přípravu'!B230=data!$S$2,\"Rekonstrukce\",IF('náměty na projekční přípravu'!B230=data!$S$3,\"Propustek\",\"-\"))","v":"-"}]
[null,null,null,null,null,null,null,null,null,null,null,{"$f":"IF('v přípravě a připraveno'!#REF!=data!$B$2,\"Souvislá údržba\",IF('v přípravě a připraveno'!#REF!=data!$B$3,\"Most\",\"-\"))","v":{"$error":"#REF!"}},{"$f":"IF('v přípravě a připraveno'!#REF!=data!$B$2,\"Rekonstrukce\",IF('v přípravě a připraveno'!#REF!=data!$B$3,\"Propustek\",\"-\"))","v":{"$error":"#REF!"}},null,null,null,null,null,null,null,null,null,null,null,null,null,null,null,{"$f":"IF('náměty na projekční přípravu'!B231=data!$S$2,\"Souvislá údržba\",IF('náměty na projekční přípravu'!B231=data!$S$3,\"Most\",\"-\"))","v":"-"},{"$f":"IF('náměty na projekční přípravu'!B231=data!$S$2,\"Rekonstrukce\",IF('náměty na projekční přípravu'!B231=data!$S$3,\"Propustek\",\"-\"))","v":"-"}]
[null,null,null,null,null,null,null,null,null,null,null,{"$f":"IF('v přípravě a připraveno'!B210=data!$B$2,\"Souvislá údržba\",IF('v přípravě a připraveno'!B210=data!$B$3,\"Most\",\"-\"))","v":"Most"},{"$f":"IF('v přípravě a připraveno'!B210=data!$B$2,\"Rekonstrukce\",IF('v přípravě a připraveno'!B210=data!$B$3,\"Propustek\",\"-\"))","v":"Propustek"},null,null,null,null,null,null,null,null,null,null,null,null,null,null,null,{"$f":"IF('náměty na projekční přípravu'!B232=data!$S$2,\"Souvislá údržba\",IF('náměty na projekční přípravu'!B232=data!$S$3,\"Most\",\"-\"))","v":"-"},{"$f":"IF('náměty na projekční přípravu'!B232=data!$S$2,\"Rekonstrukce\",IF('náměty na projekční přípravu'!B232=data!$S$3,\"Propustek\",\"-\"))","v":"-"}]
[null,null,null,null,null,null,null,null,null,null,null,{"$f":"IF('v přípravě a připraveno'!B211=data!$B$2,\"Souvislá údržba\",IF('v přípravě a připraveno'!B211=data!$B$3,\"Most\",\"-\"))","v":"Souvislá údržba"},{"$f":"IF('v přípravě a připraveno'!B211=data!$B$2,\"Rekonstrukce\",IF('v přípravě a připraveno'!B211=data!$B$3,\"Propustek\",\"-\"))","v":"Rekonstrukce"},null,null,null,null,null,null,null,null,null,null,null,null,null,null,null,{"$f":"IF('náměty na projekční přípravu'!B233=data!$S$2,\"Souvislá údržba\",IF('náměty na projekční přípravu'!B233=data!$S$3,\"Most\",\"-\"))","v":"-"},{"$f":"IF('náměty na projekční přípravu'!B233=data!$S$2,\"Rekonstrukce\",IF('náměty na projekční přípravu'!B233=data!$S$3,\"Propustek\",\"-\"))","v":"-"}]
[null,null,null,null,null,null,null,null,null,null,null,{"$f":"IF('v přípravě a připraveno'!B212=data!$B$2,\"Souvislá údržba\",IF('v přípravě a připraveno'!B212=data!$B$3,\"Most\",\"-\"))","v":"-"},{"$f":"IF('v přípravě a připraveno'!B212=data!$B$2,\"Rekonstrukce\",IF('v přípravě a připraveno'!B212=data!$B$3,\"Propustek\",\"-\"))","v":"-"},null,null,null,null,null,null,null,null,null,null,null,null,null,null,null,{"$f":"IF('náměty na projekční přípravu'!B234=data!$S$2,\"Souvislá údržba\",IF('náměty na projekční přípravu'!B234=data!$S$3,\"Most\",\"-\"))","v":"-"},{"$f":"IF('náměty na projekční přípravu'!B234=data!$S$2,\"Rekonstrukce\",IF('náměty na projekční přípravu'!B234=data!$S$3,\"Propustek\",\"-\"))","v":"-"}]
[null,null,null,null,null,null,null,null,null,null,null,{"$f":"IF('v přípravě a připraveno'!B213=data!$B$2,\"Souvislá údržba\",IF('v přípravě a připraveno'!B213=data!$B$3,\"Most\",\"-\"))","v":"Most"},{"$f":"IF('v přípravě a připraveno'!B213=data!$B$2,\"Rekonstrukce\",IF('v přípravě a připraveno'!B213=data!$B$3,\"Propustek\",\"-\"))","v":"Propustek"},null,null,null,null,null,null,null,null,null,null,null,null,null,null,null,{"$f":"IF('náměty na projekční přípravu'!B235=data!$S$2,\"Souvislá údržba\",IF('náměty na projekční přípravu'!B235=data!$S$3,\"Most\",\"-\"))","v":"-"},{"$f":"IF('náměty na projekční přípravu'!B235=data!$S$2,\"Rekonstrukce\",IF('náměty na projekční přípravu'!B235=data!$S$3,\"Propustek\",\"-\"))","v":"-"}]
[null,null,null,null,null,null,null,null,null,null,null,{"$f":"IF('v přípravě a připraveno'!B214=data!$B$2,\"Souvislá údržba\",IF('v přípravě a připraveno'!B214=data!$B$3,\"Most\",\"-\"))","v":"Most"},{"$f":"IF('v přípravě a připraveno'!B214=data!$B$2,\"Rekonstrukce\",IF('v přípravě a připraveno'!B214=data!$B$3,\"Propustek\",\"-\"))","v":"Propustek"},null,null,null,null,null,null,null,null,null,null,null,null,null,null,null,{"$f":"IF('náměty na projekční přípravu'!B236=data!$S$2,\"Souvislá údržba\",IF('náměty na projekční přípravu'!B236=data!$S$3,\"Most\",\"-\"))","v":"-"},{"$f":"IF('náměty na projekční přípravu'!B236=data!$S$2,\"Rekonstrukce\",IF('náměty na projekční přípravu'!B236=data!$S$3,\"Propustek\",\"-\"))","v":"-"}]
[null,null,null,null,null,null,null,null,null,null,null,{"$f":"IF('v přípravě a připraveno'!B215=data!$B$2,\"Souvislá údržba\",IF('v přípravě a připraveno'!B215=data!$B$3,\"Most\",\"-\"))","v":"Souvislá údržba"},{"$f":"IF('v přípravě a připraveno'!B215=data!$B$2,\"Rekonstrukce\",IF('v přípravě a připraveno'!B215=data!$B$3,\"Propustek\",\"-\"))","v":"Rekonstrukce"},null,null,null,null,null,null,null,null,null,null,null,null,null,null,null,{"$f":"IF('náměty na projekční přípravu'!B237=data!$S$2,\"Souvislá údržba\",IF('náměty na projekční přípravu'!B237=data!$S$3,\"Most\",\"-\"))","v":"-"},{"$f":"IF('náměty na projekční přípravu'!B237=data!$S$2,\"Rekonstrukce\",IF('náměty na projekční přípravu'!B237=data!$S$3,\"Propustek\",\"-\"))","v":"-"}]
[null,null,null,null,null,null,null,null,null,null,null,{"$f":"IF('v přípravě a připraveno'!B216=data!$B$2,\"Souvislá údržba\",IF('v přípravě a připraveno'!B216=data!$B$3,\"Most\",\"-\"))","v":"Souvislá údržba"},{"$f":"IF('v přípravě a připraveno'!B216=data!$B$2,\"Rekonstrukce\",IF('v přípravě a připraveno'!B216=data!$B$3,\"Propustek\",\"-\"))","v":"Rekonstrukce"},null,null,null,null,null,null,null,null,null,null,null,null,null,null,null,{"$f":"IF('náměty na projekční přípravu'!B238=data!$S$2,\"Souvislá údržba\",IF('náměty na projekční přípravu'!B238=data!$S$3,\"Most\",\"-\"))","v":"-"},{"$f":"IF('náměty na projekční přípravu'!B238=data!$S$2,\"Rekonstrukce\",IF('náměty na projekční přípravu'!B238=data!$S$3,\"Propustek\",\"-\"))","v":"-"}]
[null,null,null,null,null,null,null,null,null,null,null,{"$f":"IF('v přípravě a připraveno'!B217=data!$B$2,\"Souvislá údržba\",IF('v přípravě a připraveno'!B217=data!$B$3,\"Most\",\"-\"))","v":"Souvislá údržba"},{"$f":"IF('v přípravě a připraveno'!B217=data!$B$2,\"Rekonstrukce\",IF('v přípravě a připraveno'!B217=data!$B$3,\"Propustek\",\"-\"))","v":"Rekonstrukce"},null,null,null,null,null,null,null,null,null,null,null,null,null,null,null,{"$f":"IF('náměty na projekční přípravu'!B239=data!$S$2,\"Souvislá údržba\",IF('náměty na projekční přípravu'!B239=data!$S$3,\"Most\",\"-\"))","v":"-"},{"$f":"IF('náměty na projekční přípravu'!B239=data!$S$2,\"Rekonstrukce\",IF('náměty na projekční přípravu'!B239=data!$S$3,\"Propustek\",\"-\"))","v":"-"}]
[null,null,null,null,null,null,null,null,null,null,null,{"$f":"IF('v přípravě a připraveno'!B218=data!$B$2,\"Souvislá údržba\",IF('v přípravě a připraveno'!B218=data!$B$3,\"Most\",\"-\"))","v":"Souvislá údržba"},{"$f":"IF('v přípravě a připraveno'!B218=data!$B$2,\"Rekonstrukce\",IF('v přípravě a připraveno'!B218=data!$B$3,\"Propustek\",\"-\"))","v":"Rekonstrukce"},null,null,null,null,null,null,null,null,null,null,null,null,null,null,null,{"$f":"IF('náměty na projekční přípravu'!B240=data!$S$2,\"Souvislá údržba\",IF('náměty na projekční přípravu'!B240=data!$S$3,\"Most\",\"-\"))","v":"-"},{"$f":"IF('náměty na projekční přípravu'!B240=data!$S$2,\"Rekonstrukce\",IF('náměty na projekční přípravu'!B240=data!$S$3,\"Propustek\",\"-\"))","v":"-"}]
[null,null,null,null,null,null,null,null,null,null,null,{"$f":"IF('v přípravě a připraveno'!B219=data!$B$2,\"Souvislá údržba\",IF('v přípravě a připraveno'!B219=data!$B$3,\"Most\",\"-\"))","v":"Most"},{"$f":"IF('v přípravě a připraveno'!B219=data!$B$2,\"Rekonstrukce\",IF('v přípravě a připraveno'!B219=data!$B$3,\"Propustek\",\"-\"))","v":"Propustek"},null,null,null,null,null,null,null,null,null,null,null,null,null,null,null,{"$f":"IF('náměty na projekční přípravu'!B241=data!$S$2,\"Souvislá údržba\",IF('náměty na projekční přípravu'!B241=data!$S$3,\"Most\",\"-\"))","v":"-"},{"$f":"IF('náměty na projekční přípravu'!B241=data!$S$2,\"Rekonstrukce\",IF('náměty na projekční přípravu'!B241=data!$S$3,\"Propustek\",\"-\"))","v":"-"}]
[null,null,null,null,null,null,null,null,null,null,null,{"$f":"IF('v přípravě a připraveno'!B220=data!$B$2,\"Souvislá údržba\",IF('v přípravě a připraveno'!B220=data!$B$3,\"Most\",\"-\"))","v":"Souvislá údržba"},{"$f":"IF('v přípravě a připraveno'!B220=data!$B$2,\"Rekonstrukce\",IF('v přípravě a připraveno'!B220=data!$B$3,\"Propustek\",\"-\"))","v":"Rekonstrukce"},null,null,null,null,null,null,null,null,null,null,null,null,null,null,null,{"$f":"IF('náměty na projekční přípravu'!B242=data!$S$2,\"Souvislá údržba\",IF('náměty na projekční přípravu'!B242=data!$S$3,\"Most\",\"-\"))","v":"-"},{"$f":"IF('náměty na projekční přípravu'!B242=data!$S$2,\"Rekonstrukce\",IF('náměty na projekční přípravu'!B242=data!$S$3,\"Propustek\",\"-\"))","v":"-"}]
[null,null,null,null,null,null,null,null,null,null,null,{"$f":"IF('v přípravě a připraveno'!B221=data!$B$2,\"Souvislá údržba\",IF('v přípravě a připraveno'!B221=data!$B$3,\"Most\",\"-\"))","v":"Souvislá údržba"},{"$f":"IF('v přípravě a připraveno'!B221=data!$B$2,\"Rekonstrukce\",IF('v přípravě a připraveno'!B221=data!$B$3,\"Propustek\",\"-\"))","v":"Rekonstrukce"},null,null,null,null,null,null,null,null,null,null,null,null,null,null,null,{"$f":"IF('náměty na projekční přípravu'!B243=data!$S$2,\"Souvislá údržba\",IF('náměty na projekční přípravu'!B243=data!$S$3,\"Most\",\"-\"))","v":"-"},{"$f":"IF('náměty na projekční přípravu'!B243=data!$S$2,\"Rekonstrukce\",IF('náměty na projekční přípravu'!B243=data!$S$3,\"Propustek\",\"-\"))","v":"-"}]
[null,null,null,null,null,null,null,null,null,null,null,{"$f":"IF('v přípravě a připraveno'!B222=data!$B$2,\"Souvislá údržba\",IF('v přípravě a připraveno'!B222=data!$B$3,\"Most\",\"-\"))","v":"Souvislá údržba"},{"$f":"IF('v přípravě a připraveno'!B222=data!$B$2,\"Rekonstrukce\",IF('v přípravě a připraveno'!B222=data!$B$3,\"Propustek\",\"-\"))","v":"Rekonstrukce"},null,null,null,null,null,null,null,null,null,null,null,null,null,null,null,{"$f":"IF('náměty na projekční přípravu'!B244=data!$S$2,\"Souvislá údržba\",IF('náměty na projekční přípravu'!B244=data!$S$3,\"Most\",\"-\"))","v":"-"},{"$f":"IF('náměty na projekční přípravu'!B244=data!$S$2,\"Rekonstrukce\",IF('náměty na projekční přípravu'!B244=data!$S$3,\"Propustek\",\"-\"))","v":"-"}]
[null,null,null,null,null,null,null,null,null,null,null,{"$f":"IF('v přípravě a připraveno'!B223=data!$B$2,\"Souvislá údržba\",IF('v přípravě a připraveno'!B223=data!$B$3,\"Most\",\"-\"))","v":"Souvislá údržba"},{"$f":"IF('v přípravě a připraveno'!B223=data!$B$2,\"Rekonstrukce\",IF('v přípravě a připraveno'!B223=data!$B$3,\"Propustek\",\"-\"))","v":"Rekonstrukce"},null,null,null,null,null,null,null,null,null,null,null,null,null,null,null,{"$f":"IF('náměty na projekční přípravu'!B245=data!$S$2,\"Souvislá údržba\",IF('náměty na projekční přípravu'!B245=data!$S$3,\"Most\",\"-\"))","v":"-"},{"$f":"IF('náměty na projekční přípravu'!B245=data!$S$2,\"Rekonstrukce\",IF('náměty na projekční přípravu'!B245=data!$S$3,\"Propustek\",\"-\"))","v":"-"}]
[null,null,null,null,null,null,null,null,null,null,null,{"$f":"IF('v přípravě a připraveno'!B224=data!$B$2,\"Souvislá údržba\",IF('v přípravě a připraveno'!B224=data!$B$3,\"Most\",\"-\"))","v":"Most"},{"$f":"IF('v přípravě a připraveno'!B224=data!$B$2,\"Rekonstrukce\",IF('v přípravě a připraveno'!B224=data!$B$3,\"Propustek\",\"-\"))","v":"Propustek"},null,null,null,null,null,null,null,null,null,null,null,null,null,null,null,{"$f":"IF('náměty na projekční přípravu'!B246=data!$S$2,\"Souvislá údržba\",IF('náměty na projekční přípravu'!B246=data!$S$3,\"Most\",\"-\"))","v":"-"},{"$f":"IF('náměty na projekční přípravu'!B246=data!$S$2,\"Rekonstrukce\",IF('náměty na projekční přípravu'!B246=data!$S$3,\"Propustek\",\"-\"))","v":"-"}]
[null,null,null,null,null,null,null,null,null,null,null,{"$f":"IF('v přípravě a připraveno'!#REF!=data!$B$2,\"Souvislá údržba\",IF('v přípravě a připraveno'!#REF!=data!$B$3,\"Most\",\"-\"))","v":{"$error":"#REF!"}},{"$f":"IF('v přípravě a připraveno'!#REF!=data!$B$2,\"Rekonstrukce\",IF('v přípravě a připraveno'!#REF!=data!$B$3,\"Propustek\",\"-\"))","v":{"$error":"#REF!"}},null,null,null,null,null,null,null,null,null,null,null,null,null,null,null,{"$f":"IF('náměty na projekční přípravu'!B247=data!$S$2,\"Souvislá údržba\",IF('náměty na projekční přípravu'!B247=data!$S$3,\"Most\",\"-\"))","v":"-"},{"$f":"IF('náměty na projekční přípravu'!B247=data!$S$2,\"Rekonstrukce\",IF('náměty na projekční přípravu'!B247=data!$S$3,\"Propustek\",\"-\"))","v":"-"}]
[null,null,null,null,null,null,null,null,null,null,null,{"$f":"IF('v přípravě a připraveno'!B225=data!$B$2,\"Souvislá údržba\",IF('v přípravě a připraveno'!B225=data!$B$3,\"Most\",\"-\"))","v":"Souvislá údržba"},{"$f":"IF('v přípravě a připraveno'!B225=data!$B$2,\"Rekonstrukce\",IF('v přípravě a připraveno'!B225=data!$B$3,\"Propustek\",\"-\"))","v":"Rekonstrukce"},null,null,null,null,null,null,null,null,null,null,null,null,null,null,null,{"$f":"IF('náměty na projekční přípravu'!B248=data!$S$2,\"Souvislá údržba\",IF('náměty na projekční přípravu'!B248=data!$S$3,\"Most\",\"-\"))","v":"-"},{"$f":"IF('náměty na projekční přípravu'!B248=data!$S$2,\"Rekonstrukce\",IF('náměty na projekční přípravu'!B248=data!$S$3,\"Propustek\",\"-\"))","v":"-"}]
[null,null,null,null,null,null,null,null,null,null,null,{"$f":"IF('v přípravě a připraveno'!#REF!=data!$B$2,\"Souvislá údržba\",IF('v přípravě a připraveno'!#REF!=data!$B$3,\"Most\",\"-\"))","v":{"$error":"#REF!"}},{"$f":"IF('v přípravě a připraveno'!#REF!=data!$B$2,\"Rekonstrukce\",IF('v přípravě a připraveno'!#REF!=data!$B$3,\"Propustek\",\"-\"))","v":{"$error":"#REF!"}},null,null,null,null,null,null,null,null,null,null,null,null,null,null,null,{"$f":"IF('náměty na projekční přípravu'!B249=data!$S$2,\"Souvislá údržba\",IF('náměty na projekční přípravu'!B249=data!$S$3,\"Most\",\"-\"))","v":"-"},{"$f":"IF('náměty na projekční přípravu'!B249=data!$S$2,\"Rekonstrukce\",IF('náměty na projekční přípravu'!B249=data!$S$3,\"Propustek\",\"-\"))","v":"-"}]
[null,null,null,null,null,null,null,null,null,null,null,{"$f":"IF('v přípravě a připraveno'!B226=data!$B$2,\"Souvislá údržba\",IF('v přípravě a připraveno'!B226=data!$B$3,\"Most\",\"-\"))","v":"Souvislá údržba"},{"$f":"IF('v přípravě a připraveno'!B226=data!$B$2,\"Rekonstrukce\",IF('v přípravě a připraveno'!B226=data!$B$3,\"Propustek\",\"-\"))","v":"Rekonstrukce"},null,null,null,null,null,null,null,null,null,null,null,null,null,null,null,{"$f":"IF('náměty na projekční přípravu'!B250=data!$S$2,\"Souvislá údržba\",IF('náměty na projekční přípravu'!B250=data!$S$3,\"Most\",\"-\"))","v":"-"},{"$f":"IF('náměty na projekční přípravu'!B250=data!$S$2,\"Rekonstrukce\",IF('náměty na projekční přípravu'!B250=data!$S$3,\"Propustek\",\"-\"))","v":"-"}]
[null,null,null,null,null,null,null,null,null,null,null,{"$f":"IF('v přípravě a připraveno'!#REF!=data!$B$2,\"Souvislá údržba\",IF('v přípravě a připraveno'!#REF!=data!$B$3,\"Most\",\"-\"))","v":{"$error":"#REF!"}},{"$f":"IF('v přípravě a připraveno'!#REF!=data!$B$2,\"Rekonstrukce\",IF('v přípravě a připraveno'!#REF!=data!$B$3,\"Propustek\",\"-\"))","v":{"$error":"#REF!"}},null,null,null,null,null,null,null,null,null,null,null,null,null,null,null,{"$f":"IF('náměty na projekční přípravu'!B251=data!$S$2,\"Souvislá údržba\",IF('náměty na projekční přípravu'!B251=data!$S$3,\"Most\",\"-\"))","v":"-"},{"$f":"IF('náměty na projekční přípravu'!B251=data!$S$2,\"Rekonstrukce\",IF('náměty na projekční přípravu'!B251=data!$S$3,\"Propustek\",\"-\"))","v":"-"}]
[null,null,null,null,null,null,null,null,null,null,null,{"$f":"IF('v přípravě a připraveno'!B227=data!$B$2,\"Souvislá údržba\",IF('v přípravě a připraveno'!B227=data!$B$3,\"Most\",\"-\"))","v":"Souvislá údržba"},{"$f":"IF('v přípravě a připraveno'!B227=data!$B$2,\"Rekonstrukce\",IF('v přípravě a připraveno'!B227=data!$B$3,\"Propustek\",\"-\"))","v":"Rekonstrukce"},null,null,null,null,null,null,null,null,null,null,null,null,null,null,null,{"$f":"IF('náměty na projekční přípravu'!B252=data!$S$2,\"Souvislá údržba\",IF('náměty na projekční přípravu'!B252=data!$S$3,\"Most\",\"-\"))","v":"-"},{"$f":"IF('náměty na projekční přípravu'!B252=data!$S$2,\"Rekonstrukce\",IF('náměty na projekční přípravu'!B252=data!$S$3,\"Propustek\",\"-\"))","v":"-"}]
[null,null,null,null,null,null,null,null,null,null,null,{"$f":"IF('v přípravě a připraveno'!B228=data!$B$2,\"Souvislá údržba\",IF('v přípravě a připraveno'!B228=data!$B$3,\"Most\",\"-\"))","v":"Souvislá údržba"},{"$f":"IF('v přípravě a připraveno'!B228=data!$B$2,\"Rekonstrukce\",IF('v přípravě a připraveno'!B228=data!$B$3,\"Propustek\",\"-\"))","v":"Rekonstrukce"},null,null,null,null,null,null,null,null,null,null,null,null,null,null,null,{"$f":"IF('náměty na projekční přípravu'!B253=data!$S$2,\"Souvislá údržba\",IF('náměty na projekční přípravu'!B253=data!$S$3,\"Most\",\"-\"))","v":"-"},{"$f":"IF('náměty na projekční přípravu'!B253=data!$S$2,\"Rekonstrukce\",IF('náměty na projekční přípravu'!B253=data!$S$3,\"Propustek\",\"-\"))","v":"-"}]
[null,null,null,null,null,null,null,null,null,null,null,{"$f":"IF('v přípravě a připraveno'!#REF!=data!$B$2,\"Souvislá údržba\",IF('v přípravě a připraveno'!#REF!=data!$B$3,\"Most\",\"-\"))","v":{"$error":"#REF!"}},{"$f":"IF('v přípravě a připraveno'!#REF!=data!$B$2,\"Rekonstrukce\",IF('v přípravě a připraveno'!#REF!=data!$B$3,\"Propustek\",\"-\"))","v":{"$error":"#REF!"}},null,null,null,null,null,null,null,null,null,null,null,null,null,null,null,{"$f":"IF('náměty na projekční přípravu'!B254=data!$S$2,\"Souvislá údržba\",IF('náměty na projekční přípravu'!B254=data!$S$3,\"Most\",\"-\"))","v":"-"},{"$f":"IF('náměty na projekční přípravu'!B254=data!$S$2,\"Rekonstrukce\",IF('náměty na projekční přípravu'!B254=data!$S$3,\"Propustek\",\"-\"))","v":"-"}]
[null,null,null,null,null,null,null,null,null,null,null,{"$f":"IF('v přípravě a připraveno'!B229=data!$B$2,\"Souvislá údržba\",IF('v přípravě a připraveno'!B229=data!$B$3,\"Most\",\"-\"))","v":"Souvislá údržba"},{"$f":"IF('v přípravě a připraveno'!B229=data!$B$2,\"Rekonstrukce\",IF('v přípravě a připraveno'!B229=data!$B$3,\"Propustek\",\"-\"))","v":"Rekonstrukce"},null,null,null,null,null,null,null,null,null,null,null,null,null,null,null,{"$f":"IF('náměty na projekční přípravu'!B255=data!$S$2,\"Souvislá údržba\",IF('náměty na projekční přípravu'!B255=data!$S$3,\"Most\",\"-\"))","v":"-"},{"$f":"IF('náměty na projekční přípravu'!B255=data!$S$2,\"Rekonstrukce\",IF('náměty na projekční přípravu'!B255=data!$S$3,\"Propustek\",\"-\"))","v":"-"}]
[null,null,null,null,null,null,null,null,null,null,null,{"$f":"IF('v přípravě a připraveno'!B230=data!$B$2,\"Souvislá údržba\",IF('v přípravě a připraveno'!B230=data!$B$3,\"Most\",\"-\"))","v":"Most"},{"$f":"IF('v přípravě a připraveno'!B230=data!$B$2,\"Rekonstrukce\",IF('v přípravě a připraveno'!B230=data!$B$3,\"Propustek\",\"-\"))","v":"Propustek"},null,null,null,null,null,null,null,null,null,null,null,null,null,null,null,{"$f":"IF('náměty na projekční přípravu'!B256=data!$S$2,\"Souvislá údržba\",IF('náměty na projekční přípravu'!B256=data!$S$3,\"Most\",\"-\"))","v":"-"},{"$f":"IF('náměty na projekční přípravu'!B256=data!$S$2,\"Rekonstrukce\",IF('náměty na projekční přípravu'!B256=data!$S$3,\"Propustek\",\"-\"))","v":"-"}]
[null,null,null,null,null,null,null,null,null,null,null,{"$f":"IF('v přípravě a připraveno'!B231=data!$B$2,\"Souvislá údržba\",IF('v přípravě a připraveno'!B231=data!$B$3,\"Most\",\"-\"))","v":"Most"},{"$f":"IF('v přípravě a připraveno'!B231=data!$B$2,\"Rekonstrukce\",IF('v přípravě a připraveno'!B231=data!$B$3,\"Propustek\",\"-\"))","v":"Propustek"},null,null,null,null,null,null,null,null,null,null,null,null,null,null,null,{"$f":"IF('náměty na projekční přípravu'!B257=data!$S$2,\"Souvislá údržba\",IF('náměty na projekční přípravu'!B257=data!$S$3,\"Most\",\"-\"))","v":"-"},{"$f":"IF('náměty na projekční přípravu'!B257=data!$S$2,\"Rekonstrukce\",IF('náměty na projekční přípravu'!B257=data!$S$3,\"Propustek\",\"-\"))","v":"-"}]
[null,null,null,null,null,null,null,null,null,null,null,{"$f":"IF('v přípravě a připraveno'!B232=data!$B$2,\"Souvislá údržba\",IF('v přípravě a připraveno'!B232=data!$B$3,\"Most\",\"-\"))","v":"-"},{"$f":"IF('v přípravě a připraveno'!B232=data!$B$2,\"Rekonstrukce\",IF('v přípravě a připraveno'!B232=data!$B$3,\"Propustek\",\"-\"))","v":"-"},null,null,null,null,null,null,null,null,null,null,null,null,null,null,null,{"$f":"IF('náměty na projekční přípravu'!B258=data!$S$2,\"Souvislá údržba\",IF('náměty na projekční přípravu'!B258=data!$S$3,\"Most\",\"-\"))","v":"-"},{"$f":"IF('náměty na projekční přípravu'!B258=data!$S$2,\"Rekonstrukce\",IF('náměty na projekční přípravu'!B258=data!$S$3,\"Propustek\",\"-\"))","v":"-"}]
[null,null,null,null,null,null,null,null,null,null,null,{"$f":"IF('v přípravě a připraveno'!#REF!=data!$B$2,\"Souvislá údržba\",IF('v přípravě a připraveno'!#REF!=data!$B$3,\"Most\",\"-\"))","v":{"$error":"#REF!"}},{"$f":"IF('v přípravě a připraveno'!#REF!=data!$B$2,\"Rekonstrukce\",IF('v přípravě a připraveno'!#REF!=data!$B$3,\"Propustek\",\"-\"))","v":{"$error":"#REF!"}},null,null,null,null,null,null,null,null,null,null,null,null,null,null,null,{"$f":"IF('náměty na projekční přípravu'!B259=data!$S$2,\"Souvislá údržba\",IF('náměty na projekční přípravu'!B259=data!$S$3,\"Most\",\"-\"))","v":"-"},{"$f":"IF('náměty na projekční přípravu'!B259=data!$S$2,\"Rekonstrukce\",IF('náměty na projekční přípravu'!B259=data!$S$3,\"Propustek\",\"-\"))","v":"-"}]
[null,null,null,null,null,null,null,null,null,null,null,{"$f":"IF('v přípravě a připraveno'!B233=data!$B$2,\"Souvislá údržba\",IF('v přípravě a připraveno'!B233=data!$B$3,\"Most\",\"-\"))","v":"Souvislá údržba"},{"$f":"IF('v přípravě a připraveno'!B233=data!$B$2,\"Rekonstrukce\",IF('v přípravě a připraveno'!B233=data!$B$3,\"Propustek\",\"-\"))","v":"Rekonstrukce"},null,null,null,null,null,null,null,null,null,null,null,null,null,null,null,{"$f":"IF('náměty na projekční přípravu'!B260=data!$S$2,\"Souvislá údržba\",IF('náměty na projekční přípravu'!B260=data!$S$3,\"Most\",\"-\"))","v":"-"},{"$f":"IF('náměty na projekční přípravu'!B260=data!$S$2,\"Rekonstrukce\",IF('náměty na projekční přípravu'!B260=data!$S$3,\"Propustek\",\"-\"))","v":"-"}]
[null,null,null,null,null,null,null,null,null,null,null,{"$f":"IF('v přípravě a připraveno'!B234=data!$B$2,\"Souvislá údržba\",IF('v přípravě a připraveno'!B234=data!$B$3,\"Most\",\"-\"))","v":"Souvislá údržba"},{"$f":"IF('v přípravě a připraveno'!B234=data!$B$2,\"Rekonstrukce\",IF('v přípravě a připraveno'!B234=data!$B$3,\"Propustek\",\"-\"))","v":"Rekonstrukce"},null,null,null,null,null,null,null,null,null,null,null,null,null,null,null,{"$f":"IF('náměty na projekční přípravu'!B261=data!$S$2,\"Souvislá údržba\",IF('náměty na projekční přípravu'!B261=data!$S$3,\"Most\",\"-\"))","v":"-"},{"$f":"IF('náměty na projekční přípravu'!B261=data!$S$2,\"Rekonstrukce\",IF('náměty na projekční přípravu'!B261=data!$S$3,\"Propustek\",\"-\"))","v":"-"}]
[null,null,null,null,null,null,null,null,null,null,null,{"$f":"IF('v přípravě a připraveno'!#REF!=data!$B$2,\"Souvislá údržba\",IF('v přípravě a připraveno'!#REF!=data!$B$3,\"Most\",\"-\"))","v":{"$error":"#REF!"}},{"$f":"IF('v přípravě a připraveno'!#REF!=data!$B$2,\"Rekonstrukce\",IF('v přípravě a připraveno'!#REF!=data!$B$3,\"Propustek\",\"-\"))","v":{"$error":"#REF!"}},null,null,null,null,null,null,null,null,null,null,null,null,null,null,null,{"$f":"IF('náměty na projekční přípravu'!B262=data!$S$2,\"Souvislá údržba\",IF('náměty na projekční přípravu'!B262=data!$S$3,\"Most\",\"-\"))","v":"-"},{"$f":"IF('náměty na projekční přípravu'!B262=data!$S$2,\"Rekonstrukce\",IF('náměty na projekční přípravu'!B262=data!$S$3,\"Propustek\",\"-\"))","v":"-"}]
[null,null,null,null,null,null,null,null,null,null,null,{"$f":"IF('v přípravě a připraveno'!B235=data!$B$2,\"Souvislá údržba\",IF('v přípravě a připraveno'!B235=data!$B$3,\"Most\",\"-\"))","v":"Most"},{"$f":"IF('v přípravě a připraveno'!B235=data!$B$2,\"Rekonstrukce\",IF('v přípravě a připraveno'!B235=data!$B$3,\"Propustek\",\"-\"))","v":"Propustek"},null,null,null,null,null,null,null,null,null,null,null,null,null,null,null,{"$f":"IF('náměty na projekční přípravu'!B263=data!$S$2,\"Souvislá údržba\",IF('náměty na projekční přípravu'!B263=data!$S$3,\"Most\",\"-\"))","v":"-"},{"$f":"IF('náměty na projekční přípravu'!B263=data!$S$2,\"Rekonstrukce\",IF('náměty na projekční přípravu'!B263=data!$S$3,\"Propustek\",\"-\"))","v":"-"}]
[null,null,null,null,null,null,null,null,null,null,null,{"$f":"IF('v přípravě a připraveno'!B236=data!$B$2,\"Souvislá údržba\",IF('v přípravě a připraveno'!B236=data!$B$3,\"Most\",\"-\"))","v":"Souvislá údržba"},{"$f":"IF('v přípravě a připraveno'!B236=data!$B$2,\"Rekonstrukce\",IF('v přípravě a připraveno'!B236=data!$B$3,\"Propustek\",\"-\"))","v":"Rekonstrukce"},null,null,null,null,null,null,null,null,null,null,null,null,null,null,null,{"$f":"IF('náměty na projekční přípravu'!B264=data!$S$2,\"Souvislá údržba\",IF('náměty na projekční přípravu'!B264=data!$S$3,\"Most\",\"-\"))","v":"-"},{"$f":"IF('náměty na projekční přípravu'!B264=data!$S$2,\"Rekonstrukce\",IF('náměty na projekční přípravu'!B264=data!$S$3,\"Propustek\",\"-\"))","v":"-"}]
[null,null,null,null,null,null,null,null,null,null,null,{"$f":"IF('v přípravě a připraveno'!#REF!=data!$B$2,\"Souvislá údržba\",IF('v přípravě a připraveno'!#REF!=data!$B$3,\"Most\",\"-\"))","v":{"$error":"#REF!"}},{"$f":"IF('v přípravě a připraveno'!#REF!=data!$B$2,\"Rekonstrukce\",IF('v přípravě a připraveno'!#REF!=data!$B$3,\"Propustek\",\"-\"))","v":{"$error":"#REF!"}},null,null,null,null,null,null,null,null,null,null,null,null,null,null,null,{"$f":"IF('náměty na projekční přípravu'!B265=data!$S$2,\"Souvislá údržba\",IF('náměty na projekční přípravu'!B265=data!$S$3,\"Most\",\"-\"))","v":"-"},{"$f":"IF('náměty na projekční přípravu'!B265=data!$S$2,\"Rekonstrukce\",IF('náměty na projekční přípravu'!B265=data!$S$3,\"Propustek\",\"-\"))","v":"-"}]
[null,null,null,null,null,null,null,null,null,null,null,{"$f":"IF('v přípravě a připraveno'!B237=data!$B$2,\"Souvislá údržba\",IF('v přípravě a připraveno'!B237=data!$B$3,\"Most\",\"-\"))","v":"Souvislá údržba"},{"$f":"IF('v přípravě a připraveno'!B237=data!$B$2,\"Rekonstrukce\",IF('v přípravě a připraveno'!B237=data!$B$3,\"Propustek\",\"-\"))","v":"Rekonstrukce"},null,null,null,null,null,null,null,null,null,null,null,null,null,null,null,{"$f":"IF('náměty na projekční přípravu'!B266=data!$S$2,\"Souvislá údržba\",IF('náměty na projekční přípravu'!B266=data!$S$3,\"Most\",\"-\"))","v":"-"},{"$f":"IF('náměty na projekční přípravu'!B266=data!$S$2,\"Rekonstrukce\",IF('náměty na projekční přípravu'!B266=data!$S$3,\"Propustek\",\"-\"))","v":"-"}]
[null,null,null,null,null,null,null,null,null,null,null,{"$f":"IF('v přípravě a připraveno'!B238=data!$B$2,\"Souvislá údržba\",IF('v přípravě a připraveno'!B238=data!$B$3,\"Most\",\"-\"))","v":"Souvislá údržba"},{"$f":"IF('v přípravě a připraveno'!B238=data!$B$2,\"Rekonstrukce\",IF('v přípravě a připraveno'!B238=data!$B$3,\"Propustek\",\"-\"))","v":"Rekonstrukce"},null,null,null,null,null,null,null,null,null,null,null,null,null,null,null,{"$f":"IF('náměty na projekční přípravu'!B267=data!$S$2,\"Souvislá údržba\",IF('náměty na projekční přípravu'!B267=data!$S$3,\"Most\",\"-\"))","v":"-"},{"$f":"IF('náměty na projekční přípravu'!B267=data!$S$2,\"Rekonstrukce\",IF('náměty na projekční přípravu'!B267=data!$S$3,\"Propustek\",\"-\"))","v":"-"}]
[null,null,null,null,null,null,null,null,null,null,null,{"$f":"IF('v přípravě a připraveno'!#REF!=data!$B$2,\"Souvislá údržba\",IF('v přípravě a připraveno'!#REF!=data!$B$3,\"Most\",\"-\"))","v":{"$error":"#REF!"}},{"$f":"IF('v přípravě a připraveno'!#REF!=data!$B$2,\"Rekonstrukce\",IF('v přípravě a připraveno'!#REF!=data!$B$3,\"Propustek\",\"-\"))","v":{"$error":"#REF!"}},null,null,null,null,null,null,null,null,null,null,null,null,null,null,null,{"$f":"IF('náměty na projekční přípravu'!B268=data!$S$2,\"Souvislá údržba\",IF('náměty na projekční přípravu'!B268=data!$S$3,\"Most\",\"-\"))","v":"-"},{"$f":"IF('náměty na projekční přípravu'!B268=data!$S$2,\"Rekonstrukce\",IF('náměty na projekční přípravu'!B268=data!$S$3,\"Propustek\",\"-\"))","v":"-"}]
[null,null,null,null,null,null,null,null,null,null,null,{"$f":"IF('v přípravě a připraveno'!B239=data!$B$2,\"Souvislá údržba\",IF('v přípravě a připraveno'!B239=data!$B$3,\"Most\",\"-\"))","v":"Souvislá údržba"},{"$f":"IF('v přípravě a připraveno'!B239=data!$B$2,\"Rekonstrukce\",IF('v přípravě a připraveno'!B239=data!$B$3,\"Propustek\",\"-\"))","v":"Rekonstrukce"},null,null,null,null,null,null,null,null,null,null,null,null,null,null,null,{"$f":"IF('náměty na projekční přípravu'!B269=data!$S$2,\"Souvislá údržba\",IF('náměty na projekční přípravu'!B269=data!$S$3,\"Most\",\"-\"))","v":"-"},{"$f":"IF('náměty na projekční přípravu'!B269=data!$S$2,\"Rekonstrukce\",IF('náměty na projekční přípravu'!B269=data!$S$3,\"Propustek\",\"-\"))","v":"-"}]
[null,null,null,null,null,null,null,null,null,null,null,{"$f":"IF('v přípravě a připraveno'!B240=data!$B$2,\"Souvislá údržba\",IF('v přípravě a připraveno'!B240=data!$B$3,\"Most\",\"-\"))","v":"Souvislá údržba"},{"$f":"IF('v přípravě a připraveno'!B240=data!$B$2,\"Rekonstrukce\",IF('v přípravě a připraveno'!B240=data!$B$3,\"Propustek\",\"-\"))","v":"Rekonstrukce"},null,null,null,null,null,null,null,null,null,null,null,null,null,null,null,{"$f":"IF('náměty na projekční přípravu'!B270=data!$S$2,\"Souvislá údržba\",IF('náměty na projekční přípravu'!B270=data!$S$3,\"Most\",\"-\"))","v":"-"},{"$f":"IF('náměty na projekční přípravu'!B270=data!$S$2,\"Rekonstrukce\",IF('náměty na projekční přípravu'!B270=data!$S$3,\"Propustek\",\"-\"))","v":"-"}]
[null,null,null,null,null,null,null,null,null,null,null,{"$f":"IF('v přípravě a připraveno'!B241=data!$B$2,\"Souvislá údržba\",IF('v přípravě a připraveno'!B241=data!$B$3,\"Most\",\"-\"))","v":"Souvislá údržba"},{"$f":"IF('v přípravě a připraveno'!B241=data!$B$2,\"Rekonstrukce\",IF('v přípravě a připraveno'!B241=data!$B$3,\"Propustek\",\"-\"))","v":"Rekonstrukce"},null,null,null,null,null,null,null,null,null,null,null,null,null,null,null,{"$f":"IF('náměty na projekční přípravu'!B271=data!$S$2,\"Souvislá údržba\",IF('náměty na projekční přípravu'!B271=data!$S$3,\"Most\",\"-\"))","v":"-"},{"$f":"IF('náměty na projekční přípravu'!B271=data!$S$2,\"Rekonstrukce\",IF('náměty na projekční přípravu'!B271=data!$S$3,\"Propustek\",\"-\"))","v":"-"}]
[null,null,null,null,null,null,null,null,null,null,null,{"$f":"IF('v přípravě a připraveno'!B242=data!$B$2,\"Souvislá údržba\",IF('v přípravě a připraveno'!B242=data!$B$3,\"Most\",\"-\"))","v":"Souvislá údržba"},{"$f":"IF('v přípravě a připraveno'!B242=data!$B$2,\"Rekonstrukce\",IF('v přípravě a připraveno'!B242=data!$B$3,\"Propustek\",\"-\"))","v":"Rekonstrukce"},null,null,null,null,null,null,null,null,null,null,null,null,null,null,null,{"$f":"IF('náměty na projekční přípravu'!B272=data!$S$2,\"Souvislá údržba\",IF('náměty na projekční přípravu'!B272=data!$S$3,\"Most\",\"-\"))","v":"-"},{"$f":"IF('náměty na projekční přípravu'!B272=data!$S$2,\"Rekonstrukce\",IF('náměty na projekční přípravu'!B272=data!$S$3,\"Propustek\",\"-\"))","v":"-"}]
[null,null,null,null,null,null,null,null,null,null,null,{"$f":"IF('v přípravě a připraveno'!B243=data!$B$2,\"Souvislá údržba\",IF('v přípravě a připraveno'!B243=data!$B$3,\"Most\",\"-\"))","v":"Souvislá údržba"},{"$f":"IF('v přípravě a připraveno'!B243=data!$B$2,\"Rekonstrukce\",IF('v přípravě a připraveno'!B243=data!$B$3,\"Propustek\",\"-\"))","v":"Rekonstrukce"},null,null,null,null,null,null,null,null,null,null,null,null,null,null,null,{"$f":"IF('náměty na projekční přípravu'!B273=data!$S$2,\"Souvislá údržba\",IF('náměty na projekční přípravu'!B273=data!$S$3,\"Most\",\"-\"))","v":"-"},{"$f":"IF('náměty na projekční přípravu'!B273=data!$S$2,\"Rekonstrukce\",IF('náměty na projekční přípravu'!B273=data!$S$3,\"Propustek\",\"-\"))","v":"-"}]
[null,null,null,null,null,null,null,null,null,null,null,{"$f":"IF('v přípravě a připraveno'!B244=data!$B$2,\"Souvislá údržba\",IF('v přípravě a připraveno'!B244=data!$B$3,\"Most\",\"-\"))","v":"Most"},{"$f":"IF('v přípravě a připraveno'!B244=data!$B$2,\"Rekonstrukce\",IF('v přípravě a připraveno'!B244=data!$B$3,\"Propustek\",\"-\"))","v":"Propustek"},null,null,null,null,null,null,null,null,null,null,null,null,null,null,null,{"$f":"IF('náměty na projekční přípravu'!B274=data!$S$2,\"Souvislá údržba\",IF('náměty na projekční přípravu'!B274=data!$S$3,\"Most\",\"-\"))","v":"-"},{"$f":"IF('náměty na projekční přípravu'!B274=data!$S$2,\"Rekonstrukce\",IF('náměty na projekční přípravu'!B274=data!$S$3,\"Propustek\",\"-\"))","v":"-"}]
[null,null,null,null,null,null,null,null,null,null,null,{"$f":"IF('v přípravě a připraveno'!B245=data!$B$2,\"Souvislá údržba\",IF('v přípravě a připraveno'!B245=data!$B$3,\"Most\",\"-\"))","v":"Souvislá údržba"},{"$f":"IF('v přípravě a připraveno'!B245=data!$B$2,\"Rekonstrukce\",IF('v přípravě a připraveno'!B245=data!$B$3,\"Propustek\",\"-\"))","v":"Rekonstrukce"},null,null,null,null,null,null,null,null,null,null,null,null,null,null,null,{"$f":"IF('náměty na projekční přípravu'!B275=data!$S$2,\"Souvislá údržba\",IF('náměty na projekční přípravu'!B275=data!$S$3,\"Most\",\"-\"))","v":"-"},{"$f":"IF('náměty na projekční přípravu'!B275=data!$S$2,\"Rekonstrukce\",IF('náměty na projekční přípravu'!B275=data!$S$3,\"Propustek\",\"-\"))","v":"-"}]
[null,null,null,null,null,null,null,null,null,null,null,{"$f":"IF('v přípravě a připraveno'!B246=data!$B$2,\"Souvislá údržba\",IF('v přípravě a připraveno'!B246=data!$B$3,\"Most\",\"-\"))","v":"Most"},{"$f":"IF('v přípravě a připraveno'!B246=data!$B$2,\"Rekonstrukce\",IF('v přípravě a připraveno'!B246=data!$B$3,\"Propustek\",\"-\"))","v":"Propustek"},null,null,null,null,null,null,null,null,null,null,null,null,null,null,null,{"$f":"IF('náměty na projekční přípravu'!B276=data!$S$2,\"Souvislá údržba\",IF('náměty na projekční přípravu'!B276=data!$S$3,\"Most\",\"-\"))","v":"-"},{"$f":"IF('náměty na projekční přípravu'!B276=data!$S$2,\"Rekonstrukce\",IF('náměty na projekční přípravu'!B276=data!$S$3,\"Propustek\",\"-\"))","v":"-"}]
[null,null,null,null,null,null,null,null,null,null,null,{"$f":"IF('v přípravě a připraveno'!B247=data!$B$2,\"Souvislá údržba\",IF('v přípravě a připraveno'!B247=data!$B$3,\"Most\",\"-\"))","v":"Most"},{"$f":"IF('v přípravě a připraveno'!B247=data!$B$2,\"Rekonstrukce\",IF('v přípravě a připraveno'!B247=data!$B$3,\"Propustek\",\"-\"))","v":"Propustek"},null,null,null,null,null,null,null,null,null,null,null,null,null,null,null,{"$f":"IF('náměty na projekční přípravu'!B277=data!$S$2,\"Souvislá údržba\",IF('náměty na projekční přípravu'!B277=data!$S$3,\"Most\",\"-\"))","v":"-"},{"$f":"IF('náměty na projekční přípravu'!B277=data!$S$2,\"Rekonstrukce\",IF('náměty na projekční přípravu'!B277=data!$S$3,\"Propustek\",\"-\"))","v":"-"}]
[null,null,null,null,null,null,null,null,null,null,null,{"$f":"IF('v přípravě a připraveno'!B248=data!$B$2,\"Souvislá údržba\",IF('v přípravě a připraveno'!B248=data!$B$3,\"Most\",\"-\"))","v":"Souvislá údržba"},{"$f":"IF('v přípravě a připraveno'!B248=data!$B$2,\"Rekonstrukce\",IF('v přípravě a připraveno'!B248=data!$B$3,\"Propustek\",\"-\"))","v":"Rekonstrukce"},null,null,null,null,null,null,null,null,null,null,null,null,null,null,null,{"$f":"IF('náměty na projekční přípravu'!B278=data!$S$2,\"Souvislá údržba\",IF('náměty na projekční přípravu'!B278=data!$S$3,\"Most\",\"-\"))","v":"-"},{"$f":"IF('náměty na projekční přípravu'!B278=data!$S$2,\"Rekonstrukce\",IF('náměty na projekční přípravu'!B278=data!$S$3,\"Propustek\",\"-\"))","v":"-"}]
[null,null,null,null,null,null,null,null,null,null,null,{"$f":"IF('v přípravě a připraveno'!B249=data!$B$2,\"Souvislá údržba\",IF('v přípravě a připraveno'!B249=data!$B$3,\"Most\",\"-\"))","v":"Souvislá údržba"},{"$f":"IF('v přípravě a připraveno'!B249=data!$B$2,\"Rekonstrukce\",IF('v přípravě a připraveno'!B249=data!$B$3,\"Propustek\",\"-\"))","v":"Rekonstrukce"},null,null,null,null,null,null,null,null,null,null,null,null,null,null,null,{"$f":"IF('náměty na projekční přípravu'!B279=data!$S$2,\"Souvislá údržba\",IF('náměty na projekční přípravu'!B279=data!$S$3,\"Most\",\"-\"))","v":"-"},{"$f":"IF('náměty na projekční přípravu'!B279=data!$S$2,\"Rekonstrukce\",IF('náměty na projekční přípravu'!B279=data!$S$3,\"Propustek\",\"-\"))","v":"-"}]
[null,null,null,null,null,null,null,null,null,null,null,{"$f":"IF('v přípravě a připraveno'!B250=data!$B$2,\"Souvislá údržba\",IF('v přípravě a připraveno'!B250=data!$B$3,\"Most\",\"-\"))","v":"Souvislá údržba"},{"$f":"IF('v přípravě a připraveno'!B250=data!$B$2,\"Rekonstrukce\",IF('v přípravě a připraveno'!B250=data!$B$3,\"Propustek\",\"-\"))","v":"Rekonstrukce"},null,null,null,null,null,null,null,null,null,null,null,null,null,null,null,{"$f":"IF('náměty na projekční přípravu'!B280=data!$S$2,\"Souvislá údržba\",IF('náměty na projekční přípravu'!B280=data!$S$3,\"Most\",\"-\"))","v":"-"},{"$f":"IF('náměty na projekční přípravu'!B280=data!$S$2,\"Rekonstrukce\",IF('náměty na projekční přípravu'!B280=data!$S$3,\"Propustek\",\"-\"))","v":"-"}]
[null,null,null,null,null,null,null,null,null,null,null,{"$f":"IF('v přípravě a připraveno'!B251=data!$B$2,\"Souvislá údržba\",IF('v přípravě a připraveno'!B251=data!$B$3,\"Most\",\"-\"))","v":"-"},{"$f":"IF('v přípravě a připraveno'!B251=data!$B$2,\"Rekonstrukce\",IF('v přípravě a připraveno'!B251=data!$B$3,\"Propustek\",\"-\"))","v":"-"},null,null,null,null,null,null,null,null,null,null,null,null,null,null,null,{"$f":"IF('náměty na projekční přípravu'!B281=data!$S$2,\"Souvislá údržba\",IF('náměty na projekční přípravu'!B281=data!$S$3,\"Most\",\"-\"))","v":"-"},{"$f":"IF('náměty na projekční přípravu'!B281=data!$S$2,\"Rekonstrukce\",IF('náměty na projekční přípravu'!B281=data!$S$3,\"Propustek\",\"-\"))","v":"-"}]
[null,null,null,null,null,null,null,null,null,null,null,{"$f":"IF('v přípravě a připraveno'!B252=data!$B$2,\"Souvislá údržba\",IF('v přípravě a připraveno'!B252=data!$B$3,\"Most\",\"-\"))","v":"-"},{"$f":"IF('v přípravě a připraveno'!B252=data!$B$2,\"Rekonstrukce\",IF('v přípravě a připraveno'!B252=data!$B$3,\"Propustek\",\"-\"))","v":"-"},null,null,null,null,null,null,null,null,null,null,null,null,null,null,null,{"$f":"IF('náměty na projekční přípravu'!B282=data!$S$2,\"Souvislá údržba\",IF('náměty na projekční přípravu'!B282=data!$S$3,\"Most\",\"-\"))","v":"-"},{"$f":"IF('náměty na projekční přípravu'!B282=data!$S$2,\"Rekonstrukce\",IF('náměty na projekční přípravu'!B282=data!$S$3,\"Propustek\",\"-\"))","v":"-"}]
[null,null,null,null,null,null,null,null,null,null,null,{"$f":"IF('v přípravě a připraveno'!B253=data!$B$2,\"Souvislá údržba\",IF('v přípravě a připraveno'!B253=data!$B$3,\"Most\",\"-\"))","v":"Most"},{"$f":"IF('v přípravě a připraveno'!B253=data!$B$2,\"Rekonstrukce\",IF('v přípravě a připraveno'!B253=data!$B$3,\"Propustek\",\"-\"))","v":"Propustek"},null,null,null,null,null,null,null,null,null,null,null,null,null,null,null,{"$f":"IF('náměty na projekční přípravu'!B283=data!$S$2,\"Souvislá údržba\",IF('náměty na projekční přípravu'!B283=data!$S$3,\"Most\",\"-\"))","v":"-"},{"$f":"IF('náměty na projekční přípravu'!B283=data!$S$2,\"Rekonstrukce\",IF('náměty na projekční přípravu'!B283=data!$S$3,\"Propustek\",\"-\"))","v":"-"}]
[null,null,null,null,null,null,null,null,null,null,null,{"$f":"IF('v přípravě a připraveno'!B254=data!$B$2,\"Souvislá údržba\",IF('v přípravě a připraveno'!B254=data!$B$3,\"Most\",\"-\"))","v":"Most"},{"$f":"IF('v přípravě a připraveno'!B254=data!$B$2,\"Rekonstrukce\",IF('v přípravě a připraveno'!B254=data!$B$3,\"Propustek\",\"-\"))","v":"Propustek"},null,null,null,null,null,null,null,null,null,null,null,null,null,null,null,{"$f":"IF('náměty na projekční přípravu'!B284=data!$S$2,\"Souvislá údržba\",IF('náměty na projekční přípravu'!B284=data!$S$3,\"Most\",\"-\"))","v":"-"},{"$f":"IF('náměty na projekční přípravu'!B284=data!$S$2,\"Rekonstrukce\",IF('náměty na projekční přípravu'!B284=data!$S$3,\"Propustek\",\"-\"))","v":"-"}]
[null,null,null,null,null,null,null,null,null,null,null,{"$f":"IF('v přípravě a připraveno'!B255=data!$B$2,\"Souvislá údržba\",IF('v přípravě a připraveno'!B255=data!$B$3,\"Most\",\"-\"))","v":"Souvislá údržba"},{"$f":"IF('v přípravě a připraveno'!B255=data!$B$2,\"Rekonstrukce\",IF('v přípravě a připraveno'!B255=data!$B$3,\"Propustek\",\"-\"))","v":"Rekonstrukce"},null,null,null,null,null,null,null,null,null,null,null,null,null,null,null,{"$f":"IF('náměty na projekční přípravu'!B285=data!$S$2,\"Souvislá údržba\",IF('náměty na projekční přípravu'!B285=data!$S$3,\"Most\",\"-\"))","v":"-"},{"$f":"IF('náměty na projekční přípravu'!B285=data!$S$2,\"Rekonstrukce\",IF('náměty na projekční přípravu'!B285=data!$S$3,\"Propustek\",\"-\"))","v":"-"}]
[null,null,null,null,null,null,null,null,null,null,null,{"$f":"IF('v přípravě a připraveno'!B256=data!$B$2,\"Souvislá údržba\",IF('v přípravě a připraveno'!B256=data!$B$3,\"Most\",\"-\"))","v":"Most"},{"$f":"IF('v přípravě a připraveno'!B256=data!$B$2,\"Rekonstrukce\",IF('v přípravě a připraveno'!B256=data!$B$3,\"Propustek\",\"-\"))","v":"Propustek"},null,null,null,null,null,null,null,null,null,null,null,null,null,null,null,{"$f":"IF('náměty na projekční přípravu'!B286=data!$S$2,\"Souvislá údržba\",IF('náměty na projekční přípravu'!B286=data!$S$3,\"Most\",\"-\"))","v":"-"},{"$f":"IF('náměty na projekční přípravu'!B286=data!$S$2,\"Rekonstrukce\",IF('náměty na projekční přípravu'!B286=data!$S$3,\"Propustek\",\"-\"))","v":"-"}]
[null,null,null,null,null,null,null,null,null,null,null,{"$f":"IF('v přípravě a připraveno'!B257=data!$B$2,\"Souvislá údržba\",IF('v přípravě a připraveno'!B257=data!$B$3,\"Most\",\"-\"))","v":"Most"},{"$f":"IF('v přípravě a připraveno'!B257=data!$B$2,\"Rekonstrukce\",IF('v přípravě a připraveno'!B257=data!$B$3,\"Propustek\",\"-\"))","v":"Propustek"},null,null,null,null,null,null,null,null,null,null,null,null,null,null,null,{"$f":"IF('náměty na projekční přípravu'!B287=data!$S$2,\"Souvislá údržba\",IF('náměty na projekční přípravu'!B287=data!$S$3,\"Most\",\"-\"))","v":"-"},{"$f":"IF('náměty na projekční přípravu'!B287=data!$S$2,\"Rekonstrukce\",IF('náměty na projekční přípravu'!B287=data!$S$3,\"Propustek\",\"-\"))","v":"-"}]
[null,null,null,null,null,null,null,null,null,null,null,{"$f":"IF('v přípravě a připraveno'!B258=data!$B$2,\"Souvislá údržba\",IF('v přípravě a připraveno'!B258=data!$B$3,\"Most\",\"-\"))","v":"Most"},{"$f":"IF('v přípravě a připraveno'!B258=data!$B$2,\"Rekonstrukce\",IF('v přípravě a připraveno'!B258=data!$B$3,\"Propustek\",\"-\"))","v":"Propustek"},null,null,null,null,null,null,null,null,null,null,null,null,null,null,null,{"$f":"IF('náměty na projekční přípravu'!B288=data!$S$2,\"Souvislá údržba\",IF('náměty na projekční přípravu'!B288=data!$S$3,\"Most\",\"-\"))","v":"-"},{"$f":"IF('náměty na projekční přípravu'!B288=data!$S$2,\"Rekonstrukce\",IF('náměty na projekční přípravu'!B288=data!$S$3,\"Propustek\",\"-\"))","v":"-"}]
[null,null,null,null,null,null,null,null,null,null,null,{"$f":"IF('v přípravě a připraveno'!B259=data!$B$2,\"Souvislá údržba\",IF('v přípravě a připraveno'!B259=data!$B$3,\"Most\",\"-\"))","v":"Souvislá údržba"},{"$f":"IF('v přípravě a připraveno'!B259=data!$B$2,\"Rekonstrukce\",IF('v přípravě a připraveno'!B259=data!$B$3,\"Propustek\",\"-\"))","v":"Rekonstrukce"},null,null,null,null,null,null,null,null,null,null,null,null,null,null,null,{"$f":"IF('náměty na projekční přípravu'!B289=data!$S$2,\"Souvislá údržba\",IF('náměty na projekční přípravu'!B289=data!$S$3,\"Most\",\"-\"))","v":"-"},{"$f":"IF('náměty na projekční přípravu'!B289=data!$S$2,\"Rekonstrukce\",IF('náměty na projekční přípravu'!B289=data!$S$3,\"Propustek\",\"-\"))","v":"-"}]
[null,null,null,null,null,null,null,null,null,null,null,{"$f":"IF('v přípravě a připraveno'!#REF!=data!$B$2,\"Souvislá údržba\",IF('v přípravě a připraveno'!#REF!=data!$B$3,\"Most\",\"-\"))","v":{"$error":"#REF!"}},{"$f":"IF('v přípravě a připraveno'!#REF!=data!$B$2,\"Rekonstrukce\",IF('v přípravě a připraveno'!#REF!=data!$B$3,\"Propustek\",\"-\"))","v":{"$error":"#REF!"}},null,null,null,null,null,null,null,null,null,null,null,null,null,null,null,{"$f":"IF('náměty na projekční přípravu'!B290=data!$S$2,\"Souvislá údržba\",IF('náměty na projekční přípravu'!B290=data!$S$3,\"Most\",\"-\"))","v":"-"},{"$f":"IF('náměty na projekční přípravu'!B290=data!$S$2,\"Rekonstrukce\",IF('náměty na projekční přípravu'!B290=data!$S$3,\"Propustek\",\"-\"))","v":"-"}]
[null,null,null,null,null,null,null,null,null,null,null,{"$f":"IF('v přípravě a připraveno'!B260=data!$B$2,\"Souvislá údržba\",IF('v přípravě a připraveno'!B260=data!$B$3,\"Most\",\"-\"))","v":"Souvislá údržba"},{"$f":"IF('v přípravě a připraveno'!B260=data!$B$2,\"Rekonstrukce\",IF('v přípravě a připraveno'!B260=data!$B$3,\"Propustek\",\"-\"))","v":"Rekonstrukce"},null,null,null,null,null,null,null,null,null,null,null,null,null,null,null,{"$f":"IF('náměty na projekční přípravu'!B291=data!$S$2,\"Souvislá údržba\",IF('náměty na projekční přípravu'!B291=data!$S$3,\"Most\",\"-\"))","v":"-"},{"$f":"IF('náměty na projekční přípravu'!B291=data!$S$2,\"Rekonstrukce\",IF('náměty na projekční přípravu'!B291=data!$S$3,\"Propustek\",\"-\"))","v":"-"}]
[null,null,null,null,null,null,null,null,null,null,null,{"$f":"IF('v přípravě a připraveno'!B261=data!$B$2,\"Souvislá údržba\",IF('v přípravě a připraveno'!B261=data!$B$3,\"Most\",\"-\"))","v":"Souvislá údržba"},{"$f":"IF('v přípravě a připraveno'!B261=data!$B$2,\"Rekonstrukce\",IF('v přípravě a připraveno'!B261=data!$B$3,\"Propustek\",\"-\"))","v":"Rekonstrukce"},null,null,null,null,null,null,null,null,null,null,null,null,null,null,null,{"$f":"IF('náměty na projekční přípravu'!B292=data!$S$2,\"Souvislá údržba\",IF('náměty na projekční přípravu'!B292=data!$S$3,\"Most\",\"-\"))","v":"-"},{"$f":"IF('náměty na projekční přípravu'!B292=data!$S$2,\"Rekonstrukce\",IF('náměty na projekční přípravu'!B292=data!$S$3,\"Propustek\",\"-\"))","v":"-"}]
[null,null,null,null,null,null,null,null,null,null,null,{"$f":"IF('v přípravě a připraveno'!B262=data!$B$2,\"Souvislá údržba\",IF('v přípravě a připraveno'!B262=data!$B$3,\"Most\",\"-\"))","v":"Souvislá údržba"},{"$f":"IF('v přípravě a připraveno'!B262=data!$B$2,\"Rekonstrukce\",IF('v přípravě a připraveno'!B262=data!$B$3,\"Propustek\",\"-\"))","v":"Rekonstrukce"},null,null,null,null,null,null,null,null,null,null,null,null,null,null,null,{"$f":"IF('náměty na projekční přípravu'!B293=data!$S$2,\"Souvislá údržba\",IF('náměty na projekční přípravu'!B293=data!$S$3,\"Most\",\"-\"))","v":"-"},{"$f":"IF('náměty na projekční přípravu'!B293=data!$S$2,\"Rekonstrukce\",IF('náměty na projekční přípravu'!B293=data!$S$3,\"Propustek\",\"-\"))","v":"-"}]
[null,null,null,null,null,null,null,null,null,null,null,{"$f":"IF('v přípravě a připraveno'!B263=data!$B$2,\"Souvislá údržba\",IF('v přípravě a připraveno'!B263=data!$B$3,\"Most\",\"-\"))","v":"Souvislá údržba"},{"$f":"IF('v přípravě a připraveno'!B263=data!$B$2,\"Rekonstrukce\",IF('v přípravě a připraveno'!B263=data!$B$3,\"Propustek\",\"-\"))","v":"Rekonstrukce"},null,null,null,null,null,null,null,null,null,null,null,null,null,null,null,{"$f":"IF('náměty na projekční přípravu'!B294=data!$S$2,\"Souvislá údržba\",IF('náměty na projekční přípravu'!B294=data!$S$3,\"Most\",\"-\"))","v":"-"},{"$f":"IF('náměty na projekční přípravu'!B294=data!$S$2,\"Rekonstrukce\",IF('náměty na projekční přípravu'!B294=data!$S$3,\"Propustek\",\"-\"))","v":"-"}]
[null,null,null,null,null,null,null,null,null,null,null,{"$f":"IF('v přípravě a připraveno'!B264=data!$B$2,\"Souvislá údržba\",IF('v přípravě a připraveno'!B264=data!$B$3,\"Most\",\"-\"))","v":"Souvislá údržba"},{"$f":"IF('v přípravě a připraveno'!B264=data!$B$2,\"Rekonstrukce\",IF('v přípravě a připraveno'!B264=data!$B$3,\"Propustek\",\"-\"))","v":"Rekonstrukce"},null,null,null,null,null,null,null,null,null,null,null,null,null,null,null,{"$f":"IF('náměty na projekční přípravu'!B295=data!$S$2,\"Souvislá údržba\",IF('náměty na projekční přípravu'!B295=data!$S$3,\"Most\",\"-\"))","v":"-"},{"$f":"IF('náměty na projekční přípravu'!B295=data!$S$2,\"Rekonstrukce\",IF('náměty na projekční přípravu'!B295=data!$S$3,\"Propustek\",\"-\"))","v":"-"}]
[null,null,null,null,null,null,null,null,null,null,null,{"$f":"IF('v přípravě a připraveno'!#REF!=data!$B$2,\"Souvislá údržba\",IF('v přípravě a připraveno'!#REF!=data!$B$3,\"Most\",\"-\"))","v":{"$error":"#REF!"}},{"$f":"IF('v přípravě a připraveno'!#REF!=data!$B$2,\"Rekonstrukce\",IF('v přípravě a připraveno'!#REF!=data!$B$3,\"Propustek\",\"-\"))","v":{"$error":"#REF!"}},null,null,null,null,null,null,null,null,null,null,null,null,null,null,null,{"$f":"IF('náměty na projekční přípravu'!B296=data!$S$2,\"Souvislá údržba\",IF('náměty na projekční přípravu'!B296=data!$S$3,\"Most\",\"-\"))","v":"-"},{"$f":"IF('náměty na projekční přípravu'!B296=data!$S$2,\"Rekonstrukce\",IF('náměty na projekční přípravu'!B296=data!$S$3,\"Propustek\",\"-\"))","v":"-"}]
[null,null,null,null,null,null,null,null,null,null,null,{"$f":"IF('v přípravě a připraveno'!B265=data!$B$2,\"Souvislá údržba\",IF('v přípravě a připraveno'!B265=data!$B$3,\"Most\",\"-\"))","v":"Most"},{"$f":"IF('v přípravě a připraveno'!B265=data!$B$2,\"Rekonstrukce\",IF('v přípravě a připraveno'!B265=data!$B$3,\"Propustek\",\"-\"))","v":"Propustek"},null,null,null,null,null,null,null,null,null,null,null,null,null,null,null,{"$f":"IF('náměty na projekční přípravu'!B297=data!$S$2,\"Souvislá údržba\",IF('náměty na projekční přípravu'!B297=data!$S$3,\"Most\",\"-\"))","v":"-"},{"$f":"IF('náměty na projekční přípravu'!B297=data!$S$2,\"Rekonstrukce\",IF('náměty na projekční přípravu'!B297=data!$S$3,\"Propustek\",\"-\"))","v":"-"}]
[null,null,null,null,null,null,null,null,null,null,null,{"$f":"IF('v přípravě a připraveno'!#REF!=data!$B$2,\"Souvislá údržba\",IF('v přípravě a připraveno'!#REF!=data!$B$3,\"Most\",\"-\"))","v":{"$error":"#REF!"}},{"$f":"IF('v přípravě a připraveno'!#REF!=data!$B$2,\"Rekonstrukce\",IF('v přípravě a připraveno'!#REF!=data!$B$3,\"Propustek\",\"-\"))","v":{"$error":"#REF!"}},null,null,null,null,null,null,null,null,null,null,null,null,null,null,null,{"$f":"IF('náměty na projekční přípravu'!B298=data!$S$2,\"Souvislá údržba\",IF('náměty na projekční přípravu'!B298=data!$S$3,\"Most\",\"-\"))","v":"-"},{"$f":"IF('náměty na projekční přípravu'!B298=data!$S$2,\"Rekonstrukce\",IF('náměty na projekční přípravu'!B298=data!$S$3,\"Propustek\",\"-\"))","v":"-"}]
[null,null,null,null,null,null,null,null,null,null,null,{"$f":"IF('v přípravě a připraveno'!#REF!=data!$B$2,\"Souvislá údržba\",IF('v přípravě a připraveno'!#REF!=data!$B$3,\"Most\",\"-\"))","v":{"$error":"#REF!"}},{"$f":"IF('v přípravě a připraveno'!#REF!=data!$B$2,\"Rekonstrukce\",IF('v přípravě a připraveno'!#REF!=data!$B$3,\"Propustek\",\"-\"))","v":{"$error":"#REF!"}},null,null,null,null,null,null,null,null,null,null,null,null,null,null,null,{"$f":"IF('náměty na projekční přípravu'!B299=data!$S$2,\"Souvislá údržba\",IF('náměty na projekční přípravu'!B299=data!$S$3,\"Most\",\"-\"))","v":"-"},{"$f":"IF('náměty na projekční přípravu'!B299=data!$S$2,\"Rekonstrukce\",IF('náměty na projekční přípravu'!B299=data!$S$3,\"Propustek\",\"-\"))","v":"-"}]
[null,null,null,null,null,null,null,null,null,null,null,{"$f":"IF('v přípravě a připraveno'!B266=data!$B$2,\"Souvislá údržba\",IF('v přípravě a připraveno'!B266=data!$B$3,\"Most\",\"-\"))","v":"Most"},{"$f":"IF('v přípravě a připraveno'!B266=data!$B$2,\"Rekonstrukce\",IF('v přípravě a připraveno'!B266=data!$B$3,\"Propustek\",\"-\"))","v":"Propustek"},null,null,null,null,null,null,null,null,null,null,null,null,null,null,null,{"$f":"IF('náměty na projekční přípravu'!B300=data!$S$2,\"Souvislá údržba\",IF('náměty na projekční přípravu'!B300=data!$S$3,\"Most\",\"-\"))","v":"-"},{"$f":"IF('náměty na projekční přípravu'!B300=data!$S$2,\"Rekonstrukce\",IF('náměty na projekční přípravu'!B300=data!$S$3,\"Propustek\",\"-\"))","v":"-"}]
[null,null,null,null,null,null,null,null,null,null,null,{"$f":"IF('v přípravě a připraveno'!#REF!=data!$B$2,\"Souvislá údržba\",IF('v přípravě a připraveno'!#REF!=data!$B$3,\"Most\",\"-\"))","v":{"$error":"#REF!"}},{"$f":"IF('v přípravě a připraveno'!#REF!=data!$B$2,\"Rekonstrukce\",IF('v přípravě a připraveno'!#REF!=data!$B$3,\"Propustek\",\"-\"))","v":{"$error":"#REF!"}},null,null,null,null,null,null,null,null,null,null,null,null,null,null,null,{"$f":"IF('náměty na projekční přípravu'!B301=data!$S$2,\"Souvislá údržba\",IF('náměty na projekční přípravu'!B301=data!$S$3,\"Most\",\"-\"))","v":"-"},{"$f":"IF('náměty na projekční přípravu'!B301=data!$S$2,\"Rekonstrukce\",IF('náměty na projekční přípravu'!B301=data!$S$3,\"Propustek\",\"-\"))","v":"-"}]
[null,null,null,null,null,null,null,null,null,null,null,{"$f":"IF('v přípravě a připraveno'!B267=data!$B$2,\"Souvislá údržba\",IF('v přípravě a připraveno'!B267=data!$B$3,\"Most\",\"-\"))","v":"Souvislá údržba"},{"$f":"IF('v přípravě a připraveno'!B267=data!$B$2,\"Rekonstrukce\",IF('v přípravě a připraveno'!B267=data!$B$3,\"Propustek\",\"-\"))","v":"Rekonstrukce"},null,null,null,null,null,null,null,null,null,null,null,null,null,null,null,{"$f":"IF('náměty na projekční přípravu'!B302=data!$S$2,\"Souvislá údržba\",IF('náměty na projekční přípravu'!B302=data!$S$3,\"Most\",\"-\"))","v":"-"},{"$f":"IF('náměty na projekční přípravu'!B302=data!$S$2,\"Rekonstrukce\",IF('náměty na projekční přípravu'!B302=data!$S$3,\"Propustek\",\"-\"))","v":"-"}]
[null,null,null,null,null,null,null,null,null,null,null,{"$f":"IF('v přípravě a připraveno'!#REF!=data!$B$2,\"Souvislá údržba\",IF('v přípravě a připraveno'!#REF!=data!$B$3,\"Most\",\"-\"))","v":{"$error":"#REF!"}},{"$f":"IF('v přípravě a připraveno'!#REF!=data!$B$2,\"Rekonstrukce\",IF('v přípravě a připraveno'!#REF!=data!$B$3,\"Propustek\",\"-\"))","v":{"$error":"#REF!"}},null,null,null,null,null,null,null,null,null,null,null,null,null,null,null,{"$f":"IF('náměty na projekční přípravu'!B303=data!$S$2,\"Souvislá údržba\",IF('náměty na projekční přípravu'!B303=data!$S$3,\"Most\",\"-\"))","v":"-"},{"$f":"IF('náměty na projekční přípravu'!B303=data!$S$2,\"Rekonstrukce\",IF('náměty na projekční přípravu'!B303=data!$S$3,\"Propustek\",\"-\"))","v":"-"}]
[null,null,null,null,null,null,null,null,null,null,null,{"$f":"IF('v přípravě a připraveno'!B268=data!$B$2,\"Souvislá údržba\",IF('v přípravě a připraveno'!B268=data!$B$3,\"Most\",\"-\"))","v":"-"},{"$f":"IF('v přípravě a připraveno'!B268=data!$B$2,\"Rekonstrukce\",IF('v přípravě a připraveno'!B268=data!$B$3,\"Propustek\",\"-\"))","v":"-"},null,null,null,null,null,null,null,null,null,null,null,null,null,null,null,{"$f":"IF('náměty na projekční přípravu'!B304=data!$S$2,\"Souvislá údržba\",IF('náměty na projekční přípravu'!B304=data!$S$3,\"Most\",\"-\"))","v":"-"},{"$f":"IF('náměty na projekční přípravu'!B304=data!$S$2,\"Rekonstrukce\",IF('náměty na projekční přípravu'!B304=data!$S$3,\"Propustek\",\"-\"))","v":"-"}]
[null,null,null,null,null,null,null,null,null,null,null,{"$f":"IF('v přípravě a připraveno'!B269=data!$B$2,\"Souvislá údržba\",IF('v přípravě a připraveno'!B269=data!$B$3,\"Most\",\"-\"))","v":"Souvislá údržba"},{"$f":"IF('v přípravě a připraveno'!B269=data!$B$2,\"Rekonstrukce\",IF('v přípravě a připraveno'!B269=data!$B$3,\"Propustek\",\"-\"))","v":"Rekonstrukce"},null,null,null,null,null,null,null,null,null,null,null,null,null,null,null,{"$f":"IF('náměty na projekční přípravu'!B305=data!$S$2,\"Souvislá údržba\",IF('náměty na projekční přípravu'!B305=data!$S$3,\"Most\",\"-\"))","v":"-"},{"$f":"IF('náměty na projekční přípravu'!B305=data!$S$2,\"Rekonstrukce\",IF('náměty na projekční přípravu'!B305=data!$S$3,\"Propustek\",\"-\"))","v":"-"}]
[null,null,null,null,null,null,null,null,null,null,null,{"$f":"IF('v přípravě a připraveno'!B270=data!$B$2,\"Souvislá údržba\",IF('v přípravě a připraveno'!B270=data!$B$3,\"Most\",\"-\"))","v":"Most"},{"$f":"IF('v přípravě a připraveno'!B270=data!$B$2,\"Rekonstrukce\",IF('v přípravě a připraveno'!B270=data!$B$3,\"Propustek\",\"-\"))","v":"Propustek"},null,null,null,null,null,null,null,null,null,null,null,null,null,null,null,{"$f":"IF('náměty na projekční přípravu'!B306=data!$S$2,\"Souvislá údržba\",IF('náměty na projekční přípravu'!B306=data!$S$3,\"Most\",\"-\"))","v":"-"},{"$f":"IF('náměty na projekční přípravu'!B306=data!$S$2,\"Rekonstrukce\",IF('náměty na projekční přípravu'!B306=data!$S$3,\"Propustek\",\"-\"))","v":"-"}]
[null,null,null,null,null,null,null,null,null,null,null,{"$f":"IF('v přípravě a připraveno'!B271=data!$B$2,\"Souvislá údržba\",IF('v přípravě a připraveno'!B271=data!$B$3,\"Most\",\"-\"))","v":"Souvislá údržba"},{"$f":"IF('v přípravě a připraveno'!B271=data!$B$2,\"Rekonstrukce\",IF('v přípravě a připraveno'!B271=data!$B$3,\"Propustek\",\"-\"))","v":"Rekonstrukce"},null,null,null,null,null,null,null,null,null,null,null,null,null,null,null,{"$f":"IF('náměty na projekční přípravu'!B307=data!$S$2,\"Souvislá údržba\",IF('náměty na projekční přípravu'!B307=data!$S$3,\"Most\",\"-\"))","v":"-"},{"$f":"IF('náměty na projekční přípravu'!B307=data!$S$2,\"Rekonstrukce\",IF('náměty na projekční přípravu'!B307=data!$S$3,\"Propustek\",\"-\"))","v":"-"}]
[null,null,null,null,null,null,null,null,null,null,null,{"$f":"IF('v přípravě a připraveno'!#REF!=data!$B$2,\"Souvislá údržba\",IF('v přípravě a připraveno'!#REF!=data!$B$3,\"Most\",\"-\"))","v":{"$error":"#REF!"}},{"$f":"IF('v přípravě a připraveno'!#REF!=data!$B$2,\"Rekonstrukce\",IF('v přípravě a připraveno'!#REF!=data!$B$3,\"Propustek\",\"-\"))","v":{"$error":"#REF!"}},null,null,null,null,null,null,null,null,null,null,null,null,null,null,null,{"$f":"IF('náměty na projekční přípravu'!B308=data!$S$2,\"Souvislá údržba\",IF('náměty na projekční přípravu'!B308=data!$S$3,\"Most\",\"-\"))","v":"-"},{"$f":"IF('náměty na projekční přípravu'!B308=data!$S$2,\"Rekonstrukce\",IF('náměty na projekční přípravu'!B308=data!$S$3,\"Propustek\",\"-\"))","v":"-"}]
[null,null,null,null,null,null,null,null,null,null,null,{"$f":"IF('v přípravě a připraveno'!#REF!=data!$B$2,\"Souvislá údržba\",IF('v přípravě a připraveno'!#REF!=data!$B$3,\"Most\",\"-\"))","v":{"$error":"#REF!"}},{"$f":"IF('v přípravě a připraveno'!#REF!=data!$B$2,\"Rekonstrukce\",IF('v přípravě a připraveno'!#REF!=data!$B$3,\"Propustek\",\"-\"))","v":{"$error":"#REF!"}},null,null,null,null,null,null,null,null,null,null,null,null,null,null,null,{"$f":"IF('náměty na projekční přípravu'!B309=data!$S$2,\"Souvislá údržba\",IF('náměty na projekční přípravu'!B309=data!$S$3,\"Most\",\"-\"))","v":"-"},{"$f":"IF('náměty na projekční přípravu'!B309=data!$S$2,\"Rekonstrukce\",IF('náměty na projekční přípravu'!B309=data!$S$3,\"Propustek\",\"-\"))","v":"-"}]
[null,null,null,null,null,null,null,null,null,null,null,{"$f":"IF('v přípravě a připraveno'!#REF!=data!$B$2,\"Souvislá údržba\",IF('v přípravě a připraveno'!#REF!=data!$B$3,\"Most\",\"-\"))","v":{"$error":"#REF!"}},{"$f":"IF('v přípravě a připraveno'!#REF!=data!$B$2,\"Rekonstrukce\",IF('v přípravě a připraveno'!#REF!=data!$B$3,\"Propustek\",\"-\"))","v":{"$error":"#REF!"}},null,null,null,null,null,null,null,null,null,null,null,null,null,null,null,{"$f":"IF('náměty na projekční přípravu'!B310=data!$S$2,\"Souvislá údržba\",IF('náměty na projekční přípravu'!B310=data!$S$3,\"Most\",\"-\"))","v":"-"},{"$f":"IF('náměty na projekční přípravu'!B310=data!$S$2,\"Rekonstrukce\",IF('náměty na projekční přípravu'!B310=data!$S$3,\"Propustek\",\"-\"))","v":"-"}]
[null,null,null,null,null,null,null,null,null,null,null,{"$f":"IF('v přípravě a připraveno'!#REF!=data!$B$2,\"Souvislá údržba\",IF('v přípravě a připraveno'!#REF!=data!$B$3,\"Most\",\"-\"))","v":{"$error":"#REF!"}},{"$f":"IF('v přípravě a připraveno'!#REF!=data!$B$2,\"Rekonstrukce\",IF('v přípravě a připraveno'!#REF!=data!$B$3,\"Propustek\",\"-\"))","v":{"$error":"#REF!"}},null,null,null,null,null,null,null,null,null,null,null,null,null,null,null,{"$f":"IF('náměty na projekční přípravu'!B311=data!$S$2,\"Souvislá údržba\",IF('náměty na projekční přípravu'!B311=data!$S$3,\"Most\",\"-\"))","v":"-"},{"$f":"IF('náměty na projekční přípravu'!B311=data!$S$2,\"Rekonstrukce\",IF('náměty na projekční přípravu'!B311=data!$S$3,\"Propustek\",\"-\"))","v":"-"}]
[null,null,null,null,null,null,null,null,null,null,null,{"$f":"IF('v přípravě a připraveno'!B272=data!$B$2,\"Souvislá údržba\",IF('v přípravě a připraveno'!B272=data!$B$3,\"Most\",\"-\"))","v":"Souvislá údržba"},{"$f":"IF('v přípravě a připraveno'!B272=data!$B$2,\"Rekonstrukce\",IF('v přípravě a připraveno'!B272=data!$B$3,\"Propustek\",\"-\"))","v":"Rekonstrukce"},null,null,null,null,null,null,null,null,null,null,null,null,null,null,null,{"$f":"IF('náměty na projekční přípravu'!B312=data!$S$2,\"Souvislá údržba\",IF('náměty na projekční přípravu'!B312=data!$S$3,\"Most\",\"-\"))","v":"-"},{"$f":"IF('náměty na projekční přípravu'!B312=data!$S$2,\"Rekonstrukce\",IF('náměty na projekční přípravu'!B312=data!$S$3,\"Propustek\",\"-\"))","v":"-"}]
[null,null,null,null,null,null,null,null,null,null,null,{"$f":"IF('v přípravě a připraveno'!B273=data!$B$2,\"Souvislá údržba\",IF('v přípravě a připraveno'!B273=data!$B$3,\"Most\",\"-\"))","v":"Souvislá údržba"},{"$f":"IF('v přípravě a připraveno'!B273=data!$B$2,\"Rekonstrukce\",IF('v přípravě a připraveno'!B273=data!$B$3,\"Propustek\",\"-\"))","v":"Rekonstrukce"},null,null,null,null,null,null,null,null,null,null,null,null,null,null,null,{"$f":"IF('náměty na projekční přípravu'!B313=data!$S$2,\"Souvislá údržba\",IF('náměty na projekční přípravu'!B313=data!$S$3,\"Most\",\"-\"))","v":"-"},{"$f":"IF('náměty na projekční přípravu'!B313=data!$S$2,\"Rekonstrukce\",IF('náměty na projekční přípravu'!B313=data!$S$3,\"Propustek\",\"-\"))","v":"-"}]
[null,null,null,null,null,null,null,null,null,null,null,{"$f":"IF('v přípravě a připraveno'!B274=data!$B$2,\"Souvislá údržba\",IF('v přípravě a připraveno'!B274=data!$B$3,\"Most\",\"-\"))","v":"Souvislá údržba"},{"$f":"IF('v přípravě a připraveno'!B274=data!$B$2,\"Rekonstrukce\",IF('v přípravě a připraveno'!B274=data!$B$3,\"Propustek\",\"-\"))","v":"Rekonstrukce"},null,null,null,null,null,null,null,null,null,null,null,null,null,null,null,{"$f":"IF('náměty na projekční přípravu'!B314=data!$S$2,\"Souvislá údržba\",IF('náměty na projekční přípravu'!B314=data!$S$3,\"Most\",\"-\"))","v":"-"},{"$f":"IF('náměty na projekční přípravu'!B314=data!$S$2,\"Rekonstrukce\",IF('náměty na projekční přípravu'!B314=data!$S$3,\"Propustek\",\"-\"))","v":"-"}]
[null,null,null,null,null,null,null,null,null,null,null,{"$f":"IF('v přípravě a připraveno'!B275=data!$B$2,\"Souvislá údržba\",IF('v přípravě a připraveno'!B275=data!$B$3,\"Most\",\"-\"))","v":"Most"},{"$f":"IF('v přípravě a připraveno'!B275=data!$B$2,\"Rekonstrukce\",IF('v přípravě a připraveno'!B275=data!$B$3,\"Propustek\",\"-\"))","v":"Propustek"},null,null,null,null,null,null,null,null,null,null,null,null,null,null,null,{"$f":"IF('náměty na projekční přípravu'!B315=data!$S$2,\"Souvislá údržba\",IF('náměty na projekční přípravu'!B315=data!$S$3,\"Most\",\"-\"))","v":"-"},{"$f":"IF('náměty na projekční přípravu'!B315=data!$S$2,\"Rekonstrukce\",IF('náměty na projekční přípravu'!B315=data!$S$3,\"Propustek\",\"-\"))","v":"-"}]
[null,null,null,null,null,null,null,null,null,null,null,{"$f":"IF('v přípravě a připraveno'!B276=data!$B$2,\"Souvislá údržba\",IF('v přípravě a připraveno'!B276=data!$B$3,\"Most\",\"-\"))","v":"-"},{"$f":"IF('v přípravě a připraveno'!B276=data!$B$2,\"Rekonstrukce\",IF('v přípravě a připraveno'!B276=data!$B$3,\"Propustek\",\"-\"))","v":"-"},null,null,null,null,null,null,null,null,null,null,null,null,null,null,null,{"$f":"IF('náměty na projekční přípravu'!B316=data!$S$2,\"Souvislá údržba\",IF('náměty na projekční přípravu'!B316=data!$S$3,\"Most\",\"-\"))","v":"-"},{"$f":"IF('náměty na projekční přípravu'!B316=data!$S$2,\"Rekonstrukce\",IF('náměty na projekční přípravu'!B316=data!$S$3,\"Propustek\",\"-\"))","v":"-"}]
[null,null,null,null,null,null,null,null,null,null,null,{"$f":"IF('v přípravě a připraveno'!B277=data!$B$2,\"Souvislá údržba\",IF('v přípravě a připraveno'!B277=data!$B$3,\"Most\",\"-\"))","v":"Souvislá údržba"},{"$f":"IF('v přípravě a připraveno'!B277=data!$B$2,\"Rekonstrukce\",IF('v přípravě a připraveno'!B277=data!$B$3,\"Propustek\",\"-\"))","v":"Rekonstrukce"},null,null,null,null,null,null,null,null,null,null,null,null,null,null,null,{"$f":"IF('náměty na projekční přípravu'!B317=data!$S$2,\"Souvislá údržba\",IF('náměty na projekční přípravu'!B317=data!$S$3,\"Most\",\"-\"))","v":"-"},{"$f":"IF('náměty na projekční přípravu'!B317=data!$S$2,\"Rekonstrukce\",IF('náměty na projekční přípravu'!B317=data!$S$3,\"Propustek\",\"-\"))","v":"-"}]
[null,null,null,null,null,null,null,null,null,null,null,{"$f":"IF('v přípravě a připraveno'!B278=data!$B$2,\"Souvislá údržba\",IF('v přípravě a připraveno'!B278=data!$B$3,\"Most\",\"-\"))","v":"Most"},{"$f":"IF('v přípravě a připraveno'!B278=data!$B$2,\"Rekonstrukce\",IF('v přípravě a připraveno'!B278=data!$B$3,\"Propustek\",\"-\"))","v":"Propustek"},null,null,null,null,null,null,null,null,null,null,null,null,null,null,null,{"$f":"IF('náměty na projekční přípravu'!B318=data!$S$2,\"Souvislá údržba\",IF('náměty na projekční přípravu'!B318=data!$S$3,\"Most\",\"-\"))","v":"-"},{"$f":"IF('náměty na projekční přípravu'!B318=data!$S$2,\"Rekonstrukce\",IF('náměty na projekční přípravu'!B318=data!$S$3,\"Propustek\",\"-\"))","v":"-"}]
[null,null,null,null,null,null,null,null,null,null,null,{"$f":"IF('v přípravě a připraveno'!B279=data!$B$2,\"Souvislá údržba\",IF('v přípravě a připraveno'!B279=data!$B$3,\"Most\",\"-\"))","v":"Souvislá údržba"},{"$f":"IF('v přípravě a připraveno'!B279=data!$B$2,\"Rekonstrukce\",IF('v přípravě a připraveno'!B279=data!$B$3,\"Propustek\",\"-\"))","v":"Rekonstrukce"},null,null,null,null,null,null,null,null,null,null,null,null,null,null,null,{"$f":"IF('náměty na projekční přípravu'!B319=data!$S$2,\"Souvislá údržba\",IF('náměty na projekční přípravu'!B319=data!$S$3,\"Most\",\"-\"))","v":"-"},{"$f":"IF('náměty na projekční přípravu'!B319=data!$S$2,\"Rekonstrukce\",IF('náměty na projekční přípravu'!B319=data!$S$3,\"Propustek\",\"-\"))","v":"-"}]
[null,null,null,null,null,null,null,null,null,null,null,{"$f":"IF('v přípravě a připraveno'!B280=data!$B$2,\"Souvislá údržba\",IF('v přípravě a připraveno'!B280=data!$B$3,\"Most\",\"-\"))","v":"Souvislá údržba"},{"$f":"IF('v přípravě a připraveno'!B280=data!$B$2,\"Rekonstrukce\",IF('v přípravě a připraveno'!B280=data!$B$3,\"Propustek\",\"-\"))","v":"Rekonstrukce"},null,null,null,null,null,null,null,null,null,null,null,null,null,null,null,{"$f":"IF('náměty na projekční přípravu'!B320=data!$S$2,\"Souvislá údržba\",IF('náměty na projekční přípravu'!B320=data!$S$3,\"Most\",\"-\"))","v":"-"},{"$f":"IF('náměty na projekční přípravu'!B320=data!$S$2,\"Rekonstrukce\",IF('náměty na projekční přípravu'!B320=data!$S$3,\"Propustek\",\"-\"))","v":"-"}]
[null,null,null,null,null,null,null,null,null,null,null,{"$f":"IF('v přípravě a připraveno'!B281=data!$B$2,\"Souvislá údržba\",IF('v přípravě a připraveno'!B281=data!$B$3,\"Most\",\"-\"))","v":"Souvislá údržba"},{"$f":"IF('v přípravě a připraveno'!B281=data!$B$2,\"Rekonstrukce\",IF('v přípravě a připraveno'!B281=data!$B$3,\"Propustek\",\"-\"))","v":"Rekonstrukce"},null,null,null,null,null,null,null,null,null,null,null,null,null,null,null,{"$f":"IF('náměty na projekční přípravu'!B321=data!$S$2,\"Souvislá údržba\",IF('náměty na projekční přípravu'!B321=data!$S$3,\"Most\",\"-\"))","v":"-"},{"$f":"IF('náměty na projekční přípravu'!B321=data!$S$2,\"Rekonstrukce\",IF('náměty na projekční přípravu'!B321=data!$S$3,\"Propustek\",\"-\"))","v":"-"}]
[null,null,null,null,null,null,null,null,null,null,null,{"$f":"IF('v přípravě a připraveno'!B282=data!$B$2,\"Souvislá údržba\",IF('v přípravě a připraveno'!B282=data!$B$3,\"Most\",\"-\"))","v":"Souvislá údržba"},{"$f":"IF('v přípravě a připraveno'!B282=data!$B$2,\"Rekonstrukce\",IF('v přípravě a připraveno'!B282=data!$B$3,\"Propustek\",\"-\"))","v":"Rekonstrukce"},null,null,null,null,null,null,null,null,null,null,null,null,null,null,null,{"$f":"IF('náměty na projekční přípravu'!B322=data!$S$2,\"Souvislá údržba\",IF('náměty na projekční přípravu'!B322=data!$S$3,\"Most\",\"-\"))","v":"-"},{"$f":"IF('náměty na projekční přípravu'!B322=data!$S$2,\"Rekonstrukce\",IF('náměty na projekční přípravu'!B322=data!$S$3,\"Propustek\",\"-\"))","v":"-"}]
[null,null,null,null,null,null,null,null,null,null,null,{"$f":"IF('v přípravě a připraveno'!B283=data!$B$2,\"Souvislá údržba\",IF('v přípravě a připraveno'!B283=data!$B$3,\"Most\",\"-\"))","v":"Souvislá údržba"},{"$f":"IF('v přípravě a připraveno'!B283=data!$B$2,\"Rekonstrukce\",IF('v přípravě a připraveno'!B283=data!$B$3,\"Propustek\",\"-\"))","v":"Rekonstrukce"},null,null,null,null,null,null,null,null,null,null,null,null,null,null,null,{"$f":"IF('náměty na projekční přípravu'!B323=data!$S$2,\"Souvislá údržba\",IF('náměty na projekční přípravu'!B323=data!$S$3,\"Most\",\"-\"))","v":"-"},{"$f":"IF('náměty na projekční přípravu'!B323=data!$S$2,\"Rekonstrukce\",IF('náměty na projekční přípravu'!B323=data!$S$3,\"Propustek\",\"-\"))","v":"-"}]
[null,null,null,null,null,null,null,null,null,null,null,{"$f":"IF('v přípravě a připraveno'!B284=data!$B$2,\"Souvislá údržba\",IF('v přípravě a připraveno'!B284=data!$B$3,\"Most\",\"-\"))","v":"Souvislá údržba"},{"$f":"IF('v přípravě a připraveno'!B284=data!$B$2,\"Rekonstrukce\",IF('v přípravě a připraveno'!B284=data!$B$3,\"Propustek\",\"-\"))","v":"Rekonstrukce"},null,null,null,null,null,null,null,null,null,null,null,null,null,null,null,{"$f":"IF('náměty na projekční přípravu'!B324=data!$S$2,\"Souvislá údržba\",IF('náměty na projekční přípravu'!B324=data!$S$3,\"Most\",\"-\"))","v":"-"},{"$f":"IF('náměty na projekční přípravu'!B324=data!$S$2,\"Rekonstrukce\",IF('náměty na projekční přípravu'!B324=data!$S$3,\"Propustek\",\"-\"))","v":"-"}]
[null,null,null,null,null,null,null,null,null,null,null,{"$f":"IF('v přípravě a připraveno'!B285=data!$B$2,\"Souvislá údržba\",IF('v přípravě a připraveno'!B285=data!$B$3,\"Most\",\"-\"))","v":"-"},{"$f":"IF('v přípravě a připraveno'!B285=data!$B$2,\"Rekonstrukce\",IF('v přípravě a připraveno'!B285=data!$B$3,\"Propustek\",\"-\"))","v":"-"},null,null,null,null,null,null,null,null,null,null,null,null,null,null,null,{"$f":"IF('náměty na projekční přípravu'!B325=data!$S$2,\"Souvislá údržba\",IF('náměty na projekční přípravu'!B325=data!$S$3,\"Most\",\"-\"))","v":"-"},{"$f":"IF('náměty na projekční přípravu'!B325=data!$S$2,\"Rekonstrukce\",IF('náměty na projekční přípravu'!B325=data!$S$3,\"Propustek\",\"-\"))","v":"-"}]
[null,null,null,null,null,null,null,null,null,null,null,{"$f":"IF('v přípravě a připraveno'!B286=data!$B$2,\"Souvislá údržba\",IF('v přípravě a připraveno'!B286=data!$B$3,\"Most\",\"-\"))","v":"Most"},{"$f":"IF('v přípravě a připraveno'!B286=data!$B$2,\"Rekonstrukce\",IF('v přípravě a připraveno'!B286=data!$B$3,\"Propustek\",\"-\"))","v":"Propustek"},null,null,null,null,null,null,null,null,null,null,null,null,null,null,null,{"$f":"IF('náměty na projekční přípravu'!B326=data!$S$2,\"Souvislá údržba\",IF('náměty na projekční přípravu'!B326=data!$S$3,\"Most\",\"-\"))","v":"-"},{"$f":"IF('náměty na projekční přípravu'!B326=data!$S$2,\"Rekonstrukce\",IF('náměty na projekční přípravu'!B326=data!$S$3,\"Propustek\",\"-\"))","v":"-"}]
[null,null,null,null,null,null,null,null,null,null,null,{"$f":"IF('v přípravě a připraveno'!B287=data!$B$2,\"Souvislá údržba\",IF('v přípravě a připraveno'!B287=data!$B$3,\"Most\",\"-\"))","v":"Souvislá údržba"},{"$f":"IF('v přípravě a připraveno'!B287=data!$B$2,\"Rekonstrukce\",IF('v přípravě a připraveno'!B287=data!$B$3,\"Propustek\",\"-\"))","v":"Rekonstrukce"},null,null,null,null,null,null,null,null,null,null,null,null,null,null,null,{"$f":"IF('náměty na projekční přípravu'!B327=data!$S$2,\"Souvislá údržba\",IF('náměty na projekční přípravu'!B327=data!$S$3,\"Most\",\"-\"))","v":"-"},{"$f":"IF('náměty na projekční přípravu'!B327=data!$S$2,\"Rekonstrukce\",IF('náměty na projekční přípravu'!B327=data!$S$3,\"Propustek\",\"-\"))","v":"-"}]
[null,null,null,null,null,null,null,null,null,null,null,{"$f":"IF('v přípravě a připraveno'!B288=data!$B$2,\"Souvislá údržba\",IF('v přípravě a připraveno'!B288=data!$B$3,\"Most\",\"-\"))","v":"Most"},{"$f":"IF('v přípravě a připraveno'!B288=data!$B$2,\"Rekonstrukce\",IF('v přípravě a připraveno'!B288=data!$B$3,\"Propustek\",\"-\"))","v":"Propustek"},null,null,null,null,null,null,null,null,null,null,null,null,null,null,null,{"$f":"IF('náměty na projekční přípravu'!B328=data!$S$2,\"Souvislá údržba\",IF('náměty na projekční přípravu'!B328=data!$S$3,\"Most\",\"-\"))","v":"-"},{"$f":"IF('náměty na projekční přípravu'!B328=data!$S$2,\"Rekonstrukce\",IF('náměty na projekční přípravu'!B328=data!$S$3,\"Propustek\",\"-\"))","v":"-"}]
[null,null,null,null,null,null,null,null,null,null,null,{"$f":"IF('v přípravě a připraveno'!#REF!=data!$B$2,\"Souvislá údržba\",IF('v přípravě a připraveno'!#REF!=data!$B$3,\"Most\",\"-\"))","v":{"$error":"#REF!"}},{"$f":"IF('v přípravě a připraveno'!#REF!=data!$B$2,\"Rekonstrukce\",IF('v přípravě a připraveno'!#REF!=data!$B$3,\"Propustek\",\"-\"))","v":{"$error":"#REF!"}},null,null,null,null,null,null,null,null,null,null,null,null,null,null,null,{"$f":"IF('náměty na projekční přípravu'!B329=data!$S$2,\"Souvislá údržba\",IF('náměty na projekční přípravu'!B329=data!$S$3,\"Most\",\"-\"))","v":"-"},{"$f":"IF('náměty na projekční přípravu'!B329=data!$S$2,\"Rekonstrukce\",IF('náměty na projekční přípravu'!B329=data!$S$3,\"Propustek\",\"-\"))","v":"-"}]
[null,null,null,null,null,null,null,null,null,null,null,{"$f":"IF('v přípravě a připraveno'!B289=data!$B$2,\"Souvislá údržba\",IF('v přípravě a připraveno'!B289=data!$B$3,\"Most\",\"-\"))","v":"Souvislá údržba"},{"$f":"IF('v přípravě a připraveno'!B289=data!$B$2,\"Rekonstrukce\",IF('v přípravě a připraveno'!B289=data!$B$3,\"Propustek\",\"-\"))","v":"Rekonstrukce"},null,null,null,null,null,null,null,null,null,null,null,null,null,null,null,{"$f":"IF('náměty na projekční přípravu'!B330=data!$S$2,\"Souvislá údržba\",IF('náměty na projekční přípravu'!B330=data!$S$3,\"Most\",\"-\"))","v":"-"},{"$f":"IF('náměty na projekční přípravu'!B330=data!$S$2,\"Rekonstrukce\",IF('náměty na projekční přípravu'!B330=data!$S$3,\"Propustek\",\"-\"))","v":"-"}]
[null,null,null,null,null,null,null,null,null,null,null,{"$f":"IF('v přípravě a připraveno'!B290=data!$B$2,\"Souvislá údržba\",IF('v přípravě a připraveno'!B290=data!$B$3,\"Most\",\"-\"))","v":"Souvislá údržba"},{"$f":"IF('v přípravě a připraveno'!B290=data!$B$2,\"Rekonstrukce\",IF('v přípravě a připraveno'!B290=data!$B$3,\"Propustek\",\"-\"))","v":"Rekonstrukce"},null,null,null,null,null,null,null,null,null,null,null,null,null,null,null,{"$f":"IF('náměty na projekční přípravu'!B331=data!$S$2,\"Souvislá údržba\",IF('náměty na projekční přípravu'!B331=data!$S$3,\"Most\",\"-\"))","v":"-"},{"$f":"IF('náměty na projekční přípravu'!B331=data!$S$2,\"Rekonstrukce\",IF('náměty na projekční přípravu'!B331=data!$S$3,\"Propustek\",\"-\"))","v":"-"}]
[null,null,null,null,null,null,null,null,null,null,null,{"$f":"IF('v přípravě a připraveno'!B291=data!$B$2,\"Souvislá údržba\",IF('v přípravě a připraveno'!B291=data!$B$3,\"Most\",\"-\"))","v":"Souvislá údržba"},{"$f":"IF('v přípravě a připraveno'!B291=data!$B$2,\"Rekonstrukce\",IF('v přípravě a připraveno'!B291=data!$B$3,\"Propustek\",\"-\"))","v":"Rekonstrukce"},null,null,null,null,null,null,null,null,null,null,null,null,null,null,null,{"$f":"IF('náměty na projekční přípravu'!B332=data!$S$2,\"Souvislá údržba\",IF('náměty na projekční přípravu'!B332=data!$S$3,\"Most\",\"-\"))","v":"-"},{"$f":"IF('náměty na projekční přípravu'!B332=data!$S$2,\"Rekonstrukce\",IF('náměty na projekční přípravu'!B332=data!$S$3,\"Propustek\",\"-\"))","v":"-"}]
[null,null,null,null,null,null,null,null,null,null,null,{"$f":"IF('v přípravě a připraveno'!B292=data!$B$2,\"Souvislá údržba\",IF('v přípravě a připraveno'!B292=data!$B$3,\"Most\",\"-\"))","v":"Most"},{"$f":"IF('v přípravě a připraveno'!B292=data!$B$2,\"Rekonstrukce\",IF('v přípravě a připraveno'!B292=data!$B$3,\"Propustek\",\"-\"))","v":"Propustek"},null,null,null,null,null,null,null,null,null,null,null,null,null,null,null,{"$f":"IF('náměty na projekční přípravu'!B333=data!$S$2,\"Souvislá údržba\",IF('náměty na projekční přípravu'!B333=data!$S$3,\"Most\",\"-\"))","v":"-"},{"$f":"IF('náměty na projekční přípravu'!B333=data!$S$2,\"Rekonstrukce\",IF('náměty na projekční přípravu'!B333=data!$S$3,\"Propustek\",\"-\"))","v":"-"}]
[null,null,null,null,null,null,null,null,null,null,null,{"$f":"IF('v přípravě a připraveno'!B293=data!$B$2,\"Souvislá údržba\",IF('v přípravě a připraveno'!B293=data!$B$3,\"Most\",\"-\"))","v":"Souvislá údržba"},{"$f":"IF('v přípravě a připraveno'!B293=data!$B$2,\"Rekonstrukce\",IF('v přípravě a připraveno'!B293=data!$B$3,\"Propustek\",\"-\"))","v":"Rekonstrukce"},null,null,null,null,null,null,null,null,null,null,null,null,null,null,null,{"$f":"IF('náměty na projekční přípravu'!B334=data!$S$2,\"Souvislá údržba\",IF('náměty na projekční přípravu'!B334=data!$S$3,\"Most\",\"-\"))","v":"-"},{"$f":"IF('náměty na projekční přípravu'!B334=data!$S$2,\"Rekonstrukce\",IF('náměty na projekční přípravu'!B334=data!$S$3,\"Propustek\",\"-\"))","v":"-"}]
[null,null,null,null,null,null,null,null,null,null,null,{"$f":"IF('v přípravě a připraveno'!B294=data!$B$2,\"Souvislá údržba\",IF('v přípravě a připraveno'!B294=data!$B$3,\"Most\",\"-\"))","v":"Souvislá údržba"},{"$f":"IF('v přípravě a připraveno'!B294=data!$B$2,\"Rekonstrukce\",IF('v přípravě a připraveno'!B294=data!$B$3,\"Propustek\",\"-\"))","v":"Rekonstrukce"},null,null,null,null,null,null,null,null,null,null,null,null,null,null,null,{"$f":"IF('náměty na projekční přípravu'!B335=data!$S$2,\"Souvislá údržba\",IF('náměty na projekční přípravu'!B335=data!$S$3,\"Most\",\"-\"))","v":"-"},{"$f":"IF('náměty na projekční přípravu'!B335=data!$S$2,\"Rekonstrukce\",IF('náměty na projekční přípravu'!B335=data!$S$3,\"Propustek\",\"-\"))","v":"-"}]
[null,null,null,null,null,null,null,null,null,null,null,{"$f":"IF('v přípravě a připraveno'!B295=data!$B$2,\"Souvislá údržba\",IF('v přípravě a připraveno'!B295=data!$B$3,\"Most\",\"-\"))","v":"Souvislá údržba"},{"$f":"IF('v přípravě a připraveno'!B295=data!$B$2,\"Rekonstrukce\",IF('v přípravě a připraveno'!B295=data!$B$3,\"Propustek\",\"-\"))","v":"Rekonstrukce"},null,null,null,null,null,null,null,null,null,null,null,null,null,null,null,{"$f":"IF('náměty na projekční přípravu'!B336=data!$S$2,\"Souvislá údržba\",IF('náměty na projekční přípravu'!B336=data!$S$3,\"Most\",\"-\"))","v":"-"},{"$f":"IF('náměty na projekční přípravu'!B336=data!$S$2,\"Rekonstrukce\",IF('náměty na projekční přípravu'!B336=data!$S$3,\"Propustek\",\"-\"))","v":"-"}]
[null,null,null,null,null,null,null,null,null,null,null,{"$f":"IF('v přípravě a připraveno'!B296=data!$B$2,\"Souvislá údržba\",IF('v přípravě a připraveno'!B296=data!$B$3,\"Most\",\"-\"))","v":"Souvislá údržba"},{"$f":"IF('v přípravě a připraveno'!B296=data!$B$2,\"Rekonstrukce\",IF('v přípravě a připraveno'!B296=data!$B$3,\"Propustek\",\"-\"))","v":"Rekonstrukce"},null,null,null,null,null,null,null,null,null,null,null,null,null,null,null,{"$f":"IF('náměty na projekční přípravu'!B337=data!$S$2,\"Souvislá údržba\",IF('náměty na projekční přípravu'!B337=data!$S$3,\"Most\",\"-\"))","v":"-"},{"$f":"IF('náměty na projekční přípravu'!B337=data!$S$2,\"Rekonstrukce\",IF('náměty na projekční přípravu'!B337=data!$S$3,\"Propustek\",\"-\"))","v":"-"}]
[null,null,null,null,null,null,null,null,null,null,null,{"$f":"IF('v přípravě a připraveno'!B297=data!$B$2,\"Souvislá údržba\",IF('v přípravě a připraveno'!B297=data!$B$3,\"Most\",\"-\"))","v":"Most"},{"$f":"IF('v přípravě a připraveno'!B297=data!$B$2,\"Rekonstrukce\",IF('v přípravě a připraveno'!B297=data!$B$3,\"Propustek\",\"-\"))","v":"Propustek"},null,null,null,null,null,null,null,null,null,null,null,null,null,null,null,{"$f":"IF('náměty na projekční přípravu'!B338=data!$S$2,\"Souvislá údržba\",IF('náměty na projekční přípravu'!B338=data!$S$3,\"Most\",\"-\"))","v":"-"},{"$f":"IF('náměty na projekční přípravu'!B338=data!$S$2,\"Rekonstrukce\",IF('náměty na projekční přípravu'!B338=data!$S$3,\"Propustek\",\"-\"))","v":"-"}]
[null,null,null,null,null,null,null,null,null,null,null,{"$f":"IF('v přípravě a připraveno'!#REF!=data!$B$2,\"Souvislá údržba\",IF('v přípravě a připraveno'!#REF!=data!$B$3,\"Most\",\"-\"))","v":{"$error":"#REF!"}},{"$f":"IF('v přípravě a připraveno'!#REF!=data!$B$2,\"Rekonstrukce\",IF('v přípravě a připraveno'!#REF!=data!$B$3,\"Propustek\",\"-\"))","v":{"$error":"#REF!"}},null,null,null,null,null,null,null,null,null,null,null,null,null,null,null,{"$f":"IF('náměty na projekční přípravu'!B339=data!$S$2,\"Souvislá údržba\",IF('náměty na projekční přípravu'!B339=data!$S$3,\"Most\",\"-\"))","v":"-"},{"$f":"IF('náměty na projekční přípravu'!B339=data!$S$2,\"Rekonstrukce\",IF('náměty na projekční přípravu'!B339=data!$S$3,\"Propustek\",\"-\"))","v":"-"}]
[null,null,null,null,null,null,null,null,null,null,null,{"$f":"IF('v přípravě a připraveno'!B298=data!$B$2,\"Souvislá údržba\",IF('v přípravě a připraveno'!B298=data!$B$3,\"Most\",\"-\"))","v":"Most"},{"$f":"IF('v přípravě a připraveno'!B298=data!$B$2,\"Rekonstrukce\",IF('v přípravě a připraveno'!B298=data!$B$3,\"Propustek\",\"-\"))","v":"Propustek"},null,null,null,null,null,null,null,null,null,null,null,null,null,null,null,{"$f":"IF('náměty na projekční přípravu'!B340=data!$S$2,\"Souvislá údržba\",IF('náměty na projekční přípravu'!B340=data!$S$3,\"Most\",\"-\"))","v":"-"},{"$f":"IF('náměty na projekční přípravu'!B340=data!$S$2,\"Rekonstrukce\",IF('náměty na projekční přípravu'!B340=data!$S$3,\"Propustek\",\"-\"))","v":"-"}]
[null,null,null,null,null,null,null,null,null,null,null,{"$f":"IF('v přípravě a připraveno'!B299=data!$B$2,\"Souvislá údržba\",IF('v přípravě a připraveno'!B299=data!$B$3,\"Most\",\"-\"))","v":"Most"},{"$f":"IF('v přípravě a připraveno'!B299=data!$B$2,\"Rekonstrukce\",IF('v přípravě a připraveno'!B299=data!$B$3,\"Propustek\",\"-\"))","v":"Propustek"},null,null,null,null,null,null,null,null,null,null,null,null,null,null,null,{"$f":"IF('náměty na projekční přípravu'!B341=data!$S$2,\"Souvislá údržba\",IF('náměty na projekční přípravu'!B341=data!$S$3,\"Most\",\"-\"))","v":"-"},{"$f":"IF('náměty na projekční přípravu'!B341=data!$S$2,\"Rekonstrukce\",IF('náměty na projekční přípravu'!B341=data!$S$3,\"Propustek\",\"-\"))","v":"-"}]
[null,null,null,null,null,null,null,null,null,null,null,{"$f":"IF('v přípravě a připraveno'!B300=data!$B$2,\"Souvislá údržba\",IF('v přípravě a připraveno'!B300=data!$B$3,\"Most\",\"-\"))","v":"Souvislá údržba"},{"$f":"IF('v přípravě a připraveno'!B300=data!$B$2,\"Rekonstrukce\",IF('v přípravě a připraveno'!B300=data!$B$3,\"Propustek\",\"-\"))","v":"Rekonstrukce"},null,null,null,null,null,null,null,null,null,null,null,null,null,null,null,{"$f":"IF('náměty na projekční přípravu'!B342=data!$S$2,\"Souvislá údržba\",IF('náměty na projekční přípravu'!B342=data!$S$3,\"Most\",\"-\"))","v":"-"},{"$f":"IF('náměty na projekční přípravu'!B342=data!$S$2,\"Rekonstrukce\",IF('náměty na projekční přípravu'!B342=data!$S$3,\"Propustek\",\"-\"))","v":"-"}]
[null,null,null,null,null,null,null,null,null,null,null,{"$f":"IF('v přípravě a připraveno'!B301=data!$B$2,\"Souvislá údržba\",IF('v přípravě a připraveno'!B301=data!$B$3,\"Most\",\"-\"))","v":"Souvislá údržba"},{"$f":"IF('v přípravě a připraveno'!B301=data!$B$2,\"Rekonstrukce\",IF('v přípravě a připraveno'!B301=data!$B$3,\"Propustek\",\"-\"))","v":"Rekonstrukce"},null,null,null,null,null,null,null,null,null,null,null,null,null,null,null,{"$f":"IF('náměty na projekční přípravu'!B343=data!$S$2,\"Souvislá údržba\",IF('náměty na projekční přípravu'!B343=data!$S$3,\"Most\",\"-\"))","v":"-"},{"$f":"IF('náměty na projekční přípravu'!B343=data!$S$2,\"Rekonstrukce\",IF('náměty na projekční přípravu'!B343=data!$S$3,\"Propustek\",\"-\"))","v":"-"}]
[null,null,null,null,null,null,null,null,null,null,null,{"$f":"IF('v přípravě a připraveno'!B302=data!$B$2,\"Souvislá údržba\",IF('v přípravě a připraveno'!B302=data!$B$3,\"Most\",\"-\"))","v":"Souvislá údržba"},{"$f":"IF('v přípravě a připraveno'!B302=data!$B$2,\"Rekonstrukce\",IF('v přípravě a připraveno'!B302=data!$B$3,\"Propustek\",\"-\"))","v":"Rekonstrukce"},null,null,null,null,null,null,null,null,null,null,null,null,null,null,null,{"$f":"IF('náměty na projekční přípravu'!B344=data!$S$2,\"Souvislá údržba\",IF('náměty na projekční přípravu'!B344=data!$S$3,\"Most\",\"-\"))","v":"-"},{"$f":"IF('náměty na projekční přípravu'!B344=data!$S$2,\"Rekonstrukce\",IF('náměty na projekční přípravu'!B344=data!$S$3,\"Propustek\",\"-\"))","v":"-"}]
[null,null,null,null,null,null,null,null,null,null,null,{"$f":"IF('v přípravě a připraveno'!B303=data!$B$2,\"Souvislá údržba\",IF('v přípravě a připraveno'!B303=data!$B$3,\"Most\",\"-\"))","v":"Souvislá údržba"},{"$f":"IF('v přípravě a připraveno'!B303=data!$B$2,\"Rekonstrukce\",IF('v přípravě a připraveno'!B303=data!$B$3,\"Propustek\",\"-\"))","v":"Rekonstrukce"},null,null,null,null,null,null,null,null,null,null,null,null,null,null,null,{"$f":"IF('náměty na projekční přípravu'!B345=data!$S$2,\"Souvislá údržba\",IF('náměty na projekční přípravu'!B345=data!$S$3,\"Most\",\"-\"))","v":"-"},{"$f":"IF('náměty na projekční přípravu'!B345=data!$S$2,\"Rekonstrukce\",IF('náměty na projekční přípravu'!B345=data!$S$3,\"Propustek\",\"-\"))","v":"-"}]
[null,null,null,null,null,null,null,null,null,null,null,{"$f":"IF('v přípravě a připraveno'!B304=data!$B$2,\"Souvislá údržba\",IF('v přípravě a připraveno'!B304=data!$B$3,\"Most\",\"-\"))","v":"Souvislá údržba"},{"$f":"IF('v přípravě a připraveno'!B304=data!$B$2,\"Rekonstrukce\",IF('v přípravě a připraveno'!B304=data!$B$3,\"Propustek\",\"-\"))","v":"Rekonstrukce"},null,null,null,null,null,null,null,null,null,null,null,null,null,null,null,{"$f":"IF('náměty na projekční přípravu'!B346=data!$S$2,\"Souvislá údržba\",IF('náměty na projekční přípravu'!B346=data!$S$3,\"Most\",\"-\"))","v":"-"},{"$f":"IF('náměty na projekční přípravu'!B346=data!$S$2,\"Rekonstrukce\",IF('náměty na projekční přípravu'!B346=data!$S$3,\"Propustek\",\"-\"))","v":"-"}]
[null,null,null,null,null,null,null,null,null,null,null,{"$f":"IF('v přípravě a připraveno'!B305=data!$B$2,\"Souvislá údržba\",IF('v přípravě a připraveno'!B305=data!$B$3,\"Most\",\"-\"))","v":"Most"},{"$f":"IF('v přípravě a připraveno'!B305=data!$B$2,\"Rekonstrukce\",IF('v přípravě a připraveno'!B305=data!$B$3,\"Propustek\",\"-\"))","v":"Propustek"},null,null,null,null,null,null,null,null,null,null,null,null,null,null,null,{"$f":"IF('náměty na projekční přípravu'!B347=data!$S$2,\"Souvislá údržba\",IF('náměty na projekční přípravu'!B347=data!$S$3,\"Most\",\"-\"))","v":"-"},{"$f":"IF('náměty na projekční přípravu'!B347=data!$S$2,\"Rekonstrukce\",IF('náměty na projekční přípravu'!B347=data!$S$3,\"Propustek\",\"-\"))","v":"-"}]
[null,null,null,null,null,null,null,null,null,null,null,{"$f":"IF('v přípravě a připraveno'!#REF!=data!$B$2,\"Souvislá údržba\",IF('v přípravě a připraveno'!#REF!=data!$B$3,\"Most\",\"-\"))","v":{"$error":"#REF!"}},{"$f":"IF('v přípravě a připraveno'!#REF!=data!$B$2,\"Rekonstrukce\",IF('v přípravě a připraveno'!#REF!=data!$B$3,\"Propustek\",\"-\"))","v":{"$error":"#REF!"}},null,null,null,null,null,null,null,null,null,null,null,null,null,null,null,{"$f":"IF('náměty na projekční přípravu'!B348=data!$S$2,\"Souvislá údržba\",IF('náměty na projekční přípravu'!B348=data!$S$3,\"Most\",\"-\"))","v":"-"},{"$f":"IF('náměty na projekční přípravu'!B348=data!$S$2,\"Rekonstrukce\",IF('náměty na projekční přípravu'!B348=data!$S$3,\"Propustek\",\"-\"))","v":"-"}]
[null,null,null,null,null,null,null,null,null,null,null,{"$f":"IF('v přípravě a připraveno'!B306=data!$B$2,\"Souvislá údržba\",IF('v přípravě a připraveno'!B306=data!$B$3,\"Most\",\"-\"))","v":"Souvislá údržba"},{"$f":"IF('v přípravě a připraveno'!B306=data!$B$2,\"Rekonstrukce\",IF('v přípravě a připraveno'!B306=data!$B$3,\"Propustek\",\"-\"))","v":"Rekonstrukce"},null,null,null,null,null,null,null,null,null,null,null,null,null,null,null,{"$f":"IF('náměty na projekční přípravu'!B349=data!$S$2,\"Souvislá údržba\",IF('náměty na projekční přípravu'!B349=data!$S$3,\"Most\",\"-\"))","v":"-"},{"$f":"IF('náměty na projekční přípravu'!B349=data!$S$2,\"Rekonstrukce\",IF('náměty na projekční přípravu'!B349=data!$S$3,\"Propustek\",\"-\"))","v":"-"}]
[null,null,null,null,null,null,null,null,null,null,null,{"$f":"IF('v přípravě a připraveno'!B307=data!$B$2,\"Souvislá údržba\",IF('v přípravě a připraveno'!B307=data!$B$3,\"Most\",\"-\"))","v":"Souvislá údržba"},{"$f":"IF('v přípravě a připraveno'!B307=data!$B$2,\"Rekonstrukce\",IF('v přípravě a připraveno'!B307=data!$B$3,\"Propustek\",\"-\"))","v":"Rekonstrukce"},null,null,null,null,null,null,null,null,null,null,null,null,null,null,null,{"$f":"IF('náměty na projekční přípravu'!B350=data!$S$2,\"Souvislá údržba\",IF('náměty na projekční přípravu'!B350=data!$S$3,\"Most\",\"-\"))","v":"-"},{"$f":"IF('náměty na projekční přípravu'!B350=data!$S$2,\"Rekonstrukce\",IF('náměty na projekční přípravu'!B350=data!$S$3,\"Propustek\",\"-\"))","v":"-"}]
[null,null,null,null,null,null,null,null,null,null,null,{"$f":"IF('v přípravě a připraveno'!B308=data!$B$2,\"Souvislá údržba\",IF('v přípravě a připraveno'!B308=data!$B$3,\"Most\",\"-\"))","v":"Most"},{"$f":"IF('v přípravě a připraveno'!B308=data!$B$2,\"Rekonstrukce\",IF('v přípravě a připraveno'!B308=data!$B$3,\"Propustek\",\"-\"))","v":"Propustek"},null,null,null,null,null,null,null,null,null,null,null,null,null,null,null,{"$f":"IF('náměty na projekční přípravu'!B351=data!$S$2,\"Souvislá údržba\",IF('náměty na projekční přípravu'!B351=data!$S$3,\"Most\",\"-\"))","v":"-"},{"$f":"IF('náměty na projekční přípravu'!B351=data!$S$2,\"Rekonstrukce\",IF('náměty na projekční přípravu'!B351=data!$S$3,\"Propustek\",\"-\"))","v":"-"}]
[null,null,null,null,null,null,null,null,null,null,null,{"$f":"IF('v přípravě a připraveno'!B309=data!$B$2,\"Souvislá údržba\",IF('v přípravě a připraveno'!B309=data!$B$3,\"Most\",\"-\"))","v":"-"},{"$f":"IF('v přípravě a připraveno'!B309=data!$B$2,\"Rekonstrukce\",IF('v přípravě a připraveno'!B309=data!$B$3,\"Propustek\",\"-\"))","v":"-"},null,null,null,null,null,null,null,null,null,null,null,null,null,null,null,{"$f":"IF('náměty na projekční přípravu'!B352=data!$S$2,\"Souvislá údržba\",IF('náměty na projekční přípravu'!B352=data!$S$3,\"Most\",\"-\"))","v":"-"},{"$f":"IF('náměty na projekční přípravu'!B352=data!$S$2,\"Rekonstrukce\",IF('náměty na projekční přípravu'!B352=data!$S$3,\"Propustek\",\"-\"))","v":"-"}]
[null,null,null,null,null,null,null,null,null,null,null,{"$f":"IF('v přípravě a připraveno'!B310=data!$B$2,\"Souvislá údržba\",IF('v přípravě a připraveno'!B310=data!$B$3,\"Most\",\"-\"))","v":"Souvislá údržba"},{"$f":"IF('v přípravě a připraveno'!B310=data!$B$2,\"Rekonstrukce\",IF('v přípravě a připraveno'!B310=data!$B$3,\"Propustek\",\"-\"))","v":"Rekonstrukce"},null,null,null,null,null,null,null,null,null,null,null,null,null,null,null,{"$f":"IF('náměty na projekční přípravu'!B353=data!$S$2,\"Souvislá údržba\",IF('náměty na projekční přípravu'!B353=data!$S$3,\"Most\",\"-\"))","v":"-"},{"$f":"IF('náměty na projekční přípravu'!B353=data!$S$2,\"Rekonstrukce\",IF('náměty na projekční přípravu'!B353=data!$S$3,\"Propustek\",\"-\"))","v":"-"}]
[null,null,null,null,null,null,null,null,null,null,null,{"$f":"IF('v přípravě a připraveno'!#REF!=data!$B$2,\"Souvislá údržba\",IF('v přípravě a připraveno'!#REF!=data!$B$3,\"Most\",\"-\"))","v":{"$error":"#REF!"}},{"$f":"IF('v přípravě a připraveno'!#REF!=data!$B$2,\"Rekonstrukce\",IF('v přípravě a připraveno'!#REF!=data!$B$3,\"Propustek\",\"-\"))","v":{"$error":"#REF!"}},null,null,null,null,null,null,null,null,null,null,null,null,null,null,null,{"$f":"IF('náměty na projekční přípravu'!B354=data!$S$2,\"Souvislá údržba\",IF('náměty na projekční přípravu'!B354=data!$S$3,\"Most\",\"-\"))","v":"-"},{"$f":"IF('náměty na projekční přípravu'!B354=data!$S$2,\"Rekonstrukce\",IF('náměty na projekční přípravu'!B354=data!$S$3,\"Propustek\",\"-\"))","v":"-"}]
[null,null,null,null,null,null,null,null,null,null,null,{"$f":"IF('v přípravě a připraveno'!#REF!=data!$B$2,\"Souvislá údržba\",IF('v přípravě a připraveno'!#REF!=data!$B$3,\"Most\",\"-\"))","v":{"$error":"#REF!"}},{"$f":"IF('v přípravě a připraveno'!#REF!=data!$B$2,\"Rekonstrukce\",IF('v přípravě a připraveno'!#REF!=data!$B$3,\"Propustek\",\"-\"))","v":{"$error":"#REF!"}},null,null,null,null,null,null,null,null,null,null,null,null,null,null,null,{"$f":"IF('náměty na projekční přípravu'!B356=data!$S$2,\"Souvislá údržba\",IF('náměty na projekční přípravu'!B356=data!$S$3,\"Most\",\"-\"))","v":"-"},{"$f":"IF('náměty na projekční přípravu'!B356=data!$S$2,\"Rekonstrukce\",IF('náměty na projekční přípravu'!B356=data!$S$3,\"Propustek\",\"-\"))","v":"-"}]
[null,null,null,null,null,null,null,null,null,null,null,{"$f":"IF('v přípravě a připraveno'!B311=data!$B$2,\"Souvislá údržba\",IF('v přípravě a připraveno'!B311=data!$B$3,\"Most\",\"-\"))","v":"Souvislá údržba"},{"$f":"IF('v přípravě a připraveno'!B311=data!$B$2,\"Rekonstrukce\",IF('v přípravě a připraveno'!B311=data!$B$3,\"Propustek\",\"-\"))","v":"Rekonstrukce"},null,null,null,null,null,null,null,null,null,null,null,null,null,null,null,{"$f":"IF('náměty na projekční přípravu'!B357=data!$S$2,\"Souvislá údržba\",IF('náměty na projekční přípravu'!B357=data!$S$3,\"Most\",\"-\"))","v":"-"},{"$f":"IF('náměty na projekční přípravu'!B357=data!$S$2,\"Rekonstrukce\",IF('náměty na projekční přípravu'!B357=data!$S$3,\"Propustek\",\"-\"))","v":"-"}]
[null,null,null,null,null,null,null,null,null,null,null,{"$f":"IF('v přípravě a připraveno'!B312=data!$B$2,\"Souvislá údržba\",IF('v přípravě a připraveno'!B312=data!$B$3,\"Most\",\"-\"))","v":"Souvislá údržba"},{"$f":"IF('v přípravě a připraveno'!B312=data!$B$2,\"Rekonstrukce\",IF('v přípravě a připraveno'!B312=data!$B$3,\"Propustek\",\"-\"))","v":"Rekonstrukce"},null,null,null,null,null,null,null,null,null,null,null,null,null,null,null,{"$f":"IF('náměty na projekční přípravu'!B358=data!$S$2,\"Souvislá údržba\",IF('náměty na projekční přípravu'!B358=data!$S$3,\"Most\",\"-\"))","v":"-"},{"$f":"IF('náměty na projekční přípravu'!B358=data!$S$2,\"Rekonstrukce\",IF('náměty na projekční přípravu'!B358=data!$S$3,\"Propustek\",\"-\"))","v":"-"}]
[null,null,null,null,null,null,null,null,null,null,null,{"$f":"IF('v přípravě a připraveno'!B313=data!$B$2,\"Souvislá údržba\",IF('v přípravě a připraveno'!B313=data!$B$3,\"Most\",\"-\"))","v":"Souvislá údržba"},{"$f":"IF('v přípravě a připraveno'!B313=data!$B$2,\"Rekonstrukce\",IF('v přípravě a připraveno'!B313=data!$B$3,\"Propustek\",\"-\"))","v":"Rekonstrukce"},null,null,null,null,null,null,null,null,null,null,null,null,null,null,null,{"$f":"IF('náměty na projekční přípravu'!B359=data!$S$2,\"Souvislá údržba\",IF('náměty na projekční přípravu'!B359=data!$S$3,\"Most\",\"-\"))","v":"-"},{"$f":"IF('náměty na projekční přípravu'!B359=data!$S$2,\"Rekonstrukce\",IF('náměty na projekční přípravu'!B359=data!$S$3,\"Propustek\",\"-\"))","v":"-"}]
[null,null,null,null,null,null,null,null,null,null,null,{"$f":"IF('v přípravě a připraveno'!#REF!=data!$B$2,\"Souvislá údržba\",IF('v přípravě a připraveno'!#REF!=data!$B$3,\"Most\",\"-\"))","v":{"$error":"#REF!"}},{"$f":"IF('v přípravě a připraveno'!#REF!=data!$B$2,\"Rekonstrukce\",IF('v přípravě a připraveno'!#REF!=data!$B$3,\"Propustek\",\"-\"))","v":{"$error":"#REF!"}},null,null,null,null,null,null,null,null,null,null,null,null,null,null,null,{"$f":"IF('náměty na projekční přípravu'!B360=data!$S$2,\"Souvislá údržba\",IF('náměty na projekční přípravu'!B360=data!$S$3,\"Most\",\"-\"))","v":"-"},{"$f":"IF('náměty na projekční přípravu'!B360=data!$S$2,\"Rekonstrukce\",IF('náměty na projekční přípravu'!B360=data!$S$3,\"Propustek\",\"-\"))","v":"-"}]
[null,null,null,null,null,null,null,null,null,null,null,{"$f":"IF('v přípravě a připraveno'!B314=data!$B$2,\"Souvislá údržba\",IF('v přípravě a připraveno'!B314=data!$B$3,\"Most\",\"-\"))","v":"Souvislá údržba"},{"$f":"IF('v přípravě a připraveno'!B314=data!$B$2,\"Rekonstrukce\",IF('v přípravě a připraveno'!B314=data!$B$3,\"Propustek\",\"-\"))","v":"Rekonstrukce"},null,null,null,null,null,null,null,null,null,null,null,null,null,null,null,{"$f":"IF('náměty na projekční přípravu'!B361=data!$S$2,\"Souvislá údržba\",IF('náměty na projekční přípravu'!B361=data!$S$3,\"Most\",\"-\"))","v":"-"},{"$f":"IF('náměty na projekční přípravu'!B361=data!$S$2,\"Rekonstrukce\",IF('náměty na projekční přípravu'!B361=data!$S$3,\"Propustek\",\"-\"))","v":"-"}]
[null,null,null,null,null,null,null,null,null,null,null,{"$f":"IF('v přípravě a připraveno'!B315=data!$B$2,\"Souvislá údržba\",IF('v přípravě a připraveno'!B315=data!$B$3,\"Most\",\"-\"))","v":"Souvislá údržba"},{"$f":"IF('v přípravě a připraveno'!B315=data!$B$2,\"Rekonstrukce\",IF('v přípravě a připraveno'!B315=data!$B$3,\"Propustek\",\"-\"))","v":"Rekonstrukce"},null,null,null,null,null,null,null,null,null,null,null,null,null,null,null,{"$f":"IF('náměty na projekční přípravu'!B362=data!$S$2,\"Souvislá údržba\",IF('náměty na projekční přípravu'!B362=data!$S$3,\"Most\",\"-\"))","v":"-"},{"$f":"IF('náměty na projekční přípravu'!B362=data!$S$2,\"Rekonstrukce\",IF('náměty na projekční přípravu'!B362=data!$S$3,\"Propustek\",\"-\"))","v":"-"}]
[null,null,null,null,null,null,null,null,null,null,null,{"$f":"IF('v přípravě a připraveno'!B316=data!$B$2,\"Souvislá údržba\",IF('v přípravě a připraveno'!B316=data!$B$3,\"Most\",\"-\"))","v":"Souvislá údržba"},{"$f":"IF('v přípravě a připraveno'!B316=data!$B$2,\"Rekonstrukce\",IF('v přípravě a připraveno'!B316=data!$B$3,\"Propustek\",\"-\"))","v":"Rekonstrukce"},null,null,null,null,null,null,null,null,null,null,null,null,null,null,null,{"$f":"IF('náměty na projekční přípravu'!B363=data!$S$2,\"Souvislá údržba\",IF('náměty na projekční přípravu'!B363=data!$S$3,\"Most\",\"-\"))","v":"-"},{"$f":"IF('náměty na projekční přípravu'!B363=data!$S$2,\"Rekonstrukce\",IF('náměty na projekční přípravu'!B363=data!$S$3,\"Propustek\",\"-\"))","v":"-"}]
[null,null,null,null,null,null,null,null,null,null,null,{"$f":"IF('v přípravě a připraveno'!B317=data!$B$2,\"Souvislá údržba\",IF('v přípravě a připraveno'!B317=data!$B$3,\"Most\",\"-\"))","v":"Souvislá údržba"},{"$f":"IF('v přípravě a připraveno'!B317=data!$B$2,\"Rekonstrukce\",IF('v přípravě a připraveno'!B317=data!$B$3,\"Propustek\",\"-\"))","v":"Rekonstrukce"},null,null,null,null,null,null,null,null,null,null,null,null,null,null,null,{"$f":"IF('náměty na projekční přípravu'!B364=data!$S$2,\"Souvislá údržba\",IF('náměty na projekční přípravu'!B364=data!$S$3,\"Most\",\"-\"))","v":"-"},{"$f":"IF('náměty na projekční přípravu'!B364=data!$S$2,\"Rekonstrukce\",IF('náměty na projekční přípravu'!B364=data!$S$3,\"Propustek\",\"-\"))","v":"-"}]
[null,null,null,null,null,null,null,null,null,null,null,{"$f":"IF('v přípravě a připraveno'!B318=data!$B$2,\"Souvislá údržba\",IF('v přípravě a připraveno'!B318=data!$B$3,\"Most\",\"-\"))","v":"Souvislá údržba"},{"$f":"IF('v přípravě a připraveno'!B318=data!$B$2,\"Rekonstrukce\",IF('v přípravě a připraveno'!B318=data!$B$3,\"Propustek\",\"-\"))","v":"Rekonstrukce"},null,null,null,null,null,null,null,null,null,null,null,null,null,null,null,{"$f":"IF('náměty na projekční přípravu'!B365=data!$S$2,\"Souvislá údržba\",IF('náměty na projekční přípravu'!B365=data!$S$3,\"Most\",\"-\"))","v":"-"},{"$f":"IF('náměty na projekční přípravu'!B365=data!$S$2,\"Rekonstrukce\",IF('náměty na projekční přípravu'!B365=data!$S$3,\"Propustek\",\"-\"))","v":"-"}]
[null,null,null,null,null,null,null,null,null,null,null,{"$f":"IF('v přípravě a připraveno'!B319=data!$B$2,\"Souvislá údržba\",IF('v přípravě a připraveno'!B319=data!$B$3,\"Most\",\"-\"))","v":"Souvislá údržba"},{"$f":"IF('v přípravě a připraveno'!B319=data!$B$2,\"Rekonstrukce\",IF('v přípravě a připraveno'!B319=data!$B$3,\"Propustek\",\"-\"))","v":"Rekonstrukce"},null,null,null,null,null,null,null,null,null,null,null,null,null,null,null,{"$f":"IF('náměty na projekční přípravu'!B366=data!$S$2,\"Souvislá údržba\",IF('náměty na projekční přípravu'!B366=data!$S$3,\"Most\",\"-\"))","v":"-"},{"$f":"IF('náměty na projekční přípravu'!B366=data!$S$2,\"Rekonstrukce\",IF('náměty na projekční přípravu'!B366=data!$S$3,\"Propustek\",\"-\"))","v":"-"}]
[null,null,null,null,null,null,null,null,null,null,null,{"$f":"IF('v přípravě a připraveno'!B320=data!$B$2,\"Souvislá údržba\",IF('v přípravě a připraveno'!B320=data!$B$3,\"Most\",\"-\"))","v":"Souvislá údržba"},{"$f":"IF('v přípravě a připraveno'!B320=data!$B$2,\"Rekonstrukce\",IF('v přípravě a připraveno'!B320=data!$B$3,\"Propustek\",\"-\"))","v":"Rekonstrukce"},null,null,null,null,null,null,null,null,null,null,null,null,null,null,null,{"$f":"IF('náměty na projekční přípravu'!B367=data!$S$2,\"Souvislá údržba\",IF('náměty na projekční přípravu'!B367=data!$S$3,\"Most\",\"-\"))","v":"-"},{"$f":"IF('náměty na projekční přípravu'!B367=data!$S$2,\"Rekonstrukce\",IF('náměty na projekční přípravu'!B367=data!$S$3,\"Propustek\",\"-\"))","v":"-"}]
[null,null,null,null,null,null,null,null,null,null,null,{"$f":"IF('v přípravě a připraveno'!B321=data!$B$2,\"Souvislá údržba\",IF('v přípravě a připraveno'!B321=data!$B$3,\"Most\",\"-\"))","v":"Most"},{"$f":"IF('v přípravě a připraveno'!B321=data!$B$2,\"Rekonstrukce\",IF('v přípravě a připraveno'!B321=data!$B$3,\"Propustek\",\"-\"))","v":"Propustek"},null,null,null,null,null,null,null,null,null,null,null,null,null,null,null,{"$f":"IF('náměty na projekční přípravu'!B368=data!$S$2,\"Souvislá údržba\",IF('náměty na projekční přípravu'!B368=data!$S$3,\"Most\",\"-\"))","v":"-"},{"$f":"IF('náměty na projekční přípravu'!B368=data!$S$2,\"Rekonstrukce\",IF('náměty na projekční přípravu'!B368=data!$S$3,\"Propustek\",\"-\"))","v":"-"}]
[null,null,null,null,null,null,null,null,null,null,null,{"$f":"IF('v přípravě a připraveno'!#REF!=data!$B$2,\"Souvislá údržba\",IF('v přípravě a připraveno'!#REF!=data!$B$3,\"Most\",\"-\"))","v":{"$error":"#REF!"}},{"$f":"IF('v přípravě a připraveno'!#REF!=data!$B$2,\"Rekonstrukce\",IF('v přípravě a připraveno'!#REF!=data!$B$3,\"Propustek\",\"-\"))","v":{"$error":"#REF!"}},null,null,null,null,null,null,null,null,null,null,null,null,null,null,null,{"$f":"IF('náměty na projekční přípravu'!B369=data!$S$2,\"Souvislá údržba\",IF('náměty na projekční přípravu'!B369=data!$S$3,\"Most\",\"-\"))","v":"-"},{"$f":"IF('náměty na projekční přípravu'!B369=data!$S$2,\"Rekonstrukce\",IF('náměty na projekční přípravu'!B369=data!$S$3,\"Propustek\",\"-\"))","v":"-"}]
[null,null,null,null,null,null,null,null,null,null,null,{"$f":"IF('v přípravě a připraveno'!#REF!=data!$B$2,\"Souvislá údržba\",IF('v přípravě a připraveno'!#REF!=data!$B$3,\"Most\",\"-\"))","v":{"$error":"#REF!"}},{"$f":"IF('v přípravě a připraveno'!#REF!=data!$B$2,\"Rekonstrukce\",IF('v přípravě a připraveno'!#REF!=data!$B$3,\"Propustek\",\"-\"))","v":{"$error":"#REF!"}},null,null,null,null,null,null,null,null,null,null,null,null,null,null,null,{"$f":"IF('náměty na projekční přípravu'!B370=data!$S$2,\"Souvislá údržba\",IF('náměty na projekční přípravu'!B370=data!$S$3,\"Most\",\"-\"))","v":"-"},{"$f":"IF('náměty na projekční přípravu'!B370=data!$S$2,\"Rekonstrukce\",IF('náměty na projekční přípravu'!B370=data!$S$3,\"Propustek\",\"-\"))","v":"-"}]
[null,null,null,null,null,null,null,null,null,null,null,{"$f":"IF('v přípravě a připraveno'!B322=data!$B$2,\"Souvislá údržba\",IF('v přípravě a připraveno'!B322=data!$B$3,\"Most\",\"-\"))","v":"Souvislá údržba"},{"$f":"IF('v přípravě a připraveno'!B322=data!$B$2,\"Rekonstrukce\",IF('v přípravě a připraveno'!B322=data!$B$3,\"Propustek\",\"-\"))","v":"Rekonstrukce"},null,null,null,null,null,null,null,null,null,null,null,null,null,null,null,{"$f":"IF('náměty na projekční přípravu'!B371=data!$S$2,\"Souvislá údržba\",IF('náměty na projekční přípravu'!B371=data!$S$3,\"Most\",\"-\"))","v":"-"},{"$f":"IF('náměty na projekční přípravu'!B371=data!$S$2,\"Rekonstrukce\",IF('náměty na projekční přípravu'!B371=data!$S$3,\"Propustek\",\"-\"))","v":"-"}]
[null,null,null,null,null,null,null,null,null,null,null,{"$f":"IF('v přípravě a připraveno'!B323=data!$B$2,\"Souvislá údržba\",IF('v přípravě a připraveno'!B323=data!$B$3,\"Most\",\"-\"))","v":"Most"},{"$f":"IF('v přípravě a připraveno'!B323=data!$B$2,\"Rekonstrukce\",IF('v přípravě a připraveno'!B323=data!$B$3,\"Propustek\",\"-\"))","v":"Propustek"},null,null,null,null,null,null,null,null,null,null,null,null,null,null,null,{"$f":"IF('náměty na projekční přípravu'!B372=data!$S$2,\"Souvislá údržba\",IF('náměty na projekční přípravu'!B372=data!$S$3,\"Most\",\"-\"))","v":"-"},{"$f":"IF('náměty na projekční přípravu'!B372=data!$S$2,\"Rekonstrukce\",IF('náměty na projekční přípravu'!B372=data!$S$3,\"Propustek\",\"-\"))","v":"-"}]
[null,null,null,null,null,null,null,null,null,null,null,{"$f":"IF('v přípravě a připraveno'!B324=data!$B$2,\"Souvislá údržba\",IF('v přípravě a připraveno'!B324=data!$B$3,\"Most\",\"-\"))","v":"Most"},{"$f":"IF('v přípravě a připraveno'!B324=data!$B$2,\"Rekonstrukce\",IF('v přípravě a připraveno'!B324=data!$B$3,\"Propustek\",\"-\"))","v":"Propustek"},null,null,null,null,null,null,null,null,null,null,null,null,null,null,null,{"$f":"IF('náměty na projekční přípravu'!B373=data!$S$2,\"Souvislá údržba\",IF('náměty na projekční přípravu'!B373=data!$S$3,\"Most\",\"-\"))","v":"-"},{"$f":"IF('náměty na projekční přípravu'!B373=data!$S$2,\"Rekonstrukce\",IF('náměty na projekční přípravu'!B373=data!$S$3,\"Propustek\",\"-\"))","v":"-"}]
[null,null,null,null,null,null,null,null,null,null,null,{"$f":"IF('v přípravě a připraveno'!B325=data!$B$2,\"Souvislá údržba\",IF('v přípravě a připraveno'!B325=data!$B$3,\"Most\",\"-\"))","v":"-"},{"$f":"IF('v přípravě a připraveno'!B325=data!$B$2,\"Rekonstrukce\",IF('v přípravě a připraveno'!B325=data!$B$3,\"Propustek\",\"-\"))","v":"-"},null,null,null,null,null,null,null,null,null,null,null,null,null,null,null,{"$f":"IF('náměty na projekční přípravu'!B374=data!$S$2,\"Souvislá údržba\",IF('náměty na projekční přípravu'!B374=data!$S$3,\"Most\",\"-\"))","v":"-"},{"$f":"IF('náměty na projekční přípravu'!B374=data!$S$2,\"Rekonstrukce\",IF('náměty na projekční přípravu'!B374=data!$S$3,\"Propustek\",\"-\"))","v":"-"}]
[null,null,null,null,null,null,null,null,null,null,null,{"$f":"IF('v přípravě a připraveno'!B326=data!$B$2,\"Souvislá údržba\",IF('v přípravě a připraveno'!B326=data!$B$3,\"Most\",\"-\"))","v":"Souvislá údržba"},{"$f":"IF('v přípravě a připraveno'!B326=data!$B$2,\"Rekonstrukce\",IF('v přípravě a připraveno'!B326=data!$B$3,\"Propustek\",\"-\"))","v":"Rekonstrukce"},null,null,null,null,null,null,null,null,null,null,null,null,null,null,null,{"$f":"IF('náměty na projekční přípravu'!B375=data!$S$2,\"Souvislá údržba\",IF('náměty na projekční přípravu'!B375=data!$S$3,\"Most\",\"-\"))","v":"-"},{"$f":"IF('náměty na projekční přípravu'!B375=data!$S$2,\"Rekonstrukce\",IF('náměty na projekční přípravu'!B375=data!$S$3,\"Propustek\",\"-\"))","v":"-"}]
[null,null,null,null,null,null,null,null,null,null,null,{"$f":"IF('v přípravě a připraveno'!B327=data!$B$2,\"Souvislá údržba\",IF('v přípravě a připraveno'!B327=data!$B$3,\"Most\",\"-\"))","v":"Souvislá údržba"},{"$f":"IF('v přípravě a připraveno'!B327=data!$B$2,\"Rekonstrukce\",IF('v přípravě a připraveno'!B327=data!$B$3,\"Propustek\",\"-\"))","v":"Rekonstrukce"},null,null,null,null,null,null,null,null,null,null,null,null,null,null,null,{"$f":"IF('náměty na projekční přípravu'!B376=data!$S$2,\"Souvislá údržba\",IF('náměty na projekční přípravu'!B376=data!$S$3,\"Most\",\"-\"))","v":"-"},{"$f":"IF('náměty na projekční přípravu'!B376=data!$S$2,\"Rekonstrukce\",IF('náměty na projekční přípravu'!B376=data!$S$3,\"Propustek\",\"-\"))","v":"-"}]
[null,null,null,null,null,null,null,null,null,null,null,{"$f":"IF('v přípravě a připraveno'!B328=data!$B$2,\"Souvislá údržba\",IF('v přípravě a připraveno'!B328=data!$B$3,\"Most\",\"-\"))","v":"Most"},{"$f":"IF('v přípravě a připraveno'!B328=data!$B$2,\"Rekonstrukce\",IF('v přípravě a připraveno'!B328=data!$B$3,\"Propustek\",\"-\"))","v":"Propustek"},null,null,null,null,null,null,null,null,null,null,null,null,null,null,null,{"$f":"IF('náměty na projekční přípravu'!B377=data!$S$2,\"Souvislá údržba\",IF('náměty na projekční přípravu'!B377=data!$S$3,\"Most\",\"-\"))","v":"-"},{"$f":"IF('náměty na projekční přípravu'!B377=data!$S$2,\"Rekonstrukce\",IF('náměty na projekční přípravu'!B377=data!$S$3,\"Propustek\",\"-\"))","v":"-"}]
[null,null,null,null,null,null,null,null,null,null,null,{"$f":"IF('v přípravě a připraveno'!B329=data!$B$2,\"Souvislá údržba\",IF('v přípravě a připraveno'!B329=data!$B$3,\"Most\",\"-\"))","v":"Souvislá údržba"},{"$f":"IF('v přípravě a připraveno'!B329=data!$B$2,\"Rekonstrukce\",IF('v přípravě a připraveno'!B329=data!$B$3,\"Propustek\",\"-\"))","v":"Rekonstrukce"},null,null,null,null,null,null,null,null,null,null,null,null,null,null,null,{"$f":"IF('náměty na projekční přípravu'!B378=data!$S$2,\"Souvislá údržba\",IF('náměty na projekční přípravu'!B378=data!$S$3,\"Most\",\"-\"))","v":"-"},{"$f":"IF('náměty na projekční přípravu'!B378=data!$S$2,\"Rekonstrukce\",IF('náměty na projekční přípravu'!B378=data!$S$3,\"Propustek\",\"-\"))","v":"-"}]
[null,null,null,null,null,null,null,null,null,null,null,{"$f":"IF('v přípravě a připraveno'!B330=data!$B$2,\"Souvislá údržba\",IF('v přípravě a připraveno'!B330=data!$B$3,\"Most\",\"-\"))","v":"-"},{"$f":"IF('v přípravě a připraveno'!B330=data!$B$2,\"Rekonstrukce\",IF('v přípravě a připraveno'!B330=data!$B$3,\"Propustek\",\"-\"))","v":"-"},null,null,null,null,null,null,null,null,null,null,null,null,null,null,null,{"$f":"IF('náměty na projekční přípravu'!B379=data!$S$2,\"Souvislá údržba\",IF('náměty na projekční přípravu'!B379=data!$S$3,\"Most\",\"-\"))","v":"-"},{"$f":"IF('náměty na projekční přípravu'!B379=data!$S$2,\"Rekonstrukce\",IF('náměty na projekční přípravu'!B379=data!$S$3,\"Propustek\",\"-\"))","v":"-"}]
[null,null,null,null,null,null,null,null,null,null,null,{"$f":"IF('v přípravě a připraveno'!#REF!=data!$B$2,\"Souvislá údržba\",IF('v přípravě a připraveno'!#REF!=data!$B$3,\"Most\",\"-\"))","v":{"$error":"#REF!"}},{"$f":"IF('v přípravě a připraveno'!#REF!=data!$B$2,\"Rekonstrukce\",IF('v přípravě a připraveno'!#REF!=data!$B$3,\"Propustek\",\"-\"))","v":{"$error":"#REF!"}},null,null,null,null,null,null,null,null,null,null,null,null,null,null,null,{"$f":"IF('náměty na projekční přípravu'!B380=data!$S$2,\"Souvislá údržba\",IF('náměty na projekční přípravu'!B380=data!$S$3,\"Most\",\"-\"))","v":"-"},{"$f":"IF('náměty na projekční přípravu'!B380=data!$S$2,\"Rekonstrukce\",IF('náměty na projekční přípravu'!B380=data!$S$3,\"Propustek\",\"-\"))","v":"-"}]
[null,null,null,null,null,null,null,null,null,null,null,{"$f":"IF('v přípravě a připraveno'!B331=data!$B$2,\"Souvislá údržba\",IF('v přípravě a připraveno'!B331=data!$B$3,\"Most\",\"-\"))","v":"-"},{"$f":"IF('v přípravě a připraveno'!B331=data!$B$2,\"Rekonstrukce\",IF('v přípravě a připraveno'!B331=data!$B$3,\"Propustek\",\"-\"))","v":"-"},null,null,null,null,null,null,null,null,null,null,null,null,null,null,null,{"$f":"IF('náměty na projekční přípravu'!B381=data!$S$2,\"Souvislá údržba\",IF('náměty na projekční přípravu'!B381=data!$S$3,\"Most\",\"-\"))","v":"-"},{"$f":"IF('náměty na projekční přípravu'!B381=data!$S$2,\"Rekonstrukce\",IF('náměty na projekční přípravu'!B381=data!$S$3,\"Propustek\",\"-\"))","v":"-"}]
[null,null,null,null,null,null,null,null,null,null,null,{"$f":"IF('v přípravě a připraveno'!B332=data!$B$2,\"Souvislá údržba\",IF('v přípravě a připraveno'!B332=data!$B$3,\"Most\",\"-\"))","v":"Souvislá údržba"},{"$f":"IF('v přípravě a připraveno'!B332=data!$B$2,\"Rekonstrukce\",IF('v přípravě a připraveno'!B332=data!$B$3,\"Propustek\",\"-\"))","v":"Rekonstrukce"},null,null,null,null,null,null,null,null,null,null,null,null,null,null,null,{"$f":"IF('náměty na projekční přípravu'!B382=data!$S$2,\"Souvislá údržba\",IF('náměty na projekční přípravu'!B382=data!$S$3,\"Most\",\"-\"))","v":"-"},{"$f":"IF('náměty na projekční přípravu'!B382=data!$S$2,\"Rekonstrukce\",IF('náměty na projekční přípravu'!B382=data!$S$3,\"Propustek\",\"-\"))","v":"-"}]
[null,null,null,null,null,null,null,null,null,null,null,{"$f":"IF('v přípravě a připraveno'!B333=data!$B$2,\"Souvislá údržba\",IF('v přípravě a připraveno'!B333=data!$B$3,\"Most\",\"-\"))","v":"Most"},{"$f":"IF('v přípravě a připraveno'!B333=data!$B$2,\"Rekonstrukce\",IF('v přípravě a připraveno'!B333=data!$B$3,\"Propustek\",\"-\"))","v":"Propustek"},null,null,null,null,null,null,null,null,null,null,null,null,null,null,null,{"$f":"IF('náměty na projekční přípravu'!B383=data!$S$2,\"Souvislá údržba\",IF('náměty na projekční přípravu'!B383=data!$S$3,\"Most\",\"-\"))","v":"-"},{"$f":"IF('náměty na projekční přípravu'!B383=data!$S$2,\"Rekonstrukce\",IF('náměty na projekční přípravu'!B383=data!$S$3,\"Propustek\",\"-\"))","v":"-"}]
[null,null,null,null,null,null,null,null,null,null,null,{"$f":"IF('v přípravě a připraveno'!B334=data!$B$2,\"Souvislá údržba\",IF('v přípravě a připraveno'!B334=data!$B$3,\"Most\",\"-\"))","v":"Souvislá údržba"},{"$f":"IF('v přípravě a připraveno'!B334=data!$B$2,\"Rekonstrukce\",IF('v přípravě a připraveno'!B334=data!$B$3,\"Propustek\",\"-\"))","v":"Rekonstrukce"},null,null,null,null,null,null,null,null,null,null,null,null,null,null,null,{"$f":"IF('náměty na projekční přípravu'!B384=data!$S$2,\"Souvislá údržba\",IF('náměty na projekční přípravu'!B384=data!$S$3,\"Most\",\"-\"))","v":"-"},{"$f":"IF('náměty na projekční přípravu'!B384=data!$S$2,\"Rekonstrukce\",IF('náměty na projekční přípravu'!B384=data!$S$3,\"Propustek\",\"-\"))","v":"-"}]
[null,null,null,null,null,null,null,null,null,null,null,{"$f":"IF('v přípravě a připraveno'!#REF!=data!$B$2,\"Souvislá údržba\",IF('v přípravě a připraveno'!#REF!=data!$B$3,\"Most\",\"-\"))","v":{"$error":"#REF!"}},{"$f":"IF('v přípravě a připraveno'!#REF!=data!$B$2,\"Rekonstrukce\",IF('v přípravě a připraveno'!#REF!=data!$B$3,\"Propustek\",\"-\"))","v":{"$error":"#REF!"}},null,null,null,null,null,null,null,null,null,null,null,null,null,null,null,{"$f":"IF('náměty na projekční přípravu'!B385=data!$S$2,\"Souvislá údržba\",IF('náměty na projekční přípravu'!B385=data!$S$3,\"Most\",\"-\"))","v":"-"},{"$f":"IF('náměty na projekční přípravu'!B385=data!$S$2,\"Rekonstrukce\",IF('náměty na projekční přípravu'!B385=data!$S$3,\"Propustek\",\"-\"))","v":"-"}]
[null,null,null,null,null,null,null,null,null,null,null,{"$f":"IF('v přípravě a připraveno'!B335=data!$B$2,\"Souvislá údržba\",IF('v přípravě a připraveno'!B335=data!$B$3,\"Most\",\"-\"))","v":"Souvislá údržba"},{"$f":"IF('v přípravě a připraveno'!B335=data!$B$2,\"Rekonstrukce\",IF('v přípravě a připraveno'!B335=data!$B$3,\"Propustek\",\"-\"))","v":"Rekonstrukce"},null,null,null,null,null,null,null,null,null,null,null,null,null,null,null,{"$f":"IF('náměty na projekční přípravu'!B386=data!$S$2,\"Souvislá údržba\",IF('náměty na projekční přípravu'!B386=data!$S$3,\"Most\",\"-\"))","v":"-"},{"$f":"IF('náměty na projekční přípravu'!B386=data!$S$2,\"Rekonstrukce\",IF('náměty na projekční přípravu'!B386=data!$S$3,\"Propustek\",\"-\"))","v":"-"}]
[null,null,null,null,null,null,null,null,null,null,null,{"$f":"IF('v přípravě a připraveno'!B336=data!$B$2,\"Souvislá údržba\",IF('v přípravě a připraveno'!B336=data!$B$3,\"Most\",\"-\"))","v":"Souvislá údržba"},{"$f":"IF('v přípravě a připraveno'!B336=data!$B$2,\"Rekonstrukce\",IF('v přípravě a připraveno'!B336=data!$B$3,\"Propustek\",\"-\"))","v":"Rekonstrukce"},null,null,null,null,null,null,null,null,null,null,null,null,null,null,null,{"$f":"IF('náměty na projekční přípravu'!B387=data!$S$2,\"Souvislá údržba\",IF('náměty na projekční přípravu'!B387=data!$S$3,\"Most\",\"-\"))","v":"-"},{"$f":"IF('náměty na projekční přípravu'!B387=data!$S$2,\"Rekonstrukce\",IF('náměty na projekční přípravu'!B387=data!$S$3,\"Propustek\",\"-\"))","v":"-"}]
[null,null,null,null,null,null,null,null,null,null,null,{"$f":"IF('v přípravě a připraveno'!#REF!=data!$B$2,\"Souvislá údržba\",IF('v přípravě a připraveno'!#REF!=data!$B$3,\"Most\",\"-\"))","v":{"$error":"#REF!"}},{"$f":"IF('v přípravě a připraveno'!#REF!=data!$B$2,\"Rekonstrukce\",IF('v přípravě a připraveno'!#REF!=data!$B$3,\"Propustek\",\"-\"))","v":{"$error":"#REF!"}},null,null,null,null,null,null,null,null,null,null,null,null,null,null,null,{"$f":"IF('náměty na projekční přípravu'!B388=data!$S$2,\"Souvislá údržba\",IF('náměty na projekční přípravu'!B388=data!$S$3,\"Most\",\"-\"))","v":"-"},{"$f":"IF('náměty na projekční přípravu'!B388=data!$S$2,\"Rekonstrukce\",IF('náměty na projekční přípravu'!B388=data!$S$3,\"Propustek\",\"-\"))","v":"-"}]
[null,null,null,null,null,null,null,null,null,null,null,{"$f":"IF('v přípravě a připraveno'!#REF!=data!$B$2,\"Souvislá údržba\",IF('v přípravě a připraveno'!#REF!=data!$B$3,\"Most\",\"-\"))","v":{"$error":"#REF!"}},{"$f":"IF('v přípravě a připraveno'!#REF!=data!$B$2,\"Rekonstrukce\",IF('v přípravě a připraveno'!#REF!=data!$B$3,\"Propustek\",\"-\"))","v":{"$error":"#REF!"}},null,null,null,null,null,null,null,null,null,null,null,null,null,null,null,{"$f":"IF('náměty na projekční přípravu'!B389=data!$S$2,\"Souvislá údržba\",IF('náměty na projekční přípravu'!B389=data!$S$3,\"Most\",\"-\"))","v":"-"},{"$f":"IF('náměty na projekční přípravu'!B389=data!$S$2,\"Rekonstrukce\",IF('náměty na projekční přípravu'!B389=data!$S$3,\"Propustek\",\"-\"))","v":"-"}]
[null,null,null,null,null,null,null,null,null,null,null,{"$f":"IF('v přípravě a připraveno'!B337=data!$B$2,\"Souvislá údržba\",IF('v přípravě a připraveno'!B337=data!$B$3,\"Most\",\"-\"))","v":"Most"},{"$f":"IF('v přípravě a připraveno'!B337=data!$B$2,\"Rekonstrukce\",IF('v přípravě a připraveno'!B337=data!$B$3,\"Propustek\",\"-\"))","v":"Propustek"},null,null,null,null,null,null,null,null,null,null,null,null,null,null,null,{"$f":"IF('náměty na projekční přípravu'!B390=data!$S$2,\"Souvislá údržba\",IF('náměty na projekční přípravu'!B390=data!$S$3,\"Most\",\"-\"))","v":"-"},{"$f":"IF('náměty na projekční přípravu'!B390=data!$S$2,\"Rekonstrukce\",IF('náměty na projekční přípravu'!B390=data!$S$3,\"Propustek\",\"-\"))","v":"-"}]
[null,null,null,null,null,null,null,null,null,null,null,{"$f":"IF('v přípravě a připraveno'!B338=data!$B$2,\"Souvislá údržba\",IF('v přípravě a připraveno'!B338=data!$B$3,\"Most\",\"-\"))","v":"Souvislá údržba"},{"$f":"IF('v přípravě a připraveno'!B338=data!$B$2,\"Rekonstrukce\",IF('v přípravě a připraveno'!B338=data!$B$3,\"Propustek\",\"-\"))","v":"Rekonstrukce"},null,null,null,null,null,null,null,null,null,null,null,null,null,null,null,{"$f":"IF('náměty na projekční přípravu'!B391=data!$S$2,\"Souvislá údržba\",IF('náměty na projekční přípravu'!B391=data!$S$3,\"Most\",\"-\"))","v":"-"},{"$f":"IF('náměty na projekční přípravu'!B391=data!$S$2,\"Rekonstrukce\",IF('náměty na projekční přípravu'!B391=data!$S$3,\"Propustek\",\"-\"))","v":"-"}]
[null,null,null,null,null,null,null,null,null,null,null,{"$f":"IF('v přípravě a připraveno'!B339=data!$B$2,\"Souvislá údržba\",IF('v přípravě a připraveno'!B339=data!$B$3,\"Most\",\"-\"))","v":"Souvislá údržba"},{"$f":"IF('v přípravě a připraveno'!B339=data!$B$2,\"Rekonstrukce\",IF('v přípravě a připraveno'!B339=data!$B$3,\"Propustek\",\"-\"))","v":"Rekonstrukce"},null,null,null,null,null,null,null,null,null,null,null,null,null,null,null,{"$f":"IF('náměty na projekční přípravu'!B392=data!$S$2,\"Souvislá údržba\",IF('náměty na projekční přípravu'!B392=data!$S$3,\"Most\",\"-\"))","v":"-"},{"$f":"IF('náměty na projekční přípravu'!B392=data!$S$2,\"Rekonstrukce\",IF('náměty na projekční přípravu'!B392=data!$S$3,\"Propustek\",\"-\"))","v":"-"}]
[null,null,null,null,null,null,null,null,null,null,null,{"$f":"IF('v přípravě a připraveno'!B340=data!$B$2,\"Souvislá údržba\",IF('v přípravě a připraveno'!B340=data!$B$3,\"Most\",\"-\"))","v":"Most"},{"$f":"IF('v přípravě a připraveno'!B340=data!$B$2,\"Rekonstrukce\",IF('v přípravě a připraveno'!B340=data!$B$3,\"Propustek\",\"-\"))","v":"Propustek"},null,null,null,null,null,null,null,null,null,null,null,null,null,null,null,{"$f":"IF('náměty na projekční přípravu'!B393=data!$S$2,\"Souvislá údržba\",IF('náměty na projekční přípravu'!B393=data!$S$3,\"Most\",\"-\"))","v":"-"},{"$f":"IF('náměty na projekční přípravu'!B393=data!$S$2,\"Rekonstrukce\",IF('náměty na projekční přípravu'!B393=data!$S$3,\"Propustek\",\"-\"))","v":"-"}]
[null,null,null,null,null,null,null,null,null,null,null,{"$f":"IF('v přípravě a připraveno'!#REF!=data!$B$2,\"Souvislá údržba\",IF('v přípravě a připraveno'!#REF!=data!$B$3,\"Most\",\"-\"))","v":{"$error":"#REF!"}},{"$f":"IF('v přípravě a připraveno'!#REF!=data!$B$2,\"Rekonstrukce\",IF('v přípravě a připraveno'!#REF!=data!$B$3,\"Propustek\",\"-\"))","v":{"$error":"#REF!"}},null,null,null,null,null,null,null,null,null,null,null,null,null,null,null,{"$f":"IF('náměty na projekční přípravu'!B394=data!$S$2,\"Souvislá údržba\",IF('náměty na projekční přípravu'!B394=data!$S$3,\"Most\",\"-\"))","v":"-"},{"$f":"IF('náměty na projekční přípravu'!B394=data!$S$2,\"Rekonstrukce\",IF('náměty na projekční přípravu'!B394=data!$S$3,\"Propustek\",\"-\"))","v":"-"}]
[null,null,null,null,null,null,null,null,null,null,null,{"$f":"IF('v přípravě a připraveno'!B341=data!$B$2,\"Souvislá údržba\",IF('v přípravě a připraveno'!B341=data!$B$3,\"Most\",\"-\"))","v":"Souvislá údržba"},{"$f":"IF('v přípravě a připraveno'!B341=data!$B$2,\"Rekonstrukce\",IF('v přípravě a připraveno'!B341=data!$B$3,\"Propustek\",\"-\"))","v":"Rekonstrukce"},null,null,null,null,null,null,null,null,null,null,null,null,null,null,null,{"$f":"IF('náměty na projekční přípravu'!B395=data!$S$2,\"Souvislá údržba\",IF('náměty na projekční přípravu'!B395=data!$S$3,\"Most\",\"-\"))","v":"-"},{"$f":"IF('náměty na projekční přípravu'!B395=data!$S$2,\"Rekonstrukce\",IF('náměty na projekční přípravu'!B395=data!$S$3,\"Propustek\",\"-\"))","v":"-"}]
[null,null,null,null,null,null,null,null,null,null,null,{"$f":"IF('v přípravě a připraveno'!#REF!=data!$B$2,\"Souvislá údržba\",IF('v přípravě a připraveno'!#REF!=data!$B$3,\"Most\",\"-\"))","v":{"$error":"#REF!"}},{"$f":"IF('v přípravě a připraveno'!#REF!=data!$B$2,\"Rekonstrukce\",IF('v přípravě a připraveno'!#REF!=data!$B$3,\"Propustek\",\"-\"))","v":{"$error":"#REF!"}},null,null,null,null,null,null,null,null,null,null,null,null,null,null,null,{"$f":"IF('náměty na projekční přípravu'!B396=data!$S$2,\"Souvislá údržba\",IF('náměty na projekční přípravu'!B396=data!$S$3,\"Most\",\"-\"))","v":"-"},{"$f":"IF('náměty na projekční přípravu'!B396=data!$S$2,\"Rekonstrukce\",IF('náměty na projekční přípravu'!B396=data!$S$3,\"Propustek\",\"-\"))","v":"-"}]
[null,null,null,null,null,null,null,null,null,null,null,{"$f":"IF('v přípravě a připraveno'!B342=data!$B$2,\"Souvislá údržba\",IF('v přípravě a připraveno'!B342=data!$B$3,\"Most\",\"-\"))","v":"-"},{"$f":"IF('v přípravě a připraveno'!B342=data!$B$2,\"Rekonstrukce\",IF('v přípravě a připraveno'!B342=data!$B$3,\"Propustek\",\"-\"))","v":"-"},null,null,null,null,null,null,null,null,null,null,null,null,null,null,null,{"$f":"IF('náměty na projekční přípravu'!B397=data!$S$2,\"Souvislá údržba\",IF('náměty na projekční přípravu'!B397=data!$S$3,\"Most\",\"-\"))","v":"-"},{"$f":"IF('náměty na projekční přípravu'!B397=data!$S$2,\"Rekonstrukce\",IF('náměty na projekční přípravu'!B397=data!$S$3,\"Propustek\",\"-\"))","v":"-"}]
[null,null,null,null,null,null,null,null,null,null,null,{"$f":"IF('v přípravě a připraveno'!B343=data!$B$2,\"Souvislá údržba\",IF('v přípravě a připraveno'!B343=data!$B$3,\"Most\",\"-\"))","v":"Souvislá údržba"},{"$f":"IF('v přípravě a připraveno'!B343=data!$B$2,\"Rekonstrukce\",IF('v přípravě a připraveno'!B343=data!$B$3,\"Propustek\",\"-\"))","v":"Rekonstrukce"},null,null,null,null,null,null,null,null,null,null,null,null,null,null,null,{"$f":"IF('náměty na projekční přípravu'!B398=data!$S$2,\"Souvislá údržba\",IF('náměty na projekční přípravu'!B398=data!$S$3,\"Most\",\"-\"))","v":"-"},{"$f":"IF('náměty na projekční přípravu'!B398=data!$S$2,\"Rekonstrukce\",IF('náměty na projekční přípravu'!B398=data!$S$3,\"Propustek\",\"-\"))","v":"-"}]
[null,null,null,null,null,null,null,null,null,null,null,{"$f":"IF('v přípravě a připraveno'!B344=data!$B$2,\"Souvislá údržba\",IF('v přípravě a připraveno'!B344=data!$B$3,\"Most\",\"-\"))","v":"Souvislá údržba"},{"$f":"IF('v přípravě a připraveno'!B344=data!$B$2,\"Rekonstrukce\",IF('v přípravě a připraveno'!B344=data!$B$3,\"Propustek\",\"-\"))","v":"Rekonstrukce"},null,null,null,null,null,null,null,null,null,null,null,null,null,null,null,{"$f":"IF('náměty na projekční přípravu'!B399=data!$S$2,\"Souvislá údržba\",IF('náměty na projekční přípravu'!B399=data!$S$3,\"Most\",\"-\"))","v":"-"},{"$f":"IF('náměty na projekční přípravu'!B399=data!$S$2,\"Rekonstrukce\",IF('náměty na projekční přípravu'!B399=data!$S$3,\"Propustek\",\"-\"))","v":"-"}]
[null,null,null,null,null,null,null,null,null,null,null,{"$f":"IF('v přípravě a připraveno'!B345=data!$B$2,\"Souvislá údržba\",IF('v přípravě a připraveno'!B345=data!$B$3,\"Most\",\"-\"))","v":"Souvislá údržba"},{"$f":"IF('v přípravě a připraveno'!B345=data!$B$2,\"Rekonstrukce\",IF('v přípravě a připraveno'!B345=data!$B$3,\"Propustek\",\"-\"))","v":"Rekonstrukce"},null,null,null,null,null,null,null,null,null,null,null,null,null,null,null,{"$f":"IF('náměty na projekční přípravu'!B400=data!$S$2,\"Souvislá údržba\",IF('náměty na projekční přípravu'!B400=data!$S$3,\"Most\",\"-\"))","v":"-"},{"$f":"IF('náměty na projekční přípravu'!B400=data!$S$2,\"Rekonstrukce\",IF('náměty na projekční přípravu'!B400=data!$S$3,\"Propustek\",\"-\"))","v":"-"}]
[null,null,null,null,null,null,null,null,null,null,null,{"$f":"IF('v přípravě a připraveno'!B346=data!$B$2,\"Souvislá údržba\",IF('v přípravě a připraveno'!B346=data!$B$3,\"Most\",\"-\"))","v":"Souvislá údržba"},{"$f":"IF('v přípravě a připraveno'!B346=data!$B$2,\"Rekonstrukce\",IF('v přípravě a připraveno'!B346=data!$B$3,\"Propustek\",\"-\"))","v":"Rekonstrukce"},null,null,null,null,null,null,null,null,null,null,null,null,null,null,null,{"$f":"IF('náměty na projekční přípravu'!B401=data!$S$2,\"Souvislá údržba\",IF('náměty na projekční přípravu'!B401=data!$S$3,\"Most\",\"-\"))","v":"-"},{"$f":"IF('náměty na projekční přípravu'!B401=data!$S$2,\"Rekonstrukce\",IF('náměty na projekční přípravu'!B401=data!$S$3,\"Propustek\",\"-\"))","v":"-"}]
[null,null,null,null,null,null,null,null,null,null,null,{"$f":"IF('v přípravě a připraveno'!#REF!=data!$B$2,\"Souvislá údržba\",IF('v přípravě a připraveno'!#REF!=data!$B$3,\"Most\",\"-\"))","v":{"$error":"#REF!"}},{"$f":"IF('v přípravě a připraveno'!#REF!=data!$B$2,\"Rekonstrukce\",IF('v přípravě a připraveno'!#REF!=data!$B$3,\"Propustek\",\"-\"))","v":{"$error":"#REF!"}},null,null,null,null,null,null,null,null,null,null,null,null,null,null,null,{"$f":"IF('náměty na projekční přípravu'!B402=data!$S$2,\"Souvislá údržba\",IF('náměty na projekční přípravu'!B402=data!$S$3,\"Most\",\"-\"))","v":"-"},{"$f":"IF('náměty na projekční přípravu'!B402=data!$S$2,\"Rekonstrukce\",IF('náměty na projekční přípravu'!B402=data!$S$3,\"Propustek\",\"-\"))","v":"-"}]
[null,null,null,null,null,null,null,null,null,null,null,{"$f":"IF('v přípravě a připraveno'!#REF!=data!$B$2,\"Souvislá údržba\",IF('v přípravě a připraveno'!#REF!=data!$B$3,\"Most\",\"-\"))","v":{"$error":"#REF!"}},{"$f":"IF('v přípravě a připraveno'!#REF!=data!$B$2,\"Rekonstrukce\",IF('v přípravě a připraveno'!#REF!=data!$B$3,\"Propustek\",\"-\"))","v":{"$error":"#REF!"}},null,null,null,null,null,null,null,null,null,null,null,null,null,null,null,{"$f":"IF('náměty na projekční přípravu'!B403=data!$S$2,\"Souvislá údržba\",IF('náměty na projekční přípravu'!B403=data!$S$3,\"Most\",\"-\"))","v":"-"},{"$f":"IF('náměty na projekční přípravu'!B403=data!$S$2,\"Rekonstrukce\",IF('náměty na projekční přípravu'!B403=data!$S$3,\"Propustek\",\"-\"))","v":"-"}]
[null,null,null,null,null,null,null,null,null,null,null,{"$f":"IF('v přípravě a připraveno'!B347=data!$B$2,\"Souvislá údržba\",IF('v přípravě a připraveno'!B347=data!$B$3,\"Most\",\"-\"))","v":"Souvislá údržba"},{"$f":"IF('v přípravě a připraveno'!B347=data!$B$2,\"Rekonstrukce\",IF('v přípravě a připraveno'!B347=data!$B$3,\"Propustek\",\"-\"))","v":"Rekonstrukce"},null,null,null,null,null,null,null,null,null,null,null,null,null,null,null,{"$f":"IF('náměty na projekční přípravu'!B404=data!$S$2,\"Souvislá údržba\",IF('náměty na projekční přípravu'!B404=data!$S$3,\"Most\",\"-\"))","v":"-"},{"$f":"IF('náměty na projekční přípravu'!B404=data!$S$2,\"Rekonstrukce\",IF('náměty na projekční přípravu'!B404=data!$S$3,\"Propustek\",\"-\"))","v":"-"}]
[null,null,null,null,null,null,null,null,null,null,null,{"$f":"IF('v přípravě a připraveno'!#REF!=data!$B$2,\"Souvislá údržba\",IF('v přípravě a připraveno'!#REF!=data!$B$3,\"Most\",\"-\"))","v":{"$error":"#REF!"}},{"$f":"IF('v přípravě a připraveno'!#REF!=data!$B$2,\"Rekonstrukce\",IF('v přípravě a připraveno'!#REF!=data!$B$3,\"Propustek\",\"-\"))","v":{"$error":"#REF!"}},null,null,null,null,null,null,null,null,null,null,null,null,null,null,null,{"$f":"IF('náměty na projekční přípravu'!B405=data!$S$2,\"Souvislá údržba\",IF('náměty na projekční přípravu'!B405=data!$S$3,\"Most\",\"-\"))","v":"-"},{"$f":"IF('náměty na projekční přípravu'!B405=data!$S$2,\"Rekonstrukce\",IF('náměty na projekční přípravu'!B405=data!$S$3,\"Propustek\",\"-\"))","v":"-"}]
[null,null,null,null,null,null,null,null,null,null,null,{"$f":"IF('v přípravě a připraveno'!#REF!=data!$B$2,\"Souvislá údržba\",IF('v přípravě a připraveno'!#REF!=data!$B$3,\"Most\",\"-\"))","v":{"$error":"#REF!"}},{"$f":"IF('v přípravě a připraveno'!#REF!=data!$B$2,\"Rekonstrukce\",IF('v přípravě a připraveno'!#REF!=data!$B$3,\"Propustek\",\"-\"))","v":{"$error":"#REF!"}},null,null,null,null,null,null,null,null,null,null,null,null,null,null,null,{"$f":"IF('náměty na projekční přípravu'!B406=data!$S$2,\"Souvislá údržba\",IF('náměty na projekční přípravu'!B406=data!$S$3,\"Most\",\"-\"))","v":"-"},{"$f":"IF('náměty na projekční přípravu'!B406=data!$S$2,\"Rekonstrukce\",IF('náměty na projekční přípravu'!B406=data!$S$3,\"Propustek\",\"-\"))","v":"-"}]
[null,null,null,null,null,null,null,null,null,null,null,{"$f":"IF('v přípravě a připraveno'!#REF!=data!$B$2,\"Souvislá údržba\",IF('v přípravě a připraveno'!#REF!=data!$B$3,\"Most\",\"-\"))","v":{"$error":"#REF!"}},{"$f":"IF('v přípravě a připraveno'!#REF!=data!$B$2,\"Rekonstrukce\",IF('v přípravě a připraveno'!#REF!=data!$B$3,\"Propustek\",\"-\"))","v":{"$error":"#REF!"}},null,null,null,null,null,null,null,null,null,null,null,null,null,null,null,{"$f":"IF('náměty na projekční přípravu'!B407=data!$S$2,\"Souvislá údržba\",IF('náměty na projekční přípravu'!B407=data!$S$3,\"Most\",\"-\"))","v":"-"},{"$f":"IF('náměty na projekční přípravu'!B407=data!$S$2,\"Rekonstrukce\",IF('náměty na projekční přípravu'!B407=data!$S$3,\"Propustek\",\"-\"))","v":"-"}]
[null,null,null,null,null,null,null,null,null,null,null,{"$f":"IF('v přípravě a připraveno'!#REF!=data!$B$2,\"Souvislá údržba\",IF('v přípravě a připraveno'!#REF!=data!$B$3,\"Most\",\"-\"))","v":{"$error":"#REF!"}},{"$f":"IF('v přípravě a připraveno'!#REF!=data!$B$2,\"Rekonstrukce\",IF('v přípravě a připraveno'!#REF!=data!$B$3,\"Propustek\",\"-\"))","v":{"$error":"#REF!"}},null,null,null,null,null,null,null,null,null,null,null,null,null,null,null,{"$f":"IF('náměty na projekční přípravu'!B408=data!$S$2,\"Souvislá údržba\",IF('náměty na projekční přípravu'!B408=data!$S$3,\"Most\",\"-\"))","v":"-"},{"$f":"IF('náměty na projekční přípravu'!B408=data!$S$2,\"Rekonstrukce\",IF('náměty na projekční přípravu'!B408=data!$S$3,\"Propustek\",\"-\"))","v":"-"}]
[null,null,null,null,null,null,null,null,null,null,null,{"$f":"IF('v přípravě a připraveno'!#REF!=data!$B$2,\"Souvislá údržba\",IF('v přípravě a připraveno'!#REF!=data!$B$3,\"Most\",\"-\"))","v":{"$error":"#REF!"}},{"$f":"IF('v přípravě a připraveno'!#REF!=data!$B$2,\"Rekonstrukce\",IF('v přípravě a připraveno'!#REF!=data!$B$3,\"Propustek\",\"-\"))","v":{"$error":"#REF!"}},null,null,null,null,null,null,null,null,null,null,null,null,null,null,null,{"$f":"IF('náměty na projekční přípravu'!B409=data!$S$2,\"Souvislá údržba\",IF('náměty na projekční přípravu'!B409=data!$S$3,\"Most\",\"-\"))","v":"-"},{"$f":"IF('náměty na projekční přípravu'!B409=data!$S$2,\"Rekonstrukce\",IF('náměty na projekční přípravu'!B409=data!$S$3,\"Propustek\",\"-\"))","v":"-"}]
[null,null,null,null,null,null,null,null,null,null,null,{"$f":"IF('v přípravě a připraveno'!B348=data!$B$2,\"Souvislá údržba\",IF('v přípravě a připraveno'!B348=data!$B$3,\"Most\",\"-\"))","v":"Souvislá údržba"},{"$f":"IF('v přípravě a připraveno'!B348=data!$B$2,\"Rekonstrukce\",IF('v přípravě a připraveno'!B348=data!$B$3,\"Propustek\",\"-\"))","v":"Rekonstrukce"},null,null,null,null,null,null,null,null,null,null,null,null,null,null,null,{"$f":"IF('náměty na projekční přípravu'!B410=data!$S$2,\"Souvislá údržba\",IF('náměty na projekční přípravu'!B410=data!$S$3,\"Most\",\"-\"))","v":"-"},{"$f":"IF('náměty na projekční přípravu'!B410=data!$S$2,\"Rekonstrukce\",IF('náměty na projekční přípravu'!B410=data!$S$3,\"Propustek\",\"-\"))","v":"-"}]
[null,null,null,null,null,null,null,null,null,null,null,{"$f":"IF('v přípravě a připraveno'!B349=data!$B$2,\"Souvislá údržba\",IF('v přípravě a připraveno'!B349=data!$B$3,\"Most\",\"-\"))","v":"-"},{"$f":"IF('v přípravě a připraveno'!B349=data!$B$2,\"Rekonstrukce\",IF('v přípravě a připraveno'!B349=data!$B$3,\"Propustek\",\"-\"))","v":"-"},null,null,null,null,null,null,null,null,null,null,null,null,null,null,null,{"$f":"IF('náměty na projekční přípravu'!B411=data!$S$2,\"Souvislá údržba\",IF('náměty na projekční přípravu'!B411=data!$S$3,\"Most\",\"-\"))","v":"-"},{"$f":"IF('náměty na projekční přípravu'!B411=data!$S$2,\"Rekonstrukce\",IF('náměty na projekční přípravu'!B411=data!$S$3,\"Propustek\",\"-\"))","v":"-"}]
[null,null,null,null,null,null,null,null,null,null,null,{"$f":"IF('v přípravě a připraveno'!B350=data!$B$2,\"Souvislá údržba\",IF('v přípravě a připraveno'!B350=data!$B$3,\"Most\",\"-\"))","v":"Souvislá údržba"},{"$f":"IF('v přípravě a připraveno'!B350=data!$B$2,\"Rekonstrukce\",IF('v přípravě a připraveno'!B350=data!$B$3,\"Propustek\",\"-\"))","v":"Rekonstrukce"},null,null,null,null,null,null,null,null,null,null,null,null,null,null,null,{"$f":"IF('náměty na projekční přípravu'!B412=data!$S$2,\"Souvislá údržba\",IF('náměty na projekční přípravu'!B412=data!$S$3,\"Most\",\"-\"))","v":"-"},{"$f":"IF('náměty na projekční přípravu'!B412=data!$S$2,\"Rekonstrukce\",IF('náměty na projekční přípravu'!B412=data!$S$3,\"Propustek\",\"-\"))","v":"-"}]
[null,null,null,null,null,null,null,null,null,null,null,{"$f":"IF('v přípravě a připraveno'!B351=data!$B$2,\"Souvislá údržba\",IF('v přípravě a připraveno'!B351=data!$B$3,\"Most\",\"-\"))","v":"Most"},{"$f":"IF('v přípravě a připraveno'!B351=data!$B$2,\"Rekonstrukce\",IF('v přípravě a připraveno'!B351=data!$B$3,\"Propustek\",\"-\"))","v":"Propustek"},null,null,null,null,null,null,null,null,null,null,null,null,null,null,null,{"$f":"IF('náměty na projekční přípravu'!B413=data!$S$2,\"Souvislá údržba\",IF('náměty na projekční přípravu'!B413=data!$S$3,\"Most\",\"-\"))","v":"-"},{"$f":"IF('náměty na projekční přípravu'!B413=data!$S$2,\"Rekonstrukce\",IF('náměty na projekční přípravu'!B413=data!$S$3,\"Propustek\",\"-\"))","v":"-"}]
[null,null,null,null,null,null,null,null,null,null,null,{"$f":"IF('v přípravě a připraveno'!B352=data!$B$2,\"Souvislá údržba\",IF('v přípravě a připraveno'!B352=data!$B$3,\"Most\",\"-\"))","v":"Souvislá údržba"},{"$f":"IF('v přípravě a připraveno'!B352=data!$B$2,\"Rekonstrukce\",IF('v přípravě a připraveno'!B352=data!$B$3,\"Propustek\",\"-\"))","v":"Rekonstrukce"},null,null,null,null,null,null,null,null,null,null,null,null,null,null,null,{"$f":"IF('náměty na projekční přípravu'!B414=data!$S$2,\"Souvislá údržba\",IF('náměty na projekční přípravu'!B414=data!$S$3,\"Most\",\"-\"))","v":"-"},{"$f":"IF('náměty na projekční přípravu'!B414=data!$S$2,\"Rekonstrukce\",IF('náměty na projekční přípravu'!B414=data!$S$3,\"Propustek\",\"-\"))","v":"-"}]
[null,null,null,null,null,null,null,null,null,null,null,{"$f":"IF('v přípravě a připraveno'!B353=data!$B$2,\"Souvislá údržba\",IF('v přípravě a připraveno'!B353=data!$B$3,\"Most\",\"-\"))","v":"Souvislá údržba"},{"$f":"IF('v přípravě a připraveno'!B353=data!$B$2,\"Rekonstrukce\",IF('v přípravě a připraveno'!B353=data!$B$3,\"Propustek\",\"-\"))","v":"Rekonstrukce"},null,null,null,null,null,null,null,null,null,null,null,null,null,null,null,{"$f":"IF('náměty na projekční přípravu'!B415=data!$S$2,\"Souvislá údržba\",IF('náměty na projekční přípravu'!B415=data!$S$3,\"Most\",\"-\"))","v":"-"},{"$f":"IF('náměty na projekční přípravu'!B415=data!$S$2,\"Rekonstrukce\",IF('náměty na projekční přípravu'!B415=data!$S$3,\"Propustek\",\"-\"))","v":"-"}]
[null,null,null,null,null,null,null,null,null,null,null,{"$f":"IF('v přípravě a připraveno'!B354=data!$B$2,\"Souvislá údržba\",IF('v přípravě a připraveno'!B354=data!$B$3,\"Most\",\"-\"))","v":"Souvislá údržba"},{"$f":"IF('v přípravě a připraveno'!B354=data!$B$2,\"Rekonstrukce\",IF('v přípravě a připraveno'!B354=data!$B$3,\"Propustek\",\"-\"))","v":"Rekonstrukce"},null,null,null,null,null,null,null,null,null,null,null,null,null,null,null,{"$f":"IF('náměty na projekční přípravu'!B416=data!$S$2,\"Souvislá údržba\",IF('náměty na projekční přípravu'!B416=data!$S$3,\"Most\",\"-\"))","v":"-"},{"$f":"IF('náměty na projekční přípravu'!B416=data!$S$2,\"Rekonstrukce\",IF('náměty na projekční přípravu'!B416=data!$S$3,\"Propustek\",\"-\"))","v":"-"}]
[null,null,null,null,null,null,null,null,null,null,null,{"$f":"IF('v přípravě a připraveno'!B355=data!$B$2,\"Souvislá údržba\",IF('v přípravě a připraveno'!B355=data!$B$3,\"Most\",\"-\"))","v":"-"},{"$f":"IF('v přípravě a připraveno'!B355=data!$B$2,\"Rekonstrukce\",IF('v přípravě a připraveno'!B355=data!$B$3,\"Propustek\",\"-\"))","v":"-"},null,null,null,null,null,null,null,null,null,null,null,null,null,null,null,{"$f":"IF('náměty na projekční přípravu'!B417=data!$S$2,\"Souvislá údržba\",IF('náměty na projekční přípravu'!B417=data!$S$3,\"Most\",\"-\"))","v":"-"},{"$f":"IF('náměty na projekční přípravu'!B417=data!$S$2,\"Rekonstrukce\",IF('náměty na projekční přípravu'!B417=data!$S$3,\"Propustek\",\"-\"))","v":"-"}]
[null,null,null,null,null,null,null,null,null,null,null,{"$f":"IF('v přípravě a připraveno'!B356=data!$B$2,\"Souvislá údržba\",IF('v přípravě a připraveno'!B356=data!$B$3,\"Most\",\"-\"))","v":"Souvislá údržba"},{"$f":"IF('v přípravě a připraveno'!B356=data!$B$2,\"Rekonstrukce\",IF('v přípravě a připraveno'!B356=data!$B$3,\"Propustek\",\"-\"))","v":"Rekonstrukce"},null,null,null,null,null,null,null,null,null,null,null,null,null,null,null,{"$f":"IF('náměty na projekční přípravu'!B418=data!$S$2,\"Souvislá údržba\",IF('náměty na projekční přípravu'!B418=data!$S$3,\"Most\",\"-\"))","v":"-"},{"$f":"IF('náměty na projekční přípravu'!B418=data!$S$2,\"Rekonstrukce\",IF('náměty na projekční přípravu'!B418=data!$S$3,\"Propustek\",\"-\"))","v":"-"}]
[null,null,null,null,null,null,null,null,null,null,null,{"$f":"IF('v přípravě a připraveno'!B357=data!$B$2,\"Souvislá údržba\",IF('v přípravě a připraveno'!B357=data!$B$3,\"Most\",\"-\"))","v":"-"},{"$f":"IF('v přípravě a připraveno'!B357=data!$B$2,\"Rekonstrukce\",IF('v přípravě a připraveno'!B357=data!$B$3,\"Propustek\",\"-\"))","v":"-"},null,null,null,null,null,null,null,null,null,null,null,null,null,null,null,{"$f":"IF('náměty na projekční přípravu'!B419=data!$S$2,\"Souvislá údržba\",IF('náměty na projekční přípravu'!B419=data!$S$3,\"Most\",\"-\"))","v":"-"},{"$f":"IF('náměty na projekční přípravu'!B419=data!$S$2,\"Rekonstrukce\",IF('náměty na projekční přípravu'!B419=data!$S$3,\"Propustek\",\"-\"))","v":"-"}]
[null,null,null,null,null,null,null,null,null,null,null,{"$f":"IF('v přípravě a připraveno'!#REF!=data!$B$2,\"Souvislá údržba\",IF('v přípravě a připraveno'!#REF!=data!$B$3,\"Most\",\"-\"))","v":{"$error":"#REF!"}},{"$f":"IF('v přípravě a připraveno'!#REF!=data!$B$2,\"Rekonstrukce\",IF('v přípravě a připraveno'!#REF!=data!$B$3,\"Propustek\",\"-\"))","v":{"$error":"#REF!"}},null,null,null,null,null,null,null,null,null,null,null,null,null,null,null,{"$f":"IF('náměty na projekční přípravu'!B420=data!$S$2,\"Souvislá údržba\",IF('náměty na projekční přípravu'!B420=data!$S$3,\"Most\",\"-\"))","v":"-"},{"$f":"IF('náměty na projekční přípravu'!B420=data!$S$2,\"Rekonstrukce\",IF('náměty na projekční přípravu'!B420=data!$S$3,\"Propustek\",\"-\"))","v":"-"}]
[null,null,null,null,null,null,null,null,null,null,null,{"$f":"IF('v přípravě a připraveno'!B358=data!$B$2,\"Souvislá údržba\",IF('v přípravě a připraveno'!B358=data!$B$3,\"Most\",\"-\"))","v":"Souvislá údržba"},{"$f":"IF('v přípravě a připraveno'!B358=data!$B$2,\"Rekonstrukce\",IF('v přípravě a připraveno'!B358=data!$B$3,\"Propustek\",\"-\"))","v":"Rekonstrukce"},null,null,null,null,null,null,null,null,null,null,null,null,null,null,null,{"$f":"IF('náměty na projekční přípravu'!B421=data!$S$2,\"Souvislá údržba\",IF('náměty na projekční přípravu'!B421=data!$S$3,\"Most\",\"-\"))","v":"-"},{"$f":"IF('náměty na projekční přípravu'!B421=data!$S$2,\"Rekonstrukce\",IF('náměty na projekční přípravu'!B421=data!$S$3,\"Propustek\",\"-\"))","v":"-"}]
[null,null,null,null,null,null,null,null,null,null,null,{"$f":"IF('v přípravě a připraveno'!B359=data!$B$2,\"Souvislá údržba\",IF('v přípravě a připraveno'!B359=data!$B$3,\"Most\",\"-\"))","v":"Souvislá údržba"},{"$f":"IF('v přípravě a připraveno'!B359=data!$B$2,\"Rekonstrukce\",IF('v přípravě a připraveno'!B359=data!$B$3,\"Propustek\",\"-\"))","v":"Rekonstrukce"},null,null,null,null,null,null,null,null,null,null,null,null,null,null,null,{"$f":"IF('náměty na projekční přípravu'!B422=data!$S$2,\"Souvislá údržba\",IF('náměty na projekční přípravu'!B422=data!$S$3,\"Most\",\"-\"))","v":"-"},{"$f":"IF('náměty na projekční přípravu'!B422=data!$S$2,\"Rekonstrukce\",IF('náměty na projekční přípravu'!B422=data!$S$3,\"Propustek\",\"-\"))","v":"-"}]
[null,null,null,null,null,null,null,null,null,null,null,{"$f":"IF('v přípravě a připraveno'!B360=data!$B$2,\"Souvislá údržba\",IF('v přípravě a připraveno'!B360=data!$B$3,\"Most\",\"-\"))","v":"Most"},{"$f":"IF('v přípravě a připraveno'!B360=data!$B$2,\"Rekonstrukce\",IF('v přípravě a připraveno'!B360=data!$B$3,\"Propustek\",\"-\"))","v":"Propustek"},null,null,null,null,null,null,null,null,null,null,null,null,null,null,null,{"$f":"IF('náměty na projekční přípravu'!B423=data!$S$2,\"Souvislá údržba\",IF('náměty na projekční přípravu'!B423=data!$S$3,\"Most\",\"-\"))","v":"-"},{"$f":"IF('náměty na projekční přípravu'!B423=data!$S$2,\"Rekonstrukce\",IF('náměty na projekční přípravu'!B423=data!$S$3,\"Propustek\",\"-\"))","v":"-"}]
[null,null,null,null,null,null,null,null,null,null,null,{"$f":"IF('v přípravě a připraveno'!B361=data!$B$2,\"Souvislá údržba\",IF('v přípravě a připraveno'!B361=data!$B$3,\"Most\",\"-\"))","v":"Souvislá údržba"},{"$f":"IF('v přípravě a připraveno'!B361=data!$B$2,\"Rekonstrukce\",IF('v přípravě a připraveno'!B361=data!$B$3,\"Propustek\",\"-\"))","v":"Rekonstrukce"},null,null,null,null,null,null,null,null,null,null,null,null,null,null,null,{"$f":"IF('náměty na projekční přípravu'!B424=data!$S$2,\"Souvislá údržba\",IF('náměty na projekční přípravu'!B424=data!$S$3,\"Most\",\"-\"))","v":"-"},{"$f":"IF('náměty na projekční přípravu'!B424=data!$S$2,\"Rekonstrukce\",IF('náměty na projekční přípravu'!B424=data!$S$3,\"Propustek\",\"-\"))","v":"-"}]
[null,null,null,null,null,null,null,null,null,null,null,{"$f":"IF('v přípravě a připraveno'!B362=data!$B$2,\"Souvislá údržba\",IF('v přípravě a připraveno'!B362=data!$B$3,\"Most\",\"-\"))","v":"-"},{"$f":"IF('v přípravě a připraveno'!B362=data!$B$2,\"Rekonstrukce\",IF('v přípravě a připraveno'!B362=data!$B$3,\"Propustek\",\"-\"))","v":"-"},null,null,null,null,null,null,null,null,null,null,null,null,null,null,null,{"$f":"IF('náměty na projekční přípravu'!B425=data!$S$2,\"Souvislá údržba\",IF('náměty na projekční přípravu'!B425=data!$S$3,\"Most\",\"-\"))","v":"-"},{"$f":"IF('náměty na projekční přípravu'!B425=data!$S$2,\"Rekonstrukce\",IF('náměty na projekční přípravu'!B425=data!$S$3,\"Propustek\",\"-\"))","v":"-"}]
[null,null,null,null,null,null,null,null,null,null,null,{"$f":"IF('v přípravě a připraveno'!B363=data!$B$2,\"Souvislá údržba\",IF('v přípravě a připraveno'!B363=data!$B$3,\"Most\",\"-\"))","v":"-"},{"$f":"IF('v přípravě a připraveno'!B363=data!$B$2,\"Rekonstrukce\",IF('v přípravě a připraveno'!B363=data!$B$3,\"Propustek\",\"-\"))","v":"-"},null,null,null,null,null,null,null,null,null,null,null,null,null,null,null,{"$f":"IF('náměty na projekční přípravu'!B426=data!$S$2,\"Souvislá údržba\",IF('náměty na projekční přípravu'!B426=data!$S$3,\"Most\",\"-\"))","v":"-"},{"$f":"IF('náměty na projekční přípravu'!B426=data!$S$2,\"Rekonstrukce\",IF('náměty na projekční přípravu'!B426=data!$S$3,\"Propustek\",\"-\"))","v":"-"}]
[null,null,null,null,null,null,null,null,null,null,null,{"$f":"IF('v přípravě a připraveno'!B364=data!$B$2,\"Souvislá údržba\",IF('v přípravě a připraveno'!B364=data!$B$3,\"Most\",\"-\"))","v":"Souvislá údržba"},{"$f":"IF('v přípravě a připraveno'!B364=data!$B$2,\"Rekonstrukce\",IF('v přípravě a připraveno'!B364=data!$B$3,\"Propustek\",\"-\"))","v":"Rekonstrukce"},null,null,null,null,null,null,null,null,null,null,null,null,null,null,null,{"$f":"IF('náměty na projekční přípravu'!B427=data!$S$2,\"Souvislá údržba\",IF('náměty na projekční přípravu'!B427=data!$S$3,\"Most\",\"-\"))","v":"-"},{"$f":"IF('náměty na projekční přípravu'!B427=data!$S$2,\"Rekonstrukce\",IF('náměty na projekční přípravu'!B427=data!$S$3,\"Propustek\",\"-\"))","v":"-"}]
[null,null,null,null,null,null,null,null,null,null,null,{"$f":"IF('v přípravě a připraveno'!#REF!=data!$B$2,\"Souvislá údržba\",IF('v přípravě a připraveno'!#REF!=data!$B$3,\"Most\",\"-\"))","v":{"$error":"#REF!"}},{"$f":"IF('v přípravě a připraveno'!#REF!=data!$B$2,\"Rekonstrukce\",IF('v přípravě a připraveno'!#REF!=data!$B$3,\"Propustek\",\"-\"))","v":{"$error":"#REF!"}},null,null,null,null,null,null,null,null,null,null,null,null,null,null,null,{"$f":"IF('náměty na projekční přípravu'!B428=data!$S$2,\"Souvislá údržba\",IF('náměty na projekční přípravu'!B428=data!$S$3,\"Most\",\"-\"))","v":"-"},{"$f":"IF('náměty na projekční přípravu'!B428=data!$S$2,\"Rekonstrukce\",IF('náměty na projekční přípravu'!B428=data!$S$3,\"Propustek\",\"-\"))","v":"-"}]
[null,null,null,null,null,null,null,null,null,null,null,{"$f":"IF('v přípravě a připraveno'!B365=data!$B$2,\"Souvislá údržba\",IF('v přípravě a připraveno'!B365=data!$B$3,\"Most\",\"-\"))","v":"Souvislá údržba"},{"$f":"IF('v přípravě a připraveno'!B365=data!$B$2,\"Rekonstrukce\",IF('v přípravě a připraveno'!B365=data!$B$3,\"Propustek\",\"-\"))","v":"Rekonstrukce"},null,null,null,null,null,null,null,null,null,null,null,null,null,null,null,{"$f":"IF('náměty na projekční přípravu'!B429=data!$S$2,\"Souvislá údržba\",IF('náměty na projekční přípravu'!B429=data!$S$3,\"Most\",\"-\"))","v":"-"},{"$f":"IF('náměty na projekční přípravu'!B429=data!$S$2,\"Rekonstrukce\",IF('náměty na projekční přípravu'!B429=data!$S$3,\"Propustek\",\"-\"))","v":"-"}]
[null,null,null,null,null,null,null,null,null,null,null,{"$f":"IF('v přípravě a připraveno'!#REF!=data!$B$2,\"Souvislá údržba\",IF('v přípravě a připraveno'!#REF!=data!$B$3,\"Most\",\"-\"))","v":{"$error":"#REF!"}},{"$f":"IF('v přípravě a připraveno'!#REF!=data!$B$2,\"Rekonstrukce\",IF('v přípravě a připraveno'!#REF!=data!$B$3,\"Propustek\",\"-\"))","v":{"$error":"#REF!"}},null,null,null,null,null,null,null,null,null,null,null,null,null,null,null,{"$f":"IF('náměty na projekční přípravu'!B430=data!$S$2,\"Souvislá údržba\",IF('náměty na projekční přípravu'!B430=data!$S$3,\"Most\",\"-\"))","v":"-"},{"$f":"IF('náměty na projekční přípravu'!B430=data!$S$2,\"Rekonstrukce\",IF('náměty na projekční přípravu'!B430=data!$S$3,\"Propustek\",\"-\"))","v":"-"}]
[null,null,null,null,null,null,null,null,null,null,null,{"$f":"IF('v přípravě a připraveno'!B366=data!$B$2,\"Souvislá údržba\",IF('v přípravě a připraveno'!B366=data!$B$3,\"Most\",\"-\"))","v":"Souvislá údržba"},{"$f":"IF('v přípravě a připraveno'!B366=data!$B$2,\"Rekonstrukce\",IF('v přípravě a připraveno'!B366=data!$B$3,\"Propustek\",\"-\"))","v":"Rekonstrukce"},null,null,null,null,null,null,null,null,null,null,null,null,null,null,null,{"$f":"IF('náměty na projekční přípravu'!B431=data!$S$2,\"Souvislá údržba\",IF('náměty na projekční přípravu'!B431=data!$S$3,\"Most\",\"-\"))","v":"-"},{"$f":"IF('náměty na projekční přípravu'!B431=data!$S$2,\"Rekonstrukce\",IF('náměty na projekční přípravu'!B431=data!$S$3,\"Propustek\",\"-\"))","v":"-"}]
[null,null,null,null,null,null,null,null,null,null,null,{"$f":"IF('v přípravě a připraveno'!B367=data!$B$2,\"Souvislá údržba\",IF('v přípravě a připraveno'!B367=data!$B$3,\"Most\",\"-\"))","v":"Souvislá údržba"},{"$f":"IF('v přípravě a připraveno'!B367=data!$B$2,\"Rekonstrukce\",IF('v přípravě a připraveno'!B367=data!$B$3,\"Propustek\",\"-\"))","v":"Rekonstrukce"},null,null,null,null,null,null,null,null,null,null,null,null,null,null,null,{"$f":"IF('náměty na projekční přípravu'!B432=data!$S$2,\"Souvislá údržba\",IF('náměty na projekční přípravu'!B432=data!$S$3,\"Most\",\"-\"))","v":"-"},{"$f":"IF('náměty na projekční přípravu'!B432=data!$S$2,\"Rekonstrukce\",IF('náměty na projekční přípravu'!B432=data!$S$3,\"Propustek\",\"-\"))","v":"-"}]
[null,null,null,null,null,null,null,null,null,null,null,{"$f":"IF('v přípravě a připraveno'!B368=data!$B$2,\"Souvislá údržba\",IF('v přípravě a připraveno'!B368=data!$B$3,\"Most\",\"-\"))","v":"Souvislá údržba"},{"$f":"IF('v přípravě a připraveno'!B368=data!$B$2,\"Rekonstrukce\",IF('v přípravě a připraveno'!B368=data!$B$3,\"Propustek\",\"-\"))","v":"Rekonstrukce"},null,null,null,null,null,null,null,null,null,null,null,null,null,null,null,{"$f":"IF('náměty na projekční přípravu'!B433=data!$S$2,\"Souvislá údržba\",IF('náměty na projekční přípravu'!B433=data!$S$3,\"Most\",\"-\"))","v":"-"},{"$f":"IF('náměty na projekční přípravu'!B433=data!$S$2,\"Rekonstrukce\",IF('náměty na projekční přípravu'!B433=data!$S$3,\"Propustek\",\"-\"))","v":"-"}]
[null,null,null,null,null,null,null,null,null,null,null,{"$f":"IF('náměty na projekční přípravu'!#REF!=data!$B$2,\"Souvislá údržba\",IF('náměty na projekční přípravu'!#REF!=data!$B$3,\"Most\",\"-\"))","v":{"$error":"#REF!"}},{"$f":"IF('náměty na projekční přípravu'!#REF!=data!$B$2,\"Rekonstrukce\",IF('náměty na projekční přípravu'!#REF!=data!$B$3,\"Propustek\",\"-\"))","v":{"$error":"#REF!"}},null,null,null,null,null,null,null,null,null,null,null,null,null,null,null,{"$f":"IF('náměty na projekční přípravu'!B434=data!$S$2,\"Souvislá údržba\",IF('náměty na projekční přípravu'!B434=data!$S$3,\"Most\",\"-\"))","v":"-"},{"$f":"IF('náměty na projekční přípravu'!B434=data!$S$2,\"Rekonstrukce\",IF('náměty na projekční přípravu'!B434=data!$S$3,\"Propustek\",\"-\"))","v":"-"}]
[null,null,null,null,null,null,null,null,null,null,null,{"$f":"IF('v přípravě a připraveno'!B369=data!$B$2,\"Souvislá údržba\",IF('v přípravě a připraveno'!B369=data!$B$3,\"Most\",\"-\"))","v":"Most"},{"$f":"IF('v přípravě a připraveno'!B369=data!$B$2,\"Rekonstrukce\",IF('v přípravě a připraveno'!B369=data!$B$3,\"Propustek\",\"-\"))","v":"Propustek"},null,null,null,null,null,null,null,null,null,null,null,null,null,null,null,{"$f":"IF('náměty na projekční přípravu'!B435=data!$S$2,\"Souvislá údržba\",IF('náměty na projekční přípravu'!B435=data!$S$3,\"Most\",\"-\"))","v":"-"},{"$f":"IF('náměty na projekční přípravu'!B435=data!$S$2,\"Rekonstrukce\",IF('náměty na projekční přípravu'!B435=data!$S$3,\"Propustek\",\"-\"))","v":"-"}]
[null,null,null,null,null,null,null,null,null,null,null,{"$f":"IF('v přípravě a připraveno'!B370=data!$B$2,\"Souvislá údržba\",IF('v přípravě a připraveno'!B370=data!$B$3,\"Most\",\"-\"))","v":"Most"},{"$f":"IF('v přípravě a připraveno'!B370=data!$B$2,\"Rekonstrukce\",IF('v přípravě a připraveno'!B370=data!$B$3,\"Propustek\",\"-\"))","v":"Propustek"},null,null,null,null,null,null,null,null,null,null,null,null,null,null,null,{"$f":"IF('náměty na projekční přípravu'!B436=data!$S$2,\"Souvislá údržba\",IF('náměty na projekční přípravu'!B436=data!$S$3,\"Most\",\"-\"))","v":"-"},{"$f":"IF('náměty na projekční přípravu'!B436=data!$S$2,\"Rekonstrukce\",IF('náměty na projekční přípravu'!B436=data!$S$3,\"Propustek\",\"-\"))","v":"-"}]
[null,null,null,null,null,null,null,null,null,null,null,{"$f":"IF('v přípravě a připraveno'!B371=data!$B$2,\"Souvislá údržba\",IF('v přípravě a připraveno'!B371=data!$B$3,\"Most\",\"-\"))","v":"Souvislá údržba"},{"$f":"IF('v přípravě a připraveno'!B371=data!$B$2,\"Rekonstrukce\",IF('v přípravě a připraveno'!B371=data!$B$3,\"Propustek\",\"-\"))","v":"Rekonstrukce"},null,null,null,null,null,null,null,null,null,null,null,null,null,null,null,{"$f":"IF('náměty na projekční přípravu'!B437=data!$S$2,\"Souvislá údržba\",IF('náměty na projekční přípravu'!B437=data!$S$3,\"Most\",\"-\"))","v":"-"},{"$f":"IF('náměty na projekční přípravu'!B437=data!$S$2,\"Rekonstrukce\",IF('náměty na projekční přípravu'!B437=data!$S$3,\"Propustek\",\"-\"))","v":"-"}]
[null,null,null,null,null,null,null,null,null,null,null,{"$f":"IF('v přípravě a připraveno'!#REF!=data!$B$2,\"Souvislá údržba\",IF('v přípravě a připraveno'!#REF!=data!$B$3,\"Most\",\"-\"))","v":{"$error":"#REF!"}},{"$f":"IF('v přípravě a připraveno'!#REF!=data!$B$2,\"Rekonstrukce\",IF('v přípravě a připraveno'!#REF!=data!$B$3,\"Propustek\",\"-\"))","v":{"$error":"#REF!"}},null,null,null,null,null,null,null,null,null,null,null,null,null,null,null,{"$f":"IF('náměty na projekční přípravu'!B438=data!$S$2,\"Souvislá údržba\",IF('náměty na projekční přípravu'!B438=data!$S$3,\"Most\",\"-\"))","v":"-"},{"$f":"IF('náměty na projekční přípravu'!B438=data!$S$2,\"Rekonstrukce\",IF('náměty na projekční přípravu'!B438=data!$S$3,\"Propustek\",\"-\"))","v":"-"}]
[null,null,null,null,null,null,null,null,null,null,null,{"$f":"IF('v přípravě a připraveno'!#REF!=data!$B$2,\"Souvislá údržba\",IF('v přípravě a připraveno'!#REF!=data!$B$3,\"Most\",\"-\"))","v":{"$error":"#REF!"}},{"$f":"IF('v přípravě a připraveno'!#REF!=data!$B$2,\"Rekonstrukce\",IF('v přípravě a připraveno'!#REF!=data!$B$3,\"Propustek\",\"-\"))","v":{"$error":"#REF!"}},null,null,null,null,null,null,null,null,null,null,null,null,null,null,null,{"$f":"IF('náměty na projekční přípravu'!B439=data!$S$2,\"Souvislá údržba\",IF('náměty na projekční přípravu'!B439=data!$S$3,\"Most\",\"-\"))","v":"-"},{"$f":"IF('náměty na projekční přípravu'!B439=data!$S$2,\"Rekonstrukce\",IF('náměty na projekční přípravu'!B439=data!$S$3,\"Propustek\",\"-\"))","v":"-"}]
[null,null,null,null,null,null,null,null,null,null,null,{"$f":"IF('v přípravě a připraveno'!B372=data!$B$2,\"Souvislá údržba\",IF('v přípravě a připraveno'!B372=data!$B$3,\"Most\",\"-\"))","v":"Most"},{"$f":"IF('v přípravě a připraveno'!B372=data!$B$2,\"Rekonstrukce\",IF('v přípravě a připraveno'!B372=data!$B$3,\"Propustek\",\"-\"))","v":"Propustek"},null,null,null,null,null,null,null,null,null,null,null,null,null,null,null,{"$f":"IF('náměty na projekční přípravu'!B440=data!$S$2,\"Souvislá údržba\",IF('náměty na projekční přípravu'!B440=data!$S$3,\"Most\",\"-\"))","v":"-"},{"$f":"IF('náměty na projekční přípravu'!B440=data!$S$2,\"Rekonstrukce\",IF('náměty na projekční přípravu'!B440=data!$S$3,\"Propustek\",\"-\"))","v":"-"}]
[null,null,null,null,null,null,null,null,null,null,null,{"$f":"IF('v přípravě a připraveno'!B373=data!$B$2,\"Souvislá údržba\",IF('v přípravě a připraveno'!B373=data!$B$3,\"Most\",\"-\"))","v":"Souvislá údržba"},{"$f":"IF('v přípravě a připraveno'!B373=data!$B$2,\"Rekonstrukce\",IF('v přípravě a připraveno'!B373=data!$B$3,\"Propustek\",\"-\"))","v":"Rekonstrukce"},null,null,null,null,null,null,null,null,null,null,null,null,null,null,null,{"$f":"IF('náměty na projekční přípravu'!B441=data!$S$2,\"Souvislá údržba\",IF('náměty na projekční přípravu'!B441=data!$S$3,\"Most\",\"-\"))","v":"-"},{"$f":"IF('náměty na projekční přípravu'!B441=data!$S$2,\"Rekonstrukce\",IF('náměty na projekční přípravu'!B441=data!$S$3,\"Propustek\",\"-\"))","v":"-"}]
[null,null,null,null,null,null,null,null,null,null,null,{"$f":"IF('v přípravě a připraveno'!B374=data!$B$2,\"Souvislá údržba\",IF('v přípravě a připraveno'!B374=data!$B$3,\"Most\",\"-\"))","v":"Most"},{"$f":"IF('v přípravě a připraveno'!B374=data!$B$2,\"Rekonstrukce\",IF('v přípravě a připraveno'!B374=data!$B$3,\"Propustek\",\"-\"))","v":"Propustek"},null,null,null,null,null,null,null,null,null,null,null,null,null,null,null,{"$f":"IF('náměty na projekční přípravu'!B442=data!$S$2,\"Souvislá údržba\",IF('náměty na projekční přípravu'!B442=data!$S$3,\"Most\",\"-\"))","v":"-"},{"$f":"IF('náměty na projekční přípravu'!B442=data!$S$2,\"Rekonstrukce\",IF('náměty na projekční přípravu'!B442=data!$S$3,\"Propustek\",\"-\"))","v":"-"}]
[null,null,null,null,null,null,null,null,null,null,null,{"$f":"IF('v přípravě a připraveno'!B375=data!$B$2,\"Souvislá údržba\",IF('v přípravě a připraveno'!B375=data!$B$3,\"Most\",\"-\"))","v":"Souvislá údržba"},{"$f":"IF('v přípravě a připraveno'!B375=data!$B$2,\"Rekonstrukce\",IF('v přípravě a připraveno'!B375=data!$B$3,\"Propustek\",\"-\"))","v":"Rekonstrukce"},null,null,null,null,null,null,null,null,null,null,null,null,null,null,null,{"$f":"IF('náměty na projekční přípravu'!B443=data!$S$2,\"Souvislá údržba\",IF('náměty na projekční přípravu'!B443=data!$S$3,\"Most\",\"-\"))","v":"-"},{"$f":"IF('náměty na projekční přípravu'!B443=data!$S$2,\"Rekonstrukce\",IF('náměty na projekční přípravu'!B443=data!$S$3,\"Propustek\",\"-\"))","v":"-"}]
[null,null,null,null,null,null,null,null,null,null,null,{"$f":"IF('v přípravě a připraveno'!B376=data!$B$2,\"Souvislá údržba\",IF('v přípravě a připraveno'!B376=data!$B$3,\"Most\",\"-\"))","v":"-"},{"$f":"IF('v přípravě a připraveno'!B376=data!$B$2,\"Rekonstrukce\",IF('v přípravě a připraveno'!B376=data!$B$3,\"Propustek\",\"-\"))","v":"-"},null,null,null,null,null,null,null,null,null,null,null,null,null,null,null,{"$f":"IF('náměty na projekční přípravu'!B444=data!$S$2,\"Souvislá údržba\",IF('náměty na projekční přípravu'!B444=data!$S$3,\"Most\",\"-\"))","v":"-"},{"$f":"IF('náměty na projekční přípravu'!B444=data!$S$2,\"Rekonstrukce\",IF('náměty na projekční přípravu'!B444=data!$S$3,\"Propustek\",\"-\"))","v":"-"}]
[null,null,null,null,null,null,null,null,null,null,null,{"$f":"IF('v přípravě a připraveno'!B377=data!$B$2,\"Souvislá údržba\",IF('v přípravě a připraveno'!B377=data!$B$3,\"Most\",\"-\"))","v":"Souvislá údržba"},{"$f":"IF('v přípravě a připraveno'!B377=data!$B$2,\"Rekonstrukce\",IF('v přípravě a připraveno'!B377=data!$B$3,\"Propustek\",\"-\"))","v":"Rekonstrukce"},null,null,null,null,null,null,null,null,null,null,null,null,null,null,null,{"$f":"IF('náměty na projekční přípravu'!B445=data!$S$2,\"Souvislá údržba\",IF('náměty na projekční přípravu'!B445=data!$S$3,\"Most\",\"-\"))","v":"-"},{"$f":"IF('náměty na projekční přípravu'!B445=data!$S$2,\"Rekonstrukce\",IF('náměty na projekční přípravu'!B445=data!$S$3,\"Propustek\",\"-\"))","v":"-"}]
[null,null,null,null,null,null,null,null,null,null,null,{"$f":"IF('v přípravě a připraveno'!B378=data!$B$2,\"Souvislá údržba\",IF('v přípravě a připraveno'!B378=data!$B$3,\"Most\",\"-\"))","v":"-"},{"$f":"IF('v přípravě a připraveno'!B378=data!$B$2,\"Rekonstrukce\",IF('v přípravě a připraveno'!B378=data!$B$3,\"Propustek\",\"-\"))","v":"-"},null,null,null,null,null,null,null,null,null,null,null,null,null,null,null,{"$f":"IF('náměty na projekční přípravu'!B446=data!$S$2,\"Souvislá údržba\",IF('náměty na projekční přípravu'!B446=data!$S$3,\"Most\",\"-\"))","v":"-"},{"$f":"IF('náměty na projekční přípravu'!B446=data!$S$2,\"Rekonstrukce\",IF('náměty na projekční přípravu'!B446=data!$S$3,\"Propustek\",\"-\"))","v":"-"}]
[null,null,null,null,null,null,null,null,null,null,null,{"$f":"IF('v přípravě a připraveno'!B379=data!$B$2,\"Souvislá údržba\",IF('v přípravě a připraveno'!B379=data!$B$3,\"Most\",\"-\"))","v":"Souvislá údržba"},{"$f":"IF('v přípravě a připraveno'!B379=data!$B$2,\"Rekonstrukce\",IF('v přípravě a připraveno'!B379=data!$B$3,\"Propustek\",\"-\"))","v":"Rekonstrukce"},null,null,null,null,null,null,null,null,null,null,null,null,null,null,null,{"$f":"IF('náměty na projekční přípravu'!B447=data!$S$2,\"Souvislá údržba\",IF('náměty na projekční přípravu'!B447=data!$S$3,\"Most\",\"-\"))","v":"-"},{"$f":"IF('náměty na projekční přípravu'!B447=data!$S$2,\"Rekonstrukce\",IF('náměty na projekční přípravu'!B447=data!$S$3,\"Propustek\",\"-\"))","v":"-"}]
[null,null,null,null,null,null,null,null,null,null,null,{"$f":"IF('v přípravě a připraveno'!B380=data!$B$2,\"Souvislá údržba\",IF('v přípravě a připraveno'!B380=data!$B$3,\"Most\",\"-\"))","v":"-"},{"$f":"IF('v přípravě a připraveno'!B380=data!$B$2,\"Rekonstrukce\",IF('v přípravě a připraveno'!B380=data!$B$3,\"Propustek\",\"-\"))","v":"-"},null,null,null,null,null,null,null,null,null,null,null,null,null,null,null,{"$f":"IF('náměty na projekční přípravu'!B448=data!$S$2,\"Souvislá údržba\",IF('náměty na projekční přípravu'!B448=data!$S$3,\"Most\",\"-\"))","v":"-"},{"$f":"IF('náměty na projekční přípravu'!B448=data!$S$2,\"Rekonstrukce\",IF('náměty na projekční přípravu'!B448=data!$S$3,\"Propustek\",\"-\"))","v":"-"}]
[null,null,null,null,null,null,null,null,null,null,null,{"$f":"IF('v přípravě a připraveno'!B381=data!$B$2,\"Souvislá údržba\",IF('v přípravě a připraveno'!B381=data!$B$3,\"Most\",\"-\"))","v":"Souvislá údržba"},{"$f":"IF('v přípravě a připraveno'!B381=data!$B$2,\"Rekonstrukce\",IF('v přípravě a připraveno'!B381=data!$B$3,\"Propustek\",\"-\"))","v":"Rekonstrukce"},null,null,null,null,null,null,null,null,null,null,null,null,null,null,null,{"$f":"IF('náměty na projekční přípravu'!B449=data!$S$2,\"Souvislá údržba\",IF('náměty na projekční přípravu'!B449=data!$S$3,\"Most\",\"-\"))","v":"-"},{"$f":"IF('náměty na projekční přípravu'!B449=data!$S$2,\"Rekonstrukce\",IF('náměty na projekční přípravu'!B449=data!$S$3,\"Propustek\",\"-\"))","v":"-"}]
[null,null,null,null,null,null,null,null,null,null,null,{"$f":"IF('v přípravě a připraveno'!B382=data!$B$2,\"Souvislá údržba\",IF('v přípravě a připraveno'!B382=data!$B$3,\"Most\",\"-\"))","v":"Souvislá údržba"},{"$f":"IF('v přípravě a připraveno'!B382=data!$B$2,\"Rekonstrukce\",IF('v přípravě a připraveno'!B382=data!$B$3,\"Propustek\",\"-\"))","v":"Rekonstrukce"},null,null,null,null,null,null,null,null,null,null,null,null,null,null,null,{"$f":"IF('náměty na projekční přípravu'!B450=data!$S$2,\"Souvislá údržba\",IF('náměty na projekční přípravu'!B450=data!$S$3,\"Most\",\"-\"))","v":"-"},{"$f":"IF('náměty na projekční přípravu'!B450=data!$S$2,\"Rekonstrukce\",IF('náměty na projekční přípravu'!B450=data!$S$3,\"Propustek\",\"-\"))","v":"-"}]
[null,null,null,null,null,null,null,null,null,null,null,{"$f":"IF('v přípravě a připraveno'!#REF!=data!$B$2,\"Souvislá údržba\",IF('v přípravě a připraveno'!#REF!=data!$B$3,\"Most\",\"-\"))","v":{"$error":"#REF!"}},{"$f":"IF('v přípravě a připraveno'!#REF!=data!$B$2,\"Rekonstrukce\",IF('v přípravě a připraveno'!#REF!=data!$B$3,\"Propustek\",\"-\"))","v":{"$error":"#REF!"}},null,null,null,null,null,null,null,null,null,null,null,null,null,null,null,{"$f":"IF('náměty na projekční přípravu'!B451=data!$S$2,\"Souvislá údržba\",IF('náměty na projekční přípravu'!B451=data!$S$3,\"Most\",\"-\"))","v":"-"},{"$f":"IF('náměty na projekční přípravu'!B451=data!$S$2,\"Rekonstrukce\",IF('náměty na projekční přípravu'!B451=data!$S$3,\"Propustek\",\"-\"))","v":"-"}]
[null,null,null,null,null,null,null,null,null,null,null,{"$f":"IF('v přípravě a připraveno'!B383=data!$B$2,\"Souvislá údržba\",IF('v přípravě a připraveno'!B383=data!$B$3,\"Most\",\"-\"))","v":"-"},{"$f":"IF('v přípravě a připraveno'!B383=data!$B$2,\"Rekonstrukce\",IF('v přípravě a připraveno'!B383=data!$B$3,\"Propustek\",\"-\"))","v":"-"},null,null,null,null,null,null,null,null,null,null,null,null,null,null,null,{"$f":"IF('náměty na projekční přípravu'!B452=data!$S$2,\"Souvislá údržba\",IF('náměty na projekční přípravu'!B452=data!$S$3,\"Most\",\"-\"))","v":"-"},{"$f":"IF('náměty na projekční přípravu'!B452=data!$S$2,\"Rekonstrukce\",IF('náměty na projekční přípravu'!B452=data!$S$3,\"Propustek\",\"-\"))","v":"-"}]
[null,null,null,null,null,null,null,null,null,null,null,{"$f":"IF('v přípravě a připraveno'!B384=data!$B$2,\"Souvislá údržba\",IF('v přípravě a připraveno'!B384=data!$B$3,\"Most\",\"-\"))","v":"Souvislá údržba"},{"$f":"IF('v přípravě a připraveno'!B384=data!$B$2,\"Rekonstrukce\",IF('v přípravě a připraveno'!B384=data!$B$3,\"Propustek\",\"-\"))","v":"Rekonstrukce"},null,null,null,null,null,null,null,null,null,null,null,null,null,null,null,{"$f":"IF('náměty na projekční přípravu'!B453=data!$S$2,\"Souvislá údržba\",IF('náměty na projekční přípravu'!B453=data!$S$3,\"Most\",\"-\"))","v":"-"},{"$f":"IF('náměty na projekční přípravu'!B453=data!$S$2,\"Rekonstrukce\",IF('náměty na projekční přípravu'!B453=data!$S$3,\"Propustek\",\"-\"))","v":"-"}]
[null,null,null,null,null,null,null,null,null,null,null,{"$f":"IF('v přípravě a připraveno'!B385=data!$B$2,\"Souvislá údržba\",IF('v přípravě a připraveno'!B385=data!$B$3,\"Most\",\"-\"))","v":"Souvislá údržba"},{"$f":"IF('v přípravě a připraveno'!B385=data!$B$2,\"Rekonstrukce\",IF('v přípravě a připraveno'!B385=data!$B$3,\"Propustek\",\"-\"))","v":"Rekonstrukce"},null,null,null,null,null,null,null,null,null,null,null,null,null,null,null,{"$f":"IF('náměty na projekční přípravu'!B454=data!$S$2,\"Souvislá údržba\",IF('náměty na projekční přípravu'!B454=data!$S$3,\"Most\",\"-\"))","v":"-"},{"$f":"IF('náměty na projekční přípravu'!B454=data!$S$2,\"Rekonstrukce\",IF('náměty na projekční přípravu'!B454=data!$S$3,\"Propustek\",\"-\"))","v":"-"}]
[null,null,null,null,null,null,null,null,null,null,null,{"$f":"IF('v přípravě a připraveno'!B386=data!$B$2,\"Souvislá údržba\",IF('v přípravě a připraveno'!B386=data!$B$3,\"Most\",\"-\"))","v":"Souvislá údržba"},{"$f":"IF('v přípravě a připraveno'!B386=data!$B$2,\"Rekonstrukce\",IF('v přípravě a připraveno'!B386=data!$B$3,\"Propustek\",\"-\"))","v":"Rekonstrukce"},null,null,null,null,null,null,null,null,null,null,null,null,null,null,null,{"$f":"IF('náměty na projekční přípravu'!B455=data!$S$2,\"Souvislá údržba\",IF('náměty na projekční přípravu'!B455=data!$S$3,\"Most\",\"-\"))","v":"-"},{"$f":"IF('náměty na projekční přípravu'!B455=data!$S$2,\"Rekonstrukce\",IF('náměty na projekční přípravu'!B455=data!$S$3,\"Propustek\",\"-\"))","v":"-"}]
[null,null,null,null,null,null,null,null,null,null,null,{"$f":"IF('v přípravě a připraveno'!B387=data!$B$2,\"Souvislá údržba\",IF('v přípravě a připraveno'!B387=data!$B$3,\"Most\",\"-\"))","v":"Souvislá údržba"},{"$f":"IF('v přípravě a připraveno'!B387=data!$B$2,\"Rekonstrukce\",IF('v přípravě a připraveno'!B387=data!$B$3,\"Propustek\",\"-\"))","v":"Rekonstrukce"},null,null,null,null,null,null,null,null,null,null,null,null,null,null,null,{"$f":"IF('náměty na projekční přípravu'!B456=data!$S$2,\"Souvislá údržba\",IF('náměty na projekční přípravu'!B456=data!$S$3,\"Most\",\"-\"))","v":"-"},{"$f":"IF('náměty na projekční přípravu'!B456=data!$S$2,\"Rekonstrukce\",IF('náměty na projekční přípravu'!B456=data!$S$3,\"Propustek\",\"-\"))","v":"-"}]
[null,null,null,null,null,null,null,null,null,null,null,{"$f":"IF('v přípravě a připraveno'!B388=data!$B$2,\"Souvislá údržba\",IF('v přípravě a připraveno'!B388=data!$B$3,\"Most\",\"-\"))","v":"Souvislá údržba"},{"$f":"IF('v přípravě a připraveno'!B388=data!$B$2,\"Rekonstrukce\",IF('v přípravě a připraveno'!B388=data!$B$3,\"Propustek\",\"-\"))","v":"Rekonstrukce"},null,null,null,null,null,null,null,null,null,null,null,null,null,null,null,{"$f":"IF('náměty na projekční přípravu'!B457=data!$S$2,\"Souvislá údržba\",IF('náměty na projekční přípravu'!B457=data!$S$3,\"Most\",\"-\"))","v":"-"},{"$f":"IF('náměty na projekční přípravu'!B457=data!$S$2,\"Rekonstrukce\",IF('náměty na projekční přípravu'!B457=data!$S$3,\"Propustek\",\"-\"))","v":"-"}]
[null,null,null,null,null,null,null,null,null,null,null,{"$f":"IF('v přípravě a připraveno'!B389=data!$B$2,\"Souvislá údržba\",IF('v přípravě a připraveno'!B389=data!$B$3,\"Most\",\"-\"))","v":"Souvislá údržba"},{"$f":"IF('v přípravě a připraveno'!B389=data!$B$2,\"Rekonstrukce\",IF('v přípravě a připraveno'!B389=data!$B$3,\"Propustek\",\"-\"))","v":"Rekonstrukce"},null,null,null,null,null,null,null,null,null,null,null,null,null,null,null,{"$f":"IF('náměty na projekční přípravu'!B458=data!$S$2,\"Souvislá údržba\",IF('náměty na projekční přípravu'!B458=data!$S$3,\"Most\",\"-\"))","v":"-"},{"$f":"IF('náměty na projekční přípravu'!B458=data!$S$2,\"Rekonstrukce\",IF('náměty na projekční přípravu'!B458=data!$S$3,\"Propustek\",\"-\"))","v":"-"}]
[null,null,null,null,null,null,null,null,null,null,null,{"$f":"IF('v přípravě a připraveno'!B390=data!$B$2,\"Souvislá údržba\",IF('v přípravě a připraveno'!B390=data!$B$3,\"Most\",\"-\"))","v":"Souvislá údržba"},{"$f":"IF('v přípravě a připraveno'!B390=data!$B$2,\"Rekonstrukce\",IF('v přípravě a připraveno'!B390=data!$B$3,\"Propustek\",\"-\"))","v":"Rekonstrukce"},null,null,null,null,null,null,null,null,null,null,null,null,null,null,null,{"$f":"IF('náměty na projekční přípravu'!B459=data!$S$2,\"Souvislá údržba\",IF('náměty na projekční přípravu'!B459=data!$S$3,\"Most\",\"-\"))","v":"-"},{"$f":"IF('náměty na projekční přípravu'!B459=data!$S$2,\"Rekonstrukce\",IF('náměty na projekční přípravu'!B459=data!$S$3,\"Propustek\",\"-\"))","v":"-"}]
[null,null,null,null,null,null,null,null,null,null,null,{"$f":"IF('v přípravě a připraveno'!#REF!=data!$B$2,\"Souvislá údržba\",IF('v přípravě a připraveno'!#REF!=data!$B$3,\"Most\",\"-\"))","v":{"$error":"#REF!"}},{"$f":"IF('v přípravě a připraveno'!#REF!=data!$B$2,\"Rekonstrukce\",IF('v přípravě a připraveno'!#REF!=data!$B$3,\"Propustek\",\"-\"))","v":{"$error":"#REF!"}},null,null,null,null,null,null,null,null,null,null,null,null,null,null,null,{"$f":"IF('náměty na projekční přípravu'!B460=data!$S$2,\"Souvislá údržba\",IF('náměty na projekční přípravu'!B460=data!$S$3,\"Most\",\"-\"))","v":"-"},{"$f":"IF('náměty na projekční přípravu'!B460=data!$S$2,\"Rekonstrukce\",IF('náměty na projekční přípravu'!B460=data!$S$3,\"Propustek\",\"-\"))","v":"-"}]
[null,null,null,null,null,null,null,null,null,null,null,{"$f":"IF('v přípravě a připraveno'!B391=data!$B$2,\"Souvislá údržba\",IF('v přípravě a připraveno'!B391=data!$B$3,\"Most\",\"-\"))","v":"Souvislá údržba"},{"$f":"IF('v přípravě a připraveno'!B391=data!$B$2,\"Rekonstrukce\",IF('v přípravě a připraveno'!B391=data!$B$3,\"Propustek\",\"-\"))","v":"Rekonstrukce"},null,null,null,null,null,null,null,null,null,null,null,null,null,null,null,{"$f":"IF('náměty na projekční přípravu'!B461=data!$S$2,\"Souvislá údržba\",IF('náměty na projekční přípravu'!B461=data!$S$3,\"Most\",\"-\"))","v":"-"},{"$f":"IF('náměty na projekční přípravu'!B461=data!$S$2,\"Rekonstrukce\",IF('náměty na projekční přípravu'!B461=data!$S$3,\"Propustek\",\"-\"))","v":"-"}]
[null,null,null,null,null,null,null,null,null,null,null,{"$f":"IF('v přípravě a připraveno'!#REF!=data!$B$2,\"Souvislá údržba\",IF('v přípravě a připraveno'!#REF!=data!$B$3,\"Most\",\"-\"))","v":{"$error":"#REF!"}},{"$f":"IF('v přípravě a připraveno'!#REF!=data!$B$2,\"Rekonstrukce\",IF('v přípravě a připraveno'!#REF!=data!$B$3,\"Propustek\",\"-\"))","v":{"$error":"#REF!"}},null,null,null,null,null,null,null,null,null,null,null,null,null,null,null,{"$f":"IF('náměty na projekční přípravu'!B462=data!$S$2,\"Souvislá údržba\",IF('náměty na projekční přípravu'!B462=data!$S$3,\"Most\",\"-\"))","v":"-"},{"$f":"IF('náměty na projekční přípravu'!B462=data!$S$2,\"Rekonstrukce\",IF('náměty na projekční přípravu'!B462=data!$S$3,\"Propustek\",\"-\"))","v":"-"}]
[null,null,null,null,null,null,null,null,null,null,null,{"$f":"IF('v přípravě a připraveno'!B392=data!$B$2,\"Souvislá údržba\",IF('v přípravě a připraveno'!B392=data!$B$3,\"Most\",\"-\"))","v":"Souvislá údržba"},{"$f":"IF('v přípravě a připraveno'!B392=data!$B$2,\"Rekonstrukce\",IF('v přípravě a připraveno'!B392=data!$B$3,\"Propustek\",\"-\"))","v":"Rekonstrukce"},null,null,null,null,null,null,null,null,null,null,null,null,null,null,null,{"$f":"IF('náměty na projekční přípravu'!B463=data!$S$2,\"Souvislá údržba\",IF('náměty na projekční přípravu'!B463=data!$S$3,\"Most\",\"-\"))","v":"-"},{"$f":"IF('náměty na projekční přípravu'!B463=data!$S$2,\"Rekonstrukce\",IF('náměty na projekční přípravu'!B463=data!$S$3,\"Propustek\",\"-\"))","v":"-"}]
[null,null,null,null,null,null,null,null,null,null,null,{"$f":"IF('v přípravě a připraveno'!#REF!=data!$B$2,\"Souvislá údržba\",IF('v přípravě a připraveno'!#REF!=data!$B$3,\"Most\",\"-\"))","v":{"$error":"#REF!"}},{"$f":"IF('v přípravě a připraveno'!#REF!=data!$B$2,\"Rekonstrukce\",IF('v přípravě a připraveno'!#REF!=data!$B$3,\"Propustek\",\"-\"))","v":{"$error":"#REF!"}},null,null,null,null,null,null,null,null,null,null,null,null,null,null,null,{"$f":"IF('náměty na projekční přípravu'!B464=data!$S$2,\"Souvislá údržba\",IF('náměty na projekční přípravu'!B464=data!$S$3,\"Most\",\"-\"))","v":"-"},{"$f":"IF('náměty na projekční přípravu'!B464=data!$S$2,\"Rekonstrukce\",IF('náměty na projekční přípravu'!B464=data!$S$3,\"Propustek\",\"-\"))","v":"-"}]
[null,null,null,null,null,null,null,null,null,null,null,{"$f":"IF('v přípravě a připraveno'!B393=data!$B$2,\"Souvislá údržba\",IF('v přípravě a připraveno'!B393=data!$B$3,\"Most\",\"-\"))","v":"Souvislá údržba"},{"$f":"IF('v přípravě a připraveno'!B393=data!$B$2,\"Rekonstrukce\",IF('v přípravě a připraveno'!B393=data!$B$3,\"Propustek\",\"-\"))","v":"Rekonstrukce"},null,null,null,null,null,null,null,null,null,null,null,null,null,null,null,{"$f":"IF('náměty na projekční přípravu'!B465=data!$S$2,\"Souvislá údržba\",IF('náměty na projekční přípravu'!B465=data!$S$3,\"Most\",\"-\"))","v":"-"},{"$f":"IF('náměty na projekční přípravu'!B465=data!$S$2,\"Rekonstrukce\",IF('náměty na projekční přípravu'!B465=data!$S$3,\"Propustek\",\"-\"))","v":"-"}]
[null,null,null,null,null,null,null,null,null,null,null,{"$f":"IF('v přípravě a připraveno'!B394=data!$B$2,\"Souvislá údržba\",IF('v přípravě a připraveno'!B394=data!$B$3,\"Most\",\"-\"))","v":"Souvislá údržba"},{"$f":"IF('v přípravě a připraveno'!B394=data!$B$2,\"Rekonstrukce\",IF('v přípravě a připraveno'!B394=data!$B$3,\"Propustek\",\"-\"))","v":"Rekonstrukce"},null,null,null,null,null,null,null,null,null,null,null,null,null,null,null,{"$f":"IF('náměty na projekční přípravu'!B466=data!$S$2,\"Souvislá údržba\",IF('náměty na projekční přípravu'!B466=data!$S$3,\"Most\",\"-\"))","v":"-"},{"$f":"IF('náměty na projekční přípravu'!B466=data!$S$2,\"Rekonstrukce\",IF('náměty na projekční přípravu'!B466=data!$S$3,\"Propustek\",\"-\"))","v":"-"}]
[null,null,null,null,null,null,null,null,null,null,null,{"$f":"IF('v přípravě a připraveno'!B395=data!$B$2,\"Souvislá údržba\",IF('v přípravě a připraveno'!B395=data!$B$3,\"Most\",\"-\"))","v":"Most"},{"$f":"IF('v přípravě a připraveno'!B395=data!$B$2,\"Rekonstrukce\",IF('v přípravě a připraveno'!B395=data!$B$3,\"Propustek\",\"-\"))","v":"Propustek"},null,null,null,null,null,null,null,null,null,null,null,null,null,null,null,{"$f":"IF('náměty na projekční přípravu'!B467=data!$S$2,\"Souvislá údržba\",IF('náměty na projekční přípravu'!B467=data!$S$3,\"Most\",\"-\"))","v":"-"},{"$f":"IF('náměty na projekční přípravu'!B467=data!$S$2,\"Rekonstrukce\",IF('náměty na projekční přípravu'!B467=data!$S$3,\"Propustek\",\"-\"))","v":"-"}]
[null,null,null,null,null,null,null,null,null,null,null,{"$f":"IF('v přípravě a připraveno'!B396=data!$B$2,\"Souvislá údržba\",IF('v přípravě a připraveno'!B396=data!$B$3,\"Most\",\"-\"))","v":"-"},{"$f":"IF('v přípravě a připraveno'!B396=data!$B$2,\"Rekonstrukce\",IF('v přípravě a připraveno'!B396=data!$B$3,\"Propustek\",\"-\"))","v":"-"},null,null,null,null,null,null,null,null,null,null,null,null,null,null,null,{"$f":"IF('náměty na projekční přípravu'!B468=data!$S$2,\"Souvislá údržba\",IF('náměty na projekční přípravu'!B468=data!$S$3,\"Most\",\"-\"))","v":"-"},{"$f":"IF('náměty na projekční přípravu'!B468=data!$S$2,\"Rekonstrukce\",IF('náměty na projekční přípravu'!B468=data!$S$3,\"Propustek\",\"-\"))","v":"-"}]
[null,null,null,null,null,null,null,null,null,null,null,{"$f":"IF('v přípravě a připraveno'!B397=data!$B$2,\"Souvislá údržba\",IF('v přípravě a připraveno'!B397=data!$B$3,\"Most\",\"-\"))","v":"Souvislá údržba"},{"$f":"IF('v přípravě a připraveno'!B397=data!$B$2,\"Rekonstrukce\",IF('v přípravě a připraveno'!B397=data!$B$3,\"Propustek\",\"-\"))","v":"Rekonstrukce"},null,null,null,null,null,null,null,null,null,null,null,null,null,null,null,{"$f":"IF('náměty na projekční přípravu'!B469=data!$S$2,\"Souvislá údržba\",IF('náměty na projekční přípravu'!B469=data!$S$3,\"Most\",\"-\"))","v":"-"},{"$f":"IF('náměty na projekční přípravu'!B469=data!$S$2,\"Rekonstrukce\",IF('náměty na projekční přípravu'!B469=data!$S$3,\"Propustek\",\"-\"))","v":"-"}]
[null,null,null,null,null,null,null,null,null,null,null,{"$f":"IF('v přípravě a připraveno'!B398=data!$B$2,\"Souvislá údržba\",IF('v přípravě a připraveno'!B398=data!$B$3,\"Most\",\"-\"))","v":"Souvislá údržba"},{"$f":"IF('v přípravě a připraveno'!B398=data!$B$2,\"Rekonstrukce\",IF('v přípravě a připraveno'!B398=data!$B$3,\"Propustek\",\"-\"))","v":"Rekonstrukce"},null,null,null,null,null,null,null,null,null,null,null,null,null,null,null,{"$f":"IF('náměty na projekční přípravu'!B470=data!$S$2,\"Souvislá údržba\",IF('náměty na projekční přípravu'!B470=data!$S$3,\"Most\",\"-\"))","v":"-"},{"$f":"IF('náměty na projekční přípravu'!B470=data!$S$2,\"Rekonstrukce\",IF('náměty na projekční přípravu'!B470=data!$S$3,\"Propustek\",\"-\"))","v":"-"}]
[null,null,null,null,null,null,null,null,null,null,null,{"$f":"IF('v přípravě a připraveno'!B399=data!$B$2,\"Souvislá údržba\",IF('v přípravě a připraveno'!B399=data!$B$3,\"Most\",\"-\"))","v":"Souvislá údržba"},{"$f":"IF('v přípravě a připraveno'!B399=data!$B$2,\"Rekonstrukce\",IF('v přípravě a připraveno'!B399=data!$B$3,\"Propustek\",\"-\"))","v":"Rekonstrukce"},null,null,null,null,null,null,null,null,null,null,null,null,null,null,null,{"$f":"IF('náměty na projekční přípravu'!B471=data!$S$2,\"Souvislá údržba\",IF('náměty na projekční přípravu'!B471=data!$S$3,\"Most\",\"-\"))","v":"-"},{"$f":"IF('náměty na projekční přípravu'!B471=data!$S$2,\"Rekonstrukce\",IF('náměty na projekční přípravu'!B471=data!$S$3,\"Propustek\",\"-\"))","v":"-"}]
[null,null,null,null,null,null,null,null,null,null,null,{"$f":"IF('v přípravě a připraveno'!#REF!=data!$B$2,\"Souvislá údržba\",IF('v přípravě a připraveno'!#REF!=data!$B$3,\"Most\",\"-\"))","v":{"$error":"#REF!"}},{"$f":"IF('v přípravě a připraveno'!#REF!=data!$B$2,\"Rekonstrukce\",IF('v přípravě a připraveno'!#REF!=data!$B$3,\"Propustek\",\"-\"))","v":{"$error":"#REF!"}},null,null,null,null,null,null,null,null,null,null,null,null,null,null,null,{"$f":"IF('náměty na projekční přípravu'!B472=data!$S$2,\"Souvislá údržba\",IF('náměty na projekční přípravu'!B472=data!$S$3,\"Most\",\"-\"))","v":"-"},{"$f":"IF('náměty na projekční přípravu'!B472=data!$S$2,\"Rekonstrukce\",IF('náměty na projekční přípravu'!B472=data!$S$3,\"Propustek\",\"-\"))","v":"-"}]
[null,null,null,null,null,null,null,null,null,null,null,{"$f":"IF('v přípravě a připraveno'!B400=data!$B$2,\"Souvislá údržba\",IF('v přípravě a připraveno'!B400=data!$B$3,\"Most\",\"-\"))","v":"-"},{"$f":"IF('v přípravě a připraveno'!B400=data!$B$2,\"Rekonstrukce\",IF('v přípravě a připraveno'!B400=data!$B$3,\"Propustek\",\"-\"))","v":"-"},null,null,null,null,null,null,null,null,null,null,null,null,null,null,null,{"$f":"IF('náměty na projekční přípravu'!B473=data!$S$2,\"Souvislá údržba\",IF('náměty na projekční přípravu'!B473=data!$S$3,\"Most\",\"-\"))","v":"-"},{"$f":"IF('náměty na projekční přípravu'!B473=data!$S$2,\"Rekonstrukce\",IF('náměty na projekční přípravu'!B473=data!$S$3,\"Propustek\",\"-\"))","v":"-"}]
[null,null,null,null,null,null,null,null,null,null,null,{"$f":"IF('v přípravě a připraveno'!#REF!=data!$B$2,\"Souvislá údržba\",IF('v přípravě a připraveno'!#REF!=data!$B$3,\"Most\",\"-\"))","v":{"$error":"#REF!"}},{"$f":"IF('v přípravě a připraveno'!#REF!=data!$B$2,\"Rekonstrukce\",IF('v přípravě a připraveno'!#REF!=data!$B$3,\"Propustek\",\"-\"))","v":{"$error":"#REF!"}},null,null,null,null,null,null,null,null,null,null,null,null,null,null,null,{"$f":"IF('náměty na projekční přípravu'!B474=data!$S$2,\"Souvislá údržba\",IF('náměty na projekční přípravu'!B474=data!$S$3,\"Most\",\"-\"))","v":"-"},{"$f":"IF('náměty na projekční přípravu'!B474=data!$S$2,\"Rekonstrukce\",IF('náměty na projekční přípravu'!B474=data!$S$3,\"Propustek\",\"-\"))","v":"-"}]
[null,null,null,null,null,null,null,null,null,null,null,{"$f":"IF('v přípravě a připraveno'!#REF!=data!$B$2,\"Souvislá údržba\",IF('v přípravě a připraveno'!#REF!=data!$B$3,\"Most\",\"-\"))","v":{"$error":"#REF!"}},{"$f":"IF('v přípravě a připraveno'!#REF!=data!$B$2,\"Rekonstrukce\",IF('v přípravě a připraveno'!#REF!=data!$B$3,\"Propustek\",\"-\"))","v":{"$error":"#REF!"}},null,null,null,null,null,null,null,null,null,null,null,null,null,null,null,{"$f":"IF('náměty na projekční přípravu'!B475=data!$S$2,\"Souvislá údržba\",IF('náměty na projekční přípravu'!B475=data!$S$3,\"Most\",\"-\"))","v":"-"},{"$f":"IF('náměty na projekční přípravu'!B475=data!$S$2,\"Rekonstrukce\",IF('náměty na projekční přípravu'!B475=data!$S$3,\"Propustek\",\"-\"))","v":"-"}]
[null,null,null,null,null,null,null,null,null,null,null,{"$f":"IF('v přípravě a připraveno'!#REF!=data!$B$2,\"Souvislá údržba\",IF('v přípravě a připraveno'!#REF!=data!$B$3,\"Most\",\"-\"))","v":{"$error":"#REF!"}},{"$f":"IF('v přípravě a připraveno'!#REF!=data!$B$2,\"Rekonstrukce\",IF('v přípravě a připraveno'!#REF!=data!$B$3,\"Propustek\",\"-\"))","v":{"$error":"#REF!"}},null,null,null,null,null,null,null,null,null,null,null,null,null,null,null,{"$f":"IF('náměty na projekční přípravu'!B476=data!$S$2,\"Souvislá údržba\",IF('náměty na projekční přípravu'!B476=data!$S$3,\"Most\",\"-\"))","v":"-"},{"$f":"IF('náměty na projekční přípravu'!B476=data!$S$2,\"Rekonstrukce\",IF('náměty na projekční přípravu'!B476=data!$S$3,\"Propustek\",\"-\"))","v":"-"}]
[null,null,null,null,null,null,null,null,null,null,null,{"$f":"IF('v přípravě a připraveno'!B401=data!$B$2,\"Souvislá údržba\",IF('v přípravě a připraveno'!B401=data!$B$3,\"Most\",\"-\"))","v":"-"},{"$f":"IF('v přípravě a připraveno'!B401=data!$B$2,\"Rekonstrukce\",IF('v přípravě a připraveno'!B401=data!$B$3,\"Propustek\",\"-\"))","v":"-"},null,null,null,null,null,null,null,null,null,null,null,null,null,null,null,{"$f":"IF('náměty na projekční přípravu'!B477=data!$S$2,\"Souvislá údržba\",IF('náměty na projekční přípravu'!B477=data!$S$3,\"Most\",\"-\"))","v":"-"},{"$f":"IF('náměty na projekční přípravu'!B477=data!$S$2,\"Rekonstrukce\",IF('náměty na projekční přípravu'!B477=data!$S$3,\"Propustek\",\"-\"))","v":"-"}]
[null,null,null,null,null,null,null,null,null,null,null,{"$f":"IF('v přípravě a připraveno'!B402=data!$B$2,\"Souvislá údržba\",IF('v přípravě a připraveno'!B402=data!$B$3,\"Most\",\"-\"))","v":"Souvislá údržba"},{"$f":"IF('v přípravě a připraveno'!B402=data!$B$2,\"Rekonstrukce\",IF('v přípravě a připraveno'!B402=data!$B$3,\"Propustek\",\"-\"))","v":"Rekonstrukce"},null,null,null,null,null,null,null,null,null,null,null,null,null,null,null,{"$f":"IF('náměty na projekční přípravu'!B478=data!$S$2,\"Souvislá údržba\",IF('náměty na projekční přípravu'!B478=data!$S$3,\"Most\",\"-\"))","v":"-"},{"$f":"IF('náměty na projekční přípravu'!B478=data!$S$2,\"Rekonstrukce\",IF('náměty na projekční přípravu'!B478=data!$S$3,\"Propustek\",\"-\"))","v":"-"}]
[null,null,null,null,null,null,null,null,null,null,null,{"$f":"IF('v přípravě a připraveno'!B403=data!$B$2,\"Souvislá údržba\",IF('v přípravě a připraveno'!B403=data!$B$3,\"Most\",\"-\"))","v":"Souvislá údržba"},{"$f":"IF('v přípravě a připraveno'!B403=data!$B$2,\"Rekonstrukce\",IF('v přípravě a připraveno'!B403=data!$B$3,\"Propustek\",\"-\"))","v":"Rekonstrukce"},null,null,null,null,null,null,null,null,null,null,null,null,null,null,null,{"$f":"IF('náměty na projekční přípravu'!B479=data!$S$2,\"Souvislá údržba\",IF('náměty na projekční přípravu'!B479=data!$S$3,\"Most\",\"-\"))","v":"-"},{"$f":"IF('náměty na projekční přípravu'!B479=data!$S$2,\"Rekonstrukce\",IF('náměty na projekční přípravu'!B479=data!$S$3,\"Propustek\",\"-\"))","v":"-"}]
[null,null,null,null,null,null,null,null,null,null,null,{"$f":"IF('v přípravě a připraveno'!B404=data!$B$2,\"Souvislá údržba\",IF('v přípravě a připraveno'!B404=data!$B$3,\"Most\",\"-\"))","v":"Souvislá údržba"},{"$f":"IF('v přípravě a připraveno'!B404=data!$B$2,\"Rekonstrukce\",IF('v přípravě a připraveno'!B404=data!$B$3,\"Propustek\",\"-\"))","v":"Rekonstrukce"},null,null,null,null,null,null,null,null,null,null,null,null,null,null,null,{"$f":"IF('náměty na projekční přípravu'!B480=data!$S$2,\"Souvislá údržba\",IF('náměty na projekční přípravu'!B480=data!$S$3,\"Most\",\"-\"))","v":"-"},{"$f":"IF('náměty na projekční přípravu'!B480=data!$S$2,\"Rekonstrukce\",IF('náměty na projekční přípravu'!B480=data!$S$3,\"Propustek\",\"-\"))","v":"-"}]
[null,null,null,null,null,null,null,null,null,null,null,{"$f":"IF('v přípravě a připraveno'!#REF!=data!$B$2,\"Souvislá údržba\",IF('v přípravě a připraveno'!#REF!=data!$B$3,\"Most\",\"-\"))","v":{"$error":"#REF!"}},{"$f":"IF('v přípravě a připraveno'!#REF!=data!$B$2,\"Rekonstrukce\",IF('v přípravě a připraveno'!#REF!=data!$B$3,\"Propustek\",\"-\"))","v":{"$error":"#REF!"}},null,null,null,null,null,null,null,null,null,null,null,null,null,null,null,{"$f":"IF('náměty na projekční přípravu'!B481=data!$S$2,\"Souvislá údržba\",IF('náměty na projekční přípravu'!B481=data!$S$3,\"Most\",\"-\"))","v":"-"},{"$f":"IF('náměty na projekční přípravu'!B481=data!$S$2,\"Rekonstrukce\",IF('náměty na projekční přípravu'!B481=data!$S$3,\"Propustek\",\"-\"))","v":"-"}]
[null,null,null,null,null,null,null,null,null,null,null,{"$f":"IF('v přípravě a připraveno'!B405=data!$B$2,\"Souvislá údržba\",IF('v přípravě a připraveno'!B405=data!$B$3,\"Most\",\"-\"))","v":"Souvislá údržba"},{"$f":"IF('v přípravě a připraveno'!B405=data!$B$2,\"Rekonstrukce\",IF('v přípravě a připraveno'!B405=data!$B$3,\"Propustek\",\"-\"))","v":"Rekonstrukce"},null,null,null,null,null,null,null,null,null,null,null,null,null,null,null,{"$f":"IF('náměty na projekční přípravu'!B482=data!$S$2,\"Souvislá údržba\",IF('náměty na projekční přípravu'!B482=data!$S$3,\"Most\",\"-\"))","v":"-"},{"$f":"IF('náměty na projekční přípravu'!B482=data!$S$2,\"Rekonstrukce\",IF('náměty na projekční přípravu'!B482=data!$S$3,\"Propustek\",\"-\"))","v":"-"}]
[null,null,null,null,null,null,null,null,null,null,null,{"$f":"IF('v přípravě a připraveno'!B406=data!$B$2,\"Souvislá údržba\",IF('v přípravě a připraveno'!B406=data!$B$3,\"Most\",\"-\"))","v":"-"},{"$f":"IF('v přípravě a připraveno'!B406=data!$B$2,\"Rekonstrukce\",IF('v přípravě a připraveno'!B406=data!$B$3,\"Propustek\",\"-\"))","v":"-"},null,null,null,null,null,null,null,null,null,null,null,null,null,null,null,{"$f":"IF('náměty na projekční přípravu'!B483=data!$S$2,\"Souvislá údržba\",IF('náměty na projekční přípravu'!B483=data!$S$3,\"Most\",\"-\"))","v":"-"},{"$f":"IF('náměty na projekční přípravu'!B483=data!$S$2,\"Rekonstrukce\",IF('náměty na projekční přípravu'!B483=data!$S$3,\"Propustek\",\"-\"))","v":"-"}]
[null,null,null,null,null,null,null,null,null,null,null,{"$f":"IF('v přípravě a připraveno'!B407=data!$B$2,\"Souvislá údržba\",IF('v přípravě a připraveno'!B407=data!$B$3,\"Most\",\"-\"))","v":"-"},{"$f":"IF('v přípravě a připraveno'!B407=data!$B$2,\"Rekonstrukce\",IF('v přípravě a připraveno'!B407=data!$B$3,\"Propustek\",\"-\"))","v":"-"},null,null,null,null,null,null,null,null,null,null,null,null,null,null,null,{"$f":"IF('náměty na projekční přípravu'!B484=data!$S$2,\"Souvislá údržba\",IF('náměty na projekční přípravu'!B484=data!$S$3,\"Most\",\"-\"))","v":"-"},{"$f":"IF('náměty na projekční přípravu'!B484=data!$S$2,\"Rekonstrukce\",IF('náměty na projekční přípravu'!B484=data!$S$3,\"Propustek\",\"-\"))","v":"-"}]
[null,null,null,null,null,null,null,null,null,null,null,{"$f":"IF('v přípravě a připraveno'!B408=data!$B$2,\"Souvislá údržba\",IF('v přípravě a připraveno'!B408=data!$B$3,\"Most\",\"-\"))","v":"-"},{"$f":"IF('v přípravě a připraveno'!B408=data!$B$2,\"Rekonstrukce\",IF('v přípravě a připraveno'!B408=data!$B$3,\"Propustek\",\"-\"))","v":"-"},null,null,null,null,null,null,null,null,null,null,null,null,null,null,null,{"$f":"IF('náměty na projekční přípravu'!B485=data!$S$2,\"Souvislá údržba\",IF('náměty na projekční přípravu'!B485=data!$S$3,\"Most\",\"-\"))","v":"-"},{"$f":"IF('náměty na projekční přípravu'!B485=data!$S$2,\"Rekonstrukce\",IF('náměty na projekční přípravu'!B485=data!$S$3,\"Propustek\",\"-\"))","v":"-"}]
[null,null,null,null,null,null,null,null,null,null,null,{"$f":"IF('v přípravě a připraveno'!#REF!=data!$B$2,\"Souvislá údržba\",IF('v přípravě a připraveno'!#REF!=data!$B$3,\"Most\",\"-\"))","v":{"$error":"#REF!"}},{"$f":"IF('v přípravě a připraveno'!#REF!=data!$B$2,\"Rekonstrukce\",IF('v přípravě a připraveno'!#REF!=data!$B$3,\"Propustek\",\"-\"))","v":{"$error":"#REF!"}},null,null,null,null,null,null,null,null,null,null,null,null,null,null,null,{"$f":"IF('náměty na projekční přípravu'!B486=data!$S$2,\"Souvislá údržba\",IF('náměty na projekční přípravu'!B486=data!$S$3,\"Most\",\"-\"))","v":"-"},{"$f":"IF('náměty na projekční přípravu'!B486=data!$S$2,\"Rekonstrukce\",IF('náměty na projekční přípravu'!B486=data!$S$3,\"Propustek\",\"-\"))","v":"-"}]
[null,null,null,null,null,null,null,null,null,null,null,{"$f":"IF('v přípravě a připraveno'!B409=data!$B$2,\"Souvislá údržba\",IF('v přípravě a připraveno'!B409=data!$B$3,\"Most\",\"-\"))","v":"-"},{"$f":"IF('v přípravě a připraveno'!B409=data!$B$2,\"Rekonstrukce\",IF('v přípravě a připraveno'!B409=data!$B$3,\"Propustek\",\"-\"))","v":"-"},null,null,null,null,null,null,null,null,null,null,null,null,null,null,null,{"$f":"IF('náměty na projekční přípravu'!B487=data!$S$2,\"Souvislá údržba\",IF('náměty na projekční přípravu'!B487=data!$S$3,\"Most\",\"-\"))","v":"-"},{"$f":"IF('náměty na projekční přípravu'!B487=data!$S$2,\"Rekonstrukce\",IF('náměty na projekční přípravu'!B487=data!$S$3,\"Propustek\",\"-\"))","v":"-"}]
[null,null,null,null,null,null,null,null,null,null,null,{"$f":"IF('v přípravě a připraveno'!B410=data!$B$2,\"Souvislá údržba\",IF('v přípravě a připraveno'!B410=data!$B$3,\"Most\",\"-\"))","v":"Souvislá údržba"},{"$f":"IF('v přípravě a připraveno'!B410=data!$B$2,\"Rekonstrukce\",IF('v přípravě a připraveno'!B410=data!$B$3,\"Propustek\",\"-\"))","v":"Rekonstrukce"},null,null,null,null,null,null,null,null,null,null,null,null,null,null,null,{"$f":"IF('náměty na projekční přípravu'!B488=data!$S$2,\"Souvislá údržba\",IF('náměty na projekční přípravu'!B488=data!$S$3,\"Most\",\"-\"))","v":"-"},{"$f":"IF('náměty na projekční přípravu'!B488=data!$S$2,\"Rekonstrukce\",IF('náměty na projekční přípravu'!B488=data!$S$3,\"Propustek\",\"-\"))","v":"-"}]
[null,null,null,null,null,null,null,null,null,null,null,{"$f":"IF('v přípravě a připraveno'!B411=data!$B$2,\"Souvislá údržba\",IF('v přípravě a připraveno'!B411=data!$B$3,\"Most\",\"-\"))","v":"Souvislá údržba"},{"$f":"IF('v přípravě a připraveno'!B411=data!$B$2,\"Rekonstrukce\",IF('v přípravě a připraveno'!B411=data!$B$3,\"Propustek\",\"-\"))","v":"Rekonstrukce"},null,null,null,null,null,null,null,null,null,null,null,null,null,null,null,{"$f":"IF('náměty na projekční přípravu'!B489=data!$S$2,\"Souvislá údržba\",IF('náměty na projekční přípravu'!B489=data!$S$3,\"Most\",\"-\"))","v":"-"},{"$f":"IF('náměty na projekční přípravu'!B489=data!$S$2,\"Rekonstrukce\",IF('náměty na projekční přípravu'!B489=data!$S$3,\"Propustek\",\"-\"))","v":"-"}]
[null,null,null,null,null,null,null,null,null,null,null,{"$f":"IF('v přípravě a připraveno'!B412=data!$B$2,\"Souvislá údržba\",IF('v přípravě a připraveno'!B412=data!$B$3,\"Most\",\"-\"))","v":"-"},{"$f":"IF('v přípravě a připraveno'!B412=data!$B$2,\"Rekonstrukce\",IF('v přípravě a připraveno'!B412=data!$B$3,\"Propustek\",\"-\"))","v":"-"},null,null,null,null,null,null,null,null,null,null,null,null,null,null,null,{"$f":"IF('náměty na projekční přípravu'!B490=data!$S$2,\"Souvislá údržba\",IF('náměty na projekční přípravu'!B490=data!$S$3,\"Most\",\"-\"))","v":"-"},{"$f":"IF('náměty na projekční přípravu'!B490=data!$S$2,\"Rekonstrukce\",IF('náměty na projekční přípravu'!B490=data!$S$3,\"Propustek\",\"-\"))","v":"-"}]
[null,null,null,null,null,null,null,null,null,null,null,{"$f":"IF('v přípravě a připraveno'!B413=data!$B$2,\"Souvislá údržba\",IF('v přípravě a připraveno'!B413=data!$B$3,\"Most\",\"-\"))","v":"-"},{"$f":"IF('v přípravě a připraveno'!B413=data!$B$2,\"Rekonstrukce\",IF('v přípravě a připraveno'!B413=data!$B$3,\"Propustek\",\"-\"))","v":"-"},null,null,null,null,null,null,null,null,null,null,null,null,null,null,null,{"$f":"IF('náměty na projekční přípravu'!B491=data!$S$2,\"Souvislá údržba\",IF('náměty na projekční přípravu'!B491=data!$S$3,\"Most\",\"-\"))","v":"-"},{"$f":"IF('náměty na projekční přípravu'!B491=data!$S$2,\"Rekonstrukce\",IF('náměty na projekční přípravu'!B491=data!$S$3,\"Propustek\",\"-\"))","v":"-"}]
[null,null,null,null,null,null,null,null,null,null,null,{"$f":"IF('v přípravě a připraveno'!B414=data!$B$2,\"Souvislá údržba\",IF('v přípravě a připraveno'!B414=data!$B$3,\"Most\",\"-\"))","v":"Most"},{"$f":"IF('v přípravě a připraveno'!B414=data!$B$2,\"Rekonstrukce\",IF('v přípravě a připraveno'!B414=data!$B$3,\"Propustek\",\"-\"))","v":"Propustek"},null,null,null,null,null,null,null,null,null,null,null,null,null,null,null,{"$f":"IF('náměty na projekční přípravu'!B492=data!$S$2,\"Souvislá údržba\",IF('náměty na projekční přípravu'!B492=data!$S$3,\"Most\",\"-\"))","v":"-"},{"$f":"IF('náměty na projekční přípravu'!B492=data!$S$2,\"Rekonstrukce\",IF('náměty na projekční přípravu'!B492=data!$S$3,\"Propustek\",\"-\"))","v":"-"}]
[null,null,null,null,null,null,null,null,null,null,null,{"$f":"IF('v přípravě a připraveno'!B415=data!$B$2,\"Souvislá údržba\",IF('v přípravě a připraveno'!B415=data!$B$3,\"Most\",\"-\"))","v":"-"},{"$f":"IF('v přípravě a připraveno'!B415=data!$B$2,\"Rekonstrukce\",IF('v přípravě a připraveno'!B415=data!$B$3,\"Propustek\",\"-\"))","v":"-"},null,null,null,null,null,null,null,null,null,null,null,null,null,null,null,{"$f":"IF('náměty na projekční přípravu'!B493=data!$S$2,\"Souvislá údržba\",IF('náměty na projekční přípravu'!B493=data!$S$3,\"Most\",\"-\"))","v":"-"},{"$f":"IF('náměty na projekční přípravu'!B493=data!$S$2,\"Rekonstrukce\",IF('náměty na projekční přípravu'!B493=data!$S$3,\"Propustek\",\"-\"))","v":"-"}]
[null,null,null,null,null,null,null,null,null,null,null,{"$f":"IF('v přípravě a připraveno'!B416=data!$B$2,\"Souvislá údržba\",IF('v přípravě a připraveno'!B416=data!$B$3,\"Most\",\"-\"))","v":"Souvislá údržba"},{"$f":"IF('v přípravě a připraveno'!B416=data!$B$2,\"Rekonstrukce\",IF('v přípravě a připraveno'!B416=data!$B$3,\"Propustek\",\"-\"))","v":"Rekonstrukce"},null,null,null,null,null,null,null,null,null,null,null,null,null,null,null,{"$f":"IF('náměty na projekční přípravu'!B494=data!$S$2,\"Souvislá údržba\",IF('náměty na projekční přípravu'!B494=data!$S$3,\"Most\",\"-\"))","v":"-"},{"$f":"IF('náměty na projekční přípravu'!B494=data!$S$2,\"Rekonstrukce\",IF('náměty na projekční přípravu'!B494=data!$S$3,\"Propustek\",\"-\"))","v":"-"}]
[null,null,null,null,null,null,null,null,null,null,null,{"$f":"IF('v přípravě a připraveno'!B417=data!$B$2,\"Souvislá údržba\",IF('v přípravě a připraveno'!B417=data!$B$3,\"Most\",\"-\"))","v":"-"},{"$f":"IF('v přípravě a připraveno'!B417=data!$B$2,\"Rekonstrukce\",IF('v přípravě a připraveno'!B417=data!$B$3,\"Propustek\",\"-\"))","v":"-"},null,null,null,null,null,null,null,null,null,null,null,null,null,null,null,{"$f":"IF('náměty na projekční přípravu'!B495=data!$S$2,\"Souvislá údržba\",IF('náměty na projekční přípravu'!B495=data!$S$3,\"Most\",\"-\"))","v":"-"},{"$f":"IF('náměty na projekční přípravu'!B495=data!$S$2,\"Rekonstrukce\",IF('náměty na projekční přípravu'!B495=data!$S$3,\"Propustek\",\"-\"))","v":"-"}]
[null,null,null,null,null,null,null,null,null,null,null,{"$f":"IF('v přípravě a připraveno'!#REF!=data!$B$2,\"Souvislá údržba\",IF('v přípravě a připraveno'!#REF!=data!$B$3,\"Most\",\"-\"))","v":{"$error":"#REF!"}},{"$f":"IF('v přípravě a připraveno'!#REF!=data!$B$2,\"Rekonstrukce\",IF('v přípravě a připraveno'!#REF!=data!$B$3,\"Propustek\",\"-\"))","v":{"$error":"#REF!"}},null,null,null,null,null,null,null,null,null,null,null,null,null,null,null,{"$f":"IF('náměty na projekční přípravu'!B496=data!$S$2,\"Souvislá údržba\",IF('náměty na projekční přípravu'!B496=data!$S$3,\"Most\",\"-\"))","v":"-"},{"$f":"IF('náměty na projekční přípravu'!B496=data!$S$2,\"Rekonstrukce\",IF('náměty na projekční přípravu'!B496=data!$S$3,\"Propustek\",\"-\"))","v":"-"}]
[null,null,null,null,null,null,null,null,null,null,null,{"$f":"IF('v přípravě a připraveno'!B418=data!$B$2,\"Souvislá údržba\",IF('v přípravě a připraveno'!B418=data!$B$3,\"Most\",\"-\"))","v":"Souvislá údržba"},{"$f":"IF('v přípravě a připraveno'!B418=data!$B$2,\"Rekonstrukce\",IF('v přípravě a připraveno'!B418=data!$B$3,\"Propustek\",\"-\"))","v":"Rekonstrukce"},null,null,null,null,null,null,null,null,null,null,null,null,null,null,null,{"$f":"IF('náměty na projekční přípravu'!B497=data!$S$2,\"Souvislá údržba\",IF('náměty na projekční přípravu'!B497=data!$S$3,\"Most\",\"-\"))","v":"-"},{"$f":"IF('náměty na projekční přípravu'!B497=data!$S$2,\"Rekonstrukce\",IF('náměty na projekční přípravu'!B497=data!$S$3,\"Propustek\",\"-\"))","v":"-"}]
[null,null,null,null,null,null,null,null,null,null,null,{"$f":"IF('v přípravě a připraveno'!#REF!=data!$B$2,\"Souvislá údržba\",IF('v přípravě a připraveno'!#REF!=data!$B$3,\"Most\",\"-\"))","v":{"$error":"#REF!"}},{"$f":"IF('v přípravě a připraveno'!#REF!=data!$B$2,\"Rekonstrukce\",IF('v přípravě a připraveno'!#REF!=data!$B$3,\"Propustek\",\"-\"))","v":{"$error":"#REF!"}},null,null,null,null,null,null,null,null,null,null,null,null,null,null,null,{"$f":"IF('náměty na projekční přípravu'!B498=data!$S$2,\"Souvislá údržba\",IF('náměty na projekční přípravu'!B498=data!$S$3,\"Most\",\"-\"))","v":"-"},{"$f":"IF('náměty na projekční přípravu'!B498=data!$S$2,\"Rekonstrukce\",IF('náměty na projekční přípravu'!B498=data!$S$3,\"Propustek\",\"-\"))","v":"-"}]
[null,null,null,null,null,null,null,null,null,null,null,{"$f":"IF('v přípravě a připraveno'!#REF!=data!$B$2,\"Souvislá údržba\",IF('v přípravě a připraveno'!#REF!=data!$B$3,\"Most\",\"-\"))","v":{"$error":"#REF!"}},{"$f":"IF('v přípravě a připraveno'!#REF!=data!$B$2,\"Rekonstrukce\",IF('v přípravě a připraveno'!#REF!=data!$B$3,\"Propustek\",\"-\"))","v":{"$error":"#REF!"}},null,null,null,null,null,null,null,null,null,null,null,null,null,null,null,{"$f":"IF('náměty na projekční přípravu'!B499=data!$S$2,\"Souvislá údržba\",IF('náměty na projekční přípravu'!B499=data!$S$3,\"Most\",\"-\"))","v":"-"},{"$f":"IF('náměty na projekční přípravu'!B499=data!$S$2,\"Rekonstrukce\",IF('náměty na projekční přípravu'!B499=data!$S$3,\"Propustek\",\"-\"))","v":"-"}]
[null,null,null,null,null,null,null,null,null,null,null,{"$f":"IF('v přípravě a připraveno'!#REF!=data!$B$2,\"Souvislá údržba\",IF('v přípravě a připraveno'!#REF!=data!$B$3,\"Most\",\"-\"))","v":{"$error":"#REF!"}},{"$f":"IF('v přípravě a připraveno'!#REF!=data!$B$2,\"Rekonstrukce\",IF('v přípravě a připraveno'!#REF!=data!$B$3,\"Propustek\",\"-\"))","v":{"$error":"#REF!"}},null,null,null,null,null,null,null,null,null,null,null,null,null,null,null,{"$f":"IF('náměty na projekční přípravu'!B500=data!$S$2,\"Souvislá údržba\",IF('náměty na projekční přípravu'!B500=data!$S$3,\"Most\",\"-\"))","v":"-"},{"$f":"IF('náměty na projekční přípravu'!B500=data!$S$2,\"Rekonstrukce\",IF('náměty na projekční přípravu'!B500=data!$S$3,\"Propustek\",\"-\"))","v":"-"}]
[null,null,null,null,null,null,null,null,null,null,null,{"$f":"IF('v přípravě a připraveno'!#REF!=data!$B$2,\"Souvislá údržba\",IF('v přípravě a připraveno'!#REF!=data!$B$3,\"Most\",\"-\"))","v":{"$error":"#REF!"}},{"$f":"IF('v přípravě a připraveno'!#REF!=data!$B$2,\"Rekonstrukce\",IF('v přípravě a připraveno'!#REF!=data!$B$3,\"Propustek\",\"-\"))","v":{"$error":"#REF!"}},null,null,null,null,null,null,null,null,null,null,null,null,null,null,null,{"$f":"IF('náměty na projekční přípravu'!B501=data!$S$2,\"Souvislá údržba\",IF('náměty na projekční přípravu'!B501=data!$S$3,\"Most\",\"-\"))","v":"-"},{"$f":"IF('náměty na projekční přípravu'!B501=data!$S$2,\"Rekonstrukce\",IF('náměty na projekční přípravu'!B501=data!$S$3,\"Propustek\",\"-\"))","v":"-"}]
[null,null,null,null,null,null,null,null,null,null,null,{"$f":"IF('v přípravě a připraveno'!#REF!=data!$B$2,\"Souvislá údržba\",IF('v přípravě a připraveno'!#REF!=data!$B$3,\"Most\",\"-\"))","v":{"$error":"#REF!"}},{"$f":"IF('v přípravě a připraveno'!#REF!=data!$B$2,\"Rekonstrukce\",IF('v přípravě a připraveno'!#REF!=data!$B$3,\"Propustek\",\"-\"))","v":{"$error":"#REF!"}},null,null,null,null,null,null,null,null,null,null,null,null,null,null,null,{"$f":"IF('náměty na projekční přípravu'!B502=data!$S$2,\"Souvislá údržba\",IF('náměty na projekční přípravu'!B502=data!$S$3,\"Most\",\"-\"))","v":"-"},{"$f":"IF('náměty na projekční přípravu'!B502=data!$S$2,\"Rekonstrukce\",IF('náměty na projekční přípravu'!B502=data!$S$3,\"Propustek\",\"-\"))","v":"-"}]
[null,null,null,null,null,null,null,null,null,null,null,{"$f":"IF('v přípravě a připraveno'!#REF!=data!$B$2,\"Souvislá údržba\",IF('v přípravě a připraveno'!#REF!=data!$B$3,\"Most\",\"-\"))","v":{"$error":"#REF!"}},{"$f":"IF('v přípravě a připraveno'!#REF!=data!$B$2,\"Rekonstrukce\",IF('v přípravě a připraveno'!#REF!=data!$B$3,\"Propustek\",\"-\"))","v":{"$error":"#REF!"}},null,null,null,null,null,null,null,null,null,null,null,null,null,null,null,{"$f":"IF('náměty na projekční přípravu'!B503=data!$S$2,\"Souvislá údržba\",IF('náměty na projekční přípravu'!B503=data!$S$3,\"Most\",\"-\"))","v":"-"},{"$f":"IF('náměty na projekční přípravu'!B503=data!$S$2,\"Rekonstrukce\",IF('náměty na projekční přípravu'!B503=data!$S$3,\"Propustek\",\"-\"))","v":"-"}]
[null,null,null,null,null,null,null,null,null,null,null,{"$f":"IF('v přípravě a připraveno'!#REF!=data!$B$2,\"Souvislá údržba\",IF('v přípravě a připraveno'!#REF!=data!$B$3,\"Most\",\"-\"))","v":{"$error":"#REF!"}},{"$f":"IF('v přípravě a připraveno'!#REF!=data!$B$2,\"Rekonstrukce\",IF('v přípravě a připraveno'!#REF!=data!$B$3,\"Propustek\",\"-\"))","v":{"$error":"#REF!"}},null,null,null,null,null,null,null,null,null,null,null,null,null,null,null,{"$f":"IF('náměty na projekční přípravu'!B504=data!$S$2,\"Souvislá údržba\",IF('náměty na projekční přípravu'!B504=data!$S$3,\"Most\",\"-\"))","v":"-"},{"$f":"IF('náměty na projekční přípravu'!B504=data!$S$2,\"Rekonstrukce\",IF('náměty na projekční přípravu'!B504=data!$S$3,\"Propustek\",\"-\"))","v":"-"}]
[null,null,null,null,null,null,null,null,null,null,null,{"$f":"IF('v přípravě a připraveno'!#REF!=data!$B$2,\"Souvislá údržba\",IF('v přípravě a připraveno'!#REF!=data!$B$3,\"Most\",\"-\"))","v":{"$error":"#REF!"}},{"$f":"IF('v přípravě a připraveno'!#REF!=data!$B$2,\"Rekonstrukce\",IF('v přípravě a připraveno'!#REF!=data!$B$3,\"Propustek\",\"-\"))","v":{"$error":"#REF!"}},null,null,null,null,null,null,null,null,null,null,null,null,null,null,null,{"$f":"IF('náměty na projekční přípravu'!B505=data!$S$2,\"Souvislá údržba\",IF('náměty na projekční přípravu'!B505=data!$S$3,\"Most\",\"-\"))","v":"-"},{"$f":"IF('náměty na projekční přípravu'!B505=data!$S$2,\"Rekonstrukce\",IF('náměty na projekční přípravu'!B505=data!$S$3,\"Propustek\",\"-\"))","v":"-"}]
[null,null,null,null,null,null,null,null,null,null,null,{"$f":"IF('v přípravě a připraveno'!#REF!=data!$B$2,\"Souvislá údržba\",IF('v přípravě a připraveno'!#REF!=data!$B$3,\"Most\",\"-\"))","v":{"$error":"#REF!"}},{"$f":"IF('v přípravě a připraveno'!#REF!=data!$B$2,\"Rekonstrukce\",IF('v přípravě a připraveno'!#REF!=data!$B$3,\"Propustek\",\"-\"))","v":{"$error":"#REF!"}},null,null,null,null,null,null,null,null,null,null,null,null,null,null,null,{"$f":"IF('náměty na projekční přípravu'!B506=data!$S$2,\"Souvislá údržba\",IF('náměty na projekční přípravu'!B506=data!$S$3,\"Most\",\"-\"))","v":"-"},{"$f":"IF('náměty na projekční přípravu'!B506=data!$S$2,\"Rekonstrukce\",IF('náměty na projekční přípravu'!B506=data!$S$3,\"Propustek\",\"-\"))","v":"-"}]
[null,null,null,null,null,null,null,null,null,null,null,{"$f":"IF('v přípravě a připraveno'!#REF!=data!$B$2,\"Souvislá údržba\",IF('v přípravě a připraveno'!#REF!=data!$B$3,\"Most\",\"-\"))","v":{"$error":"#REF!"}},{"$f":"IF('v přípravě a připraveno'!#REF!=data!$B$2,\"Rekonstrukce\",IF('v přípravě a připraveno'!#REF!=data!$B$3,\"Propustek\",\"-\"))","v":{"$error":"#REF!"}},null,null,null,null,null,null,null,null,null,null,null,null,null,null,null,{"$f":"IF('náměty na projekční přípravu'!B507=data!$S$2,\"Souvislá údržba\",IF('náměty na projekční přípravu'!B507=data!$S$3,\"Most\",\"-\"))","v":"-"},{"$f":"IF('náměty na projekční přípravu'!B507=data!$S$2,\"Rekonstrukce\",IF('náměty na projekční přípravu'!B507=data!$S$3,\"Propustek\",\"-\"))","v":"-"}]
[null,null,null,null,null,null,null,null,null,null,null,{"$f":"IF('v přípravě a připraveno'!#REF!=data!$B$2,\"Souvislá údržba\",IF('v přípravě a připraveno'!#REF!=data!$B$3,\"Most\",\"-\"))","v":{"$error":"#REF!"}},{"$f":"IF('v přípravě a připraveno'!#REF!=data!$B$2,\"Rekonstrukce\",IF('v přípravě a připraveno'!#REF!=data!$B$3,\"Propustek\",\"-\"))","v":{"$error":"#REF!"}},null,null,null,null,null,null,null,null,null,null,null,null,null,null,null,{"$f":"IF('náměty na projekční přípravu'!B508=data!$S$2,\"Souvislá údržba\",IF('náměty na projekční přípravu'!B508=data!$S$3,\"Most\",\"-\"))","v":"-"},{"$f":"IF('náměty na projekční přípravu'!B508=data!$S$2,\"Rekonstrukce\",IF('náměty na projekční přípravu'!B508=data!$S$3,\"Propustek\",\"-\"))","v":"-"}]
[null,null,null,null,null,null,null,null,null,null,null,{"$f":"IF('v přípravě a připraveno'!#REF!=data!$B$2,\"Souvislá údržba\",IF('v přípravě a připraveno'!#REF!=data!$B$3,\"Most\",\"-\"))","v":{"$error":"#REF!"}},{"$f":"IF('v přípravě a připraveno'!#REF!=data!$B$2,\"Rekonstrukce\",IF('v přípravě a připraveno'!#REF!=data!$B$3,\"Propustek\",\"-\"))","v":{"$error":"#REF!"}},null,null,null,null,null,null,null,null,null,null,null,null,null,null,null,{"$f":"IF('náměty na projekční přípravu'!B509=data!$S$2,\"Souvislá údržba\",IF('náměty na projekční přípravu'!B509=data!$S$3,\"Most\",\"-\"))","v":"-"},{"$f":"IF('náměty na projekční přípravu'!B509=data!$S$2,\"Rekonstrukce\",IF('náměty na projekční přípravu'!B509=data!$S$3,\"Propustek\",\"-\"))","v":"-"}]
[null,null,null,null,null,null,null,null,null,null,null,{"$f":"IF('v přípravě a připraveno'!#REF!=data!$B$2,\"Souvislá údržba\",IF('v přípravě a připraveno'!#REF!=data!$B$3,\"Most\",\"-\"))","v":{"$error":"#REF!"}},{"$f":"IF('v přípravě a připraveno'!#REF!=data!$B$2,\"Rekonstrukce\",IF('v přípravě a připraveno'!#REF!=data!$B$3,\"Propustek\",\"-\"))","v":{"$error":"#REF!"}},null,null,null,null,null,null,null,null,null,null,null,null,null,null,null,{"$f":"IF('náměty na projekční přípravu'!B510=data!$S$2,\"Souvislá údržba\",IF('náměty na projekční přípravu'!B510=data!$S$3,\"Most\",\"-\"))","v":"-"},{"$f":"IF('náměty na projekční přípravu'!B510=data!$S$2,\"Rekonstrukce\",IF('náměty na projekční přípravu'!B510=data!$S$3,\"Propustek\",\"-\"))","v":"-"}]
[null,null,null,null,null,null,null,null,null,null,null,{"$f":"IF('v přípravě a připraveno'!#REF!=data!$B$2,\"Souvislá údržba\",IF('v přípravě a připraveno'!#REF!=data!$B$3,\"Most\",\"-\"))","v":{"$error":"#REF!"}},{"$f":"IF('v přípravě a připraveno'!#REF!=data!$B$2,\"Rekonstrukce\",IF('v přípravě a připraveno'!#REF!=data!$B$3,\"Propustek\",\"-\"))","v":{"$error":"#REF!"}},null,null,null,null,null,null,null,null,null,null,null,null,null,null,null,{"$f":"IF('náměty na projekční přípravu'!B511=data!$S$2,\"Souvislá údržba\",IF('náměty na projekční přípravu'!B511=data!$S$3,\"Most\",\"-\"))","v":"-"},{"$f":"IF('náměty na projekční přípravu'!B511=data!$S$2,\"Rekonstrukce\",IF('náměty na projekční přípravu'!B511=data!$S$3,\"Propustek\",\"-\"))","v":"-"}]
[null,null,null,null,null,null,null,null,null,null,null,{"$f":"IF('v přípravě a připraveno'!#REF!=data!$B$2,\"Souvislá údržba\",IF('v přípravě a připraveno'!#REF!=data!$B$3,\"Most\",\"-\"))","v":{"$error":"#REF!"}},{"$f":"IF('v přípravě a připraveno'!#REF!=data!$B$2,\"Rekonstrukce\",IF('v přípravě a připraveno'!#REF!=data!$B$3,\"Propustek\",\"-\"))","v":{"$error":"#REF!"}},null,null,null,null,null,null,null,null,null,null,null,null,null,null,null,{"$f":"IF('náměty na projekční přípravu'!B512=data!$S$2,\"Souvislá údržba\",IF('náměty na projekční přípravu'!B512=data!$S$3,\"Most\",\"-\"))","v":"-"},{"$f":"IF('náměty na projekční přípravu'!B512=data!$S$2,\"Rekonstrukce\",IF('náměty na projekční přípravu'!B512=data!$S$3,\"Propustek\",\"-\"))","v":"-"}]
[null,null,null,null,null,null,null,null,null,null,null,{"$f":"IF('v přípravě a připraveno'!#REF!=data!$B$2,\"Souvislá údržba\",IF('v přípravě a připraveno'!#REF!=data!$B$3,\"Most\",\"-\"))","v":{"$error":"#REF!"}},{"$f":"IF('v přípravě a připraveno'!#REF!=data!$B$2,\"Rekonstrukce\",IF('v přípravě a připraveno'!#REF!=data!$B$3,\"Propustek\",\"-\"))","v":{"$error":"#REF!"}},null,null,null,null,null,null,null,null,null,null,null,null,null,null,null,{"$f":"IF('náměty na projekční přípravu'!B513=data!$S$2,\"Souvislá údržba\",IF('náměty na projekční přípravu'!B513=data!$S$3,\"Most\",\"-\"))","v":"-"},{"$f":"IF('náměty na projekční přípravu'!B513=data!$S$2,\"Rekonstrukce\",IF('náměty na projekční přípravu'!B513=data!$S$3,\"Propustek\",\"-\"))","v":"-"}]
[null,null,null,null,null,null,null,null,null,null,null,{"$f":"IF('v přípravě a připraveno'!#REF!=data!$B$2,\"Souvislá údržba\",IF('v přípravě a připraveno'!#REF!=data!$B$3,\"Most\",\"-\"))","v":{"$error":"#REF!"}},{"$f":"IF('v přípravě a připraveno'!#REF!=data!$B$2,\"Rekonstrukce\",IF('v přípravě a připraveno'!#REF!=data!$B$3,\"Propustek\",\"-\"))","v":{"$error":"#REF!"}},null,null,null,null,null,null,null,null,null,null,null,null,null,null,null,{"$f":"IF('náměty na projekční přípravu'!B514=data!$S$2,\"Souvislá údržba\",IF('náměty na projekční přípravu'!B514=data!$S$3,\"Most\",\"-\"))","v":"-"},{"$f":"IF('náměty na projekční přípravu'!B514=data!$S$2,\"Rekonstrukce\",IF('náměty na projekční přípravu'!B514=data!$S$3,\"Propustek\",\"-\"))","v":"-"}]
[null,null,null,null,null,null,null,null,null,null,null,{"$f":"IF('v přípravě a připraveno'!B419=data!$B$2,\"Souvislá údržba\",IF('v přípravě a připraveno'!B419=data!$B$3,\"Most\",\"-\"))","v":"Souvislá údržba"},{"$f":"IF('v přípravě a připraveno'!B419=data!$B$2,\"Rekonstrukce\",IF('v přípravě a připraveno'!B419=data!$B$3,\"Propustek\",\"-\"))","v":"Rekonstrukce"},null,null,null,null,null,null,null,null,null,null,null,null,null,null,null,{"$f":"IF('náměty na projekční přípravu'!B515=data!$S$2,\"Souvislá údržba\",IF('náměty na projekční přípravu'!B515=data!$S$3,\"Most\",\"-\"))","v":"-"},{"$f":"IF('náměty na projekční přípravu'!B515=data!$S$2,\"Rekonstrukce\",IF('náměty na projekční přípravu'!B515=data!$S$3,\"Propustek\",\"-\"))","v":"-"}]
[null,null,null,null,null,null,null,null,null,null,null,{"$f":"IF('v přípravě a připraveno'!B420=data!$B$2,\"Souvislá údržba\",IF('v přípravě a připraveno'!B420=data!$B$3,\"Most\",\"-\"))","v":"Most"},{"$f":"IF('v přípravě a připraveno'!B420=data!$B$2,\"Rekonstrukce\",IF('v přípravě a připraveno'!B420=data!$B$3,\"Propustek\",\"-\"))","v":"Propustek"},null,null,null,null,null,null,null,null,null,null,null,null,null,null,null,{"$f":"IF('náměty na projekční přípravu'!B516=data!$S$2,\"Souvislá údržba\",IF('náměty na projekční přípravu'!B516=data!$S$3,\"Most\",\"-\"))","v":"-"},{"$f":"IF('náměty na projekční přípravu'!B516=data!$S$2,\"Rekonstrukce\",IF('náměty na projekční přípravu'!B516=data!$S$3,\"Propustek\",\"-\"))","v":"-"}]
[null,null,null,null,null,null,null,null,null,null,null,{"$f":"IF('v přípravě a připraveno'!B421=data!$B$2,\"Souvislá údržba\",IF('v přípravě a připraveno'!B421=data!$B$3,\"Most\",\"-\"))","v":"-"},{"$f":"IF('v přípravě a připraveno'!B421=data!$B$2,\"Rekonstrukce\",IF('v přípravě a připraveno'!B421=data!$B$3,\"Propustek\",\"-\"))","v":"-"},null,null,null,null,null,null,null,null,null,null,null,null,null,null,null,{"$f":"IF('náměty na projekční přípravu'!B517=data!$S$2,\"Souvislá údržba\",IF('náměty na projekční přípravu'!B517=data!$S$3,\"Most\",\"-\"))","v":"-"},{"$f":"IF('náměty na projekční přípravu'!B517=data!$S$2,\"Rekonstrukce\",IF('náměty na projekční přípravu'!B517=data!$S$3,\"Propustek\",\"-\"))","v":"-"}]
[null,null,null,null,null,null,null,null,null,null,null,{"$f":"IF('v přípravě a připraveno'!#REF!=data!$B$2,\"Souvislá údržba\",IF('v přípravě a připraveno'!#REF!=data!$B$3,\"Most\",\"-\"))","v":{"$error":"#REF!"}},{"$f":"IF('v přípravě a připraveno'!#REF!=data!$B$2,\"Rekonstrukce\",IF('v přípravě a připraveno'!#REF!=data!$B$3,\"Propustek\",\"-\"))","v":{"$error":"#REF!"}},null,null,null,null,null,null,null,null,null,null,null,null,null,null,null,{"$f":"IF('náměty na projekční přípravu'!B518=data!$S$2,\"Souvislá údržba\",IF('náměty na projekční přípravu'!B518=data!$S$3,\"Most\",\"-\"))","v":"-"},{"$f":"IF('náměty na projekční přípravu'!B518=data!$S$2,\"Rekonstrukce\",IF('náměty na projekční přípravu'!B518=data!$S$3,\"Propustek\",\"-\"))","v":"-"}]
[null,null,null,null,null,null,null,null,null,null,null,{"$f":"IF('v přípravě a připraveno'!B422=data!$B$2,\"Souvislá údržba\",IF('v přípravě a připraveno'!B422=data!$B$3,\"Most\",\"-\"))","v":"Souvislá údržba"},{"$f":"IF('v přípravě a připraveno'!B422=data!$B$2,\"Rekonstrukce\",IF('v přípravě a připraveno'!B422=data!$B$3,\"Propustek\",\"-\"))","v":"Rekonstrukce"},null,null,null,null,null,null,null,null,null,null,null,null,null,null,null,{"$f":"IF('náměty na projekční přípravu'!B519=data!$S$2,\"Souvislá údržba\",IF('náměty na projekční přípravu'!B519=data!$S$3,\"Most\",\"-\"))","v":"-"},{"$f":"IF('náměty na projekční přípravu'!B519=data!$S$2,\"Rekonstrukce\",IF('náměty na projekční přípravu'!B519=data!$S$3,\"Propustek\",\"-\"))","v":"-"}]
[null,null,null,null,null,null,null,null,null,null,null,{"$f":"IF('v přípravě a připraveno'!B423=data!$B$2,\"Souvislá údržba\",IF('v přípravě a připraveno'!B423=data!$B$3,\"Most\",\"-\"))","v":"Souvislá údržba"},{"$f":"IF('v přípravě a připraveno'!B423=data!$B$2,\"Rekonstrukce\",IF('v přípravě a připraveno'!B423=data!$B$3,\"Propustek\",\"-\"))","v":"Rekonstrukce"},null,null,null,null,null,null,null,null,null,null,null,null,null,null,null,{"$f":"IF('náměty na projekční přípravu'!B520=data!$S$2,\"Souvislá údržba\",IF('náměty na projekční přípravu'!B520=data!$S$3,\"Most\",\"-\"))","v":"-"},{"$f":"IF('náměty na projekční přípravu'!B520=data!$S$2,\"Rekonstrukce\",IF('náměty na projekční přípravu'!B520=data!$S$3,\"Propustek\",\"-\"))","v":"-"}]
[null,null,null,null,null,null,null,null,null,null,null,{"$f":"IF('v přípravě a připraveno'!B424=data!$B$2,\"Souvislá údržba\",IF('v přípravě a připraveno'!B424=data!$B$3,\"Most\",\"-\"))","v":"Souvislá údržba"},{"$f":"IF('v přípravě a připraveno'!B424=data!$B$2,\"Rekonstrukce\",IF('v přípravě a připraveno'!B424=data!$B$3,\"Propustek\",\"-\"))","v":"Rekonstrukce"},null,null,null,null,null,null,null,null,null,null,null,null,null,null,null,{"$f":"IF('náměty na projekční přípravu'!B521=data!$S$2,\"Souvislá údržba\",IF('náměty na projekční přípravu'!B521=data!$S$3,\"Most\",\"-\"))","v":"-"},{"$f":"IF('náměty na projekční přípravu'!B521=data!$S$2,\"Rekonstrukce\",IF('náměty na projekční přípravu'!B521=data!$S$3,\"Propustek\",\"-\"))","v":"-"}]
[null,null,null,null,null,null,null,null,null,null,null,{"$f":"IF('v přípravě a připraveno'!B425=data!$B$2,\"Souvislá údržba\",IF('v přípravě a připraveno'!B425=data!$B$3,\"Most\",\"-\"))","v":"Souvislá údržba"},{"$f":"IF('v přípravě a připraveno'!B425=data!$B$2,\"Rekonstrukce\",IF('v přípravě a připraveno'!B425=data!$B$3,\"Propustek\",\"-\"))","v":"Rekonstrukce"},null,null,null,null,null,null,null,null,null,null,null,null,null,null,null,{"$f":"IF('náměty na projekční přípravu'!B522=data!$S$2,\"Souvislá údržba\",IF('náměty na projekční přípravu'!B522=data!$S$3,\"Most\",\"-\"))","v":"-"},{"$f":"IF('náměty na projekční přípravu'!B522=data!$S$2,\"Rekonstrukce\",IF('náměty na projekční přípravu'!B522=data!$S$3,\"Propustek\",\"-\"))","v":"-"}]
[null,null,null,null,null,null,null,null,null,null,null,{"$f":"IF('v přípravě a připraveno'!B426=data!$B$2,\"Souvislá údržba\",IF('v přípravě a připraveno'!B426=data!$B$3,\"Most\",\"-\"))","v":"-"},{"$f":"IF('v přípravě a připraveno'!B426=data!$B$2,\"Rekonstrukce\",IF('v přípravě a připraveno'!B426=data!$B$3,\"Propustek\",\"-\"))","v":"-"},null,null,null,null,null,null,null,null,null,null,null,null,null,null,null,{"$f":"IF('náměty na projekční přípravu'!B523=data!$S$2,\"Souvislá údržba\",IF('náměty na projekční přípravu'!B523=data!$S$3,\"Most\",\"-\"))","v":"-"},{"$f":"IF('náměty na projekční přípravu'!B523=data!$S$2,\"Rekonstrukce\",IF('náměty na projekční přípravu'!B523=data!$S$3,\"Propustek\",\"-\"))","v":"-"}]
[null,null,null,null,null,null,null,null,null,null,null,{"$f":"IF('v přípravě a připraveno'!B427=data!$B$2,\"Souvislá údržba\",IF('v přípravě a připraveno'!B427=data!$B$3,\"Most\",\"-\"))","v":"-"},{"$f":"IF('v přípravě a připraveno'!B427=data!$B$2,\"Rekonstrukce\",IF('v přípravě a připraveno'!B427=data!$B$3,\"Propustek\",\"-\"))","v":"-"},null,null,null,null,null,null,null,null,null,null,null,null,null,null,null,{"$f":"IF('náměty na projekční přípravu'!B524=data!$S$2,\"Souvislá údržba\",IF('náměty na projekční přípravu'!B524=data!$S$3,\"Most\",\"-\"))","v":"-"},{"$f":"IF('náměty na projekční přípravu'!B524=data!$S$2,\"Rekonstrukce\",IF('náměty na projekční přípravu'!B524=data!$S$3,\"Propustek\",\"-\"))","v":"-"}]
[null,null,null,null,null,null,null,null,null,null,null,{"$f":"IF('v přípravě a připraveno'!B428=data!$B$2,\"Souvislá údržba\",IF('v přípravě a připraveno'!B428=data!$B$3,\"Most\",\"-\"))","v":"-"},{"$f":"IF('v přípravě a připraveno'!B428=data!$B$2,\"Rekonstrukce\",IF('v přípravě a připraveno'!B428=data!$B$3,\"Propustek\",\"-\"))","v":"-"},null,null,null,null,null,null,null,null,null,null,null,null,null,null,null,{"$f":"IF('náměty na projekční přípravu'!B525=data!$S$2,\"Souvislá údržba\",IF('náměty na projekční přípravu'!B525=data!$S$3,\"Most\",\"-\"))","v":"-"},{"$f":"IF('náměty na projekční přípravu'!B525=data!$S$2,\"Rekonstrukce\",IF('náměty na projekční přípravu'!B525=data!$S$3,\"Propustek\",\"-\"))","v":"-"}]
[null,null,null,null,null,null,null,null,null,null,null,{"$f":"IF('v přípravě a připraveno'!B429=data!$B$2,\"Souvislá údržba\",IF('v přípravě a připraveno'!B429=data!$B$3,\"Most\",\"-\"))","v":"-"},{"$f":"IF('v přípravě a připraveno'!B429=data!$B$2,\"Rekonstrukce\",IF('v přípravě a připraveno'!B429=data!$B$3,\"Propustek\",\"-\"))","v":"-"},null,null,null,null,null,null,null,null,null,null,null,null,null,null,null,{"$f":"IF('náměty na projekční přípravu'!B526=data!$S$2,\"Souvislá údržba\",IF('náměty na projekční přípravu'!B526=data!$S$3,\"Most\",\"-\"))","v":"-"},{"$f":"IF('náměty na projekční přípravu'!B526=data!$S$2,\"Rekonstrukce\",IF('náměty na projekční přípravu'!B526=data!$S$3,\"Propustek\",\"-\"))","v":"-"}]
[null,null,null,null,null,null,null,null,null,null,null,{"$f":"IF('v přípravě a připraveno'!B430=data!$B$2,\"Souvislá údržba\",IF('v přípravě a připraveno'!B430=data!$B$3,\"Most\",\"-\"))","v":"Souvislá údržba"},{"$f":"IF('v přípravě a připraveno'!B430=data!$B$2,\"Rekonstrukce\",IF('v přípravě a připraveno'!B430=data!$B$3,\"Propustek\",\"-\"))","v":"Rekonstrukce"},null,null,null,null,null,null,null,null,null,null,null,null,null,null,null,{"$f":"IF('náměty na projekční přípravu'!B527=data!$S$2,\"Souvislá údržba\",IF('náměty na projekční přípravu'!B527=data!$S$3,\"Most\",\"-\"))","v":"-"},{"$f":"IF('náměty na projekční přípravu'!B527=data!$S$2,\"Rekonstrukce\",IF('náměty na projekční přípravu'!B527=data!$S$3,\"Propustek\",\"-\"))","v":"-"}]
[null,null,null,null,null,null,null,null,null,null,null,{"$f":"IF('v přípravě a připraveno'!B431=data!$B$2,\"Souvislá údržba\",IF('v přípravě a připraveno'!B431=data!$B$3,\"Most\",\"-\"))","v":"-"},{"$f":"IF('v přípravě a připraveno'!B431=data!$B$2,\"Rekonstrukce\",IF('v přípravě a připraveno'!B431=data!$B$3,\"Propustek\",\"-\"))","v":"-"},null,null,null,null,null,null,null,null,null,null,null,null,null,null,null,{"$f":"IF('náměty na projekční přípravu'!B528=data!$S$2,\"Souvislá údržba\",IF('náměty na projekční přípravu'!B528=data!$S$3,\"Most\",\"-\"))","v":"-"},{"$f":"IF('náměty na projekční přípravu'!B528=data!$S$2,\"Rekonstrukce\",IF('náměty na projekční přípravu'!B528=data!$S$3,\"Propustek\",\"-\"))","v":"-"}]
[null,null,null,null,null,null,null,null,null,null,null,{"$f":"IF('v přípravě a připraveno'!B432=data!$B$2,\"Souvislá údržba\",IF('v přípravě a připraveno'!B432=data!$B$3,\"Most\",\"-\"))","v":"Souvislá údržba"},{"$f":"IF('v přípravě a připraveno'!B432=data!$B$2,\"Rekonstrukce\",IF('v přípravě a připraveno'!B432=data!$B$3,\"Propustek\",\"-\"))","v":"Rekonstrukce"},null,null,null,null,null,null,null,null,null,null,null,null,null,null,null,{"$f":"IF('náměty na projekční přípravu'!B529=data!$S$2,\"Souvislá údržba\",IF('náměty na projekční přípravu'!B529=data!$S$3,\"Most\",\"-\"))","v":"-"},{"$f":"IF('náměty na projekční přípravu'!B529=data!$S$2,\"Rekonstrukce\",IF('náměty na projekční přípravu'!B529=data!$S$3,\"Propustek\",\"-\"))","v":"-"}]
[null,null,null,null,null,null,null,null,null,null,null,{"$f":"IF('v přípravě a připraveno'!B433=data!$B$2,\"Souvislá údržba\",IF('v přípravě a připraveno'!B433=data!$B$3,\"Most\",\"-\"))","v":"Souvislá údržba"},{"$f":"IF('v přípravě a připraveno'!B433=data!$B$2,\"Rekonstrukce\",IF('v přípravě a připraveno'!B433=data!$B$3,\"Propustek\",\"-\"))","v":"Rekonstrukce"},null,null,null,null,null,null,null,null,null,null,null,null,null,null,null,{"$f":"IF('náměty na projekční přípravu'!B530=data!$S$2,\"Souvislá údržba\",IF('náměty na projekční přípravu'!B530=data!$S$3,\"Most\",\"-\"))","v":"-"},{"$f":"IF('náměty na projekční přípravu'!B530=data!$S$2,\"Rekonstrukce\",IF('náměty na projekční přípravu'!B530=data!$S$3,\"Propustek\",\"-\"))","v":"-"}]
[null,null,null,null,null,null,null,null,null,null,null,{"$f":"IF('v přípravě a připraveno'!B434=data!$B$2,\"Souvislá údržba\",IF('v přípravě a připraveno'!B434=data!$B$3,\"Most\",\"-\"))","v":"Souvislá údržba"},{"$f":"IF('v přípravě a připraveno'!B434=data!$B$2,\"Rekonstrukce\",IF('v přípravě a připraveno'!B434=data!$B$3,\"Propustek\",\"-\"))","v":"Rekonstrukce"},null,null,null,null,null,null,null,null,null,null,null,null,null,null,null,{"$f":"IF('náměty na projekční přípravu'!B531=data!$S$2,\"Souvislá údržba\",IF('náměty na projekční přípravu'!B531=data!$S$3,\"Most\",\"-\"))","v":"-"},{"$f":"IF('náměty na projekční přípravu'!B531=data!$S$2,\"Rekonstrukce\",IF('náměty na projekční přípravu'!B531=data!$S$3,\"Propustek\",\"-\"))","v":"-"}]
[null,null,null,null,null,null,null,null,null,null,null,{"$f":"IF('v přípravě a připraveno'!B435=data!$B$2,\"Souvislá údržba\",IF('v přípravě a připraveno'!B435=data!$B$3,\"Most\",\"-\"))","v":"Souvislá údržba"},{"$f":"IF('v přípravě a připraveno'!B435=data!$B$2,\"Rekonstrukce\",IF('v přípravě a připraveno'!B435=data!$B$3,\"Propustek\",\"-\"))","v":"Rekonstrukce"},null,null,null,null,null,null,null,null,null,null,null,null,null,null,null,{"$f":"IF('náměty na projekční přípravu'!B532=data!$S$2,\"Souvislá údržba\",IF('náměty na projekční přípravu'!B532=data!$S$3,\"Most\",\"-\"))","v":"-"},{"$f":"IF('náměty na projekční přípravu'!B532=data!$S$2,\"Rekonstrukce\",IF('náměty na projekční přípravu'!B532=data!$S$3,\"Propustek\",\"-\"))","v":"-"}]
[null,null,null,null,null,null,null,null,null,null,null,{"$f":"IF('v přípravě a připraveno'!B436=data!$B$2,\"Souvislá údržba\",IF('v přípravě a připraveno'!B436=data!$B$3,\"Most\",\"-\"))","v":"Souvislá údržba"},{"$f":"IF('v přípravě a připraveno'!B436=data!$B$2,\"Rekonstrukce\",IF('v přípravě a připraveno'!B436=data!$B$3,\"Propustek\",\"-\"))","v":"Rekonstrukce"},null,null,null,null,null,null,null,null,null,null,null,null,null,null,null,{"$f":"IF('náměty na projekční přípravu'!B533=data!$S$2,\"Souvislá údržba\",IF('náměty na projekční přípravu'!B533=data!$S$3,\"Most\",\"-\"))","v":"-"},{"$f":"IF('náměty na projekční přípravu'!B533=data!$S$2,\"Rekonstrukce\",IF('náměty na projekční přípravu'!B533=data!$S$3,\"Propustek\",\"-\"))","v":"-"}]
[null,null,null,null,null,null,null,null,null,null,null,{"$f":"IF('v přípravě a připraveno'!B437=data!$B$2,\"Souvislá údržba\",IF('v přípravě a připraveno'!B437=data!$B$3,\"Most\",\"-\"))","v":"Souvislá údržba"},{"$f":"IF('v přípravě a připraveno'!B437=data!$B$2,\"Rekonstrukce\",IF('v přípravě a připraveno'!B437=data!$B$3,\"Propustek\",\"-\"))","v":"Rekonstrukce"},null,null,null,null,null,null,null,null,null,null,null,null,null,null,null,{"$f":"IF('náměty na projekční přípravu'!B534=data!$S$2,\"Souvislá údržba\",IF('náměty na projekční přípravu'!B534=data!$S$3,\"Most\",\"-\"))","v":"-"},{"$f":"IF('náměty na projekční přípravu'!B534=data!$S$2,\"Rekonstrukce\",IF('náměty na projekční přípravu'!B534=data!$S$3,\"Propustek\",\"-\"))","v":"-"}]
[null,null,null,null,null,null,null,null,null,null,null,{"$f":"IF('v přípravě a připraveno'!B438=data!$B$2,\"Souvislá údržba\",IF('v přípravě a připraveno'!B438=data!$B$3,\"Most\",\"-\"))","v":"Souvislá údržba"},{"$f":"IF('v přípravě a připraveno'!B438=data!$B$2,\"Rekonstrukce\",IF('v přípravě a připraveno'!B438=data!$B$3,\"Propustek\",\"-\"))","v":"Rekonstrukce"},null,null,null,null,null,null,null,null,null,null,null,null,null,null,null,{"$f":"IF('náměty na projekční přípravu'!B535=data!$S$2,\"Souvislá údržba\",IF('náměty na projekční přípravu'!B535=data!$S$3,\"Most\",\"-\"))","v":"-"},{"$f":"IF('náměty na projekční přípravu'!B535=data!$S$2,\"Rekonstrukce\",IF('náměty na projekční přípravu'!B535=data!$S$3,\"Propustek\",\"-\"))","v":"-"}]
[null,null,null,null,null,null,null,null,null,null,null,{"$f":"IF('v přípravě a připraveno'!B439=data!$B$2,\"Souvislá údržba\",IF('v přípravě a připraveno'!B439=data!$B$3,\"Most\",\"-\"))","v":"Souvislá údržba"},{"$f":"IF('v přípravě a připraveno'!B439=data!$B$2,\"Rekonstrukce\",IF('v přípravě a připraveno'!B439=data!$B$3,\"Propustek\",\"-\"))","v":"Rekonstrukce"},null,null,null,null,null,null,null,null,null,null,null,null,null,null,null,{"$f":"IF('náměty na projekční přípravu'!B536=data!$S$2,\"Souvislá údržba\",IF('náměty na projekční přípravu'!B536=data!$S$3,\"Most\",\"-\"))","v":"-"},{"$f":"IF('náměty na projekční přípravu'!B536=data!$S$2,\"Rekonstrukce\",IF('náměty na projekční přípravu'!B536=data!$S$3,\"Propustek\",\"-\"))","v":"-"}]
[null,null,null,null,null,null,null,null,null,null,null,{"$f":"IF('v přípravě a připraveno'!B440=data!$B$2,\"Souvislá údržba\",IF('v přípravě a připraveno'!B440=data!$B$3,\"Most\",\"-\"))","v":"-"},{"$f":"IF('v přípravě a připraveno'!B440=data!$B$2,\"Rekonstrukce\",IF('v přípravě a připraveno'!B440=data!$B$3,\"Propustek\",\"-\"))","v":"-"},null,null,null,null,null,null,null,null,null,null,null,null,null,null,null,{"$f":"IF('náměty na projekční přípravu'!B537=data!$S$2,\"Souvislá údržba\",IF('náměty na projekční přípravu'!B537=data!$S$3,\"Most\",\"-\"))","v":"-"},{"$f":"IF('náměty na projekční přípravu'!B537=data!$S$2,\"Rekonstrukce\",IF('náměty na projekční přípravu'!B537=data!$S$3,\"Propustek\",\"-\"))","v":"-"}]
[null,null,null,null,null,null,null,null,null,null,null,{"$f":"IF('v přípravě a připraveno'!B441=data!$B$2,\"Souvislá údržba\",IF('v přípravě a připraveno'!B441=data!$B$3,\"Most\",\"-\"))","v":"-"},{"$f":"IF('v přípravě a připraveno'!B441=data!$B$2,\"Rekonstrukce\",IF('v přípravě a připraveno'!B441=data!$B$3,\"Propustek\",\"-\"))","v":"-"},null,null,null,null,null,null,null,null,null,null,null,null,null,null,null,{"$f":"IF('náměty na projekční přípravu'!B538=data!$S$2,\"Souvislá údržba\",IF('náměty na projekční přípravu'!B538=data!$S$3,\"Most\",\"-\"))","v":"-"},{"$f":"IF('náměty na projekční přípravu'!B538=data!$S$2,\"Rekonstrukce\",IF('náměty na projekční přípravu'!B538=data!$S$3,\"Propustek\",\"-\"))","v":"-"}]
[null,null,null,null,null,null,null,null,null,null,null,{"$f":"IF('v přípravě a připraveno'!B442=data!$B$2,\"Souvislá údržba\",IF('v přípravě a připraveno'!B442=data!$B$3,\"Most\",\"-\"))","v":"-"},{"$f":"IF('v přípravě a připraveno'!B442=data!$B$2,\"Rekonstrukce\",IF('v přípravě a připraveno'!B442=data!$B$3,\"Propustek\",\"-\"))","v":"-"},null,null,null,null,null,null,null,null,null,null,null,null,null,null,null,{"$f":"IF('náměty na projekční přípravu'!B539=data!$S$2,\"Souvislá údržba\",IF('náměty na projekční přípravu'!B539=data!$S$3,\"Most\",\"-\"))","v":"-"},{"$f":"IF('náměty na projekční přípravu'!B539=data!$S$2,\"Rekonstrukce\",IF('náměty na projekční přípravu'!B539=data!$S$3,\"Propustek\",\"-\"))","v":"-"}]
[null,null,null,null,null,null,null,null,null,null,null,{"$f":"IF('v přípravě a připraveno'!B443=data!$B$2,\"Souvislá údržba\",IF('v přípravě a připraveno'!B443=data!$B$3,\"Most\",\"-\"))","v":"-"},{"$f":"IF('v přípravě a připraveno'!B443=data!$B$2,\"Rekonstrukce\",IF('v přípravě a připraveno'!B443=data!$B$3,\"Propustek\",\"-\"))","v":"-"},null,null,null,null,null,null,null,null,null,null,null,null,null,null,null,{"$f":"IF('náměty na projekční přípravu'!B540=data!$S$2,\"Souvislá údržba\",IF('náměty na projekční přípravu'!B540=data!$S$3,\"Most\",\"-\"))","v":"-"},{"$f":"IF('náměty na projekční přípravu'!B540=data!$S$2,\"Rekonstrukce\",IF('náměty na projekční přípravu'!B540=data!$S$3,\"Propustek\",\"-\"))","v":"-"}]
[null,null,null,null,null,null,null,null,null,null,null,{"$f":"IF('v přípravě a připraveno'!B444=data!$B$2,\"Souvislá údržba\",IF('v přípravě a připraveno'!B444=data!$B$3,\"Most\",\"-\"))","v":"-"},{"$f":"IF('v přípravě a připraveno'!B444=data!$B$2,\"Rekonstrukce\",IF('v přípravě a připraveno'!B444=data!$B$3,\"Propustek\",\"-\"))","v":"-"},null,null,null,null,null,null,null,null,null,null,null,null,null,null,null,{"$f":"IF('náměty na projekční přípravu'!B541=data!$S$2,\"Souvislá údržba\",IF('náměty na projekční přípravu'!B541=data!$S$3,\"Most\",\"-\"))","v":"-"},{"$f":"IF('náměty na projekční přípravu'!B541=data!$S$2,\"Rekonstrukce\",IF('náměty na projekční přípravu'!B541=data!$S$3,\"Propustek\",\"-\"))","v":"-"}]
[null,null,null,null,null,null,null,null,null,null,null,{"$f":"IF('v přípravě a připraveno'!B445=data!$B$2,\"Souvislá údržba\",IF('v přípravě a připraveno'!B445=data!$B$3,\"Most\",\"-\"))","v":"-"},{"$f":"IF('v přípravě a připraveno'!B445=data!$B$2,\"Rekonstrukce\",IF('v přípravě a připraveno'!B445=data!$B$3,\"Propustek\",\"-\"))","v":"-"},null,null,null,null,null,null,null,null,null,null,null,null,null,null,null,{"$f":"IF('náměty na projekční přípravu'!B542=data!$S$2,\"Souvislá údržba\",IF('náměty na projekční přípravu'!B542=data!$S$3,\"Most\",\"-\"))","v":"-"},{"$f":"IF('náměty na projekční přípravu'!B542=data!$S$2,\"Rekonstrukce\",IF('náměty na projekční přípravu'!B542=data!$S$3,\"Propustek\",\"-\"))","v":"-"}]
[null,null,null,null,null,null,null,null,null,null,null,{"$f":"IF('v přípravě a připraveno'!B446=data!$B$2,\"Souvislá údržba\",IF('v přípravě a připraveno'!B446=data!$B$3,\"Most\",\"-\"))","v":"-"},{"$f":"IF('v přípravě a připraveno'!B446=data!$B$2,\"Rekonstrukce\",IF('v přípravě a připraveno'!B446=data!$B$3,\"Propustek\",\"-\"))","v":"-"},null,null,null,null,null,null,null,null,null,null,null,null,null,null,null,{"$f":"IF('náměty na projekční přípravu'!B543=data!$S$2,\"Souvislá údržba\",IF('náměty na projekční přípravu'!B543=data!$S$3,\"Most\",\"-\"))","v":"-"},{"$f":"IF('náměty na projekční přípravu'!B543=data!$S$2,\"Rekonstrukce\",IF('náměty na projekční přípravu'!B543=data!$S$3,\"Propustek\",\"-\"))","v":"-"}]
[null,null,null,null,null,null,null,null,null,null,null,{"$f":"IF('v přípravě a připraveno'!B447=data!$B$2,\"Souvislá údržba\",IF('v přípravě a připraveno'!B447=data!$B$3,\"Most\",\"-\"))","v":"-"},{"$f":"IF('v přípravě a připraveno'!B447=data!$B$2,\"Rekonstrukce\",IF('v přípravě a připraveno'!B447=data!$B$3,\"Propustek\",\"-\"))","v":"-"},null,null,null,null,null,null,null,null,null,null,null,null,null,null,null,{"$f":"IF('náměty na projekční přípravu'!B544=data!$S$2,\"Souvislá údržba\",IF('náměty na projekční přípravu'!B544=data!$S$3,\"Most\",\"-\"))","v":"-"},{"$f":"IF('náměty na projekční přípravu'!B544=data!$S$2,\"Rekonstrukce\",IF('náměty na projekční přípravu'!B544=data!$S$3,\"Propustek\",\"-\"))","v":"-"}]
[null,null,null,null,null,null,null,null,null,null,null,{"$f":"IF('v přípravě a připraveno'!B448=data!$B$2,\"Souvislá údržba\",IF('v přípravě a připraveno'!B448=data!$B$3,\"Most\",\"-\"))","v":"-"},{"$f":"IF('v přípravě a připraveno'!B448=data!$B$2,\"Rekonstrukce\",IF('v přípravě a připraveno'!B448=data!$B$3,\"Propustek\",\"-\"))","v":"-"},null,null,null,null,null,null,null,null,null,null,null,null,null,null,null,{"$f":"IF('náměty na projekční přípravu'!B545=data!$S$2,\"Souvislá údržba\",IF('náměty na projekční přípravu'!B545=data!$S$3,\"Most\",\"-\"))","v":"-"},{"$f":"IF('náměty na projekční přípravu'!B545=data!$S$2,\"Rekonstrukce\",IF('náměty na projekční přípravu'!B545=data!$S$3,\"Propustek\",\"-\"))","v":"-"}]
[null,null,null,null,null,null,null,null,null,null,null,{"$f":"IF('v přípravě a připraveno'!B449=data!$B$2,\"Souvislá údržba\",IF('v přípravě a připraveno'!B449=data!$B$3,\"Most\",\"-\"))","v":"-"},{"$f":"IF('v přípravě a připraveno'!B449=data!$B$2,\"Rekonstrukce\",IF('v přípravě a připraveno'!B449=data!$B$3,\"Propustek\",\"-\"))","v":"-"},null,null,null,null,null,null,null,null,null,null,null,null,null,null,null,{"$f":"IF('náměty na projekční přípravu'!B546=data!$S$2,\"Souvislá údržba\",IF('náměty na projekční přípravu'!B546=data!$S$3,\"Most\",\"-\"))","v":"-"},{"$f":"IF('náměty na projekční přípravu'!B546=data!$S$2,\"Rekonstrukce\",IF('náměty na projekční přípravu'!B546=data!$S$3,\"Propustek\",\"-\"))","v":"-"}]
[null,null,null,null,null,null,null,null,null,null,null,{"$f":"IF('v přípravě a připraveno'!B450=data!$B$2,\"Souvislá údržba\",IF('v přípravě a připraveno'!B450=data!$B$3,\"Most\",\"-\"))","v":"-"},{"$f":"IF('v přípravě a připraveno'!B450=data!$B$2,\"Rekonstrukce\",IF('v přípravě a připraveno'!B450=data!$B$3,\"Propustek\",\"-\"))","v":"-"},null,null,null,null,null,null,null,null,null,null,null,null,null,null,null,{"$f":"IF('náměty na projekční přípravu'!B547=data!$S$2,\"Souvislá údržba\",IF('náměty na projekční přípravu'!B547=data!$S$3,\"Most\",\"-\"))","v":"-"},{"$f":"IF('náměty na projekční přípravu'!B547=data!$S$2,\"Rekonstrukce\",IF('náměty na projekční přípravu'!B547=data!$S$3,\"Propustek\",\"-\"))","v":"-"}]
[null,null,null,null,null,null,null,null,null,null,null,{"$f":"IF('v přípravě a připraveno'!B451=data!$B$2,\"Souvislá údržba\",IF('v přípravě a připraveno'!B451=data!$B$3,\"Most\",\"-\"))","v":"-"},{"$f":"IF('v přípravě a připraveno'!B451=data!$B$2,\"Rekonstrukce\",IF('v přípravě a připraveno'!B451=data!$B$3,\"Propustek\",\"-\"))","v":"-"},null,null,null,null,null,null,null,null,null,null,null,null,null,null,null,{"$f":"IF('náměty na projekční přípravu'!B548=data!$S$2,\"Souvislá údržba\",IF('náměty na projekční přípravu'!B548=data!$S$3,\"Most\",\"-\"))","v":"-"},{"$f":"IF('náměty na projekční přípravu'!B548=data!$S$2,\"Rekonstrukce\",IF('náměty na projekční přípravu'!B548=data!$S$3,\"Propustek\",\"-\"))","v":"-"}]
[null,null,null,null,null,null,null,null,null,null,null,{"$f":"IF('v přípravě a připraveno'!B452=data!$B$2,\"Souvislá údržba\",IF('v přípravě a připraveno'!B452=data!$B$3,\"Most\",\"-\"))","v":"-"},{"$f":"IF('v přípravě a připraveno'!B452=data!$B$2,\"Rekonstrukce\",IF('v přípravě a připraveno'!B452=data!$B$3,\"Propustek\",\"-\"))","v":"-"},null,null,null,null,null,null,null,null,null,null,null,null,null,null,null,{"$f":"IF('náměty na projekční přípravu'!B549=data!$S$2,\"Souvislá údržba\",IF('náměty na projekční přípravu'!B549=data!$S$3,\"Most\",\"-\"))","v":"-"},{"$f":"IF('náměty na projekční přípravu'!B549=data!$S$2,\"Rekonstrukce\",IF('náměty na projekční přípravu'!B549=data!$S$3,\"Propustek\",\"-\"))","v":"-"}]
[null,null,null,null,null,null,null,null,null,null,null,{"$f":"IF('v přípravě a připraveno'!B453=data!$B$2,\"Souvislá údržba\",IF('v přípravě a připraveno'!B453=data!$B$3,\"Most\",\"-\"))","v":"-"},{"$f":"IF('v přípravě a připraveno'!B453=data!$B$2,\"Rekonstrukce\",IF('v přípravě a připraveno'!B453=data!$B$3,\"Propustek\",\"-\"))","v":"-"},null,null,null,null,null,null,null,null,null,null,null,null,null,null,null,{"$f":"IF('náměty na projekční přípravu'!B550=data!$S$2,\"Souvislá údržba\",IF('náměty na projekční přípravu'!B550=data!$S$3,\"Most\",\"-\"))","v":"-"},{"$f":"IF('náměty na projekční přípravu'!B550=data!$S$2,\"Rekonstrukce\",IF('náměty na projekční přípravu'!B550=data!$S$3,\"Propustek\",\"-\"))","v":"-"}]
[null,null,null,null,null,null,null,null,null,null,null,{"$f":"IF('v přípravě a připraveno'!B454=data!$B$2,\"Souvislá údržba\",IF('v přípravě a připraveno'!B454=data!$B$3,\"Most\",\"-\"))","v":"-"},{"$f":"IF('v přípravě a připraveno'!B454=data!$B$2,\"Rekonstrukce\",IF('v přípravě a připraveno'!B454=data!$B$3,\"Propustek\",\"-\"))","v":"-"},null,null,null,null,null,null,null,null,null,null,null,null,null,null,null,{"$f":"IF('náměty na projekční přípravu'!B551=data!$S$2,\"Souvislá údržba\",IF('náměty na projekční přípravu'!B551=data!$S$3,\"Most\",\"-\"))","v":"-"},{"$f":"IF('náměty na projekční přípravu'!B551=data!$S$2,\"Rekonstrukce\",IF('náměty na projekční přípravu'!B551=data!$S$3,\"Propustek\",\"-\"))","v":"-"}]
[null,null,null,null,null,null,null,null,null,null,null,{"$f":"IF('v přípravě a připraveno'!B455=data!$B$2,\"Souvislá údržba\",IF('v přípravě a připraveno'!B455=data!$B$3,\"Most\",\"-\"))","v":"-"},{"$f":"IF('v přípravě a připraveno'!B455=data!$B$2,\"Rekonstrukce\",IF('v přípravě a připraveno'!B455=data!$B$3,\"Propustek\",\"-\"))","v":"-"},null,null,null,null,null,null,null,null,null,null,null,null,null,null,null,{"$f":"IF('náměty na projekční přípravu'!B552=data!$S$2,\"Souvislá údržba\",IF('náměty na projekční přípravu'!B552=data!$S$3,\"Most\",\"-\"))","v":"-"},{"$f":"IF('náměty na projekční přípravu'!B552=data!$S$2,\"Rekonstrukce\",IF('náměty na projekční přípravu'!B552=data!$S$3,\"Propustek\",\"-\"))","v":"-"}]
[null,null,null,null,null,null,null,null,null,null,null,{"$f":"IF('v přípravě a připraveno'!B456=data!$B$2,\"Souvislá údržba\",IF('v přípravě a připraveno'!B456=data!$B$3,\"Most\",\"-\"))","v":"-"},{"$f":"IF('v přípravě a připraveno'!B456=data!$B$2,\"Rekonstrukce\",IF('v přípravě a připraveno'!B456=data!$B$3,\"Propustek\",\"-\"))","v":"-"},null,null,null,null,null,null,null,null,null,null,null,null,null,null,null,{"$f":"IF('náměty na projekční přípravu'!B553=data!$S$2,\"Souvislá údržba\",IF('náměty na projekční přípravu'!B553=data!$S$3,\"Most\",\"-\"))","v":"-"},{"$f":"IF('náměty na projekční přípravu'!B553=data!$S$2,\"Rekonstrukce\",IF('náměty na projekční přípravu'!B553=data!$S$3,\"Propustek\",\"-\"))","v":"-"}]
[null,null,null,null,null,null,null,null,null,null,null,{"$f":"IF('v přípravě a připraveno'!B457=data!$B$2,\"Souvislá údržba\",IF('v přípravě a připraveno'!B457=data!$B$3,\"Most\",\"-\"))","v":"-"},{"$f":"IF('v přípravě a připraveno'!B457=data!$B$2,\"Rekonstrukce\",IF('v přípravě a připraveno'!B457=data!$B$3,\"Propustek\",\"-\"))","v":"-"},null,null,null,null,null,null,null,null,null,null,null,null,null,null,null,{"$f":"IF('náměty na projekční přípravu'!B554=data!$S$2,\"Souvislá údržba\",IF('náměty na projekční přípravu'!B554=data!$S$3,\"Most\",\"-\"))","v":"-"},{"$f":"IF('náměty na projekční přípravu'!B554=data!$S$2,\"Rekonstrukce\",IF('náměty na projekční přípravu'!B554=data!$S$3,\"Propustek\",\"-\"))","v":"-"}]
[null,null,null,null,null,null,null,null,null,null,null,{"$f":"IF('v přípravě a připraveno'!B458=data!$B$2,\"Souvislá údržba\",IF('v přípravě a připraveno'!B458=data!$B$3,\"Most\",\"-\"))","v":"-"},{"$f":"IF('v přípravě a připraveno'!B458=data!$B$2,\"Rekonstrukce\",IF('v přípravě a připraveno'!B458=data!$B$3,\"Propustek\",\"-\"))","v":"-"},null,null,null,null,null,null,null,null,null,null,null,null,null,null,null,{"$f":"IF('náměty na projekční přípravu'!B555=data!$S$2,\"Souvislá údržba\",IF('náměty na projekční přípravu'!B555=data!$S$3,\"Most\",\"-\"))","v":"-"},{"$f":"IF('náměty na projekční přípravu'!B555=data!$S$2,\"Rekonstrukce\",IF('náměty na projekční přípravu'!B555=data!$S$3,\"Propustek\",\"-\"))","v":"-"}]
[null,null,null,null,null,null,null,null,null,null,null,{"$f":"IF('v přípravě a připraveno'!B459=data!$B$2,\"Souvislá údržba\",IF('v přípravě a připraveno'!B459=data!$B$3,\"Most\",\"-\"))","v":"-"},{"$f":"IF('v přípravě a připraveno'!B459=data!$B$2,\"Rekonstrukce\",IF('v přípravě a připraveno'!B459=data!$B$3,\"Propustek\",\"-\"))","v":"-"},null,null,null,null,null,null,null,null,null,null,null,null,null,null,null,{"$f":"IF('náměty na projekční přípravu'!B556=data!$S$2,\"Souvislá údržba\",IF('náměty na projekční přípravu'!B556=data!$S$3,\"Most\",\"-\"))","v":"-"},{"$f":"IF('náměty na projekční přípravu'!B556=data!$S$2,\"Rekonstrukce\",IF('náměty na projekční přípravu'!B556=data!$S$3,\"Propustek\",\"-\"))","v":"-"}]
[null,null,null,null,null,null,null,null,null,null,null,{"$f":"IF('v přípravě a připraveno'!B460=data!$B$2,\"Souvislá údržba\",IF('v přípravě a připraveno'!B460=data!$B$3,\"Most\",\"-\"))","v":"-"},{"$f":"IF('v přípravě a připraveno'!B460=data!$B$2,\"Rekonstrukce\",IF('v přípravě a připraveno'!B460=data!$B$3,\"Propustek\",\"-\"))","v":"-"},null,null,null,null,null,null,null,null,null,null,null,null,null,null,null,{"$f":"IF('náměty na projekční přípravu'!B557=data!$S$2,\"Souvislá údržba\",IF('náměty na projekční přípravu'!B557=data!$S$3,\"Most\",\"-\"))","v":"-"},{"$f":"IF('náměty na projekční přípravu'!B557=data!$S$2,\"Rekonstrukce\",IF('náměty na projekční přípravu'!B557=data!$S$3,\"Propustek\",\"-\"))","v":"-"}]
[null,null,null,null,null,null,null,null,null,null,null,{"$f":"IF('v přípravě a připraveno'!B461=data!$B$2,\"Souvislá údržba\",IF('v přípravě a připraveno'!B461=data!$B$3,\"Most\",\"-\"))","v":"-"},{"$f":"IF('v přípravě a připraveno'!B461=data!$B$2,\"Rekonstrukce\",IF('v přípravě a připraveno'!B461=data!$B$3,\"Propustek\",\"-\"))","v":"-"},null,null,null,null,null,null,null,null,null,null,null,null,null,null,null,{"$f":"IF('náměty na projekční přípravu'!B558=data!$S$2,\"Souvislá údržba\",IF('náměty na projekční přípravu'!B558=data!$S$3,\"Most\",\"-\"))","v":"-"},{"$f":"IF('náměty na projekční přípravu'!B558=data!$S$2,\"Rekonstrukce\",IF('náměty na projekční přípravu'!B558=data!$S$3,\"Propustek\",\"-\"))","v":"-"}]
[null,null,null,null,null,null,null,null,null,null,null,{"$f":"IF('v přípravě a připraveno'!B462=data!$B$2,\"Souvislá údržba\",IF('v přípravě a připraveno'!B462=data!$B$3,\"Most\",\"-\"))","v":"-"},{"$f":"IF('v přípravě a připraveno'!B462=data!$B$2,\"Rekonstrukce\",IF('v přípravě a připraveno'!B462=data!$B$3,\"Propustek\",\"-\"))","v":"-"},null,null,null,null,null,null,null,null,null,null,null,null,null,null,null,{"$f":"IF('náměty na projekční přípravu'!B559=data!$S$2,\"Souvislá údržba\",IF('náměty na projekční přípravu'!B559=data!$S$3,\"Most\",\"-\"))","v":"-"},{"$f":"IF('náměty na projekční přípravu'!B559=data!$S$2,\"Rekonstrukce\",IF('náměty na projekční přípravu'!B559=data!$S$3,\"Propustek\",\"-\"))","v":"-"}]
[null,null,null,null,null,null,null,null,null,null,null,{"$f":"IF('v přípravě a připraveno'!B463=data!$B$2,\"Souvislá údržba\",IF('v přípravě a připraveno'!B463=data!$B$3,\"Most\",\"-\"))","v":"-"},{"$f":"IF('v přípravě a připraveno'!B463=data!$B$2,\"Rekonstrukce\",IF('v přípravě a připraveno'!B463=data!$B$3,\"Propustek\",\"-\"))","v":"-"},null,null,null,null,null,null,null,null,null,null,null,null,null,null,null,{"$f":"IF('náměty na projekční přípravu'!B560=data!$S$2,\"Souvislá údržba\",IF('náměty na projekční přípravu'!B560=data!$S$3,\"Most\",\"-\"))","v":"-"},{"$f":"IF('náměty na projekční přípravu'!B560=data!$S$2,\"Rekonstrukce\",IF('náměty na projekční přípravu'!B560=data!$S$3,\"Propustek\",\"-\"))","v":"-"}]
[null,null,null,null,null,null,null,null,null,null,null,{"$f":"IF('v přípravě a připraveno'!B464=data!$B$2,\"Souvislá údržba\",IF('v přípravě a připraveno'!B464=data!$B$3,\"Most\",\"-\"))","v":"-"},{"$f":"IF('v přípravě a připraveno'!B464=data!$B$2,\"Rekonstrukce\",IF('v přípravě a připraveno'!B464=data!$B$3,\"Propustek\",\"-\"))","v":"-"},null,null,null,null,null,null,null,null,null,null,null,null,null,null,null,{"$f":"IF('náměty na projekční přípravu'!B561=data!$S$2,\"Souvislá údržba\",IF('náměty na projekční přípravu'!B561=data!$S$3,\"Most\",\"-\"))","v":"-"},{"$f":"IF('náměty na projekční přípravu'!B561=data!$S$2,\"Rekonstrukce\",IF('náměty na projekční přípravu'!B561=data!$S$3,\"Propustek\",\"-\"))","v":"-"}]
[null,null,null,null,null,null,null,null,null,null,null,{"$f":"IF('v přípravě a připraveno'!B465=data!$B$2,\"Souvislá údržba\",IF('v přípravě a připraveno'!B465=data!$B$3,\"Most\",\"-\"))","v":"-"},{"$f":"IF('v přípravě a připraveno'!B465=data!$B$2,\"Rekonstrukce\",IF('v přípravě a připraveno'!B465=data!$B$3,\"Propustek\",\"-\"))","v":"-"},null,null,null,null,null,null,null,null,null,null,null,null,null,null,null,{"$f":"IF('náměty na projekční přípravu'!B562=data!$S$2,\"Souvislá údržba\",IF('náměty na projekční přípravu'!B562=data!$S$3,\"Most\",\"-\"))","v":"-"},{"$f":"IF('náměty na projekční přípravu'!B562=data!$S$2,\"Rekonstrukce\",IF('náměty na projekční přípravu'!B562=data!$S$3,\"Propustek\",\"-\"))","v":"-"}]
[null,null,null,null,null,null,null,null,null,null,null,{"$f":"IF('v přípravě a připraveno'!B466=data!$B$2,\"Souvislá údržba\",IF('v přípravě a připraveno'!B466=data!$B$3,\"Most\",\"-\"))","v":"-"},{"$f":"IF('v přípravě a připraveno'!B466=data!$B$2,\"Rekonstrukce\",IF('v přípravě a připraveno'!B466=data!$B$3,\"Propustek\",\"-\"))","v":"-"},null,null,null,null,null,null,null,null,null,null,null,null,null,null,null,{"$f":"IF('náměty na projekční přípravu'!B563=data!$S$2,\"Souvislá údržba\",IF('náměty na projekční přípravu'!B563=data!$S$3,\"Most\",\"-\"))","v":"-"},{"$f":"IF('náměty na projekční přípravu'!B563=data!$S$2,\"Rekonstrukce\",IF('náměty na projekční přípravu'!B563=data!$S$3,\"Propustek\",\"-\"))","v":"-"}]
[null,null,null,null,null,null,null,null,null,null,null,{"$f":"IF('v přípravě a připraveno'!B467=data!$B$2,\"Souvislá údržba\",IF('v přípravě a připraveno'!B467=data!$B$3,\"Most\",\"-\"))","v":"-"},{"$f":"IF('v přípravě a připraveno'!B467=data!$B$2,\"Rekonstrukce\",IF('v přípravě a připraveno'!B467=data!$B$3,\"Propustek\",\"-\"))","v":"-"},null,null,null,null,null,null,null,null,null,null,null,null,null,null,null,{"$f":"IF('náměty na projekční přípravu'!B564=data!$S$2,\"Souvislá údržba\",IF('náměty na projekční přípravu'!B564=data!$S$3,\"Most\",\"-\"))","v":"-"},{"$f":"IF('náměty na projekční přípravu'!B564=data!$S$2,\"Rekonstrukce\",IF('náměty na projekční přípravu'!B564=data!$S$3,\"Propustek\",\"-\"))","v":"-"}]
[null,null,null,null,null,null,null,null,null,null,null,{"$f":"IF('v přípravě a připraveno'!B468=data!$B$2,\"Souvislá údržba\",IF('v přípravě a připraveno'!B468=data!$B$3,\"Most\",\"-\"))","v":"-"},{"$f":"IF('v přípravě a připraveno'!B468=data!$B$2,\"Rekonstrukce\",IF('v přípravě a připraveno'!B468=data!$B$3,\"Propustek\",\"-\"))","v":"-"},null,null,null,null,null,null,null,null,null,null,null,null,null,null,null,{"$f":"IF('náměty na projekční přípravu'!B565=data!$S$2,\"Souvislá údržba\",IF('náměty na projekční přípravu'!B565=data!$S$3,\"Most\",\"-\"))","v":"-"},{"$f":"IF('náměty na projekční přípravu'!B565=data!$S$2,\"Rekonstrukce\",IF('náměty na projekční přípravu'!B565=data!$S$3,\"Propustek\",\"-\"))","v":"-"}]
[null,null,null,null,null,null,null,null,null,null,null,{"$f":"IF('v přípravě a připraveno'!B469=data!$B$2,\"Souvislá údržba\",IF('v přípravě a připraveno'!B469=data!$B$3,\"Most\",\"-\"))","v":"-"},{"$f":"IF('v přípravě a připraveno'!B469=data!$B$2,\"Rekonstrukce\",IF('v přípravě a připraveno'!B469=data!$B$3,\"Propustek\",\"-\"))","v":"-"},null,null,null,null,null,null,null,null,null,null,null,null,null,null,null,{"$f":"IF('náměty na projekční přípravu'!B566=data!$S$2,\"Souvislá údržba\",IF('náměty na projekční přípravu'!B566=data!$S$3,\"Most\",\"-\"))","v":"-"},{"$f":"IF('náměty na projekční přípravu'!B566=data!$S$2,\"Rekonstrukce\",IF('náměty na projekční přípravu'!B566=data!$S$3,\"Propustek\",\"-\"))","v":"-"}]
[null,null,null,null,null,null,null,null,null,null,null,{"$f":"IF('v přípravě a připraveno'!B470=data!$B$2,\"Souvislá údržba\",IF('v přípravě a připraveno'!B470=data!$B$3,\"Most\",\"-\"))","v":"-"},{"$f":"IF('v přípravě a připraveno'!B470=data!$B$2,\"Rekonstrukce\",IF('v přípravě a připraveno'!B470=data!$B$3,\"Propustek\",\"-\"))","v":"-"},null,null,null,null,null,null,null,null,null,null,null,null,null,null,null,{"$f":"IF('náměty na projekční přípravu'!B567=data!$S$2,\"Souvislá údržba\",IF('náměty na projekční přípravu'!B567=data!$S$3,\"Most\",\"-\"))","v":"-"},{"$f":"IF('náměty na projekční přípravu'!B567=data!$S$2,\"Rekonstrukce\",IF('náměty na projekční přípravu'!B567=data!$S$3,\"Propustek\",\"-\"))","v":"-"}]
[null,null,null,null,null,null,null,null,null,null,null,{"$f":"IF('v přípravě a připraveno'!B471=data!$B$2,\"Souvislá údržba\",IF('v přípravě a připraveno'!B471=data!$B$3,\"Most\",\"-\"))","v":"-"},{"$f":"IF('v přípravě a připraveno'!B471=data!$B$2,\"Rekonstrukce\",IF('v přípravě a připraveno'!B471=data!$B$3,\"Propustek\",\"-\"))","v":"-"},null,null,null,null,null,null,null,null,null,null,null,null,null,null,null,{"$f":"IF('náměty na projekční přípravu'!B568=data!$S$2,\"Souvislá údržba\",IF('náměty na projekční přípravu'!B568=data!$S$3,\"Most\",\"-\"))","v":"-"},{"$f":"IF('náměty na projekční přípravu'!B568=data!$S$2,\"Rekonstrukce\",IF('náměty na projekční přípravu'!B568=data!$S$3,\"Propustek\",\"-\"))","v":"-"}]
[null,null,null,null,null,null,null,null,null,null,null,{"$f":"IF('v přípravě a připraveno'!B472=data!$B$2,\"Souvislá údržba\",IF('v přípravě a připraveno'!B472=data!$B$3,\"Most\",\"-\"))","v":"-"},{"$f":"IF('v přípravě a připraveno'!B472=data!$B$2,\"Rekonstrukce\",IF('v přípravě a připraveno'!B472=data!$B$3,\"Propustek\",\"-\"))","v":"-"},null,null,null,null,null,null,null,null,null,null,null,null,null,null,null,{"$f":"IF('náměty na projekční přípravu'!B569=data!$S$2,\"Souvislá údržba\",IF('náměty na projekční přípravu'!B569=data!$S$3,\"Most\",\"-\"))","v":"-"},{"$f":"IF('náměty na projekční přípravu'!B569=data!$S$2,\"Rekonstrukce\",IF('náměty na projekční přípravu'!B569=data!$S$3,\"Propustek\",\"-\"))","v":"-"}]
[null,null,null,null,null,null,null,null,null,null,null,{"$f":"IF('v přípravě a připraveno'!B473=data!$B$2,\"Souvislá údržba\",IF('v přípravě a připraveno'!B473=data!$B$3,\"Most\",\"-\"))","v":"-"},{"$f":"IF('v přípravě a připraveno'!B473=data!$B$2,\"Rekonstrukce\",IF('v přípravě a připraveno'!B473=data!$B$3,\"Propustek\",\"-\"))","v":"-"},null,null,null,null,null,null,null,null,null,null,null,null,null,null,null,{"$f":"IF('náměty na projekční přípravu'!B570=data!$S$2,\"Souvislá údržba\",IF('náměty na projekční přípravu'!B570=data!$S$3,\"Most\",\"-\"))","v":"-"},{"$f":"IF('náměty na projekční přípravu'!B570=data!$S$2,\"Rekonstrukce\",IF('náměty na projekční přípravu'!B570=data!$S$3,\"Propustek\",\"-\"))","v":"-"}]
[null,null,null,null,null,null,null,null,null,null,null,{"$f":"IF('v přípravě a připraveno'!B474=data!$B$2,\"Souvislá údržba\",IF('v přípravě a připraveno'!B474=data!$B$3,\"Most\",\"-\"))","v":"-"},{"$f":"IF('v přípravě a připraveno'!B474=data!$B$2,\"Rekonstrukce\",IF('v přípravě a připraveno'!B474=data!$B$3,\"Propustek\",\"-\"))","v":"-"},null,null,null,null,null,null,null,null,null,null,null,null,null,null,null,{"$f":"IF('náměty na projekční přípravu'!B571=data!$S$2,\"Souvislá údržba\",IF('náměty na projekční přípravu'!B571=data!$S$3,\"Most\",\"-\"))","v":"-"},{"$f":"IF('náměty na projekční přípravu'!B571=data!$S$2,\"Rekonstrukce\",IF('náměty na projekční přípravu'!B571=data!$S$3,\"Propustek\",\"-\"))","v":"-"}]
[null,null,null,null,null,null,null,null,null,null,null,{"$f":"IF('v přípravě a připraveno'!B475=data!$B$2,\"Souvislá údržba\",IF('v přípravě a připraveno'!B475=data!$B$3,\"Most\",\"-\"))","v":"-"},{"$f":"IF('v přípravě a připraveno'!B475=data!$B$2,\"Rekonstrukce\",IF('v přípravě a připraveno'!B475=data!$B$3,\"Propustek\",\"-\"))","v":"-"},null,null,null,null,null,null,null,null,null,null,null,null,null,null,null,{"$f":"IF('náměty na projekční přípravu'!B572=data!$S$2,\"Souvislá údržba\",IF('náměty na projekční přípravu'!B572=data!$S$3,\"Most\",\"-\"))","v":"-"},{"$f":"IF('náměty na projekční přípravu'!B572=data!$S$2,\"Rekonstrukce\",IF('náměty na projekční přípravu'!B572=data!$S$3,\"Propustek\",\"-\"))","v":"-"}]
[null,null,null,null,null,null,null,null,null,null,null,{"$f":"IF('v přípravě a připraveno'!B476=data!$B$2,\"Souvislá údržba\",IF('v přípravě a připraveno'!B476=data!$B$3,\"Most\",\"-\"))","v":"-"},{"$f":"IF('v přípravě a připraveno'!B476=data!$B$2,\"Rekonstrukce\",IF('v přípravě a připraveno'!B476=data!$B$3,\"Propustek\",\"-\"))","v":"-"},null,null,null,null,null,null,null,null,null,null,null,null,null,null,null,{"$f":"IF('náměty na projekční přípravu'!B573=data!$S$2,\"Souvislá údržba\",IF('náměty na projekční přípravu'!B573=data!$S$3,\"Most\",\"-\"))","v":"-"},{"$f":"IF('náměty na projekční přípravu'!B573=data!$S$2,\"Rekonstrukce\",IF('náměty na projekční přípravu'!B573=data!$S$3,\"Propustek\",\"-\"))","v":"-"}]
[null,null,null,null,null,null,null,null,null,null,null,{"$f":"IF('v přípravě a připraveno'!B477=data!$B$2,\"Souvislá údržba\",IF('v přípravě a připraveno'!B477=data!$B$3,\"Most\",\"-\"))","v":"-"},{"$f":"IF('v přípravě a připraveno'!B477=data!$B$2,\"Rekonstrukce\",IF('v přípravě a připraveno'!B477=data!$B$3,\"Propustek\",\"-\"))","v":"-"},null,null,null,null,null,null,null,null,null,null,null,null,null,null,null,{"$f":"IF('náměty na projekční přípravu'!B574=data!$S$2,\"Souvislá údržba\",IF('náměty na projekční přípravu'!B574=data!$S$3,\"Most\",\"-\"))","v":"-"},{"$f":"IF('náměty na projekční přípravu'!B574=data!$S$2,\"Rekonstrukce\",IF('náměty na projekční přípravu'!B574=data!$S$3,\"Propustek\",\"-\"))","v":"-"}]
[null,null,null,null,null,null,null,null,null,null,null,{"$f":"IF('v přípravě a připraveno'!B478=data!$B$2,\"Souvislá údržba\",IF('v přípravě a připraveno'!B478=data!$B$3,\"Most\",\"-\"))","v":"-"},{"$f":"IF('v přípravě a připraveno'!B478=data!$B$2,\"Rekonstrukce\",IF('v přípravě a připraveno'!B478=data!$B$3,\"Propustek\",\"-\"))","v":"-"},null,null,null,null,null,null,null,null,null,null,null,null,null,null,null,{"$f":"IF('náměty na projekční přípravu'!B575=data!$S$2,\"Souvislá údržba\",IF('náměty na projekční přípravu'!B575=data!$S$3,\"Most\",\"-\"))","v":"-"},{"$f":"IF('náměty na projekční přípravu'!B575=data!$S$2,\"Rekonstrukce\",IF('náměty na projekční přípravu'!B575=data!$S$3,\"Propustek\",\"-\"))","v":"-"}]
[null,null,null,null,null,null,null,null,null,null,null,{"$f":"IF('v přípravě a připraveno'!B479=data!$B$2,\"Souvislá údržba\",IF('v přípravě a připraveno'!B479=data!$B$3,\"Most\",\"-\"))","v":"-"},{"$f":"IF('v přípravě a připraveno'!B479=data!$B$2,\"Rekonstrukce\",IF('v přípravě a připraveno'!B479=data!$B$3,\"Propustek\",\"-\"))","v":"-"},null,null,null,null,null,null,null,null,null,null,null,null,null,null,null,{"$f":"IF('náměty na projekční přípravu'!B576=data!$S$2,\"Souvislá údržba\",IF('náměty na projekční přípravu'!B576=data!$S$3,\"Most\",\"-\"))","v":"-"},{"$f":"IF('náměty na projekční přípravu'!B576=data!$S$2,\"Rekonstrukce\",IF('náměty na projekční přípravu'!B576=data!$S$3,\"Propustek\",\"-\"))","v":"-"}]
[null,null,null,null,null,null,null,null,null,null,null,{"$f":"IF('v přípravě a připraveno'!B480=data!$B$2,\"Souvislá údržba\",IF('v přípravě a připraveno'!B480=data!$B$3,\"Most\",\"-\"))","v":"-"},{"$f":"IF('v přípravě a připraveno'!B480=data!$B$2,\"Rekonstrukce\",IF('v přípravě a připraveno'!B480=data!$B$3,\"Propustek\",\"-\"))","v":"-"},null,null,null,null,null,null,null,null,null,null,null,null,null,null,null,{"$f":"IF('náměty na projekční přípravu'!B577=data!$S$2,\"Souvislá údržba\",IF('náměty na projekční přípravu'!B577=data!$S$3,\"Most\",\"-\"))","v":"-"},{"$f":"IF('náměty na projekční přípravu'!B577=data!$S$2,\"Rekonstrukce\",IF('náměty na projekční přípravu'!B577=data!$S$3,\"Propustek\",\"-\"))","v":"-"}]
[null,null,null,null,null,null,null,null,null,null,null,{"$f":"IF('v přípravě a připraveno'!B481=data!$B$2,\"Souvislá údržba\",IF('v přípravě a připraveno'!B481=data!$B$3,\"Most\",\"-\"))","v":"-"},{"$f":"IF('v přípravě a připraveno'!B481=data!$B$2,\"Rekonstrukce\",IF('v přípravě a připraveno'!B481=data!$B$3,\"Propustek\",\"-\"))","v":"-"},null,null,null,null,null,null,null,null,null,null,null,null,null,null,null,{"$f":"IF('náměty na projekční přípravu'!B578=data!$S$2,\"Souvislá údržba\",IF('náměty na projekční přípravu'!B578=data!$S$3,\"Most\",\"-\"))","v":"-"},{"$f":"IF('náměty na projekční přípravu'!B578=data!$S$2,\"Rekonstrukce\",IF('náměty na projekční přípravu'!B578=data!$S$3,\"Propustek\",\"-\"))","v":"-"}]
[null,null,null,null,null,null,null,null,null,null,null,{"$f":"IF('v přípravě a připraveno'!B482=data!$B$2,\"Souvislá údržba\",IF('v přípravě a připraveno'!B482=data!$B$3,\"Most\",\"-\"))","v":"-"},{"$f":"IF('v přípravě a připraveno'!B482=data!$B$2,\"Rekonstrukce\",IF('v přípravě a připraveno'!B482=data!$B$3,\"Propustek\",\"-\"))","v":"-"},null,null,null,null,null,null,null,null,null,null,null,null,null,null,null,{"$f":"IF('náměty na projekční přípravu'!B579=data!$S$2,\"Souvislá údržba\",IF('náměty na projekční přípravu'!B579=data!$S$3,\"Most\",\"-\"))","v":"-"},{"$f":"IF('náměty na projekční přípravu'!B579=data!$S$2,\"Rekonstrukce\",IF('náměty na projekční přípravu'!B579=data!$S$3,\"Propustek\",\"-\"))","v":"-"}]
[null,null,null,null,null,null,null,null,null,null,null,{"$f":"IF('v přípravě a připraveno'!B483=data!$B$2,\"Souvislá údržba\",IF('v přípravě a připraveno'!B483=data!$B$3,\"Most\",\"-\"))","v":"-"},{"$f":"IF('v přípravě a připraveno'!B483=data!$B$2,\"Rekonstrukce\",IF('v přípravě a připraveno'!B483=data!$B$3,\"Propustek\",\"-\"))","v":"-"},null,null,null,null,null,null,null,null,null,null,null,null,null,null,null,{"$f":"IF('náměty na projekční přípravu'!B580=data!$S$2,\"Souvislá údržba\",IF('náměty na projekční přípravu'!B580=data!$S$3,\"Most\",\"-\"))","v":"-"},{"$f":"IF('náměty na projekční přípravu'!B580=data!$S$2,\"Rekonstrukce\",IF('náměty na projekční přípravu'!B580=data!$S$3,\"Propustek\",\"-\"))","v":"-"}]
[null,null,null,null,null,null,null,null,null,null,null,{"$f":"IF('v přípravě a připraveno'!B484=data!$B$2,\"Souvislá údržba\",IF('v přípravě a připraveno'!B484=data!$B$3,\"Most\",\"-\"))","v":"-"},{"$f":"IF('v přípravě a připraveno'!B484=data!$B$2,\"Rekonstrukce\",IF('v přípravě a připraveno'!B484=data!$B$3,\"Propustek\",\"-\"))","v":"-"},null,null,null,null,null,null,null,null,null,null,null,null,null,null,null,{"$f":"IF('náměty na projekční přípravu'!B581=data!$S$2,\"Souvislá údržba\",IF('náměty na projekční přípravu'!B581=data!$S$3,\"Most\",\"-\"))","v":"-"},{"$f":"IF('náměty na projekční přípravu'!B581=data!$S$2,\"Rekonstrukce\",IF('náměty na projekční přípravu'!B581=data!$S$3,\"Propustek\",\"-\"))","v":"-"}]
[null,null,null,null,null,null,null,null,null,null,null,{"$f":"IF('v přípravě a připraveno'!B485=data!$B$2,\"Souvislá údržba\",IF('v přípravě a připraveno'!B485=data!$B$3,\"Most\",\"-\"))","v":"-"},{"$f":"IF('v přípravě a připraveno'!B485=data!$B$2,\"Rekonstrukce\",IF('v přípravě a připraveno'!B485=data!$B$3,\"Propustek\",\"-\"))","v":"-"},null,null,null,null,null,null,null,null,null,null,null,null,null,null,null,{"$f":"IF('náměty na projekční přípravu'!B582=data!$S$2,\"Souvislá údržba\",IF('náměty na projekční přípravu'!B582=data!$S$3,\"Most\",\"-\"))","v":"-"},{"$f":"IF('náměty na projekční přípravu'!B582=data!$S$2,\"Rekonstrukce\",IF('náměty na projekční přípravu'!B582=data!$S$3,\"Propustek\",\"-\"))","v":"-"}]
[null,null,null,null,null,null,null,null,null,null,null,{"$f":"IF('v přípravě a připraveno'!B486=data!$B$2,\"Souvislá údržba\",IF('v přípravě a připraveno'!B486=data!$B$3,\"Most\",\"-\"))","v":"-"},{"$f":"IF('v přípravě a připraveno'!B486=data!$B$2,\"Rekonstrukce\",IF('v přípravě a připraveno'!B486=data!$B$3,\"Propustek\",\"-\"))","v":"-"},null,null,null,null,null,null,null,null,null,null,null,null,null,null,null,{"$f":"IF('náměty na projekční přípravu'!B583=data!$S$2,\"Souvislá údržba\",IF('náměty na projekční přípravu'!B583=data!$S$3,\"Most\",\"-\"))","v":"-"},{"$f":"IF('náměty na projekční přípravu'!B583=data!$S$2,\"Rekonstrukce\",IF('náměty na projekční přípravu'!B583=data!$S$3,\"Propustek\",\"-\"))","v":"-"}]
[null,null,null,null,null,null,null,null,null,null,null,{"$f":"IF('v přípravě a připraveno'!B487=data!$B$2,\"Souvislá údržba\",IF('v přípravě a připraveno'!B487=data!$B$3,\"Most\",\"-\"))","v":"-"},{"$f":"IF('v přípravě a připraveno'!B487=data!$B$2,\"Rekonstrukce\",IF('v přípravě a připraveno'!B487=data!$B$3,\"Propustek\",\"-\"))","v":"-"},null,null,null,null,null,null,null,null,null,null,null,null,null,null,null,{"$f":"IF('náměty na projekční přípravu'!B584=data!$S$2,\"Souvislá údržba\",IF('náměty na projekční přípravu'!B584=data!$S$3,\"Most\",\"-\"))","v":"-"},{"$f":"IF('náměty na projekční přípravu'!B584=data!$S$2,\"Rekonstrukce\",IF('náměty na projekční přípravu'!B584=data!$S$3,\"Propustek\",\"-\"))","v":"-"}]
[null,null,null,null,null,null,null,null,null,null,null,{"$f":"IF('v přípravě a připraveno'!B488=data!$B$2,\"Souvislá údržba\",IF('v přípravě a připraveno'!B488=data!$B$3,\"Most\",\"-\"))","v":"-"},{"$f":"IF('v přípravě a připraveno'!B488=data!$B$2,\"Rekonstrukce\",IF('v přípravě a připraveno'!B488=data!$B$3,\"Propustek\",\"-\"))","v":"-"},null,null,null,null,null,null,null,null,null,null,null,null,null,null,null,{"$f":"IF('náměty na projekční přípravu'!B585=data!$S$2,\"Souvislá údržba\",IF('náměty na projekční přípravu'!B585=data!$S$3,\"Most\",\"-\"))","v":"-"},{"$f":"IF('náměty na projekční přípravu'!B585=data!$S$2,\"Rekonstrukce\",IF('náměty na projekční přípravu'!B585=data!$S$3,\"Propustek\",\"-\"))","v":"-"}]
[null,null,null,null,null,null,null,null,null,null,null,{"$f":"IF('v přípravě a připraveno'!B489=data!$B$2,\"Souvislá údržba\",IF('v přípravě a připraveno'!B489=data!$B$3,\"Most\",\"-\"))","v":"-"},{"$f":"IF('v přípravě a připraveno'!B489=data!$B$2,\"Rekonstrukce\",IF('v přípravě a připraveno'!B489=data!$B$3,\"Propustek\",\"-\"))","v":"-"},null,null,null,null,null,null,null,null,null,null,null,null,null,null,null,{"$f":"IF('náměty na projekční přípravu'!B586=data!$S$2,\"Souvislá údržba\",IF('náměty na projekční přípravu'!B586=data!$S$3,\"Most\",\"-\"))","v":"-"},{"$f":"IF('náměty na projekční přípravu'!B586=data!$S$2,\"Rekonstrukce\",IF('náměty na projekční přípravu'!B586=data!$S$3,\"Propustek\",\"-\"))","v":"-"}]
[null,null,null,null,null,null,null,null,null,null,null,{"$f":"IF('v přípravě a připraveno'!B490=data!$B$2,\"Souvislá údržba\",IF('v přípravě a připraveno'!B490=data!$B$3,\"Most\",\"-\"))","v":"-"},{"$f":"IF('v přípravě a připraveno'!B490=data!$B$2,\"Rekonstrukce\",IF('v přípravě a připraveno'!B490=data!$B$3,\"Propustek\",\"-\"))","v":"-"},null,null,null,null,null,null,null,null,null,null,null,null,null,null,null,{"$f":"IF('náměty na projekční přípravu'!B587=data!$S$2,\"Souvislá údržba\",IF('náměty na projekční přípravu'!B587=data!$S$3,\"Most\",\"-\"))","v":"-"},{"$f":"IF('náměty na projekční přípravu'!B587=data!$S$2,\"Rekonstrukce\",IF('náměty na projekční přípravu'!B587=data!$S$3,\"Propustek\",\"-\"))","v":"-"}]
[null,null,null,null,null,null,null,null,null,null,null,{"$f":"IF('v přípravě a připraveno'!B491=data!$B$2,\"Souvislá údržba\",IF('v přípravě a připraveno'!B491=data!$B$3,\"Most\",\"-\"))","v":"-"},{"$f":"IF('v přípravě a připraveno'!B491=data!$B$2,\"Rekonstrukce\",IF('v přípravě a připraveno'!B491=data!$B$3,\"Propustek\",\"-\"))","v":"-"},null,null,null,null,null,null,null,null,null,null,null,null,null,null,null,{"$f":"IF('náměty na projekční přípravu'!B588=data!$S$2,\"Souvislá údržba\",IF('náměty na projekční přípravu'!B588=data!$S$3,\"Most\",\"-\"))","v":"-"},{"$f":"IF('náměty na projekční přípravu'!B588=data!$S$2,\"Rekonstrukce\",IF('náměty na projekční přípravu'!B588=data!$S$3,\"Propustek\",\"-\"))","v":"-"}]
[null,null,null,null,null,null,null,null,null,null,null,{"$f":"IF('v přípravě a připraveno'!B492=data!$B$2,\"Souvislá údržba\",IF('v přípravě a připraveno'!B492=data!$B$3,\"Most\",\"-\"))","v":"-"},{"$f":"IF('v přípravě a připraveno'!B492=data!$B$2,\"Rekonstrukce\",IF('v přípravě a připraveno'!B492=data!$B$3,\"Propustek\",\"-\"))","v":"-"},null,null,null,null,null,null,null,null,null,null,null,null,null,null,null,{"$f":"IF('náměty na projekční přípravu'!B589=data!$S$2,\"Souvislá údržba\",IF('náměty na projekční přípravu'!B589=data!$S$3,\"Most\",\"-\"))","v":"-"},{"$f":"IF('náměty na projekční přípravu'!B589=data!$S$2,\"Rekonstrukce\",IF('náměty na projekční přípravu'!B589=data!$S$3,\"Propustek\",\"-\"))","v":"-"}]
[null,null,null,null,null,null,null,null,null,null,null,{"$f":"IF('v přípravě a připraveno'!B493=data!$B$2,\"Souvislá údržba\",IF('v přípravě a připraveno'!B493=data!$B$3,\"Most\",\"-\"))","v":"-"},{"$f":"IF('v přípravě a připraveno'!B493=data!$B$2,\"Rekonstrukce\",IF('v přípravě a připraveno'!B493=data!$B$3,\"Propustek\",\"-\"))","v":"-"},null,null,null,null,null,null,null,null,null,null,null,null,null,null,null,{"$f":"IF('náměty na projekční přípravu'!B590=data!$S$2,\"Souvislá údržba\",IF('náměty na projekční přípravu'!B590=data!$S$3,\"Most\",\"-\"))","v":"-"},{"$f":"IF('náměty na projekční přípravu'!B590=data!$S$2,\"Rekonstrukce\",IF('náměty na projekční přípravu'!B590=data!$S$3,\"Propustek\",\"-\"))","v":"-"}]
[null,null,null,null,null,null,null,null,null,null,null,{"$f":"IF('v přípravě a připraveno'!B494=data!$B$2,\"Souvislá údržba\",IF('v přípravě a připraveno'!B494=data!$B$3,\"Most\",\"-\"))","v":"-"},{"$f":"IF('v přípravě a připraveno'!B494=data!$B$2,\"Rekonstrukce\",IF('v přípravě a připraveno'!B494=data!$B$3,\"Propustek\",\"-\"))","v":"-"},null,null,null,null,null,null,null,null,null,null,null,null,null,null,null,{"$f":"IF('náměty na projekční přípravu'!B591=data!$S$2,\"Souvislá údržba\",IF('náměty na projekční přípravu'!B591=data!$S$3,\"Most\",\"-\"))","v":"-"},{"$f":"IF('náměty na projekční přípravu'!B591=data!$S$2,\"Rekonstrukce\",IF('náměty na projekční přípravu'!B591=data!$S$3,\"Propustek\",\"-\"))","v":"-"}]
[null,null,null,null,null,null,null,null,null,null,null,{"$f":"IF('v přípravě a připraveno'!B495=data!$B$2,\"Souvislá údržba\",IF('v přípravě a připraveno'!B495=data!$B$3,\"Most\",\"-\"))","v":"-"},{"$f":"IF('v přípravě a připraveno'!B495=data!$B$2,\"Rekonstrukce\",IF('v přípravě a připraveno'!B495=data!$B$3,\"Propustek\",\"-\"))","v":"-"},null,null,null,null,null,null,null,null,null,null,null,null,null,null,null,{"$f":"IF('náměty na projekční přípravu'!B592=data!$S$2,\"Souvislá údržba\",IF('náměty na projekční přípravu'!B592=data!$S$3,\"Most\",\"-\"))","v":"-"},{"$f":"IF('náměty na projekční přípravu'!B592=data!$S$2,\"Rekonstrukce\",IF('náměty na projekční přípravu'!B592=data!$S$3,\"Propustek\",\"-\"))","v":"-"}]
[null,null,null,null,null,null,null,null,null,null,null,{"$f":"IF('v přípravě a připraveno'!B496=data!$B$2,\"Souvislá údržba\",IF('v přípravě a připraveno'!B496=data!$B$3,\"Most\",\"-\"))","v":"-"},{"$f":"IF('v přípravě a připraveno'!B496=data!$B$2,\"Rekonstrukce\",IF('v přípravě a připraveno'!B496=data!$B$3,\"Propustek\",\"-\"))","v":"-"},null,null,null,null,null,null,null,null,null,null,null,null,null,null,null,{"$f":"IF('náměty na projekční přípravu'!B593=data!$S$2,\"Souvislá údržba\",IF('náměty na projekční přípravu'!B593=data!$S$3,\"Most\",\"-\"))","v":"-"},{"$f":"IF('náměty na projekční přípravu'!B593=data!$S$2,\"Rekonstrukce\",IF('náměty na projekční přípravu'!B593=data!$S$3,\"Propustek\",\"-\"))","v":"-"}]
[null,null,null,null,null,null,null,null,null,null,null,{"$f":"IF('v přípravě a připraveno'!B497=data!$B$2,\"Souvislá údržba\",IF('v přípravě a připraveno'!B497=data!$B$3,\"Most\",\"-\"))","v":"-"},{"$f":"IF('v přípravě a připraveno'!B497=data!$B$2,\"Rekonstrukce\",IF('v přípravě a připraveno'!B497=data!$B$3,\"Propustek\",\"-\"))","v":"-"},null,null,null,null,null,null,null,null,null,null,null,null,null,null,null,{"$f":"IF('náměty na projekční přípravu'!B594=data!$S$2,\"Souvislá údržba\",IF('náměty na projekční přípravu'!B594=data!$S$3,\"Most\",\"-\"))","v":"-"},{"$f":"IF('náměty na projekční přípravu'!B594=data!$S$2,\"Rekonstrukce\",IF('náměty na projekční přípravu'!B594=data!$S$3,\"Propustek\",\"-\"))","v":"-"}]
[null,null,null,null,null,null,null,null,null,null,null,{"$f":"IF('v přípravě a připraveno'!B498=data!$B$2,\"Souvislá údržba\",IF('v přípravě a připraveno'!B498=data!$B$3,\"Most\",\"-\"))","v":"-"},{"$f":"IF('v přípravě a připraveno'!B498=data!$B$2,\"Rekonstrukce\",IF('v přípravě a připraveno'!B498=data!$B$3,\"Propustek\",\"-\"))","v":"-"},null,null,null,null,null,null,null,null,null,null,null,null,null,null,null,{"$f":"IF('náměty na projekční přípravu'!B595=data!$S$2,\"Souvislá údržba\",IF('náměty na projekční přípravu'!B595=data!$S$3,\"Most\",\"-\"))","v":"-"},{"$f":"IF('náměty na projekční přípravu'!B595=data!$S$2,\"Rekonstrukce\",IF('náměty na projekční přípravu'!B595=data!$S$3,\"Propustek\",\"-\"))","v":"-"}]
[null,null,null,null,null,null,null,null,null,null,null,{"$f":"IF('v přípravě a připraveno'!B499=data!$B$2,\"Souvislá údržba\",IF('v přípravě a připraveno'!B499=data!$B$3,\"Most\",\"-\"))","v":"-"},{"$f":"IF('v přípravě a připraveno'!B499=data!$B$2,\"Rekonstrukce\",IF('v přípravě a připraveno'!B499=data!$B$3,\"Propustek\",\"-\"))","v":"-"},null,null,null,null,null,null,null,null,null,null,null,null,null,null,null,{"$f":"IF('náměty na projekční přípravu'!B596=data!$S$2,\"Souvislá údržba\",IF('náměty na projekční přípravu'!B596=data!$S$3,\"Most\",\"-\"))","v":"-"},{"$f":"IF('náměty na projekční přípravu'!B596=data!$S$2,\"Rekonstrukce\",IF('náměty na projekční přípravu'!B596=data!$S$3,\"Propustek\",\"-\"))","v":"-"}]
[null,null,null,null,null,null,null,null,null,null,null,{"$f":"IF('v přípravě a připraveno'!B500=data!$B$2,\"Souvislá údržba\",IF('v přípravě a připraveno'!B500=data!$B$3,\"Most\",\"-\"))","v":"-"},{"$f":"IF('v přípravě a připraveno'!B500=data!$B$2,\"Rekonstrukce\",IF('v přípravě a připraveno'!B500=data!$B$3,\"Propustek\",\"-\"))","v":"-"},null,null,null,null,null,null,null,null,null,null,null,null,null,null,null,{"$f":"IF('náměty na projekční přípravu'!B597=data!$S$2,\"Souvislá údržba\",IF('náměty na projekční přípravu'!B597=data!$S$3,\"Most\",\"-\"))","v":"-"},{"$f":"IF('náměty na projekční přípravu'!B597=data!$S$2,\"Rekonstrukce\",IF('náměty na projekční přípravu'!B597=data!$S$3,\"Propustek\",\"-\"))","v":"-"}]
[null,null,null,null,null,null,null,null,null,null,null,{"$f":"IF('v přípravě a připraveno'!B501=data!$B$2,\"Souvislá údržba\",IF('v přípravě a připraveno'!B501=data!$B$3,\"Most\",\"-\"))","v":"-"},{"$f":"IF('v přípravě a připraveno'!B501=data!$B$2,\"Rekonstrukce\",IF('v přípravě a připraveno'!B501=data!$B$3,\"Propustek\",\"-\"))","v":"-"},null,null,null,null,null,null,null,null,null,null,null,null,null,null,null,{"$f":"IF('náměty na projekční přípravu'!B598=data!$S$2,\"Souvislá údržba\",IF('náměty na projekční přípravu'!B598=data!$S$3,\"Most\",\"-\"))","v":"-"},{"$f":"IF('náměty na projekční přípravu'!B598=data!$S$2,\"Rekonstrukce\",IF('náměty na projekční přípravu'!B598=data!$S$3,\"Propustek\",\"-\"))","v":"-"}]
[null,null,null,null,null,null,null,null,null,null,null,{"$f":"IF('v přípravě a připraveno'!B502=data!$B$2,\"Souvislá údržba\",IF('v přípravě a připraveno'!B502=data!$B$3,\"Most\",\"-\"))","v":"-"},{"$f":"IF('v přípravě a připraveno'!B502=data!$B$2,\"Rekonstrukce\",IF('v přípravě a připraveno'!B502=data!$B$3,\"Propustek\",\"-\"))","v":"-"},null,null,null,null,null,null,null,null,null,null,null,null,null,null,null,{"$f":"IF('náměty na projekční přípravu'!B599=data!$S$2,\"Souvislá údržba\",IF('náměty na projekční přípravu'!B599=data!$S$3,\"Most\",\"-\"))","v":"-"},{"$f":"IF('náměty na projekční přípravu'!B599=data!$S$2,\"Rekonstrukce\",IF('náměty na projekční přípravu'!B599=data!$S$3,\"Propustek\",\"-\"))","v":"-"}]
[null,null,null,null,null,null,null,null,null,null,null,{"$f":"IF('v přípravě a připraveno'!B503=data!$B$2,\"Souvislá údržba\",IF('v přípravě a připraveno'!B503=data!$B$3,\"Most\",\"-\"))","v":"-"},{"$f":"IF('v přípravě a připraveno'!B503=data!$B$2,\"Rekonstrukce\",IF('v přípravě a připraveno'!B503=data!$B$3,\"Propustek\",\"-\"))","v":"-"},null,null,null,null,null,null,null,null,null,null,null,null,null,null,null,{"$f":"IF('náměty na projekční přípravu'!B600=data!$S$2,\"Souvislá údržba\",IF('náměty na projekční přípravu'!B600=data!$S$3,\"Most\",\"-\"))","v":"-"},{"$f":"IF('náměty na projekční přípravu'!B600=data!$S$2,\"Rekonstrukce\",IF('náměty na projekční přípravu'!B600=data!$S$3,\"Propustek\",\"-\"))","v":"-"}]
[null,null,null,null,null,null,null,null,null,null,null,{"$f":"IF('v přípravě a připraveno'!B504=data!$B$2,\"Souvislá údržba\",IF('v přípravě a připraveno'!B504=data!$B$3,\"Most\",\"-\"))","v":"-"},{"$f":"IF('v přípravě a připraveno'!B504=data!$B$2,\"Rekonstrukce\",IF('v přípravě a připraveno'!B504=data!$B$3,\"Propustek\",\"-\"))","v":"-"},null,null,null,null,null,null,null,null,null,null,null,null,null,null,null,{"$f":"IF('náměty na projekční přípravu'!B601=data!$S$2,\"Souvislá údržba\",IF('náměty na projekční přípravu'!B601=data!$S$3,\"Most\",\"-\"))","v":"-"},{"$f":"IF('náměty na projekční přípravu'!B601=data!$S$2,\"Rekonstrukce\",IF('náměty na projekční přípravu'!B601=data!$S$3,\"Propustek\",\"-\"))","v":"-"}]
[null,null,null,null,null,null,null,null,null,null,null,{"$f":"IF('v přípravě a připraveno'!B505=data!$B$2,\"Souvislá údržba\",IF('v přípravě a připraveno'!B505=data!$B$3,\"Most\",\"-\"))","v":"-"},{"$f":"IF('v přípravě a připraveno'!B505=data!$B$2,\"Rekonstrukce\",IF('v přípravě a připraveno'!B505=data!$B$3,\"Propustek\",\"-\"))","v":"-"},null,null,null,null,null,null,null,null,null,null,null,null,null,null,null,{"$f":"IF('náměty na projekční přípravu'!B602=data!$S$2,\"Souvislá údržba\",IF('náměty na projekční přípravu'!B602=data!$S$3,\"Most\",\"-\"))","v":"-"},{"$f":"IF('náměty na projekční přípravu'!B602=data!$S$2,\"Rekonstrukce\",IF('náměty na projekční přípravu'!B602=data!$S$3,\"Propustek\",\"-\"))","v":"-"}]
[null,null,null,null,null,null,null,null,null,null,null,{"$f":"IF('v přípravě a připraveno'!B506=data!$B$2,\"Souvislá údržba\",IF('v přípravě a připraveno'!B506=data!$B$3,\"Most\",\"-\"))","v":"-"},{"$f":"IF('v přípravě a připraveno'!B506=data!$B$2,\"Rekonstrukce\",IF('v přípravě a připraveno'!B506=data!$B$3,\"Propustek\",\"-\"))","v":"-"},null,null,null,null,null,null,null,null,null,null,null,null,null,null,null,{"$f":"IF('náměty na projekční přípravu'!B603=data!$S$2,\"Souvislá údržba\",IF('náměty na projekční přípravu'!B603=data!$S$3,\"Most\",\"-\"))","v":"-"},{"$f":"IF('náměty na projekční přípravu'!B603=data!$S$2,\"Rekonstrukce\",IF('náměty na projekční přípravu'!B603=data!$S$3,\"Propustek\",\"-\"))","v":"-"}]
[null,null,null,null,null,null,null,null,null,null,null,{"$f":"IF('v přípravě a připraveno'!B507=data!$B$2,\"Souvislá údržba\",IF('v přípravě a připraveno'!B507=data!$B$3,\"Most\",\"-\"))","v":"-"},{"$f":"IF('v přípravě a připraveno'!B507=data!$B$2,\"Rekonstrukce\",IF('v přípravě a připraveno'!B507=data!$B$3,\"Propustek\",\"-\"))","v":"-"},null,null,null,null,null,null,null,null,null,null,null,null,null,null,null,{"$f":"IF('náměty na projekční přípravu'!B604=data!$S$2,\"Souvislá údržba\",IF('náměty na projekční přípravu'!B604=data!$S$3,\"Most\",\"-\"))","v":"-"},{"$f":"IF('náměty na projekční přípravu'!B604=data!$S$2,\"Rekonstrukce\",IF('náměty na projekční přípravu'!B604=data!$S$3,\"Propustek\",\"-\"))","v":"-"}]
[null,null,null,null,null,null,null,null,null,null,null,{"$f":"IF('v přípravě a připraveno'!B508=data!$B$2,\"Souvislá údržba\",IF('v přípravě a připraveno'!B508=data!$B$3,\"Most\",\"-\"))","v":"-"},{"$f":"IF('v přípravě a připraveno'!B508=data!$B$2,\"Rekonstrukce\",IF('v přípravě a připraveno'!B508=data!$B$3,\"Propustek\",\"-\"))","v":"-"},null,null,null,null,null,null,null,null,null,null,null,null,null,null,null,{"$f":"IF('náměty na projekční přípravu'!B605=data!$S$2,\"Souvislá údržba\",IF('náměty na projekční přípravu'!B605=data!$S$3,\"Most\",\"-\"))","v":"-"},{"$f":"IF('náměty na projekční přípravu'!B605=data!$S$2,\"Rekonstrukce\",IF('náměty na projekční přípravu'!B605=data!$S$3,\"Propustek\",\"-\"))","v":"-"}]
[null,null,null,null,null,null,null,null,null,null,null,{"$f":"IF('v přípravě a připraveno'!B509=data!$B$2,\"Souvislá údržba\",IF('v přípravě a připraveno'!B509=data!$B$3,\"Most\",\"-\"))","v":"-"},{"$f":"IF('v přípravě a připraveno'!B509=data!$B$2,\"Rekonstrukce\",IF('v přípravě a připraveno'!B509=data!$B$3,\"Propustek\",\"-\"))","v":"-"},null,null,null,null,null,null,null,null,null,null,null,null,null,null,null,{"$f":"IF('náměty na projekční přípravu'!B606=data!$S$2,\"Souvislá údržba\",IF('náměty na projekční přípravu'!B606=data!$S$3,\"Most\",\"-\"))","v":"-"},{"$f":"IF('náměty na projekční přípravu'!B606=data!$S$2,\"Rekonstrukce\",IF('náměty na projekční přípravu'!B606=data!$S$3,\"Propustek\",\"-\"))","v":"-"}]
[null,null,null,null,null,null,null,null,null,null,null,{"$f":"IF('v přípravě a připraveno'!B510=data!$B$2,\"Souvislá údržba\",IF('v přípravě a připraveno'!B510=data!$B$3,\"Most\",\"-\"))","v":"-"},{"$f":"IF('v přípravě a připraveno'!B510=data!$B$2,\"Rekonstrukce\",IF('v přípravě a připraveno'!B510=data!$B$3,\"Propustek\",\"-\"))","v":"-"},null,null,null,null,null,null,null,null,null,null,null,null,null,null,null,{"$f":"IF('náměty na projekční přípravu'!B607=data!$S$2,\"Souvislá údržba\",IF('náměty na projekční přípravu'!B607=data!$S$3,\"Most\",\"-\"))","v":"-"},{"$f":"IF('náměty na projekční přípravu'!B607=data!$S$2,\"Rekonstrukce\",IF('náměty na projekční přípravu'!B607=data!$S$3,\"Propustek\",\"-\"))","v":"-"}]
[null,null,null,null,null,null,null,null,null,null,null,{"$f":"IF('v přípravě a připraveno'!B511=data!$B$2,\"Souvislá údržba\",IF('v přípravě a připraveno'!B511=data!$B$3,\"Most\",\"-\"))","v":"-"},{"$f":"IF('v přípravě a připraveno'!B511=data!$B$2,\"Rekonstrukce\",IF('v přípravě a připraveno'!B511=data!$B$3,\"Propustek\",\"-\"))","v":"-"},null,null,null,null,null,null,null,null,null,null,null,null,null,null,null,{"$f":"IF('náměty na projekční přípravu'!B608=data!$S$2,\"Souvislá údržba\",IF('náměty na projekční přípravu'!B608=data!$S$3,\"Most\",\"-\"))","v":"-"},{"$f":"IF('náměty na projekční přípravu'!B608=data!$S$2,\"Rekonstrukce\",IF('náměty na projekční přípravu'!B608=data!$S$3,\"Propustek\",\"-\"))","v":"-"}]
[null,null,null,null,null,null,null,null,null,null,null,{"$f":"IF('v přípravě a připraveno'!B512=data!$B$2,\"Souvislá údržba\",IF('v přípravě a připraveno'!B512=data!$B$3,\"Most\",\"-\"))","v":"-"},{"$f":"IF('v přípravě a připraveno'!B512=data!$B$2,\"Rekonstrukce\",IF('v přípravě a připraveno'!B512=data!$B$3,\"Propustek\",\"-\"))","v":"-"},null,null,null,null,null,null,null,null,null,null,null,null,null,null,null,{"$f":"IF('náměty na projekční přípravu'!B609=data!$S$2,\"Souvislá údržba\",IF('náměty na projekční přípravu'!B609=data!$S$3,\"Most\",\"-\"))","v":"-"},{"$f":"IF('náměty na projekční přípravu'!B609=data!$S$2,\"Rekonstrukce\",IF('náměty na projekční přípravu'!B609=data!$S$3,\"Propustek\",\"-\"))","v":"-"}]
[null,null,null,null,null,null,null,null,null,null,null,{"$f":"IF('v přípravě a připraveno'!B513=data!$B$2,\"Souvislá údržba\",IF('v přípravě a připraveno'!B513=data!$B$3,\"Most\",\"-\"))","v":"-"},{"$f":"IF('v přípravě a připraveno'!B513=data!$B$2,\"Rekonstrukce\",IF('v přípravě a připraveno'!B513=data!$B$3,\"Propustek\",\"-\"))","v":"-"},null,null,null,null,null,null,null,null,null,null,null,null,null,null,null,{"$f":"IF('náměty na projekční přípravu'!B610=data!$S$2,\"Souvislá údržba\",IF('náměty na projekční přípravu'!B610=data!$S$3,\"Most\",\"-\"))","v":"-"},{"$f":"IF('náměty na projekční přípravu'!B610=data!$S$2,\"Rekonstrukce\",IF('náměty na projekční přípravu'!B610=data!$S$3,\"Propustek\",\"-\"))","v":"-"}]
[null,null,null,null,null,null,null,null,null,null,null,{"$f":"IF('v přípravě a připraveno'!B514=data!$B$2,\"Souvislá údržba\",IF('v přípravě a připraveno'!B514=data!$B$3,\"Most\",\"-\"))","v":"-"},{"$f":"IF('v přípravě a připraveno'!B514=data!$B$2,\"Rekonstrukce\",IF('v přípravě a připraveno'!B514=data!$B$3,\"Propustek\",\"-\"))","v":"-"},null,null,null,null,null,null,null,null,null,null,null,null,null,null,null,{"$f":"IF('náměty na projekční přípravu'!B611=data!$S$2,\"Souvislá údržba\",IF('náměty na projekční přípravu'!B611=data!$S$3,\"Most\",\"-\"))","v":"-"},{"$f":"IF('náměty na projekční přípravu'!B611=data!$S$2,\"Rekonstrukce\",IF('náměty na projekční přípravu'!B611=data!$S$3,\"Propustek\",\"-\"))","v":"-"}]
[null,null,null,null,null,null,null,null,null,null,null,{"$f":"IF('v přípravě a připraveno'!B515=data!$B$2,\"Souvislá údržba\",IF('v přípravě a připraveno'!B515=data!$B$3,\"Most\",\"-\"))","v":"-"},{"$f":"IF('v přípravě a připraveno'!B515=data!$B$2,\"Rekonstrukce\",IF('v přípravě a připraveno'!B515=data!$B$3,\"Propustek\",\"-\"))","v":"-"},null,null,null,null,null,null,null,null,null,null,null,null,null,null,null,{"$f":"IF('náměty na projekční přípravu'!B612=data!$S$2,\"Souvislá údržba\",IF('náměty na projekční přípravu'!B612=data!$S$3,\"Most\",\"-\"))","v":"-"},{"$f":"IF('náměty na projekční přípravu'!B612=data!$S$2,\"Rekonstrukce\",IF('náměty na projekční přípravu'!B612=data!$S$3,\"Propustek\",\"-\"))","v":"-"}]
[null,null,null,null,null,null,null,null,null,null,null,{"$f":"IF('v přípravě a připraveno'!B516=data!$B$2,\"Souvislá údržba\",IF('v přípravě a připraveno'!B516=data!$B$3,\"Most\",\"-\"))","v":"-"},{"$f":"IF('v přípravě a připraveno'!B516=data!$B$2,\"Rekonstrukce\",IF('v přípravě a připraveno'!B516=data!$B$3,\"Propustek\",\"-\"))","v":"-"},null,null,null,null,null,null,null,null,null,null,null,null,null,null,null,{"$f":"IF('náměty na projekční přípravu'!B613=data!$S$2,\"Souvislá údržba\",IF('náměty na projekční přípravu'!B613=data!$S$3,\"Most\",\"-\"))","v":"-"},{"$f":"IF('náměty na projekční přípravu'!B613=data!$S$2,\"Rekonstrukce\",IF('náměty na projekční přípravu'!B613=data!$S$3,\"Propustek\",\"-\"))","v":"-"}]
[null,null,null,null,null,null,null,null,null,null,null,{"$f":"IF('v přípravě a připraveno'!B517=data!$B$2,\"Souvislá údržba\",IF('v přípravě a připraveno'!B517=data!$B$3,\"Most\",\"-\"))","v":"-"},{"$f":"IF('v přípravě a připraveno'!B517=data!$B$2,\"Rekonstrukce\",IF('v přípravě a připraveno'!B517=data!$B$3,\"Propustek\",\"-\"))","v":"-"},null,null,null,null,null,null,null,null,null,null,null,null,null,null,null,{"$f":"IF('náměty na projekční přípravu'!B614=data!$S$2,\"Souvislá údržba\",IF('náměty na projekční přípravu'!B614=data!$S$3,\"Most\",\"-\"))","v":"-"},{"$f":"IF('náměty na projekční přípravu'!B614=data!$S$2,\"Rekonstrukce\",IF('náměty na projekční přípravu'!B614=data!$S$3,\"Propustek\",\"-\"))","v":"-"}]
[null,null,null,null,null,null,null,null,null,null,null,{"$f":"IF('v přípravě a připraveno'!B518=data!$B$2,\"Souvislá údržba\",IF('v přípravě a připraveno'!B518=data!$B$3,\"Most\",\"-\"))","v":"-"},{"$f":"IF('v přípravě a připraveno'!B518=data!$B$2,\"Rekonstrukce\",IF('v přípravě a připraveno'!B518=data!$B$3,\"Propustek\",\"-\"))","v":"-"},null,null,null,null,null,null,null,null,null,null,null,null,null,null,null,{"$f":"IF('náměty na projekční přípravu'!B615=data!$S$2,\"Souvislá údržba\",IF('náměty na projekční přípravu'!B615=data!$S$3,\"Most\",\"-\"))","v":"-"},{"$f":"IF('náměty na projekční přípravu'!B615=data!$S$2,\"Rekonstrukce\",IF('náměty na projekční přípravu'!B615=data!$S$3,\"Propustek\",\"-\"))","v":"-"}]
[null,null,null,null,null,null,null,null,null,null,null,{"$f":"IF('v přípravě a připraveno'!B519=data!$B$2,\"Souvislá údržba\",IF('v přípravě a připraveno'!B519=data!$B$3,\"Most\",\"-\"))","v":"-"},{"$f":"IF('v přípravě a připraveno'!B519=data!$B$2,\"Rekonstrukce\",IF('v přípravě a připraveno'!B519=data!$B$3,\"Propustek\",\"-\"))","v":"-"},null,null,null,null,null,null,null,null,null,null,null,null,null,null,null,{"$f":"IF('náměty na projekční přípravu'!B616=data!$S$2,\"Souvislá údržba\",IF('náměty na projekční přípravu'!B616=data!$S$3,\"Most\",\"-\"))","v":"-"},{"$f":"IF('náměty na projekční přípravu'!B616=data!$S$2,\"Rekonstrukce\",IF('náměty na projekční přípravu'!B616=data!$S$3,\"Propustek\",\"-\"))","v":"-"}]
[null,null,null,null,null,null,null,null,null,null,null,{"$f":"IF('v přípravě a připraveno'!B520=data!$B$2,\"Souvislá údržba\",IF('v přípravě a připraveno'!B520=data!$B$3,\"Most\",\"-\"))","v":"-"},{"$f":"IF('v přípravě a připraveno'!B520=data!$B$2,\"Rekonstrukce\",IF('v přípravě a připraveno'!B520=data!$B$3,\"Propustek\",\"-\"))","v":"-"},null,null,null,null,null,null,null,null,null,null,null,null,null,null,null,{"$f":"IF('náměty na projekční přípravu'!B617=data!$S$2,\"Souvislá údržba\",IF('náměty na projekční přípravu'!B617=data!$S$3,\"Most\",\"-\"))","v":"-"},{"$f":"IF('náměty na projekční přípravu'!B617=data!$S$2,\"Rekonstrukce\",IF('náměty na projekční přípravu'!B617=data!$S$3,\"Propustek\",\"-\"))","v":"-"}]
[null,null,null,null,null,null,null,null,null,null,null,{"$f":"IF('v přípravě a připraveno'!B521=data!$B$2,\"Souvislá údržba\",IF('v přípravě a připraveno'!B521=data!$B$3,\"Most\",\"-\"))","v":"-"},{"$f":"IF('v přípravě a připraveno'!B521=data!$B$2,\"Rekonstrukce\",IF('v přípravě a připraveno'!B521=data!$B$3,\"Propustek\",\"-\"))","v":"-"},null,null,null,null,null,null,null,null,null,null,null,null,null,null,null,{"$f":"IF('náměty na projekční přípravu'!B618=data!$S$2,\"Souvislá údržba\",IF('náměty na projekční přípravu'!B618=data!$S$3,\"Most\",\"-\"))","v":"-"},{"$f":"IF('náměty na projekční přípravu'!B618=data!$S$2,\"Rekonstrukce\",IF('náměty na projekční přípravu'!B618=data!$S$3,\"Propustek\",\"-\"))","v":"-"}]
[null,null,null,null,null,null,null,null,null,null,null,{"$f":"IF('v přípravě a připraveno'!B522=data!$B$2,\"Souvislá údržba\",IF('v přípravě a připraveno'!B522=data!$B$3,\"Most\",\"-\"))","v":"-"},{"$f":"IF('v přípravě a připraveno'!B522=data!$B$2,\"Rekonstrukce\",IF('v přípravě a připraveno'!B522=data!$B$3,\"Propustek\",\"-\"))","v":"-"},null,null,null,null,null,null,null,null,null,null,null,null,null,null,null,{"$f":"IF('náměty na projekční přípravu'!B619=data!$S$2,\"Souvislá údržba\",IF('náměty na projekční přípravu'!B619=data!$S$3,\"Most\",\"-\"))","v":"-"},{"$f":"IF('náměty na projekční přípravu'!B619=data!$S$2,\"Rekonstrukce\",IF('náměty na projekční přípravu'!B619=data!$S$3,\"Propustek\",\"-\"))","v":"-"}]
[null,null,null,null,null,null,null,null,null,null,null,{"$f":"IF('v přípravě a připraveno'!B523=data!$B$2,\"Souvislá údržba\",IF('v přípravě a připraveno'!B523=data!$B$3,\"Most\",\"-\"))","v":"-"},{"$f":"IF('v přípravě a připraveno'!B523=data!$B$2,\"Rekonstrukce\",IF('v přípravě a připraveno'!B523=data!$B$3,\"Propustek\",\"-\"))","v":"-"},null,null,null,null,null,null,null,null,null,null,null,null,null,null,null,{"$f":"IF('náměty na projekční přípravu'!B620=data!$S$2,\"Souvislá údržba\",IF('náměty na projekční přípravu'!B620=data!$S$3,\"Most\",\"-\"))","v":"-"},{"$f":"IF('náměty na projekční přípravu'!B620=data!$S$2,\"Rekonstrukce\",IF('náměty na projekční přípravu'!B620=data!$S$3,\"Propustek\",\"-\"))","v":"-"}]
[null,null,null,null,null,null,null,null,null,null,null,{"$f":"IF('v přípravě a připraveno'!B524=data!$B$2,\"Souvislá údržba\",IF('v přípravě a připraveno'!B524=data!$B$3,\"Most\",\"-\"))","v":"-"},{"$f":"IF('v přípravě a připraveno'!B524=data!$B$2,\"Rekonstrukce\",IF('v přípravě a připraveno'!B524=data!$B$3,\"Propustek\",\"-\"))","v":"-"},null,null,null,null,null,null,null,null,null,null,null,null,null,null,null,{"$f":"IF('náměty na projekční přípravu'!B621=data!$S$2,\"Souvislá údržba\",IF('náměty na projekční přípravu'!B621=data!$S$3,\"Most\",\"-\"))","v":"-"},{"$f":"IF('náměty na projekční přípravu'!B621=data!$S$2,\"Rekonstrukce\",IF('náměty na projekční přípravu'!B621=data!$S$3,\"Propustek\",\"-\"))","v":"-"}]
[null,null,null,null,null,null,null,null,null,null,null,{"$f":"IF('v přípravě a připraveno'!B525=data!$B$2,\"Souvislá údržba\",IF('v přípravě a připraveno'!B525=data!$B$3,\"Most\",\"-\"))","v":"-"},{"$f":"IF('v přípravě a připraveno'!B525=data!$B$2,\"Rekonstrukce\",IF('v přípravě a připraveno'!B525=data!$B$3,\"Propustek\",\"-\"))","v":"-"},null,null,null,null,null,null,null,null,null,null,null,null,null,null,null,{"$f":"IF('náměty na projekční přípravu'!B622=data!$S$2,\"Souvislá údržba\",IF('náměty na projekční přípravu'!B622=data!$S$3,\"Most\",\"-\"))","v":"-"},{"$f":"IF('náměty na projekční přípravu'!B622=data!$S$2,\"Rekonstrukce\",IF('náměty na projekční přípravu'!B622=data!$S$3,\"Propustek\",\"-\"))","v":"-"}]
[null,null,null,null,null,null,null,null,null,null,null,{"$f":"IF('v přípravě a připraveno'!B526=data!$B$2,\"Souvislá údržba\",IF('v přípravě a připraveno'!B526=data!$B$3,\"Most\",\"-\"))","v":"-"},{"$f":"IF('v přípravě a připraveno'!B526=data!$B$2,\"Rekonstrukce\",IF('v přípravě a připraveno'!B526=data!$B$3,\"Propustek\",\"-\"))","v":"-"},null,null,null,null,null,null,null,null,null,null,null,null,null,null,null,{"$f":"IF('náměty na projekční přípravu'!B623=data!$S$2,\"Souvislá údržba\",IF('náměty na projekční přípravu'!B623=data!$S$3,\"Most\",\"-\"))","v":"-"},{"$f":"IF('náměty na projekční přípravu'!B623=data!$S$2,\"Rekonstrukce\",IF('náměty na projekční přípravu'!B623=data!$S$3,\"Propustek\",\"-\"))","v":"-"}]
[null,null,null,null,null,null,null,null,null,null,null,{"$f":"IF('v přípravě a připraveno'!B527=data!$B$2,\"Souvislá údržba\",IF('v přípravě a připraveno'!B527=data!$B$3,\"Most\",\"-\"))","v":"-"},{"$f":"IF('v přípravě a připraveno'!B527=data!$B$2,\"Rekonstrukce\",IF('v přípravě a připraveno'!B527=data!$B$3,\"Propustek\",\"-\"))","v":"-"},null,null,null,null,null,null,null,null,null,null,null,null,null,null,null,{"$f":"IF('náměty na projekční přípravu'!B624=data!$S$2,\"Souvislá údržba\",IF('náměty na projekční přípravu'!B624=data!$S$3,\"Most\",\"-\"))","v":"-"},{"$f":"IF('náměty na projekční přípravu'!B624=data!$S$2,\"Rekonstrukce\",IF('náměty na projekční přípravu'!B624=data!$S$3,\"Propustek\",\"-\"))","v":"-"}]
[null,null,null,null,null,null,null,null,null,null,null,{"$f":"IF('v přípravě a připraveno'!B528=data!$B$2,\"Souvislá údržba\",IF('v přípravě a připraveno'!B528=data!$B$3,\"Most\",\"-\"))","v":"-"},{"$f":"IF('v přípravě a připraveno'!B528=data!$B$2,\"Rekonstrukce\",IF('v přípravě a připraveno'!B528=data!$B$3,\"Propustek\",\"-\"))","v":"-"},null,null,null,null,null,null,null,null,null,null,null,null,null,null,null,{"$f":"IF('náměty na projekční přípravu'!B625=data!$S$2,\"Souvislá údržba\",IF('náměty na projekční přípravu'!B625=data!$S$3,\"Most\",\"-\"))","v":"-"},{"$f":"IF('náměty na projekční přípravu'!B625=data!$S$2,\"Rekonstrukce\",IF('náměty na projekční přípravu'!B625=data!$S$3,\"Propustek\",\"-\"))","v":"-"}]
[null,null,null,null,null,null,null,null,null,null,null,{"$f":"IF('v přípravě a připraveno'!B529=data!$B$2,\"Souvislá údržba\",IF('v přípravě a připraveno'!B529=data!$B$3,\"Most\",\"-\"))","v":"-"},{"$f":"IF('v přípravě a připraveno'!B529=data!$B$2,\"Rekonstrukce\",IF('v přípravě a připraveno'!B529=data!$B$3,\"Propustek\",\"-\"))","v":"-"},null,null,null,null,null,null,null,null,null,null,null,null,null,null,null,{"$f":"IF('náměty na projekční přípravu'!B626=data!$S$2,\"Souvislá údržba\",IF('náměty na projekční přípravu'!B626=data!$S$3,\"Most\",\"-\"))","v":"-"},{"$f":"IF('náměty na projekční přípravu'!B626=data!$S$2,\"Rekonstrukce\",IF('náměty na projekční přípravu'!B626=data!$S$3,\"Propustek\",\"-\"))","v":"-"}]
[null,null,null,null,null,null,null,null,null,null,null,{"$f":"IF('v přípravě a připraveno'!B530=data!$B$2,\"Souvislá údržba\",IF('v přípravě a připraveno'!B530=data!$B$3,\"Most\",\"-\"))","v":"-"},{"$f":"IF('v přípravě a připraveno'!B530=data!$B$2,\"Rekonstrukce\",IF('v přípravě a připraveno'!B530=data!$B$3,\"Propustek\",\"-\"))","v":"-"},null,null,null,null,null,null,null,null,null,null,null,null,null,null,null,{"$f":"IF('náměty na projekční přípravu'!B627=data!$S$2,\"Souvislá údržba\",IF('náměty na projekční přípravu'!B627=data!$S$3,\"Most\",\"-\"))","v":"-"},{"$f":"IF('náměty na projekční přípravu'!B627=data!$S$2,\"Rekonstrukce\",IF('náměty na projekční přípravu'!B627=data!$S$3,\"Propustek\",\"-\"))","v":"-"}]
[null,null,null,null,null,null,null,null,null,null,null,{"$f":"IF('v přípravě a připraveno'!B531=data!$B$2,\"Souvislá údržba\",IF('v přípravě a připraveno'!B531=data!$B$3,\"Most\",\"-\"))","v":"-"},{"$f":"IF('v přípravě a připraveno'!B531=data!$B$2,\"Rekonstrukce\",IF('v přípravě a připraveno'!B531=data!$B$3,\"Propustek\",\"-\"))","v":"-"},null,null,null,null,null,null,null,null,null,null,null,null,null,null,null,{"$f":"IF('náměty na projekční přípravu'!B628=data!$S$2,\"Souvislá údržba\",IF('náměty na projekční přípravu'!B628=data!$S$3,\"Most\",\"-\"))","v":"-"},{"$f":"IF('náměty na projekční přípravu'!B628=data!$S$2,\"Rekonstrukce\",IF('náměty na projekční přípravu'!B628=data!$S$3,\"Propustek\",\"-\"))","v":"-"}]
[null,null,null,null,null,null,null,null,null,null,null,{"$f":"IF('v přípravě a připraveno'!B532=data!$B$2,\"Souvislá údržba\",IF('v přípravě a připraveno'!B532=data!$B$3,\"Most\",\"-\"))","v":"-"},{"$f":"IF('v přípravě a připraveno'!B532=data!$B$2,\"Rekonstrukce\",IF('v přípravě a připraveno'!B532=data!$B$3,\"Propustek\",\"-\"))","v":"-"},null,null,null,null,null,null,null,null,null,null,null,null,null,null,null,{"$f":"IF('náměty na projekční přípravu'!B629=data!$S$2,\"Souvislá údržba\",IF('náměty na projekční přípravu'!B629=data!$S$3,\"Most\",\"-\"))","v":"-"},{"$f":"IF('náměty na projekční přípravu'!B629=data!$S$2,\"Rekonstrukce\",IF('náměty na projekční přípravu'!B629=data!$S$3,\"Propustek\",\"-\"))","v":"-"}]
[null,null,null,null,null,null,null,null,null,null,null,{"$f":"IF('v přípravě a připraveno'!B533=data!$B$2,\"Souvislá údržba\",IF('v přípravě a připraveno'!B533=data!$B$3,\"Most\",\"-\"))","v":"-"},{"$f":"IF('v přípravě a připraveno'!B533=data!$B$2,\"Rekonstrukce\",IF('v přípravě a připraveno'!B533=data!$B$3,\"Propustek\",\"-\"))","v":"-"},null,null,null,null,null,null,null,null,null,null,null,null,null,null,null,{"$f":"IF('náměty na projekční přípravu'!B630=data!$S$2,\"Souvislá údržba\",IF('náměty na projekční přípravu'!B630=data!$S$3,\"Most\",\"-\"))","v":"-"},{"$f":"IF('náměty na projekční přípravu'!B630=data!$S$2,\"Rekonstrukce\",IF('náměty na projekční přípravu'!B630=data!$S$3,\"Propustek\",\"-\"))","v":"-"}]
[null,null,null,null,null,null,null,null,null,null,null,{"$f":"IF('v přípravě a připraveno'!B534=data!$B$2,\"Souvislá údržba\",IF('v přípravě a připraveno'!B534=data!$B$3,\"Most\",\"-\"))","v":"-"},{"$f":"IF('v přípravě a připraveno'!B534=data!$B$2,\"Rekonstrukce\",IF('v přípravě a připraveno'!B534=data!$B$3,\"Propustek\",\"-\"))","v":"-"},null,null,null,null,null,null,null,null,null,null,null,null,null,null,null,{"$f":"IF('náměty na projekční přípravu'!B631=data!$S$2,\"Souvislá údržba\",IF('náměty na projekční přípravu'!B631=data!$S$3,\"Most\",\"-\"))","v":"-"},{"$f":"IF('náměty na projekční přípravu'!B631=data!$S$2,\"Rekonstrukce\",IF('náměty na projekční přípravu'!B631=data!$S$3,\"Propustek\",\"-\"))","v":"-"}]
[null,null,null,null,null,null,null,null,null,null,null,{"$f":"IF('v přípravě a připraveno'!B535=data!$B$2,\"Souvislá údržba\",IF('v přípravě a připraveno'!B535=data!$B$3,\"Most\",\"-\"))","v":"-"},{"$f":"IF('v přípravě a připraveno'!B535=data!$B$2,\"Rekonstrukce\",IF('v přípravě a připraveno'!B535=data!$B$3,\"Propustek\",\"-\"))","v":"-"},null,null,null,null,null,null,null,null,null,null,null,null,null,null,null,{"$f":"IF('náměty na projekční přípravu'!B632=data!$S$2,\"Souvislá údržba\",IF('náměty na projekční přípravu'!B632=data!$S$3,\"Most\",\"-\"))","v":"-"},{"$f":"IF('náměty na projekční přípravu'!B632=data!$S$2,\"Rekonstrukce\",IF('náměty na projekční přípravu'!B632=data!$S$3,\"Propustek\",\"-\"))","v":"-"}]
[null,null,null,null,null,null,null,null,null,null,null,{"$f":"IF('v přípravě a připraveno'!B536=data!$B$2,\"Souvislá údržba\",IF('v přípravě a připraveno'!B536=data!$B$3,\"Most\",\"-\"))","v":"-"},{"$f":"IF('v přípravě a připraveno'!B536=data!$B$2,\"Rekonstrukce\",IF('v přípravě a připraveno'!B536=data!$B$3,\"Propustek\",\"-\"))","v":"-"},null,null,null,null,null,null,null,null,null,null,null,null,null,null,null,{"$f":"IF('náměty na projekční přípravu'!B633=data!$S$2,\"Souvislá údržba\",IF('náměty na projekční přípravu'!B633=data!$S$3,\"Most\",\"-\"))","v":"-"},{"$f":"IF('náměty na projekční přípravu'!B633=data!$S$2,\"Rekonstrukce\",IF('náměty na projekční přípravu'!B633=data!$S$3,\"Propustek\",\"-\"))","v":"-"}]
[null,null,null,null,null,null,null,null,null,null,null,{"$f":"IF('v přípravě a připraveno'!B537=data!$B$2,\"Souvislá údržba\",IF('v přípravě a připraveno'!B537=data!$B$3,\"Most\",\"-\"))","v":"-"},{"$f":"IF('v přípravě a připraveno'!B537=data!$B$2,\"Rekonstrukce\",IF('v přípravě a připraveno'!B537=data!$B$3,\"Propustek\",\"-\"))","v":"-"},null,null,null,null,null,null,null,null,null,null,null,null,null,null,null,{"$f":"IF('náměty na projekční přípravu'!B634=data!$S$2,\"Souvislá údržba\",IF('náměty na projekční přípravu'!B634=data!$S$3,\"Most\",\"-\"))","v":"-"},{"$f":"IF('náměty na projekční přípravu'!B634=data!$S$2,\"Rekonstrukce\",IF('náměty na projekční přípravu'!B634=data!$S$3,\"Propustek\",\"-\"))","v":"-"}]
[null,null,null,null,null,null,null,null,null,null,null,{"$f":"IF('v přípravě a připraveno'!B538=data!$B$2,\"Souvislá údržba\",IF('v přípravě a připraveno'!B538=data!$B$3,\"Most\",\"-\"))","v":"-"},{"$f":"IF('v přípravě a připraveno'!B538=data!$B$2,\"Rekonstrukce\",IF('v přípravě a připraveno'!B538=data!$B$3,\"Propustek\",\"-\"))","v":"-"},null,null,null,null,null,null,null,null,null,null,null,null,null,null,null,{"$f":"IF('náměty na projekční přípravu'!B635=data!$S$2,\"Souvislá údržba\",IF('náměty na projekční přípravu'!B635=data!$S$3,\"Most\",\"-\"))","v":"-"},{"$f":"IF('náměty na projekční přípravu'!B635=data!$S$2,\"Rekonstrukce\",IF('náměty na projekční přípravu'!B635=data!$S$3,\"Propustek\",\"-\"))","v":"-"}]
[null,null,null,null,null,null,null,null,null,null,null,{"$f":"IF('v přípravě a připraveno'!B539=data!$B$2,\"Souvislá údržba\",IF('v přípravě a připraveno'!B539=data!$B$3,\"Most\",\"-\"))","v":"-"},{"$f":"IF('v přípravě a připraveno'!B539=data!$B$2,\"Rekonstrukce\",IF('v přípravě a připraveno'!B539=data!$B$3,\"Propustek\",\"-\"))","v":"-"},null,null,null,null,null,null,null,null,null,null,null,null,null,null,null,{"$f":"IF('náměty na projekční přípravu'!B636=data!$S$2,\"Souvislá údržba\",IF('náměty na projekční přípravu'!B636=data!$S$3,\"Most\",\"-\"))","v":"-"},{"$f":"IF('náměty na projekční přípravu'!B636=data!$S$2,\"Rekonstrukce\",IF('náměty na projekční přípravu'!B636=data!$S$3,\"Propustek\",\"-\"))","v":"-"}]
[null,null,null,null,null,null,null,null,null,null,null,{"$f":"IF('v přípravě a připraveno'!B540=data!$B$2,\"Souvislá údržba\",IF('v přípravě a připraveno'!B540=data!$B$3,\"Most\",\"-\"))","v":"-"},{"$f":"IF('v přípravě a připraveno'!B540=data!$B$2,\"Rekonstrukce\",IF('v přípravě a připraveno'!B540=data!$B$3,\"Propustek\",\"-\"))","v":"-"},null,null,null,null,null,null,null,null,null,null,null,null,null,null,null,{"$f":"IF('náměty na projekční přípravu'!B637=data!$S$2,\"Souvislá údržba\",IF('náměty na projekční přípravu'!B637=data!$S$3,\"Most\",\"-\"))","v":"-"},{"$f":"IF('náměty na projekční přípravu'!B637=data!$S$2,\"Rekonstrukce\",IF('náměty na projekční přípravu'!B637=data!$S$3,\"Propustek\",\"-\"))","v":"-"}]
[null,null,null,null,null,null,null,null,null,null,null,{"$f":"IF('v přípravě a připraveno'!B541=data!$B$2,\"Souvislá údržba\",IF('v přípravě a připraveno'!B541=data!$B$3,\"Most\",\"-\"))","v":"-"},{"$f":"IF('v přípravě a připraveno'!B541=data!$B$2,\"Rekonstrukce\",IF('v přípravě a připraveno'!B541=data!$B$3,\"Propustek\",\"-\"))","v":"-"},null,null,null,null,null,null,null,null,null,null,null,null,null,null,null,{"$f":"IF('náměty na projekční přípravu'!B638=data!$S$2,\"Souvislá údržba\",IF('náměty na projekční přípravu'!B638=data!$S$3,\"Most\",\"-\"))","v":"-"},{"$f":"IF('náměty na projekční přípravu'!B638=data!$S$2,\"Rekonstrukce\",IF('náměty na projekční přípravu'!B638=data!$S$3,\"Propustek\",\"-\"))","v":"-"}]
[null,null,null,null,null,null,null,null,null,null,null,{"$f":"IF('v přípravě a připraveno'!B542=data!$B$2,\"Souvislá údržba\",IF('v přípravě a připraveno'!B542=data!$B$3,\"Most\",\"-\"))","v":"-"},{"$f":"IF('v přípravě a připraveno'!B542=data!$B$2,\"Rekonstrukce\",IF('v přípravě a připraveno'!B542=data!$B$3,\"Propustek\",\"-\"))","v":"-"},null,null,null,null,null,null,null,null,null,null,null,null,null,null,null,{"$f":"IF('náměty na projekční přípravu'!B639=data!$S$2,\"Souvislá údržba\",IF('náměty na projekční přípravu'!B639=data!$S$3,\"Most\",\"-\"))","v":"-"},{"$f":"IF('náměty na projekční přípravu'!B639=data!$S$2,\"Rekonstrukce\",IF('náměty na projekční přípravu'!B639=data!$S$3,\"Propustek\",\"-\"))","v":"-"}]
[null,null,null,null,null,null,null,null,null,null,null,{"$f":"IF('v přípravě a připraveno'!B543=data!$B$2,\"Souvislá údržba\",IF('v přípravě a připraveno'!B543=data!$B$3,\"Most\",\"-\"))","v":"-"},{"$f":"IF('v přípravě a připraveno'!B543=data!$B$2,\"Rekonstrukce\",IF('v přípravě a připraveno'!B543=data!$B$3,\"Propustek\",\"-\"))","v":"-"},null,null,null,null,null,null,null,null,null,null,null,null,null,null,null,{"$f":"IF('náměty na projekční přípravu'!B640=data!$S$2,\"Souvislá údržba\",IF('náměty na projekční přípravu'!B640=data!$S$3,\"Most\",\"-\"))","v":"-"},{"$f":"IF('náměty na projekční přípravu'!B640=data!$S$2,\"Rekonstrukce\",IF('náměty na projekční přípravu'!B640=data!$S$3,\"Propustek\",\"-\"))","v":"-"}]
[null,null,null,null,null,null,null,null,null,null,null,{"$f":"IF('v přípravě a připraveno'!B544=data!$B$2,\"Souvislá údržba\",IF('v přípravě a připraveno'!B544=data!$B$3,\"Most\",\"-\"))","v":"-"},{"$f":"IF('v přípravě a připraveno'!B544=data!$B$2,\"Rekonstrukce\",IF('v přípravě a připraveno'!B544=data!$B$3,\"Propustek\",\"-\"))","v":"-"},null,null,null,null,null,null,null,null,null,null,null,null,null,null,null,{"$f":"IF('náměty na projekční přípravu'!B641=data!$S$2,\"Souvislá údržba\",IF('náměty na projekční přípravu'!B641=data!$S$3,\"Most\",\"-\"))","v":"-"},{"$f":"IF('náměty na projekční přípravu'!B641=data!$S$2,\"Rekonstrukce\",IF('náměty na projekční přípravu'!B641=data!$S$3,\"Propustek\",\"-\"))","v":"-"}]
[null,null,null,null,null,null,null,null,null,null,null,{"$f":"IF('v přípravě a připraveno'!B545=data!$B$2,\"Souvislá údržba\",IF('v přípravě a připraveno'!B545=data!$B$3,\"Most\",\"-\"))","v":"-"},{"$f":"IF('v přípravě a připraveno'!B545=data!$B$2,\"Rekonstrukce\",IF('v přípravě a připraveno'!B545=data!$B$3,\"Propustek\",\"-\"))","v":"-"},null,null,null,null,null,null,null,null,null,null,null,null,null,null,null,{"$f":"IF('náměty na projekční přípravu'!B642=data!$S$2,\"Souvislá údržba\",IF('náměty na projekční přípravu'!B642=data!$S$3,\"Most\",\"-\"))","v":"-"},{"$f":"IF('náměty na projekční přípravu'!B642=data!$S$2,\"Rekonstrukce\",IF('náměty na projekční přípravu'!B642=data!$S$3,\"Propustek\",\"-\"))","v":"-"}]
[null,null,null,null,null,null,null,null,null,null,null,{"$f":"IF('v přípravě a připraveno'!B546=data!$B$2,\"Souvislá údržba\",IF('v přípravě a připraveno'!B546=data!$B$3,\"Most\",\"-\"))","v":"-"},{"$f":"IF('v přípravě a připraveno'!B546=data!$B$2,\"Rekonstrukce\",IF('v přípravě a připraveno'!B546=data!$B$3,\"Propustek\",\"-\"))","v":"-"},null,null,null,null,null,null,null,null,null,null,null,null,null,null,null,{"$f":"IF('náměty na projekční přípravu'!B643=data!$S$2,\"Souvislá údržba\",IF('náměty na projekční přípravu'!B643=data!$S$3,\"Most\",\"-\"))","v":"-"},{"$f":"IF('náměty na projekční přípravu'!B643=data!$S$2,\"Rekonstrukce\",IF('náměty na projekční přípravu'!B643=data!$S$3,\"Propustek\",\"-\"))","v":"-"}]
[null,null,null,null,null,null,null,null,null,null,null,{"$f":"IF('v přípravě a připraveno'!B547=data!$B$2,\"Souvislá údržba\",IF('v přípravě a připraveno'!B547=data!$B$3,\"Most\",\"-\"))","v":"-"},{"$f":"IF('v přípravě a připraveno'!B547=data!$B$2,\"Rekonstrukce\",IF('v přípravě a připraveno'!B547=data!$B$3,\"Propustek\",\"-\"))","v":"-"},null,null,null,null,null,null,null,null,null,null,null,null,null,null,null,{"$f":"IF('náměty na projekční přípravu'!B644=data!$S$2,\"Souvislá údržba\",IF('náměty na projekční přípravu'!B644=data!$S$3,\"Most\",\"-\"))","v":"-"},{"$f":"IF('náměty na projekční přípravu'!B644=data!$S$2,\"Rekonstrukce\",IF('náměty na projekční přípravu'!B644=data!$S$3,\"Propustek\",\"-\"))","v":"-"}]
[null,null,null,null,null,null,null,null,null,null,null,{"$f":"IF('v přípravě a připraveno'!B548=data!$B$2,\"Souvislá údržba\",IF('v přípravě a připraveno'!B548=data!$B$3,\"Most\",\"-\"))","v":"-"},{"$f":"IF('v přípravě a připraveno'!B548=data!$B$2,\"Rekonstrukce\",IF('v přípravě a připraveno'!B548=data!$B$3,\"Propustek\",\"-\"))","v":"-"},null,null,null,null,null,null,null,null,null,null,null,null,null,null,null,{"$f":"IF('náměty na projekční přípravu'!B645=data!$S$2,\"Souvislá údržba\",IF('náměty na projekční přípravu'!B645=data!$S$3,\"Most\",\"-\"))","v":"-"},{"$f":"IF('náměty na projekční přípravu'!B645=data!$S$2,\"Rekonstrukce\",IF('náměty na projekční přípravu'!B645=data!$S$3,\"Propustek\",\"-\"))","v":"-"}]
[null,null,null,null,null,null,null,null,null,null,null,{"$f":"IF('v přípravě a připraveno'!B549=data!$B$2,\"Souvislá údržba\",IF('v přípravě a připraveno'!B549=data!$B$3,\"Most\",\"-\"))","v":"-"},{"$f":"IF('v přípravě a připraveno'!B549=data!$B$2,\"Rekonstrukce\",IF('v přípravě a připraveno'!B549=data!$B$3,\"Propustek\",\"-\"))","v":"-"},null,null,null,null,null,null,null,null,null,null,null,null,null,null,null,{"$f":"IF('náměty na projekční přípravu'!B646=data!$S$2,\"Souvislá údržba\",IF('náměty na projekční přípravu'!B646=data!$S$3,\"Most\",\"-\"))","v":"-"},{"$f":"IF('náměty na projekční přípravu'!B646=data!$S$2,\"Rekonstrukce\",IF('náměty na projekční přípravu'!B646=data!$S$3,\"Propustek\",\"-\"))","v":"-"}]
[null,null,null,null,null,null,null,null,null,null,null,{"$f":"IF('v přípravě a připraveno'!B550=data!$B$2,\"Souvislá údržba\",IF('v přípravě a připraveno'!B550=data!$B$3,\"Most\",\"-\"))","v":"-"},{"$f":"IF('v přípravě a připraveno'!B550=data!$B$2,\"Rekonstrukce\",IF('v přípravě a připraveno'!B550=data!$B$3,\"Propustek\",\"-\"))","v":"-"},null,null,null,null,null,null,null,null,null,null,null,null,null,null,null,{"$f":"IF('náměty na projekční přípravu'!B647=data!$S$2,\"Souvislá údržba\",IF('náměty na projekční přípravu'!B647=data!$S$3,\"Most\",\"-\"))","v":"-"},{"$f":"IF('náměty na projekční přípravu'!B647=data!$S$2,\"Rekonstrukce\",IF('náměty na projekční přípravu'!B647=data!$S$3,\"Propustek\",\"-\"))","v":"-"}]
[null,null,null,null,null,null,null,null,null,null,null,{"$f":"IF('v přípravě a připraveno'!B551=data!$B$2,\"Souvislá údržba\",IF('v přípravě a připraveno'!B551=data!$B$3,\"Most\",\"-\"))","v":"-"},{"$f":"IF('v přípravě a připraveno'!B551=data!$B$2,\"Rekonstrukce\",IF('v přípravě a připraveno'!B551=data!$B$3,\"Propustek\",\"-\"))","v":"-"},null,null,null,null,null,null,null,null,null,null,null,null,null,null,null,{"$f":"IF('náměty na projekční přípravu'!B648=data!$S$2,\"Souvislá údržba\",IF('náměty na projekční přípravu'!B648=data!$S$3,\"Most\",\"-\"))","v":"-"},{"$f":"IF('náměty na projekční přípravu'!B648=data!$S$2,\"Rekonstrukce\",IF('náměty na projekční přípravu'!B648=data!$S$3,\"Propustek\",\"-\"))","v":"-"}]
[null,null,null,null,null,null,null,null,null,null,null,{"$f":"IF('v přípravě a připraveno'!B552=data!$B$2,\"Souvislá údržba\",IF('v přípravě a připraveno'!B552=data!$B$3,\"Most\",\"-\"))","v":"-"},{"$f":"IF('v přípravě a připraveno'!B552=data!$B$2,\"Rekonstrukce\",IF('v přípravě a připraveno'!B552=data!$B$3,\"Propustek\",\"-\"))","v":"-"},null,null,null,null,null,null,null,null,null,null,null,null,null,null,null,{"$f":"IF('náměty na projekční přípravu'!B649=data!$S$2,\"Souvislá údržba\",IF('náměty na projekční přípravu'!B649=data!$S$3,\"Most\",\"-\"))","v":"-"},{"$f":"IF('náměty na projekční přípravu'!B649=data!$S$2,\"Rekonstrukce\",IF('náměty na projekční přípravu'!B649=data!$S$3,\"Propustek\",\"-\"))","v":"-"}]
[null,null,null,null,null,null,null,null,null,null,null,{"$f":"IF('v přípravě a připraveno'!B553=data!$B$2,\"Souvislá údržba\",IF('v přípravě a připraveno'!B553=data!$B$3,\"Most\",\"-\"))","v":"-"},{"$f":"IF('v přípravě a připraveno'!B553=data!$B$2,\"Rekonstrukce\",IF('v přípravě a připraveno'!B553=data!$B$3,\"Propustek\",\"-\"))","v":"-"},null,null,null,null,null,null,null,null,null,null,null,null,null,null,null,{"$f":"IF('náměty na projekční přípravu'!B650=data!$S$2,\"Souvislá údržba\",IF('náměty na projekční přípravu'!B650=data!$S$3,\"Most\",\"-\"))","v":"-"},{"$f":"IF('náměty na projekční přípravu'!B650=data!$S$2,\"Rekonstrukce\",IF('náměty na projekční přípravu'!B650=data!$S$3,\"Propustek\",\"-\"))","v":"-"}]
[null,null,null,null,null,null,null,null,null,null,null,{"$f":"IF('v přípravě a připraveno'!B554=data!$B$2,\"Souvislá údržba\",IF('v přípravě a připraveno'!B554=data!$B$3,\"Most\",\"-\"))","v":"-"},{"$f":"IF('v přípravě a připraveno'!B554=data!$B$2,\"Rekonstrukce\",IF('v přípravě a připraveno'!B554=data!$B$3,\"Propustek\",\"-\"))","v":"-"},null,null,null,null,null,null,null,null,null,null,null,null,null,null,null,{"$f":"IF('náměty na projekční přípravu'!B651=data!$S$2,\"Souvislá údržba\",IF('náměty na projekční přípravu'!B651=data!$S$3,\"Most\",\"-\"))","v":"-"},{"$f":"IF('náměty na projekční přípravu'!B651=data!$S$2,\"Rekonstrukce\",IF('náměty na projekční přípravu'!B651=data!$S$3,\"Propustek\",\"-\"))","v":"-"}]
[null,null,null,null,null,null,null,null,null,null,null,{"$f":"IF('v přípravě a připraveno'!B555=data!$B$2,\"Souvislá údržba\",IF('v přípravě a připraveno'!B555=data!$B$3,\"Most\",\"-\"))","v":"-"},{"$f":"IF('v přípravě a připraveno'!B555=data!$B$2,\"Rekonstrukce\",IF('v přípravě a připraveno'!B555=data!$B$3,\"Propustek\",\"-\"))","v":"-"},null,null,null,null,null,null,null,null,null,null,null,null,null,null,null,{"$f":"IF('náměty na projekční přípravu'!B652=data!$S$2,\"Souvislá údržba\",IF('náměty na projekční přípravu'!B652=data!$S$3,\"Most\",\"-\"))","v":"-"},{"$f":"IF('náměty na projekční přípravu'!B652=data!$S$2,\"Rekonstrukce\",IF('náměty na projekční přípravu'!B652=data!$S$3,\"Propustek\",\"-\"))","v":"-"}]
[null,null,null,null,null,null,null,null,null,null,null,{"$f":"IF('v přípravě a připraveno'!B556=data!$B$2,\"Souvislá údržba\",IF('v přípravě a připraveno'!B556=data!$B$3,\"Most\",\"-\"))","v":"-"},{"$f":"IF('v přípravě a připraveno'!B556=data!$B$2,\"Rekonstrukce\",IF('v přípravě a připraveno'!B556=data!$B$3,\"Propustek\",\"-\"))","v":"-"},null,null,null,null,null,null,null,null,null,null,null,null,null,null,null,{"$f":"IF('náměty na projekční přípravu'!B653=data!$S$2,\"Souvislá údržba\",IF('náměty na projekční přípravu'!B653=data!$S$3,\"Most\",\"-\"))","v":"-"},{"$f":"IF('náměty na projekční přípravu'!B653=data!$S$2,\"Rekonstrukce\",IF('náměty na projekční přípravu'!B653=data!$S$3,\"Propustek\",\"-\"))","v":"-"}]
[null,null,null,null,null,null,null,null,null,null,null,{"$f":"IF('v přípravě a připraveno'!B557=data!$B$2,\"Souvislá údržba\",IF('v přípravě a připraveno'!B557=data!$B$3,\"Most\",\"-\"))","v":"-"},{"$f":"IF('v přípravě a připraveno'!B557=data!$B$2,\"Rekonstrukce\",IF('v přípravě a připraveno'!B557=data!$B$3,\"Propustek\",\"-\"))","v":"-"},null,null,null,null,null,null,null,null,null,null,null,null,null,null,null,{"$f":"IF('náměty na projekční přípravu'!B654=data!$S$2,\"Souvislá údržba\",IF('náměty na projekční přípravu'!B654=data!$S$3,\"Most\",\"-\"))","v":"-"},{"$f":"IF('náměty na projekční přípravu'!B654=data!$S$2,\"Rekonstrukce\",IF('náměty na projekční přípravu'!B654=data!$S$3,\"Propustek\",\"-\"))","v":"-"}]
[null,null,null,null,null,null,null,null,null,null,null,{"$f":"IF('v přípravě a připraveno'!B558=data!$B$2,\"Souvislá údržba\",IF('v přípravě a připraveno'!B558=data!$B$3,\"Most\",\"-\"))","v":"-"},{"$f":"IF('v přípravě a připraveno'!B558=data!$B$2,\"Rekonstrukce\",IF('v přípravě a připraveno'!B558=data!$B$3,\"Propustek\",\"-\"))","v":"-"},null,null,null,null,null,null,null,null,null,null,null,null,null,null,null,{"$f":"IF('náměty na projekční přípravu'!B655=data!$S$2,\"Souvislá údržba\",IF('náměty na projekční přípravu'!B655=data!$S$3,\"Most\",\"-\"))","v":"-"},{"$f":"IF('náměty na projekční přípravu'!B655=data!$S$2,\"Rekonstrukce\",IF('náměty na projekční přípravu'!B655=data!$S$3,\"Propustek\",\"-\"))","v":"-"}]
[null,null,null,null,null,null,null,null,null,null,null,{"$f":"IF('v přípravě a připraveno'!B559=data!$B$2,\"Souvislá údržba\",IF('v přípravě a připraveno'!B559=data!$B$3,\"Most\",\"-\"))","v":"-"},{"$f":"IF('v přípravě a připraveno'!B559=data!$B$2,\"Rekonstrukce\",IF('v přípravě a připraveno'!B559=data!$B$3,\"Propustek\",\"-\"))","v":"-"},null,null,null,null,null,null,null,null,null,null,null,null,null,null,null,{"$f":"IF('náměty na projekční přípravu'!B656=data!$S$2,\"Souvislá údržba\",IF('náměty na projekční přípravu'!B656=data!$S$3,\"Most\",\"-\"))","v":"-"},{"$f":"IF('náměty na projekční přípravu'!B656=data!$S$2,\"Rekonstrukce\",IF('náměty na projekční přípravu'!B656=data!$S$3,\"Propustek\",\"-\"))","v":"-"}]
[null,null,null,null,null,null,null,null,null,null,null,{"$f":"IF('v přípravě a připraveno'!B560=data!$B$2,\"Souvislá údržba\",IF('v přípravě a připraveno'!B560=data!$B$3,\"Most\",\"-\"))","v":"-"},{"$f":"IF('v přípravě a připraveno'!B560=data!$B$2,\"Rekonstrukce\",IF('v přípravě a připraveno'!B560=data!$B$3,\"Propustek\",\"-\"))","v":"-"},null,null,null,null,null,null,null,null,null,null,null,null,null,null,null,{"$f":"IF('náměty na projekční přípravu'!B657=data!$S$2,\"Souvislá údržba\",IF('náměty na projekční přípravu'!B657=data!$S$3,\"Most\",\"-\"))","v":"-"},{"$f":"IF('náměty na projekční přípravu'!B657=data!$S$2,\"Rekonstrukce\",IF('náměty na projekční přípravu'!B657=data!$S$3,\"Propustek\",\"-\"))","v":"-"}]
[null,null,null,null,null,null,null,null,null,null,null,{"$f":"IF('v přípravě a připraveno'!B561=data!$B$2,\"Souvislá údržba\",IF('v přípravě a připraveno'!B561=data!$B$3,\"Most\",\"-\"))","v":"-"},{"$f":"IF('v přípravě a připraveno'!B561=data!$B$2,\"Rekonstrukce\",IF('v přípravě a připraveno'!B561=data!$B$3,\"Propustek\",\"-\"))","v":"-"},null,null,null,null,null,null,null,null,null,null,null,null,null,null,null,{"$f":"IF('náměty na projekční přípravu'!B658=data!$S$2,\"Souvislá údržba\",IF('náměty na projekční přípravu'!B658=data!$S$3,\"Most\",\"-\"))","v":"-"},{"$f":"IF('náměty na projekční přípravu'!B658=data!$S$2,\"Rekonstrukce\",IF('náměty na projekční přípravu'!B658=data!$S$3,\"Propustek\",\"-\"))","v":"-"}]
[null,null,null,null,null,null,null,null,null,null,null,{"$f":"IF('v přípravě a připraveno'!B562=data!$B$2,\"Souvislá údržba\",IF('v přípravě a připraveno'!B562=data!$B$3,\"Most\",\"-\"))","v":"-"},{"$f":"IF('v přípravě a připraveno'!B562=data!$B$2,\"Rekonstrukce\",IF('v přípravě a připraveno'!B562=data!$B$3,\"Propustek\",\"-\"))","v":"-"},null,null,null,null,null,null,null,null,null,null,null,null,null,null,null,{"$f":"IF('náměty na projekční přípravu'!B659=data!$S$2,\"Souvislá údržba\",IF('náměty na projekční přípravu'!B659=data!$S$3,\"Most\",\"-\"))","v":"-"},{"$f":"IF('náměty na projekční přípravu'!B659=data!$S$2,\"Rekonstrukce\",IF('náměty na projekční přípravu'!B659=data!$S$3,\"Propustek\",\"-\"))","v":"-"}]
[null,null,null,null,null,null,null,null,null,null,null,{"$f":"IF('v přípravě a připraveno'!B563=data!$B$2,\"Souvislá údržba\",IF('v přípravě a připraveno'!B563=data!$B$3,\"Most\",\"-\"))","v":"-"},{"$f":"IF('v přípravě a připraveno'!B563=data!$B$2,\"Rekonstrukce\",IF('v přípravě a připraveno'!B563=data!$B$3,\"Propustek\",\"-\"))","v":"-"},null,null,null,null,null,null,null,null,null,null,null,null,null,null,null,{"$f":"IF('náměty na projekční přípravu'!B660=data!$S$2,\"Souvislá údržba\",IF('náměty na projekční přípravu'!B660=data!$S$3,\"Most\",\"-\"))","v":"-"},{"$f":"IF('náměty na projekční přípravu'!B660=data!$S$2,\"Rekonstrukce\",IF('náměty na projekční přípravu'!B660=data!$S$3,\"Propustek\",\"-\"))","v":"-"}]
[null,null,null,null,null,null,null,null,null,null,null,{"$f":"IF('v přípravě a připraveno'!B564=data!$B$2,\"Souvislá údržba\",IF('v přípravě a připraveno'!B564=data!$B$3,\"Most\",\"-\"))","v":"-"},{"$f":"IF('v přípravě a připraveno'!B564=data!$B$2,\"Rekonstrukce\",IF('v přípravě a připraveno'!B564=data!$B$3,\"Propustek\",\"-\"))","v":"-"},null,null,null,null,null,null,null,null,null,null,null,null,null,null,null,{"$f":"IF('náměty na projekční přípravu'!B661=data!$S$2,\"Souvislá údržba\",IF('náměty na projekční přípravu'!B661=data!$S$3,\"Most\",\"-\"))","v":"-"},{"$f":"IF('náměty na projekční přípravu'!B661=data!$S$2,\"Rekonstrukce\",IF('náměty na projekční přípravu'!B661=data!$S$3,\"Propustek\",\"-\"))","v":"-"}]
[null,null,null,null,null,null,null,null,null,null,null,{"$f":"IF('v přípravě a připraveno'!B565=data!$B$2,\"Souvislá údržba\",IF('v přípravě a připraveno'!B565=data!$B$3,\"Most\",\"-\"))","v":"-"},{"$f":"IF('v přípravě a připraveno'!B565=data!$B$2,\"Rekonstrukce\",IF('v přípravě a připraveno'!B565=data!$B$3,\"Propustek\",\"-\"))","v":"-"},null,null,null,null,null,null,null,null,null,null,null,null,null,null,null,{"$f":"IF('náměty na projekční přípravu'!B662=data!$S$2,\"Souvislá údržba\",IF('náměty na projekční přípravu'!B662=data!$S$3,\"Most\",\"-\"))","v":"-"},{"$f":"IF('náměty na projekční přípravu'!B662=data!$S$2,\"Rekonstrukce\",IF('náměty na projekční přípravu'!B662=data!$S$3,\"Propustek\",\"-\"))","v":"-"}]
[null,null,null,null,null,null,null,null,null,null,null,{"$f":"IF('v přípravě a připraveno'!B566=data!$B$2,\"Souvislá údržba\",IF('v přípravě a připraveno'!B566=data!$B$3,\"Most\",\"-\"))","v":"-"},{"$f":"IF('v přípravě a připraveno'!B566=data!$B$2,\"Rekonstrukce\",IF('v přípravě a připraveno'!B566=data!$B$3,\"Propustek\",\"-\"))","v":"-"},null,null,null,null,null,null,null,null,null,null,null,null,null,null,null,{"$f":"IF('náměty na projekční přípravu'!B663=data!$S$2,\"Souvislá údržba\",IF('náměty na projekční přípravu'!B663=data!$S$3,\"Most\",\"-\"))","v":"-"},{"$f":"IF('náměty na projekční přípravu'!B663=data!$S$2,\"Rekonstrukce\",IF('náměty na projekční přípravu'!B663=data!$S$3,\"Propustek\",\"-\"))","v":"-"}]
[null,null,null,null,null,null,null,null,null,null,null,{"$f":"IF('v přípravě a připraveno'!B567=data!$B$2,\"Souvislá údržba\",IF('v přípravě a připraveno'!B567=data!$B$3,\"Most\",\"-\"))","v":"-"},{"$f":"IF('v přípravě a připraveno'!B567=data!$B$2,\"Rekonstrukce\",IF('v přípravě a připraveno'!B567=data!$B$3,\"Propustek\",\"-\"))","v":"-"},null,null,null,null,null,null,null,null,null,null,null,null,null,null,null,{"$f":"IF('náměty na projekční přípravu'!B664=data!$S$2,\"Souvislá údržba\",IF('náměty na projekční přípravu'!B664=data!$S$3,\"Most\",\"-\"))","v":"-"},{"$f":"IF('náměty na projekční přípravu'!B664=data!$S$2,\"Rekonstrukce\",IF('náměty na projekční přípravu'!B664=data!$S$3,\"Propustek\",\"-\"))","v":"-"}]
[null,null,null,null,null,null,null,null,null,null,null,{"$f":"IF('v přípravě a připraveno'!B568=data!$B$2,\"Souvislá údržba\",IF('v přípravě a připraveno'!B568=data!$B$3,\"Most\",\"-\"))","v":"-"},{"$f":"IF('v přípravě a připraveno'!B568=data!$B$2,\"Rekonstrukce\",IF('v přípravě a připraveno'!B568=data!$B$3,\"Propustek\",\"-\"))","v":"-"},null,null,null,null,null,null,null,null,null,null,null,null,null,null,null,{"$f":"IF('náměty na projekční přípravu'!B665=data!$S$2,\"Souvislá údržba\",IF('náměty na projekční přípravu'!B665=data!$S$3,\"Most\",\"-\"))","v":"-"},{"$f":"IF('náměty na projekční přípravu'!B665=data!$S$2,\"Rekonstrukce\",IF('náměty na projekční přípravu'!B665=data!$S$3,\"Propustek\",\"-\"))","v":"-"}]
[null,null,null,null,null,null,null,null,null,null,null,{"$f":"IF('v přípravě a připraveno'!B569=data!$B$2,\"Souvislá údržba\",IF('v přípravě a připraveno'!B569=data!$B$3,\"Most\",\"-\"))","v":"-"},{"$f":"IF('v přípravě a připraveno'!B569=data!$B$2,\"Rekonstrukce\",IF('v přípravě a připraveno'!B569=data!$B$3,\"Propustek\",\"-\"))","v":"-"},null,null,null,null,null,null,null,null,null,null,null,null,null,null,null,{"$f":"IF('náměty na projekční přípravu'!B666=data!$S$2,\"Souvislá údržba\",IF('náměty na projekční přípravu'!B666=data!$S$3,\"Most\",\"-\"))","v":"-"},{"$f":"IF('náměty na projekční přípravu'!B666=data!$S$2,\"Rekonstrukce\",IF('náměty na projekční přípravu'!B666=data!$S$3,\"Propustek\",\"-\"))","v":"-"}]
[null,null,null,null,null,null,null,null,null,null,null,{"$f":"IF('v přípravě a připraveno'!B570=data!$B$2,\"Souvislá údržba\",IF('v přípravě a připraveno'!B570=data!$B$3,\"Most\",\"-\"))","v":"-"},{"$f":"IF('v přípravě a připraveno'!B570=data!$B$2,\"Rekonstrukce\",IF('v přípravě a připraveno'!B570=data!$B$3,\"Propustek\",\"-\"))","v":"-"},null,null,null,null,null,null,null,null,null,null,null,null,null,null,null,{"$f":"IF('náměty na projekční přípravu'!B667=data!$S$2,\"Souvislá údržba\",IF('náměty na projekční přípravu'!B667=data!$S$3,\"Most\",\"-\"))","v":"-"},{"$f":"IF('náměty na projekční přípravu'!B667=data!$S$2,\"Rekonstrukce\",IF('náměty na projekční přípravu'!B667=data!$S$3,\"Propustek\",\"-\"))","v":"-"}]
[null,null,null,null,null,null,null,null,null,null,null,{"$f":"IF('v přípravě a připraveno'!B571=data!$B$2,\"Souvislá údržba\",IF('v přípravě a připraveno'!B571=data!$B$3,\"Most\",\"-\"))","v":"-"},{"$f":"IF('v přípravě a připraveno'!B571=data!$B$2,\"Rekonstrukce\",IF('v přípravě a připraveno'!B571=data!$B$3,\"Propustek\",\"-\"))","v":"-"},null,null,null,null,null,null,null,null,null,null,null,null,null,null,null,{"$f":"IF('náměty na projekční přípravu'!B668=data!$S$2,\"Souvislá údržba\",IF('náměty na projekční přípravu'!B668=data!$S$3,\"Most\",\"-\"))","v":"-"},{"$f":"IF('náměty na projekční přípravu'!B668=data!$S$2,\"Rekonstrukce\",IF('náměty na projekční přípravu'!B668=data!$S$3,\"Propustek\",\"-\"))","v":"-"}]
[null,null,null,null,null,null,null,null,null,null,null,{"$f":"IF('v přípravě a připraveno'!B572=data!$B$2,\"Souvislá údržba\",IF('v přípravě a připraveno'!B572=data!$B$3,\"Most\",\"-\"))","v":"-"},{"$f":"IF('v přípravě a připraveno'!B572=data!$B$2,\"Rekonstrukce\",IF('v přípravě a připraveno'!B572=data!$B$3,\"Propustek\",\"-\"))","v":"-"},null,null,null,null,null,null,null,null,null,null,null,null,null,null,null,{"$f":"IF('náměty na projekční přípravu'!B669=data!$S$2,\"Souvislá údržba\",IF('náměty na projekční přípravu'!B669=data!$S$3,\"Most\",\"-\"))","v":"-"},{"$f":"IF('náměty na projekční přípravu'!B669=data!$S$2,\"Rekonstrukce\",IF('náměty na projekční přípravu'!B669=data!$S$3,\"Propustek\",\"-\"))","v":"-"}]
[null,null,null,null,null,null,null,null,null,null,null,{"$f":"IF('v přípravě a připraveno'!B573=data!$B$2,\"Souvislá údržba\",IF('v přípravě a připraveno'!B573=data!$B$3,\"Most\",\"-\"))","v":"-"},{"$f":"IF('v přípravě a připraveno'!B573=data!$B$2,\"Rekonstrukce\",IF('v přípravě a připraveno'!B573=data!$B$3,\"Propustek\",\"-\"))","v":"-"},null,null,null,null,null,null,null,null,null,null,null,null,null,null,null,{"$f":"IF('náměty na projekční přípravu'!B670=data!$S$2,\"Souvislá údržba\",IF('náměty na projekční přípravu'!B670=data!$S$3,\"Most\",\"-\"))","v":"-"},{"$f":"IF('náměty na projekční přípravu'!B670=data!$S$2,\"Rekonstrukce\",IF('náměty na projekční přípravu'!B670=data!$S$3,\"Propustek\",\"-\"))","v":"-"}]
[null,null,null,null,null,null,null,null,null,null,null,{"$f":"IF('v přípravě a připraveno'!B574=data!$B$2,\"Souvislá údržba\",IF('v přípravě a připraveno'!B574=data!$B$3,\"Most\",\"-\"))","v":"-"},{"$f":"IF('v přípravě a připraveno'!B574=data!$B$2,\"Rekonstrukce\",IF('v přípravě a připraveno'!B574=data!$B$3,\"Propustek\",\"-\"))","v":"-"},null,null,null,null,null,null,null,null,null,null,null,null,null,null,null,{"$f":"IF('náměty na projekční přípravu'!B671=data!$S$2,\"Souvislá údržba\",IF('náměty na projekční přípravu'!B671=data!$S$3,\"Most\",\"-\"))","v":"-"},{"$f":"IF('náměty na projekční přípravu'!B671=data!$S$2,\"Rekonstrukce\",IF('náměty na projekční přípravu'!B671=data!$S$3,\"Propustek\",\"-\"))","v":"-"}]
[null,null,null,null,null,null,null,null,null,null,null,{"$f":"IF('v přípravě a připraveno'!B575=data!$B$2,\"Souvislá údržba\",IF('v přípravě a připraveno'!B575=data!$B$3,\"Most\",\"-\"))","v":"-"},{"$f":"IF('v přípravě a připraveno'!B575=data!$B$2,\"Rekonstrukce\",IF('v přípravě a připraveno'!B575=data!$B$3,\"Propustek\",\"-\"))","v":"-"},null,null,null,null,null,null,null,null,null,null,null,null,null,null,null,{"$f":"IF('náměty na projekční přípravu'!B672=data!$S$2,\"Souvislá údržba\",IF('náměty na projekční přípravu'!B672=data!$S$3,\"Most\",\"-\"))","v":"-"},{"$f":"IF('náměty na projekční přípravu'!B672=data!$S$2,\"Rekonstrukce\",IF('náměty na projekční přípravu'!B672=data!$S$3,\"Propustek\",\"-\"))","v":"-"}]
[null,null,null,null,null,null,null,null,null,null,null,{"$f":"IF('v přípravě a připraveno'!B576=data!$B$2,\"Souvislá údržba\",IF('v přípravě a připraveno'!B576=data!$B$3,\"Most\",\"-\"))","v":"-"},{"$f":"IF('v přípravě a připraveno'!B576=data!$B$2,\"Rekonstrukce\",IF('v přípravě a připraveno'!B576=data!$B$3,\"Propustek\",\"-\"))","v":"-"},null,null,null,null,null,null,null,null,null,null,null,null,null,null,null,{"$f":"IF('náměty na projekční přípravu'!B673=data!$S$2,\"Souvislá údržba\",IF('náměty na projekční přípravu'!B673=data!$S$3,\"Most\",\"-\"))","v":"-"},{"$f":"IF('náměty na projekční přípravu'!B673=data!$S$2,\"Rekonstrukce\",IF('náměty na projekční přípravu'!B673=data!$S$3,\"Propustek\",\"-\"))","v":"-"}]
[null,null,null,null,null,null,null,null,null,null,null,{"$f":"IF('v přípravě a připraveno'!B577=data!$B$2,\"Souvislá údržba\",IF('v přípravě a připraveno'!B577=data!$B$3,\"Most\",\"-\"))","v":"-"},{"$f":"IF('v přípravě a připraveno'!B577=data!$B$2,\"Rekonstrukce\",IF('v přípravě a připraveno'!B577=data!$B$3,\"Propustek\",\"-\"))","v":"-"},null,null,null,null,null,null,null,null,null,null,null,null,null,null,null,{"$f":"IF('náměty na projekční přípravu'!B674=data!$S$2,\"Souvislá údržba\",IF('náměty na projekční přípravu'!B674=data!$S$3,\"Most\",\"-\"))","v":"-"},{"$f":"IF('náměty na projekční přípravu'!B674=data!$S$2,\"Rekonstrukce\",IF('náměty na projekční přípravu'!B674=data!$S$3,\"Propustek\",\"-\"))","v":"-"}]
[null,null,null,null,null,null,null,null,null,null,null,{"$f":"IF('v přípravě a připraveno'!B578=data!$B$2,\"Souvislá údržba\",IF('v přípravě a připraveno'!B578=data!$B$3,\"Most\",\"-\"))","v":"-"},{"$f":"IF('v přípravě a připraveno'!B578=data!$B$2,\"Rekonstrukce\",IF('v přípravě a připraveno'!B578=data!$B$3,\"Propustek\",\"-\"))","v":"-"},null,null,null,null,null,null,null,null,null,null,null,null,null,null,null,{"$f":"IF('náměty na projekční přípravu'!B675=data!$S$2,\"Souvislá údržba\",IF('náměty na projekční přípravu'!B675=data!$S$3,\"Most\",\"-\"))","v":"-"},{"$f":"IF('náměty na projekční přípravu'!B675=data!$S$2,\"Rekonstrukce\",IF('náměty na projekční přípravu'!B675=data!$S$3,\"Propustek\",\"-\"))","v":"-"}]
[null,null,null,null,null,null,null,null,null,null,null,{"$f":"IF('v přípravě a připraveno'!B579=data!$B$2,\"Souvislá údržba\",IF('v přípravě a připraveno'!B579=data!$B$3,\"Most\",\"-\"))","v":"-"},{"$f":"IF('v přípravě a připraveno'!B579=data!$B$2,\"Rekonstrukce\",IF('v přípravě a připraveno'!B579=data!$B$3,\"Propustek\",\"-\"))","v":"-"},null,null,null,null,null,null,null,null,null,null,null,null,null,null,null,{"$f":"IF('náměty na projekční přípravu'!B676=data!$S$2,\"Souvislá údržba\",IF('náměty na projekční přípravu'!B676=data!$S$3,\"Most\",\"-\"))","v":"-"},{"$f":"IF('náměty na projekční přípravu'!B676=data!$S$2,\"Rekonstrukce\",IF('náměty na projekční přípravu'!B676=data!$S$3,\"Propustek\",\"-\"))","v":"-"}]
[null,null,null,null,null,null,null,null,null,null,null,{"$f":"IF('v přípravě a připraveno'!B580=data!$B$2,\"Souvislá údržba\",IF('v přípravě a připraveno'!B580=data!$B$3,\"Most\",\"-\"))","v":"-"},{"$f":"IF('v přípravě a připraveno'!B580=data!$B$2,\"Rekonstrukce\",IF('v přípravě a připraveno'!B580=data!$B$3,\"Propustek\",\"-\"))","v":"-"},null,null,null,null,null,null,null,null,null,null,null,null,null,null,null,{"$f":"IF('náměty na projekční přípravu'!B677=data!$S$2,\"Souvislá údržba\",IF('náměty na projekční přípravu'!B677=data!$S$3,\"Most\",\"-\"))","v":"-"},{"$f":"IF('náměty na projekční přípravu'!B677=data!$S$2,\"Rekonstrukce\",IF('náměty na projekční přípravu'!B677=data!$S$3,\"Propustek\",\"-\"))","v":"-"}]
[null,null,null,null,null,null,null,null,null,null,null,{"$f":"IF('v přípravě a připraveno'!B581=data!$B$2,\"Souvislá údržba\",IF('v přípravě a připraveno'!B581=data!$B$3,\"Most\",\"-\"))","v":"-"},{"$f":"IF('v přípravě a připraveno'!B581=data!$B$2,\"Rekonstrukce\",IF('v přípravě a připraveno'!B581=data!$B$3,\"Propustek\",\"-\"))","v":"-"},null,null,null,null,null,null,null,null,null,null,null,null,null,null,null,{"$f":"IF('náměty na projekční přípravu'!B678=data!$S$2,\"Souvislá údržba\",IF('náměty na projekční přípravu'!B678=data!$S$3,\"Most\",\"-\"))","v":"-"},{"$f":"IF('náměty na projekční přípravu'!B678=data!$S$2,\"Rekonstrukce\",IF('náměty na projekční přípravu'!B678=data!$S$3,\"Propustek\",\"-\"))","v":"-"}]
[null,null,null,null,null,null,null,null,null,null,null,{"$f":"IF('v přípravě a připraveno'!B582=data!$B$2,\"Souvislá údržba\",IF('v přípravě a připraveno'!B582=data!$B$3,\"Most\",\"-\"))","v":"-"},{"$f":"IF('v přípravě a připraveno'!B582=data!$B$2,\"Rekonstrukce\",IF('v přípravě a připraveno'!B582=data!$B$3,\"Propustek\",\"-\"))","v":"-"},null,null,null,null,null,null,null,null,null,null,null,null,null,null,null,{"$f":"IF('náměty na projekční přípravu'!B679=data!$S$2,\"Souvislá údržba\",IF('náměty na projekční přípravu'!B679=data!$S$3,\"Most\",\"-\"))","v":"-"},{"$f":"IF('náměty na projekční přípravu'!B679=data!$S$2,\"Rekonstrukce\",IF('náměty na projekční přípravu'!B679=data!$S$3,\"Propustek\",\"-\"))","v":"-"}]
[null,null,null,null,null,null,null,null,null,null,null,{"$f":"IF('v přípravě a připraveno'!B583=data!$B$2,\"Souvislá údržba\",IF('v přípravě a připraveno'!B583=data!$B$3,\"Most\",\"-\"))","v":"-"},{"$f":"IF('v přípravě a připraveno'!B583=data!$B$2,\"Rekonstrukce\",IF('v přípravě a připraveno'!B583=data!$B$3,\"Propustek\",\"-\"))","v":"-"},null,null,null,null,null,null,null,null,null,null,null,null,null,null,null,{"$f":"IF('náměty na projekční přípravu'!B680=data!$S$2,\"Souvislá údržba\",IF('náměty na projekční přípravu'!B680=data!$S$3,\"Most\",\"-\"))","v":"-"},{"$f":"IF('náměty na projekční přípravu'!B680=data!$S$2,\"Rekonstrukce\",IF('náměty na projekční přípravu'!B680=data!$S$3,\"Propustek\",\"-\"))","v":"-"}]
[null,null,null,null,null,null,null,null,null,null,null,{"$f":"IF('v přípravě a připraveno'!B584=data!$B$2,\"Souvislá údržba\",IF('v přípravě a připraveno'!B584=data!$B$3,\"Most\",\"-\"))","v":"-"},{"$f":"IF('v přípravě a připraveno'!B584=data!$B$2,\"Rekonstrukce\",IF('v přípravě a připraveno'!B584=data!$B$3,\"Propustek\",\"-\"))","v":"-"},null,null,null,null,null,null,null,null,null,null,null,null,null,null,null,{"$f":"IF('náměty na projekční přípravu'!B681=data!$S$2,\"Souvislá údržba\",IF('náměty na projekční přípravu'!B681=data!$S$3,\"Most\",\"-\"))","v":"-"},{"$f":"IF('náměty na projekční přípravu'!B681=data!$S$2,\"Rekonstrukce\",IF('náměty na projekční přípravu'!B681=data!$S$3,\"Propustek\",\"-\"))","v":"-"}]
[null,null,null,null,null,null,null,null,null,null,null,{"$f":"IF('v přípravě a připraveno'!B585=data!$B$2,\"Souvislá údržba\",IF('v přípravě a připraveno'!B585=data!$B$3,\"Most\",\"-\"))","v":"-"},{"$f":"IF('v přípravě a připraveno'!B585=data!$B$2,\"Rekonstrukce\",IF('v přípravě a připraveno'!B585=data!$B$3,\"Propustek\",\"-\"))","v":"-"},null,null,null,null,null,null,null,null,null,null,null,null,null,null,null,{"$f":"IF('náměty na projekční přípravu'!B682=data!$S$2,\"Souvislá údržba\",IF('náměty na projekční přípravu'!B682=data!$S$3,\"Most\",\"-\"))","v":"-"},{"$f":"IF('náměty na projekční přípravu'!B682=data!$S$2,\"Rekonstrukce\",IF('náměty na projekční přípravu'!B682=data!$S$3,\"Propustek\",\"-\"))","v":"-"}]
[null,null,null,null,null,null,null,null,null,null,null,{"$f":"IF('v přípravě a připraveno'!B586=data!$B$2,\"Souvislá údržba\",IF('v přípravě a připraveno'!B586=data!$B$3,\"Most\",\"-\"))","v":"-"},{"$f":"IF('v přípravě a připraveno'!B586=data!$B$2,\"Rekonstrukce\",IF('v přípravě a připraveno'!B586=data!$B$3,\"Propustek\",\"-\"))","v":"-"},null,null,null,null,null,null,null,null,null,null,null,null,null,null,null,{"$f":"IF('náměty na projekční přípravu'!B683=data!$S$2,\"Souvislá údržba\",IF('náměty na projekční přípravu'!B683=data!$S$3,\"Most\",\"-\"))","v":"-"},{"$f":"IF('náměty na projekční přípravu'!B683=data!$S$2,\"Rekonstrukce\",IF('náměty na projekční přípravu'!B683=data!$S$3,\"Propustek\",\"-\"))","v":"-"}]
[null,null,null,null,null,null,null,null,null,null,null,{"$f":"IF('v přípravě a připraveno'!B587=data!$B$2,\"Souvislá údržba\",IF('v přípravě a připraveno'!B587=data!$B$3,\"Most\",\"-\"))","v":"-"},{"$f":"IF('v přípravě a připraveno'!B587=data!$B$2,\"Rekonstrukce\",IF('v přípravě a připraveno'!B587=data!$B$3,\"Propustek\",\"-\"))","v":"-"},null,null,null,null,null,null,null,null,null,null,null,null,null,null,null,{"$f":"IF('náměty na projekční přípravu'!B684=data!$S$2,\"Souvislá údržba\",IF('náměty na projekční přípravu'!B684=data!$S$3,\"Most\",\"-\"))","v":"-"},{"$f":"IF('náměty na projekční přípravu'!B684=data!$S$2,\"Rekonstrukce\",IF('náměty na projekční přípravu'!B684=data!$S$3,\"Propustek\",\"-\"))","v":"-"}]
[null,null,null,null,null,null,null,null,null,null,null,{"$f":"IF('v přípravě a připraveno'!B588=data!$B$2,\"Souvislá údržba\",IF('v přípravě a připraveno'!B588=data!$B$3,\"Most\",\"-\"))","v":"-"},{"$f":"IF('v přípravě a připraveno'!B588=data!$B$2,\"Rekonstrukce\",IF('v přípravě a připraveno'!B588=data!$B$3,\"Propustek\",\"-\"))","v":"-"},null,null,null,null,null,null,null,null,null,null,null,null,null,null,null,{"$f":"IF('náměty na projekční přípravu'!B685=data!$S$2,\"Souvislá údržba\",IF('náměty na projekční přípravu'!B685=data!$S$3,\"Most\",\"-\"))","v":"-"},{"$f":"IF('náměty na projekční přípravu'!B685=data!$S$2,\"Rekonstrukce\",IF('náměty na projekční přípravu'!B685=data!$S$3,\"Propustek\",\"-\"))","v":"-"}]
[null,null,null,null,null,null,null,null,null,null,null,{"$f":"IF('v přípravě a připraveno'!B589=data!$B$2,\"Souvislá údržba\",IF('v přípravě a připraveno'!B589=data!$B$3,\"Most\",\"-\"))","v":"-"},{"$f":"IF('v přípravě a připraveno'!B589=data!$B$2,\"Rekonstrukce\",IF('v přípravě a připraveno'!B589=data!$B$3,\"Propustek\",\"-\"))","v":"-"},null,null,null,null,null,null,null,null,null,null,null,null,null,null,null,{"$f":"IF('náměty na projekční přípravu'!B686=data!$S$2,\"Souvislá údržba\",IF('náměty na projekční přípravu'!B686=data!$S$3,\"Most\",\"-\"))","v":"-"},{"$f":"IF('náměty na projekční přípravu'!B686=data!$S$2,\"Rekonstrukce\",IF('náměty na projekční přípravu'!B686=data!$S$3,\"Propustek\",\"-\"))","v":"-"}]
[null,null,null,null,null,null,null,null,null,null,null,{"$f":"IF('v přípravě a připraveno'!B590=data!$B$2,\"Souvislá údržba\",IF('v přípravě a připraveno'!B590=data!$B$3,\"Most\",\"-\"))","v":"-"},{"$f":"IF('v přípravě a připraveno'!B590=data!$B$2,\"Rekonstrukce\",IF('v přípravě a připraveno'!B590=data!$B$3,\"Propustek\",\"-\"))","v":"-"},null,null,null,null,null,null,null,null,null,null,null,null,null,null,null,{"$f":"IF('náměty na projekční přípravu'!B687=data!$S$2,\"Souvislá údržba\",IF('náměty na projekční přípravu'!B687=data!$S$3,\"Most\",\"-\"))","v":"-"},{"$f":"IF('náměty na projekční přípravu'!B687=data!$S$2,\"Rekonstrukce\",IF('náměty na projekční přípravu'!B687=data!$S$3,\"Propustek\",\"-\"))","v":"-"}]
[null,null,null,null,null,null,null,null,null,null,null,{"$f":"IF('v přípravě a připraveno'!B591=data!$B$2,\"Souvislá údržba\",IF('v přípravě a připraveno'!B591=data!$B$3,\"Most\",\"-\"))","v":"-"},{"$f":"IF('v přípravě a připraveno'!B591=data!$B$2,\"Rekonstrukce\",IF('v přípravě a připraveno'!B591=data!$B$3,\"Propustek\",\"-\"))","v":"-"},null,null,null,null,null,null,null,null,null,null,null,null,null,null,null,{"$f":"IF('náměty na projekční přípravu'!B688=data!$S$2,\"Souvislá údržba\",IF('náměty na projekční přípravu'!B688=data!$S$3,\"Most\",\"-\"))","v":"-"},{"$f":"IF('náměty na projekční přípravu'!B688=data!$S$2,\"Rekonstrukce\",IF('náměty na projekční přípravu'!B688=data!$S$3,\"Propustek\",\"-\"))","v":"-"}]
[null,null,null,null,null,null,null,null,null,null,null,{"$f":"IF('v přípravě a připraveno'!B592=data!$B$2,\"Souvislá údržba\",IF('v přípravě a připraveno'!B592=data!$B$3,\"Most\",\"-\"))","v":"-"},{"$f":"IF('v přípravě a připraveno'!B592=data!$B$2,\"Rekonstrukce\",IF('v přípravě a připraveno'!B592=data!$B$3,\"Propustek\",\"-\"))","v":"-"},null,null,null,null,null,null,null,null,null,null,null,null,null,null,null,{"$f":"IF('náměty na projekční přípravu'!B689=data!$S$2,\"Souvislá údržba\",IF('náměty na projekční přípravu'!B689=data!$S$3,\"Most\",\"-\"))","v":"-"},{"$f":"IF('náměty na projekční přípravu'!B689=data!$S$2,\"Rekonstrukce\",IF('náměty na projekční přípravu'!B689=data!$S$3,\"Propustek\",\"-\"))","v":"-"}]
[null,null,null,null,null,null,null,null,null,null,null,{"$f":"IF('v přípravě a připraveno'!B593=data!$B$2,\"Souvislá údržba\",IF('v přípravě a připraveno'!B593=data!$B$3,\"Most\",\"-\"))","v":"-"},{"$f":"IF('v přípravě a připraveno'!B593=data!$B$2,\"Rekonstrukce\",IF('v přípravě a připraveno'!B593=data!$B$3,\"Propustek\",\"-\"))","v":"-"},null,null,null,null,null,null,null,null,null,null,null,null,null,null,null,{"$f":"IF('náměty na projekční přípravu'!B690=data!$S$2,\"Souvislá údržba\",IF('náměty na projekční přípravu'!B690=data!$S$3,\"Most\",\"-\"))","v":"-"},{"$f":"IF('náměty na projekční přípravu'!B690=data!$S$2,\"Rekonstrukce\",IF('náměty na projekční přípravu'!B690=data!$S$3,\"Propustek\",\"-\"))","v":"-"}]
[null,null,null,null,null,null,null,null,null,null,null,{"$f":"IF('v přípravě a připraveno'!B594=data!$B$2,\"Souvislá údržba\",IF('v přípravě a připraveno'!B594=data!$B$3,\"Most\",\"-\"))","v":"-"},{"$f":"IF('v přípravě a připraveno'!B594=data!$B$2,\"Rekonstrukce\",IF('v přípravě a připraveno'!B594=data!$B$3,\"Propustek\",\"-\"))","v":"-"},null,null,null,null,null,null,null,null,null,null,null,null,null,null,null,{"$f":"IF('náměty na projekční přípravu'!B691=data!$S$2,\"Souvislá údržba\",IF('náměty na projekční přípravu'!B691=data!$S$3,\"Most\",\"-\"))","v":"-"},{"$f":"IF('náměty na projekční přípravu'!B691=data!$S$2,\"Rekonstrukce\",IF('náměty na projekční přípravu'!B691=data!$S$3,\"Propustek\",\"-\"))","v":"-"}]
[null,null,null,null,null,null,null,null,null,null,null,{"$f":"IF('v přípravě a připraveno'!B595=data!$B$2,\"Souvislá údržba\",IF('v přípravě a připraveno'!B595=data!$B$3,\"Most\",\"-\"))","v":"-"},{"$f":"IF('v přípravě a připraveno'!B595=data!$B$2,\"Rekonstrukce\",IF('v přípravě a připraveno'!B595=data!$B$3,\"Propustek\",\"-\"))","v":"-"},null,null,null,null,null,null,null,null,null,null,null,null,null,null,null,{"$f":"IF('náměty na projekční přípravu'!B692=data!$S$2,\"Souvislá údržba\",IF('náměty na projekční přípravu'!B692=data!$S$3,\"Most\",\"-\"))","v":"-"},{"$f":"IF('náměty na projekční přípravu'!B692=data!$S$2,\"Rekonstrukce\",IF('náměty na projekční přípravu'!B692=data!$S$3,\"Propustek\",\"-\"))","v":"-"}]
[null,null,null,null,null,null,null,null,null,null,null,{"$f":"IF('v přípravě a připraveno'!B596=data!$B$2,\"Souvislá údržba\",IF('v přípravě a připraveno'!B596=data!$B$3,\"Most\",\"-\"))","v":"-"},{"$f":"IF('v přípravě a připraveno'!B596=data!$B$2,\"Rekonstrukce\",IF('v přípravě a připraveno'!B596=data!$B$3,\"Propustek\",\"-\"))","v":"-"},null,null,null,null,null,null,null,null,null,null,null,null,null,null,null,{"$f":"IF('náměty na projekční přípravu'!B693=data!$S$2,\"Souvislá údržba\",IF('náměty na projekční přípravu'!B693=data!$S$3,\"Most\",\"-\"))","v":"-"},{"$f":"IF('náměty na projekční přípravu'!B693=data!$S$2,\"Rekonstrukce\",IF('náměty na projekční přípravu'!B693=data!$S$3,\"Propustek\",\"-\"))","v":"-"}]
[null,null,null,null,null,null,null,null,null,null,null,{"$f":"IF('v přípravě a připraveno'!B597=data!$B$2,\"Souvislá údržba\",IF('v přípravě a připraveno'!B597=data!$B$3,\"Most\",\"-\"))","v":"-"},{"$f":"IF('v přípravě a připraveno'!B597=data!$B$2,\"Rekonstrukce\",IF('v přípravě a připraveno'!B597=data!$B$3,\"Propustek\",\"-\"))","v":"-"},null,null,null,null,null,null,null,null,null,null,null,null,null,null,null,{"$f":"IF('náměty na projekční přípravu'!B694=data!$S$2,\"Souvislá údržba\",IF('náměty na projekční přípravu'!B694=data!$S$3,\"Most\",\"-\"))","v":"-"},{"$f":"IF('náměty na projekční přípravu'!B694=data!$S$2,\"Rekonstrukce\",IF('náměty na projekční přípravu'!B694=data!$S$3,\"Propustek\",\"-\"))","v":"-"}]
[null,null,null,null,null,null,null,null,null,null,null,{"$f":"IF('v přípravě a připraveno'!B598=data!$B$2,\"Souvislá údržba\",IF('v přípravě a připraveno'!B598=data!$B$3,\"Most\",\"-\"))","v":"-"},{"$f":"IF('v přípravě a připraveno'!B598=data!$B$2,\"Rekonstrukce\",IF('v přípravě a připraveno'!B598=data!$B$3,\"Propustek\",\"-\"))","v":"-"},null,null,null,null,null,null,null,null,null,null,null,null,null,null,null,{"$f":"IF('náměty na projekční přípravu'!B695=data!$S$2,\"Souvislá údržba\",IF('náměty na projekční přípravu'!B695=data!$S$3,\"Most\",\"-\"))","v":"-"},{"$f":"IF('náměty na projekční přípravu'!B695=data!$S$2,\"Rekonstrukce\",IF('náměty na projekční přípravu'!B695=data!$S$3,\"Propustek\",\"-\"))","v":"-"}]
[null,null,null,null,null,null,null,null,null,null,null,{"$f":"IF('v přípravě a připraveno'!B599=data!$B$2,\"Souvislá údržba\",IF('v přípravě a připraveno'!B599=data!$B$3,\"Most\",\"-\"))","v":"-"},{"$f":"IF('v přípravě a připraveno'!B599=data!$B$2,\"Rekonstrukce\",IF('v přípravě a připraveno'!B599=data!$B$3,\"Propustek\",\"-\"))","v":"-"},null,null,null,null,null,null,null,null,null,null,null,null,null,null,null,{"$f":"IF('náměty na projekční přípravu'!B696=data!$S$2,\"Souvislá údržba\",IF('náměty na projekční přípravu'!B696=data!$S$3,\"Most\",\"-\"))","v":"-"},{"$f":"IF('náměty na projekční přípravu'!B696=data!$S$2,\"Rekonstrukce\",IF('náměty na projekční přípravu'!B696=data!$S$3,\"Propustek\",\"-\"))","v":"-"}]
[null,null,null,null,null,null,null,null,null,null,null,{"$f":"IF('v přípravě a připraveno'!B600=data!$B$2,\"Souvislá údržba\",IF('v přípravě a připraveno'!B600=data!$B$3,\"Most\",\"-\"))","v":"-"},{"$f":"IF('v přípravě a připraveno'!B600=data!$B$2,\"Rekonstrukce\",IF('v přípravě a připraveno'!B600=data!$B$3,\"Propustek\",\"-\"))","v":"-"},null,null,null,null,null,null,null,null,null,null,null,null,null,null,null,{"$f":"IF('náměty na projekční přípravu'!B697=data!$S$2,\"Souvislá údržba\",IF('náměty na projekční přípravu'!B697=data!$S$3,\"Most\",\"-\"))","v":"-"},{"$f":"IF('náměty na projekční přípravu'!B697=data!$S$2,\"Rekonstrukce\",IF('náměty na projekční přípravu'!B697=data!$S$3,\"Propustek\",\"-\"))","v":"-"}]
[null,null,null,null,null,null,null,null,null,null,null,{"$f":"IF('v přípravě a připraveno'!B601=data!$B$2,\"Souvislá údržba\",IF('v přípravě a připraveno'!B601=data!$B$3,\"Most\",\"-\"))","v":"-"},{"$f":"IF('v přípravě a připraveno'!B601=data!$B$2,\"Rekonstrukce\",IF('v přípravě a připraveno'!B601=data!$B$3,\"Propustek\",\"-\"))","v":"-"},null,null,null,null,null,null,null,null,null,null,null,null,null,null,null,{"$f":"IF('náměty na projekční přípravu'!B698=data!$S$2,\"Souvislá údržba\",IF('náměty na projekční přípravu'!B698=data!$S$3,\"Most\",\"-\"))","v":"-"},{"$f":"IF('náměty na projekční přípravu'!B698=data!$S$2,\"Rekonstrukce\",IF('náměty na projekční přípravu'!B698=data!$S$3,\"Propustek\",\"-\"))","v":"-"}]
[null,null,null,null,null,null,null,null,null,null,null,{"$f":"IF('v přípravě a připraveno'!B602=data!$B$2,\"Souvislá údržba\",IF('v přípravě a připraveno'!B602=data!$B$3,\"Most\",\"-\"))","v":"-"},{"$f":"IF('v přípravě a připraveno'!B602=data!$B$2,\"Rekonstrukce\",IF('v přípravě a připraveno'!B602=data!$B$3,\"Propustek\",\"-\"))","v":"-"},null,null,null,null,null,null,null,null,null,null,null,null,null,null,null,{"$f":"IF('náměty na projekční přípravu'!B699=data!$S$2,\"Souvislá údržba\",IF('náměty na projekční přípravu'!B699=data!$S$3,\"Most\",\"-\"))","v":"-"},{"$f":"IF('náměty na projekční přípravu'!B699=data!$S$2,\"Rekonstrukce\",IF('náměty na projekční přípravu'!B699=data!$S$3,\"Propustek\",\"-\"))","v":"-"}]
[null,null,null,null,null,null,null,null,null,null,null,{"$f":"IF('v přípravě a připraveno'!B603=data!$B$2,\"Souvislá údržba\",IF('v přípravě a připraveno'!B603=data!$B$3,\"Most\",\"-\"))","v":"-"},{"$f":"IF('v přípravě a připraveno'!B603=data!$B$2,\"Rekonstrukce\",IF('v přípravě a připraveno'!B603=data!$B$3,\"Propustek\",\"-\"))","v":"-"},null,null,null,null,null,null,null,null,null,null,null,null,null,null,null,{"$f":"IF('náměty na projekční přípravu'!B700=data!$S$2,\"Souvislá údržba\",IF('náměty na projekční přípravu'!B700=data!$S$3,\"Most\",\"-\"))","v":"-"},{"$f":"IF('náměty na projekční přípravu'!B700=data!$S$2,\"Rekonstrukce\",IF('náměty na projekční přípravu'!B700=data!$S$3,\"Propustek\",\"-\"))","v":"-"}]
[null,null,null,null,null,null,null,null,null,null,null,{"$f":"IF('v přípravě a připraveno'!B604=data!$B$2,\"Souvislá údržba\",IF('v přípravě a připraveno'!B604=data!$B$3,\"Most\",\"-\"))","v":"-"},{"$f":"IF('v přípravě a připraveno'!B604=data!$B$2,\"Rekonstrukce\",IF('v přípravě a připraveno'!B604=data!$B$3,\"Propustek\",\"-\"))","v":"-"},null,null,null,null,null,null,null,null,null,null,null,null,null,null,null,{"$f":"IF('náměty na projekční přípravu'!B701=data!$S$2,\"Souvislá údržba\",IF('náměty na projekční přípravu'!B701=data!$S$3,\"Most\",\"-\"))","v":"-"},{"$f":"IF('náměty na projekční přípravu'!B701=data!$S$2,\"Rekonstrukce\",IF('náměty na projekční přípravu'!B701=data!$S$3,\"Propustek\",\"-\"))","v":"-"}]
[null,null,null,null,null,null,null,null,null,null,null,{"$f":"IF('v přípravě a připraveno'!B605=data!$B$2,\"Souvislá údržba\",IF('v přípravě a připraveno'!B605=data!$B$3,\"Most\",\"-\"))","v":"-"},{"$f":"IF('v přípravě a připraveno'!B605=data!$B$2,\"Rekonstrukce\",IF('v přípravě a připraveno'!B605=data!$B$3,\"Propustek\",\"-\"))","v":"-"},null,null,null,null,null,null,null,null,null,null,null,null,null,null,null,{"$f":"IF('náměty na projekční přípravu'!B702=data!$S$2,\"Souvislá údržba\",IF('náměty na projekční přípravu'!B702=data!$S$3,\"Most\",\"-\"))","v":"-"},{"$f":"IF('náměty na projekční přípravu'!B702=data!$S$2,\"Rekonstrukce\",IF('náměty na projekční přípravu'!B702=data!$S$3,\"Propustek\",\"-\"))","v":"-"}]
[null,null,null,null,null,null,null,null,null,null,null,{"$f":"IF('v přípravě a připraveno'!B606=data!$B$2,\"Souvislá údržba\",IF('v přípravě a připraveno'!B606=data!$B$3,\"Most\",\"-\"))","v":"-"},{"$f":"IF('v přípravě a připraveno'!B606=data!$B$2,\"Rekonstrukce\",IF('v přípravě a připraveno'!B606=data!$B$3,\"Propustek\",\"-\"))","v":"-"},null,null,null,null,null,null,null,null,null,null,null,null,null,null,null,{"$f":"IF('náměty na projekční přípravu'!B703=data!$S$2,\"Souvislá údržba\",IF('náměty na projekční přípravu'!B703=data!$S$3,\"Most\",\"-\"))","v":"-"},{"$f":"IF('náměty na projekční přípravu'!B703=data!$S$2,\"Rekonstrukce\",IF('náměty na projekční přípravu'!B703=data!$S$3,\"Propustek\",\"-\"))","v":"-"}]
[null,null,null,null,null,null,null,null,null,null,null,{"$f":"IF('v přípravě a připraveno'!B607=data!$B$2,\"Souvislá údržba\",IF('v přípravě a připraveno'!B607=data!$B$3,\"Most\",\"-\"))","v":"-"},{"$f":"IF('v přípravě a připraveno'!B607=data!$B$2,\"Rekonstrukce\",IF('v přípravě a připraveno'!B607=data!$B$3,\"Propustek\",\"-\"))","v":"-"},null,null,null,null,null,null,null,null,null,null,null,null,null,null,null,{"$f":"IF('náměty na projekční přípravu'!B704=data!$S$2,\"Souvislá údržba\",IF('náměty na projekční přípravu'!B704=data!$S$3,\"Most\",\"-\"))","v":"-"},{"$f":"IF('náměty na projekční přípravu'!B704=data!$S$2,\"Rekonstrukce\",IF('náměty na projekční přípravu'!B704=data!$S$3,\"Propustek\",\"-\"))","v":"-"}]
[null,null,null,null,null,null,null,null,null,null,null,{"$f":"IF('v přípravě a připraveno'!B608=data!$B$2,\"Souvislá údržba\",IF('v přípravě a připraveno'!B608=data!$B$3,\"Most\",\"-\"))","v":"-"},{"$f":"IF('v přípravě a připraveno'!B608=data!$B$2,\"Rekonstrukce\",IF('v přípravě a připraveno'!B608=data!$B$3,\"Propustek\",\"-\"))","v":"-"},null,null,null,null,null,null,null,null,null,null,null,null,null,null,null,{"$f":"IF('náměty na projekční přípravu'!B705=data!$S$2,\"Souvislá údržba\",IF('náměty na projekční přípravu'!B705=data!$S$3,\"Most\",\"-\"))","v":"-"},{"$f":"IF('náměty na projekční přípravu'!B705=data!$S$2,\"Rekonstrukce\",IF('náměty na projekční přípravu'!B705=data!$S$3,\"Propustek\",\"-\"))","v":"-"}]
[null,null,null,null,null,null,null,null,null,null,null,{"$f":"IF('v přípravě a připraveno'!B609=data!$B$2,\"Souvislá údržba\",IF('v přípravě a připraveno'!B609=data!$B$3,\"Most\",\"-\"))","v":"-"},{"$f":"IF('v přípravě a připraveno'!B609=data!$B$2,\"Rekonstrukce\",IF('v přípravě a připraveno'!B609=data!$B$3,\"Propustek\",\"-\"))","v":"-"},null,null,null,null,null,null,null,null,null,null,null,null,null,null,null,{"$f":"IF('náměty na projekční přípravu'!B706=data!$S$2,\"Souvislá údržba\",IF('náměty na projekční přípravu'!B706=data!$S$3,\"Most\",\"-\"))","v":"-"},{"$f":"IF('náměty na projekční přípravu'!B706=data!$S$2,\"Rekonstrukce\",IF('náměty na projekční přípravu'!B706=data!$S$3,\"Propustek\",\"-\"))","v":"-"}]
[null,null,null,null,null,null,null,null,null,null,null,{"$f":"IF('v přípravě a připraveno'!B610=data!$B$2,\"Souvislá údržba\",IF('v přípravě a připraveno'!B610=data!$B$3,\"Most\",\"-\"))","v":"-"},{"$f":"IF('v přípravě a připraveno'!B610=data!$B$2,\"Rekonstrukce\",IF('v přípravě a připraveno'!B610=data!$B$3,\"Propustek\",\"-\"))","v":"-"},null,null,null,null,null,null,null,null,null,null,null,null,null,null,null,{"$f":"IF('náměty na projekční přípravu'!B707=data!$S$2,\"Souvislá údržba\",IF('náměty na projekční přípravu'!B707=data!$S$3,\"Most\",\"-\"))","v":"-"},{"$f":"IF('náměty na projekční přípravu'!B707=data!$S$2,\"Rekonstrukce\",IF('náměty na projekční přípravu'!B707=data!$S$3,\"Propustek\",\"-\"))","v":"-"}]
[null,null,null,null,null,null,null,null,null,null,null,{"$f":"IF('v přípravě a připraveno'!B611=data!$B$2,\"Souvislá údržba\",IF('v přípravě a připraveno'!B611=data!$B$3,\"Most\",\"-\"))","v":"-"},{"$f":"IF('v přípravě a připraveno'!B611=data!$B$2,\"Rekonstrukce\",IF('v přípravě a připraveno'!B611=data!$B$3,\"Propustek\",\"-\"))","v":"-"},null,null,null,null,null,null,null,null,null,null,null,null,null,null,null,{"$f":"IF('náměty na projekční přípravu'!B708=data!$S$2,\"Souvislá údržba\",IF('náměty na projekční přípravu'!B708=data!$S$3,\"Most\",\"-\"))","v":"-"},{"$f":"IF('náměty na projekční přípravu'!B708=data!$S$2,\"Rekonstrukce\",IF('náměty na projekční přípravu'!B708=data!$S$3,\"Propustek\",\"-\"))","v":"-"}]
[null,null,null,null,null,null,null,null,null,null,null,{"$f":"IF('v přípravě a připraveno'!B612=data!$B$2,\"Souvislá údržba\",IF('v přípravě a připraveno'!B612=data!$B$3,\"Most\",\"-\"))","v":"-"},{"$f":"IF('v přípravě a připraveno'!B612=data!$B$2,\"Rekonstrukce\",IF('v přípravě a připraveno'!B612=data!$B$3,\"Propustek\",\"-\"))","v":"-"},null,null,null,null,null,null,null,null,null,null,null,null,null,null,null,{"$f":"IF('náměty na projekční přípravu'!B709=data!$S$2,\"Souvislá údržba\",IF('náměty na projekční přípravu'!B709=data!$S$3,\"Most\",\"-\"))","v":"-"},{"$f":"IF('náměty na projekční přípravu'!B709=data!$S$2,\"Rekonstrukce\",IF('náměty na projekční přípravu'!B709=data!$S$3,\"Propustek\",\"-\"))","v":"-"}]
[null,null,null,null,null,null,null,null,null,null,null,{"$f":"IF('v přípravě a připraveno'!B613=data!$B$2,\"Souvislá údržba\",IF('v přípravě a připraveno'!B613=data!$B$3,\"Most\",\"-\"))","v":"-"},{"$f":"IF('v přípravě a připraveno'!B613=data!$B$2,\"Rekonstrukce\",IF('v přípravě a připraveno'!B613=data!$B$3,\"Propustek\",\"-\"))","v":"-"},null,null,null,null,null,null,null,null,null,null,null,null,null,null,null,{"$f":"IF('náměty na projekční přípravu'!B710=data!$S$2,\"Souvislá údržba\",IF('náměty na projekční přípravu'!B710=data!$S$3,\"Most\",\"-\"))","v":"-"},{"$f":"IF('náměty na projekční přípravu'!B710=data!$S$2,\"Rekonstrukce\",IF('náměty na projekční přípravu'!B710=data!$S$3,\"Propustek\",\"-\"))","v":"-"}]
[null,null,null,null,null,null,null,null,null,null,null,{"$f":"IF('v přípravě a připraveno'!B614=data!$B$2,\"Souvislá údržba\",IF('v přípravě a připraveno'!B614=data!$B$3,\"Most\",\"-\"))","v":"-"},{"$f":"IF('v přípravě a připraveno'!B614=data!$B$2,\"Rekonstrukce\",IF('v přípravě a připraveno'!B614=data!$B$3,\"Propustek\",\"-\"))","v":"-"},null,null,null,null,null,null,null,null,null,null,null,null,null,null,null,{"$f":"IF('náměty na projekční přípravu'!B711=data!$S$2,\"Souvislá údržba\",IF('náměty na projekční přípravu'!B711=data!$S$3,\"Most\",\"-\"))","v":"-"},{"$f":"IF('náměty na projekční přípravu'!B711=data!$S$2,\"Rekonstrukce\",IF('náměty na projekční přípravu'!B711=data!$S$3,\"Propustek\",\"-\"))","v":"-"}]
[null,null,null,null,null,null,null,null,null,null,null,{"$f":"IF('v přípravě a připraveno'!B615=data!$B$2,\"Souvislá údržba\",IF('v přípravě a připraveno'!B615=data!$B$3,\"Most\",\"-\"))","v":"-"},{"$f":"IF('v přípravě a připraveno'!B615=data!$B$2,\"Rekonstrukce\",IF('v přípravě a připraveno'!B615=data!$B$3,\"Propustek\",\"-\"))","v":"-"},null,null,null,null,null,null,null,null,null,null,null,null,null,null,null,{"$f":"IF('náměty na projekční přípravu'!B712=data!$S$2,\"Souvislá údržba\",IF('náměty na projekční přípravu'!B712=data!$S$3,\"Most\",\"-\"))","v":"-"},{"$f":"IF('náměty na projekční přípravu'!B712=data!$S$2,\"Rekonstrukce\",IF('náměty na projekční přípravu'!B712=data!$S$3,\"Propustek\",\"-\"))","v":"-"}]
[null,null,null,null,null,null,null,null,null,null,null,{"$f":"IF('v přípravě a připraveno'!B616=data!$B$2,\"Souvislá údržba\",IF('v přípravě a připraveno'!B616=data!$B$3,\"Most\",\"-\"))","v":"-"},{"$f":"IF('v přípravě a připraveno'!B616=data!$B$2,\"Rekonstrukce\",IF('v přípravě a připraveno'!B616=data!$B$3,\"Propustek\",\"-\"))","v":"-"},null,null,null,null,null,null,null,null,null,null,null,null,null,null,null,{"$f":"IF('náměty na projekční přípravu'!B713=data!$S$2,\"Souvislá údržba\",IF('náměty na projekční přípravu'!B713=data!$S$3,\"Most\",\"-\"))","v":"-"},{"$f":"IF('náměty na projekční přípravu'!B713=data!$S$2,\"Rekonstrukce\",IF('náměty na projekční přípravu'!B713=data!$S$3,\"Propustek\",\"-\"))","v":"-"}]
[null,null,null,null,null,null,null,null,null,null,null,{"$f":"IF('v přípravě a připraveno'!B617=data!$B$2,\"Souvislá údržba\",IF('v přípravě a připraveno'!B617=data!$B$3,\"Most\",\"-\"))","v":"-"},{"$f":"IF('v přípravě a připraveno'!B617=data!$B$2,\"Rekonstrukce\",IF('v přípravě a připraveno'!B617=data!$B$3,\"Propustek\",\"-\"))","v":"-"},null,null,null,null,null,null,null,null,null,null,null,null,null,null,null,{"$f":"IF('náměty na projekční přípravu'!B714=data!$S$2,\"Souvislá údržba\",IF('náměty na projekční přípravu'!B714=data!$S$3,\"Most\",\"-\"))","v":"-"},{"$f":"IF('náměty na projekční přípravu'!B714=data!$S$2,\"Rekonstrukce\",IF('náměty na projekční přípravu'!B714=data!$S$3,\"Propustek\",\"-\"))","v":"-"}]
[null,null,null,null,null,null,null,null,null,null,null,{"$f":"IF('v přípravě a připraveno'!B618=data!$B$2,\"Souvislá údržba\",IF('v přípravě a připraveno'!B618=data!$B$3,\"Most\",\"-\"))","v":"-"},{"$f":"IF('v přípravě a připraveno'!B618=data!$B$2,\"Rekonstrukce\",IF('v přípravě a připraveno'!B618=data!$B$3,\"Propustek\",\"-\"))","v":"-"},null,null,null,null,null,null,null,null,null,null,null,null,null,null,null,{"$f":"IF('náměty na projekční přípravu'!B715=data!$S$2,\"Souvislá údržba\",IF('náměty na projekční přípravu'!B715=data!$S$3,\"Most\",\"-\"))","v":"-"},{"$f":"IF('náměty na projekční přípravu'!B715=data!$S$2,\"Rekonstrukce\",IF('náměty na projekční přípravu'!B715=data!$S$3,\"Propustek\",\"-\"))","v":"-"}]
[null,null,null,null,null,null,null,null,null,null,null,{"$f":"IF('v přípravě a připraveno'!B619=data!$B$2,\"Souvislá údržba\",IF('v přípravě a připraveno'!B619=data!$B$3,\"Most\",\"-\"))","v":"-"},{"$f":"IF('v přípravě a připraveno'!B619=data!$B$2,\"Rekonstrukce\",IF('v přípravě a připraveno'!B619=data!$B$3,\"Propustek\",\"-\"))","v":"-"},null,null,null,null,null,null,null,null,null,null,null,null,null,null,null,{"$f":"IF('náměty na projekční přípravu'!B716=data!$S$2,\"Souvislá údržba\",IF('náměty na projekční přípravu'!B716=data!$S$3,\"Most\",\"-\"))","v":"-"},{"$f":"IF('náměty na projekční přípravu'!B716=data!$S$2,\"Rekonstrukce\",IF('náměty na projekční přípravu'!B716=data!$S$3,\"Propustek\",\"-\"))","v":"-"}]
[null,null,null,null,null,null,null,null,null,null,null,{"$f":"IF('v přípravě a připraveno'!B620=data!$B$2,\"Souvislá údržba\",IF('v přípravě a připraveno'!B620=data!$B$3,\"Most\",\"-\"))","v":"-"},{"$f":"IF('v přípravě a připraveno'!B620=data!$B$2,\"Rekonstrukce\",IF('v přípravě a připraveno'!B620=data!$B$3,\"Propustek\",\"-\"))","v":"-"},null,null,null,null,null,null,null,null,null,null,null,null,null,null,null,{"$f":"IF('náměty na projekční přípravu'!B717=data!$S$2,\"Souvislá údržba\",IF('náměty na projekční přípravu'!B717=data!$S$3,\"Most\",\"-\"))","v":"-"},{"$f":"IF('náměty na projekční přípravu'!B717=data!$S$2,\"Rekonstrukce\",IF('náměty na projekční přípravu'!B717=data!$S$3,\"Propustek\",\"-\"))","v":"-"}]
[null,null,null,null,null,null,null,null,null,null,null,{"$f":"IF('v přípravě a připraveno'!B621=data!$B$2,\"Souvislá údržba\",IF('v přípravě a připraveno'!B621=data!$B$3,\"Most\",\"-\"))","v":"-"},{"$f":"IF('v přípravě a připraveno'!B621=data!$B$2,\"Rekonstrukce\",IF('v přípravě a připraveno'!B621=data!$B$3,\"Propustek\",\"-\"))","v":"-"},null,null,null,null,null,null,null,null,null,null,null,null,null,null,null,{"$f":"IF('náměty na projekční přípravu'!B718=data!$S$2,\"Souvislá údržba\",IF('náměty na projekční přípravu'!B718=data!$S$3,\"Most\",\"-\"))","v":"-"},{"$f":"IF('náměty na projekční přípravu'!B718=data!$S$2,\"Rekonstrukce\",IF('náměty na projekční přípravu'!B718=data!$S$3,\"Propustek\",\"-\"))","v":"-"}]
[null,null,null,null,null,null,null,null,null,null,null,{"$f":"IF('v přípravě a připraveno'!B622=data!$B$2,\"Souvislá údržba\",IF('v přípravě a připraveno'!B622=data!$B$3,\"Most\",\"-\"))","v":"-"},{"$f":"IF('v přípravě a připraveno'!B622=data!$B$2,\"Rekonstrukce\",IF('v přípravě a připraveno'!B622=data!$B$3,\"Propustek\",\"-\"))","v":"-"},null,null,null,null,null,null,null,null,null,null,null,null,null,null,null,{"$f":"IF('náměty na projekční přípravu'!B719=data!$S$2,\"Souvislá údržba\",IF('náměty na projekční přípravu'!B719=data!$S$3,\"Most\",\"-\"))","v":"-"},{"$f":"IF('náměty na projekční přípravu'!B719=data!$S$2,\"Rekonstrukce\",IF('náměty na projekční přípravu'!B719=data!$S$3,\"Propustek\",\"-\"))","v":"-"}]
[null,null,null,null,null,null,null,null,null,null,null,{"$f":"IF('v přípravě a připraveno'!B623=data!$B$2,\"Souvislá údržba\",IF('v přípravě a připraveno'!B623=data!$B$3,\"Most\",\"-\"))","v":"-"},{"$f":"IF('v přípravě a připraveno'!B623=data!$B$2,\"Rekonstrukce\",IF('v přípravě a připraveno'!B623=data!$B$3,\"Propustek\",\"-\"))","v":"-"},null,null,null,null,null,null,null,null,null,null,null,null,null,null,null,{"$f":"IF('náměty na projekční přípravu'!B720=data!$S$2,\"Souvislá údržba\",IF('náměty na projekční přípravu'!B720=data!$S$3,\"Most\",\"-\"))","v":"-"},{"$f":"IF('náměty na projekční přípravu'!B720=data!$S$2,\"Rekonstrukce\",IF('náměty na projekční přípravu'!B720=data!$S$3,\"Propustek\",\"-\"))","v":"-"}]
[null,null,null,null,null,null,null,null,null,null,null,{"$f":"IF('v přípravě a připraveno'!B624=data!$B$2,\"Souvislá údržba\",IF('v přípravě a připraveno'!B624=data!$B$3,\"Most\",\"-\"))","v":"-"},{"$f":"IF('v přípravě a připraveno'!B624=data!$B$2,\"Rekonstrukce\",IF('v přípravě a připraveno'!B624=data!$B$3,\"Propustek\",\"-\"))","v":"-"},null,null,null,null,null,null,null,null,null,null,null,null,null,null,null,{"$f":"IF('náměty na projekční přípravu'!B721=data!$S$2,\"Souvislá údržba\",IF('náměty na projekční přípravu'!B721=data!$S$3,\"Most\",\"-\"))","v":"-"},{"$f":"IF('náměty na projekční přípravu'!B721=data!$S$2,\"Rekonstrukce\",IF('náměty na projekční přípravu'!B721=data!$S$3,\"Propustek\",\"-\"))","v":"-"}]
[null,null,null,null,null,null,null,null,null,null,null,{"$f":"IF('v přípravě a připraveno'!B625=data!$B$2,\"Souvislá údržba\",IF('v přípravě a připraveno'!B625=data!$B$3,\"Most\",\"-\"))","v":"-"},{"$f":"IF('v přípravě a připraveno'!B625=data!$B$2,\"Rekonstrukce\",IF('v přípravě a připraveno'!B625=data!$B$3,\"Propustek\",\"-\"))","v":"-"},null,null,null,null,null,null,null,null,null,null,null,null,null,null,null,{"$f":"IF('náměty na projekční přípravu'!B722=data!$S$2,\"Souvislá údržba\",IF('náměty na projekční přípravu'!B722=data!$S$3,\"Most\",\"-\"))","v":"-"},{"$f":"IF('náměty na projekční přípravu'!B722=data!$S$2,\"Rekonstrukce\",IF('náměty na projekční přípravu'!B722=data!$S$3,\"Propustek\",\"-\"))","v":"-"}]
[null,null,null,null,null,null,null,null,null,null,null,{"$f":"IF('v přípravě a připraveno'!B626=data!$B$2,\"Souvislá údržba\",IF('v přípravě a připraveno'!B626=data!$B$3,\"Most\",\"-\"))","v":"-"},{"$f":"IF('v přípravě a připraveno'!B626=data!$B$2,\"Rekonstrukce\",IF('v přípravě a připraveno'!B626=data!$B$3,\"Propustek\",\"-\"))","v":"-"},null,null,null,null,null,null,null,null,null,null,null,null,null,null,null,{"$f":"IF('náměty na projekční přípravu'!B723=data!$S$2,\"Souvislá údržba\",IF('náměty na projekční přípravu'!B723=data!$S$3,\"Most\",\"-\"))","v":"-"},{"$f":"IF('náměty na projekční přípravu'!B723=data!$S$2,\"Rekonstrukce\",IF('náměty na projekční přípravu'!B723=data!$S$3,\"Propustek\",\"-\"))","v":"-"}]
[null,null,null,null,null,null,null,null,null,null,null,{"$f":"IF('v přípravě a připraveno'!B627=data!$B$2,\"Souvislá údržba\",IF('v přípravě a připraveno'!B627=data!$B$3,\"Most\",\"-\"))","v":"-"},{"$f":"IF('v přípravě a připraveno'!B627=data!$B$2,\"Rekonstrukce\",IF('v přípravě a připraveno'!B627=data!$B$3,\"Propustek\",\"-\"))","v":"-"},null,null,null,null,null,null,null,null,null,null,null,null,null,null,null,{"$f":"IF('náměty na projekční přípravu'!B724=data!$S$2,\"Souvislá údržba\",IF('náměty na projekční přípravu'!B724=data!$S$3,\"Most\",\"-\"))","v":"-"},{"$f":"IF('náměty na projekční přípravu'!B724=data!$S$2,\"Rekonstrukce\",IF('náměty na projekční přípravu'!B724=data!$S$3,\"Propustek\",\"-\"))","v":"-"}]
[null,null,null,null,null,null,null,null,null,null,null,{"$f":"IF('v přípravě a připraveno'!B628=data!$B$2,\"Souvislá údržba\",IF('v přípravě a připraveno'!B628=data!$B$3,\"Most\",\"-\"))","v":"-"},{"$f":"IF('v přípravě a připraveno'!B628=data!$B$2,\"Rekonstrukce\",IF('v přípravě a připraveno'!B628=data!$B$3,\"Propustek\",\"-\"))","v":"-"},null,null,null,null,null,null,null,null,null,null,null,null,null,null,null,{"$f":"IF('náměty na projekční přípravu'!B725=data!$S$2,\"Souvislá údržba\",IF('náměty na projekční přípravu'!B725=data!$S$3,\"Most\",\"-\"))","v":"-"},{"$f":"IF('náměty na projekční přípravu'!B725=data!$S$2,\"Rekonstrukce\",IF('náměty na projekční přípravu'!B725=data!$S$3,\"Propustek\",\"-\"))","v":"-"}]
[null,null,null,null,null,null,null,null,null,null,null,{"$f":"IF('v přípravě a připraveno'!B629=data!$B$2,\"Souvislá údržba\",IF('v přípravě a připraveno'!B629=data!$B$3,\"Most\",\"-\"))","v":"-"},{"$f":"IF('v přípravě a připraveno'!B629=data!$B$2,\"Rekonstrukce\",IF('v přípravě a připraveno'!B629=data!$B$3,\"Propustek\",\"-\"))","v":"-"},null,null,null,null,null,null,null,null,null,null,null,null,null,null,null,{"$f":"IF('náměty na projekční přípravu'!B726=data!$S$2,\"Souvislá údržba\",IF('náměty na projekční přípravu'!B726=data!$S$3,\"Most\",\"-\"))","v":"-"},{"$f":"IF('náměty na projekční přípravu'!B726=data!$S$2,\"Rekonstrukce\",IF('náměty na projekční přípravu'!B726=data!$S$3,\"Propustek\",\"-\"))","v":"-"}]
[null,null,null,null,null,null,null,null,null,null,null,{"$f":"IF('v přípravě a připraveno'!B630=data!$B$2,\"Souvislá údržba\",IF('v přípravě a připraveno'!B630=data!$B$3,\"Most\",\"-\"))","v":"-"},{"$f":"IF('v přípravě a připraveno'!B630=data!$B$2,\"Rekonstrukce\",IF('v přípravě a připraveno'!B630=data!$B$3,\"Propustek\",\"-\"))","v":"-"},null,null,null,null,null,null,null,null,null,null,null,null,null,null,null,{"$f":"IF('náměty na projekční přípravu'!B727=data!$S$2,\"Souvislá údržba\",IF('náměty na projekční přípravu'!B727=data!$S$3,\"Most\",\"-\"))","v":"-"},{"$f":"IF('náměty na projekční přípravu'!B727=data!$S$2,\"Rekonstrukce\",IF('náměty na projekční přípravu'!B727=data!$S$3,\"Propustek\",\"-\"))","v":"-"}]
[null,null,null,null,null,null,null,null,null,null,null,{"$f":"IF('v přípravě a připraveno'!B631=data!$B$2,\"Souvislá údržba\",IF('v přípravě a připraveno'!B631=data!$B$3,\"Most\",\"-\"))","v":"-"},{"$f":"IF('v přípravě a připraveno'!B631=data!$B$2,\"Rekonstrukce\",IF('v přípravě a připraveno'!B631=data!$B$3,\"Propustek\",\"-\"))","v":"-"},null,null,null,null,null,null,null,null,null,null,null,null,null,null,null,{"$f":"IF('náměty na projekční přípravu'!B728=data!$S$2,\"Souvislá údržba\",IF('náměty na projekční přípravu'!B728=data!$S$3,\"Most\",\"-\"))","v":"-"},{"$f":"IF('náměty na projekční přípravu'!B728=data!$S$2,\"Rekonstrukce\",IF('náměty na projekční přípravu'!B728=data!$S$3,\"Propustek\",\"-\"))","v":"-"}]
[null,null,null,null,null,null,null,null,null,null,null,{"$f":"IF('v přípravě a připraveno'!B632=data!$B$2,\"Souvislá údržba\",IF('v přípravě a připraveno'!B632=data!$B$3,\"Most\",\"-\"))","v":"-"},{"$f":"IF('v přípravě a připraveno'!B632=data!$B$2,\"Rekonstrukce\",IF('v přípravě a připraveno'!B632=data!$B$3,\"Propustek\",\"-\"))","v":"-"},null,null,null,null,null,null,null,null,null,null,null,null,null,null,null,{"$f":"IF('náměty na projekční přípravu'!B729=data!$S$2,\"Souvislá údržba\",IF('náměty na projekční přípravu'!B729=data!$S$3,\"Most\",\"-\"))","v":"-"},{"$f":"IF('náměty na projekční přípravu'!B729=data!$S$2,\"Rekonstrukce\",IF('náměty na projekční přípravu'!B729=data!$S$3,\"Propustek\",\"-\"))","v":"-"}]
[null,null,null,null,null,null,null,null,null,null,null,{"$f":"IF('v přípravě a připraveno'!B633=data!$B$2,\"Souvislá údržba\",IF('v přípravě a připraveno'!B633=data!$B$3,\"Most\",\"-\"))","v":"-"},{"$f":"IF('v přípravě a připraveno'!B633=data!$B$2,\"Rekonstrukce\",IF('v přípravě a připraveno'!B633=data!$B$3,\"Propustek\",\"-\"))","v":"-"},null,null,null,null,null,null,null,null,null,null,null,null,null,null,null,{"$f":"IF('náměty na projekční přípravu'!B730=data!$S$2,\"Souvislá údržba\",IF('náměty na projekční přípravu'!B730=data!$S$3,\"Most\",\"-\"))","v":"-"},{"$f":"IF('náměty na projekční přípravu'!B730=data!$S$2,\"Rekonstrukce\",IF('náměty na projekční přípravu'!B730=data!$S$3,\"Propustek\",\"-\"))","v":"-"}]
[null,null,null,null,null,null,null,null,null,null,null,{"$f":"IF('v přípravě a připraveno'!B634=data!$B$2,\"Souvislá údržba\",IF('v přípravě a připraveno'!B634=data!$B$3,\"Most\",\"-\"))","v":"-"},{"$f":"IF('v přípravě a připraveno'!B634=data!$B$2,\"Rekonstrukce\",IF('v přípravě a připraveno'!B634=data!$B$3,\"Propustek\",\"-\"))","v":"-"},null,null,null,null,null,null,null,null,null,null,null,null,null,null,null,{"$f":"IF('náměty na projekční přípravu'!B731=data!$S$2,\"Souvislá údržba\",IF('náměty na projekční přípravu'!B731=data!$S$3,\"Most\",\"-\"))","v":"-"},{"$f":"IF('náměty na projekční přípravu'!B731=data!$S$2,\"Rekonstrukce\",IF('náměty na projekční přípravu'!B731=data!$S$3,\"Propustek\",\"-\"))","v":"-"}]
[null,null,null,null,null,null,null,null,null,null,null,{"$f":"IF('v přípravě a připraveno'!B635=data!$B$2,\"Souvislá údržba\",IF('v přípravě a připraveno'!B635=data!$B$3,\"Most\",\"-\"))","v":"-"},{"$f":"IF('v přípravě a připraveno'!B635=data!$B$2,\"Rekonstrukce\",IF('v přípravě a připraveno'!B635=data!$B$3,\"Propustek\",\"-\"))","v":"-"},null,null,null,null,null,null,null,null,null,null,null,null,null,null,null,{"$f":"IF('náměty na projekční přípravu'!B732=data!$S$2,\"Souvislá údržba\",IF('náměty na projekční přípravu'!B732=data!$S$3,\"Most\",\"-\"))","v":"-"},{"$f":"IF('náměty na projekční přípravu'!B732=data!$S$2,\"Rekonstrukce\",IF('náměty na projekční přípravu'!B732=data!$S$3,\"Propustek\",\"-\"))","v":"-"}]
[null,null,null,null,null,null,null,null,null,null,null,{"$f":"IF('v přípravě a připraveno'!B636=data!$B$2,\"Souvislá údržba\",IF('v přípravě a připraveno'!B636=data!$B$3,\"Most\",\"-\"))","v":"-"},{"$f":"IF('v přípravě a připraveno'!B636=data!$B$2,\"Rekonstrukce\",IF('v přípravě a připraveno'!B636=data!$B$3,\"Propustek\",\"-\"))","v":"-"},null,null,null,null,null,null,null,null,null,null,null,null,null,null,null,{"$f":"IF('náměty na projekční přípravu'!B733=data!$S$2,\"Souvislá údržba\",IF('náměty na projekční přípravu'!B733=data!$S$3,\"Most\",\"-\"))","v":"-"},{"$f":"IF('náměty na projekční přípravu'!B733=data!$S$2,\"Rekonstrukce\",IF('náměty na projekční přípravu'!B733=data!$S$3,\"Propustek\",\"-\"))","v":"-"}]
[null,null,null,null,null,null,null,null,null,null,null,{"$f":"IF('v přípravě a připraveno'!B637=data!$B$2,\"Souvislá údržba\",IF('v přípravě a připraveno'!B637=data!$B$3,\"Most\",\"-\"))","v":"-"},{"$f":"IF('v přípravě a připraveno'!B637=data!$B$2,\"Rekonstrukce\",IF('v přípravě a připraveno'!B637=data!$B$3,\"Propustek\",\"-\"))","v":"-"},null,null,null,null,null,null,null,null,null,null,null,null,null,null,null,{"$f":"IF('náměty na projekční přípravu'!B734=data!$S$2,\"Souvislá údržba\",IF('náměty na projekční přípravu'!B734=data!$S$3,\"Most\",\"-\"))","v":"-"},{"$f":"IF('náměty na projekční přípravu'!B734=data!$S$2,\"Rekonstrukce\",IF('náměty na projekční přípravu'!B734=data!$S$3,\"Propustek\",\"-\"))","v":"-"}]
[null,null,null,null,null,null,null,null,null,null,null,{"$f":"IF('v přípravě a připraveno'!B638=data!$B$2,\"Souvislá údržba\",IF('v přípravě a připraveno'!B638=data!$B$3,\"Most\",\"-\"))","v":"-"},{"$f":"IF('v přípravě a připraveno'!B638=data!$B$2,\"Rekonstrukce\",IF('v přípravě a připraveno'!B638=data!$B$3,\"Propustek\",\"-\"))","v":"-"},null,null,null,null,null,null,null,null,null,null,null,null,null,null,null,{"$f":"IF('náměty na projekční přípravu'!B735=data!$S$2,\"Souvislá údržba\",IF('náměty na projekční přípravu'!B735=data!$S$3,\"Most\",\"-\"))","v":"-"},{"$f":"IF('náměty na projekční přípravu'!B735=data!$S$2,\"Rekonstrukce\",IF('náměty na projekční přípravu'!B735=data!$S$3,\"Propustek\",\"-\"))","v":"-"}]
[null,null,null,null,null,null,null,null,null,null,null,{"$f":"IF('v přípravě a připraveno'!B639=data!$B$2,\"Souvislá údržba\",IF('v přípravě a připraveno'!B639=data!$B$3,\"Most\",\"-\"))","v":"-"},{"$f":"IF('v přípravě a připraveno'!B639=data!$B$2,\"Rekonstrukce\",IF('v přípravě a připraveno'!B639=data!$B$3,\"Propustek\",\"-\"))","v":"-"},null,null,null,null,null,null,null,null,null,null,null,null,null,null,null,{"$f":"IF('náměty na projekční přípravu'!B736=data!$S$2,\"Souvislá údržba\",IF('náměty na projekční přípravu'!B736=data!$S$3,\"Most\",\"-\"))","v":"-"},{"$f":"IF('náměty na projekční přípravu'!B736=data!$S$2,\"Rekonstrukce\",IF('náměty na projekční přípravu'!B736=data!$S$3,\"Propustek\",\"-\"))","v":"-"}]
[null,null,null,null,null,null,null,null,null,null,null,{"$f":"IF('v přípravě a připraveno'!B640=data!$B$2,\"Souvislá údržba\",IF('v přípravě a připraveno'!B640=data!$B$3,\"Most\",\"-\"))","v":"-"},{"$f":"IF('v přípravě a připraveno'!B640=data!$B$2,\"Rekonstrukce\",IF('v přípravě a připraveno'!B640=data!$B$3,\"Propustek\",\"-\"))","v":"-"},null,null,null,null,null,null,null,null,null,null,null,null,null,null,null,{"$f":"IF('náměty na projekční přípravu'!B737=data!$S$2,\"Souvislá údržba\",IF('náměty na projekční přípravu'!B737=data!$S$3,\"Most\",\"-\"))","v":"-"},{"$f":"IF('náměty na projekční přípravu'!B737=data!$S$2,\"Rekonstrukce\",IF('náměty na projekční přípravu'!B737=data!$S$3,\"Propustek\",\"-\"))","v":"-"}]
[null,null,null,null,null,null,null,null,null,null,null,{"$f":"IF('v přípravě a připraveno'!B641=data!$B$2,\"Souvislá údržba\",IF('v přípravě a připraveno'!B641=data!$B$3,\"Most\",\"-\"))","v":"-"},{"$f":"IF('v přípravě a připraveno'!B641=data!$B$2,\"Rekonstrukce\",IF('v přípravě a připraveno'!B641=data!$B$3,\"Propustek\",\"-\"))","v":"-"},null,null,null,null,null,null,null,null,null,null,null,null,null,null,null,{"$f":"IF('náměty na projekční přípravu'!B738=data!$S$2,\"Souvislá údržba\",IF('náměty na projekční přípravu'!B738=data!$S$3,\"Most\",\"-\"))","v":"-"},{"$f":"IF('náměty na projekční přípravu'!B738=data!$S$2,\"Rekonstrukce\",IF('náměty na projekční přípravu'!B738=data!$S$3,\"Propustek\",\"-\"))","v":"-"}]
[null,null,null,null,null,null,null,null,null,null,null,{"$f":"IF('v přípravě a připraveno'!B642=data!$B$2,\"Souvislá údržba\",IF('v přípravě a připraveno'!B642=data!$B$3,\"Most\",\"-\"))","v":"-"},{"$f":"IF('v přípravě a připraveno'!B642=data!$B$2,\"Rekonstrukce\",IF('v přípravě a připraveno'!B642=data!$B$3,\"Propustek\",\"-\"))","v":"-"},null,null,null,null,null,null,null,null,null,null,null,null,null,null,null,{"$f":"IF('náměty na projekční přípravu'!B739=data!$S$2,\"Souvislá údržba\",IF('náměty na projekční přípravu'!B739=data!$S$3,\"Most\",\"-\"))","v":"-"},{"$f":"IF('náměty na projekční přípravu'!B739=data!$S$2,\"Rekonstrukce\",IF('náměty na projekční přípravu'!B739=data!$S$3,\"Propustek\",\"-\"))","v":"-"}]
[null,null,null,null,null,null,null,null,null,null,null,{"$f":"IF('v přípravě a připraveno'!B643=data!$B$2,\"Souvislá údržba\",IF('v přípravě a připraveno'!B643=data!$B$3,\"Most\",\"-\"))","v":"-"},{"$f":"IF('v přípravě a připraveno'!B643=data!$B$2,\"Rekonstrukce\",IF('v přípravě a připraveno'!B643=data!$B$3,\"Propustek\",\"-\"))","v":"-"},null,null,null,null,null,null,null,null,null,null,null,null,null,null,null,{"$f":"IF('náměty na projekční přípravu'!B740=data!$S$2,\"Souvislá údržba\",IF('náměty na projekční přípravu'!B740=data!$S$3,\"Most\",\"-\"))","v":"-"},{"$f":"IF('náměty na projekční přípravu'!B740=data!$S$2,\"Rekonstrukce\",IF('náměty na projekční přípravu'!B740=data!$S$3,\"Propustek\",\"-\"))","v":"-"}]
[null,null,null,null,null,null,null,null,null,null,null,{"$f":"IF('v přípravě a připraveno'!B644=data!$B$2,\"Souvislá údržba\",IF('v přípravě a připraveno'!B644=data!$B$3,\"Most\",\"-\"))","v":"-"},{"$f":"IF('v přípravě a připraveno'!B644=data!$B$2,\"Rekonstrukce\",IF('v přípravě a připraveno'!B644=data!$B$3,\"Propustek\",\"-\"))","v":"-"},null,null,null,null,null,null,null,null,null,null,null,null,null,null,null,{"$f":"IF('náměty na projekční přípravu'!B741=data!$S$2,\"Souvislá údržba\",IF('náměty na projekční přípravu'!B741=data!$S$3,\"Most\",\"-\"))","v":"-"},{"$f":"IF('náměty na projekční přípravu'!B741=data!$S$2,\"Rekonstrukce\",IF('náměty na projekční přípravu'!B741=data!$S$3,\"Propustek\",\"-\"))","v":"-"}]
[null,null,null,null,null,null,null,null,null,null,null,{"$f":"IF('v přípravě a připraveno'!B645=data!$B$2,\"Souvislá údržba\",IF('v přípravě a připraveno'!B645=data!$B$3,\"Most\",\"-\"))","v":"-"},{"$f":"IF('v přípravě a připraveno'!B645=data!$B$2,\"Rekonstrukce\",IF('v přípravě a připraveno'!B645=data!$B$3,\"Propustek\",\"-\"))","v":"-"},null,null,null,null,null,null,null,null,null,null,null,null,null,null,null,{"$f":"IF('náměty na projekční přípravu'!B742=data!$S$2,\"Souvislá údržba\",IF('náměty na projekční přípravu'!B742=data!$S$3,\"Most\",\"-\"))","v":"-"},{"$f":"IF('náměty na projekční přípravu'!B742=data!$S$2,\"Rekonstrukce\",IF('náměty na projekční přípravu'!B742=data!$S$3,\"Propustek\",\"-\"))","v":"-"}]
[null,null,null,null,null,null,null,null,null,null,null,{"$f":"IF('v přípravě a připraveno'!B646=data!$B$2,\"Souvislá údržba\",IF('v přípravě a připraveno'!B646=data!$B$3,\"Most\",\"-\"))","v":"-"},{"$f":"IF('v přípravě a připraveno'!B646=data!$B$2,\"Rekonstrukce\",IF('v přípravě a připraveno'!B646=data!$B$3,\"Propustek\",\"-\"))","v":"-"},null,null,null,null,null,null,null,null,null,null,null,null,null,null,null,{"$f":"IF('náměty na projekční přípravu'!B743=data!$S$2,\"Souvislá údržba\",IF('náměty na projekční přípravu'!B743=data!$S$3,\"Most\",\"-\"))","v":"-"},{"$f":"IF('náměty na projekční přípravu'!B743=data!$S$2,\"Rekonstrukce\",IF('náměty na projekční přípravu'!B743=data!$S$3,\"Propustek\",\"-\"))","v":"-"}]
[null,null,null,null,null,null,null,null,null,null,null,{"$f":"IF('v přípravě a připraveno'!B647=data!$B$2,\"Souvislá údržba\",IF('v přípravě a připraveno'!B647=data!$B$3,\"Most\",\"-\"))","v":"-"},{"$f":"IF('v přípravě a připraveno'!B647=data!$B$2,\"Rekonstrukce\",IF('v přípravě a připraveno'!B647=data!$B$3,\"Propustek\",\"-\"))","v":"-"},null,null,null,null,null,null,null,null,null,null,null,null,null,null,null,{"$f":"IF('náměty na projekční přípravu'!B744=data!$S$2,\"Souvislá údržba\",IF('náměty na projekční přípravu'!B744=data!$S$3,\"Most\",\"-\"))","v":"-"},{"$f":"IF('náměty na projekční přípravu'!B744=data!$S$2,\"Rekonstrukce\",IF('náměty na projekční přípravu'!B744=data!$S$3,\"Propustek\",\"-\"))","v":"-"}]
[null,null,null,null,null,null,null,null,null,null,null,{"$f":"IF('v přípravě a připraveno'!B648=data!$B$2,\"Souvislá údržba\",IF('v přípravě a připraveno'!B648=data!$B$3,\"Most\",\"-\"))","v":"-"},{"$f":"IF('v přípravě a připraveno'!B648=data!$B$2,\"Rekonstrukce\",IF('v přípravě a připraveno'!B648=data!$B$3,\"Propustek\",\"-\"))","v":"-"},null,null,null,null,null,null,null,null,null,null,null,null,null,null,null,{"$f":"IF('náměty na projekční přípravu'!B745=data!$S$2,\"Souvislá údržba\",IF('náměty na projekční přípravu'!B745=data!$S$3,\"Most\",\"-\"))","v":"-"},{"$f":"IF('náměty na projekční přípravu'!B745=data!$S$2,\"Rekonstrukce\",IF('náměty na projekční přípravu'!B745=data!$S$3,\"Propustek\",\"-\"))","v":"-"}]
[null,null,null,null,null,null,null,null,null,null,null,{"$f":"IF('v přípravě a připraveno'!B649=data!$B$2,\"Souvislá údržba\",IF('v přípravě a připraveno'!B649=data!$B$3,\"Most\",\"-\"))","v":"-"},{"$f":"IF('v přípravě a připraveno'!B649=data!$B$2,\"Rekonstrukce\",IF('v přípravě a připraveno'!B649=data!$B$3,\"Propustek\",\"-\"))","v":"-"},null,null,null,null,null,null,null,null,null,null,null,null,null,null,null,{"$f":"IF('náměty na projekční přípravu'!B746=data!$S$2,\"Souvislá údržba\",IF('náměty na projekční přípravu'!B746=data!$S$3,\"Most\",\"-\"))","v":"-"},{"$f":"IF('náměty na projekční přípravu'!B746=data!$S$2,\"Rekonstrukce\",IF('náměty na projekční přípravu'!B746=data!$S$3,\"Propustek\",\"-\"))","v":"-"}]
[null,null,null,null,null,null,null,null,null,null,null,{"$f":"IF('v přípravě a připraveno'!B650=data!$B$2,\"Souvislá údržba\",IF('v přípravě a připraveno'!B650=data!$B$3,\"Most\",\"-\"))","v":"-"},{"$f":"IF('v přípravě a připraveno'!B650=data!$B$2,\"Rekonstrukce\",IF('v přípravě a připraveno'!B650=data!$B$3,\"Propustek\",\"-\"))","v":"-"},null,null,null,null,null,null,null,null,null,null,null,null,null,null,null,{"$f":"IF('náměty na projekční přípravu'!B747=data!$S$2,\"Souvislá údržba\",IF('náměty na projekční přípravu'!B747=data!$S$3,\"Most\",\"-\"))","v":"-"},{"$f":"IF('náměty na projekční přípravu'!B747=data!$S$2,\"Rekonstrukce\",IF('náměty na projekční přípravu'!B747=data!$S$3,\"Propustek\",\"-\"))","v":"-"}]
[null,null,null,null,null,null,null,null,null,null,null,{"$f":"IF('v přípravě a připraveno'!B651=data!$B$2,\"Souvislá údržba\",IF('v přípravě a připraveno'!B651=data!$B$3,\"Most\",\"-\"))","v":"-"},{"$f":"IF('v přípravě a připraveno'!B651=data!$B$2,\"Rekonstrukce\",IF('v přípravě a připraveno'!B651=data!$B$3,\"Propustek\",\"-\"))","v":"-"},null,null,null,null,null,null,null,null,null,null,null,null,null,null,null,{"$f":"IF('náměty na projekční přípravu'!B748=data!$S$2,\"Souvislá údržba\",IF('náměty na projekční přípravu'!B748=data!$S$3,\"Most\",\"-\"))","v":"-"},{"$f":"IF('náměty na projekční přípravu'!B748=data!$S$2,\"Rekonstrukce\",IF('náměty na projekční přípravu'!B748=data!$S$3,\"Propustek\",\"-\"))","v":"-"}]
[null,null,null,null,null,null,null,null,null,null,null,{"$f":"IF('v přípravě a připraveno'!B652=data!$B$2,\"Souvislá údržba\",IF('v přípravě a připraveno'!B652=data!$B$3,\"Most\",\"-\"))","v":"-"},{"$f":"IF('v přípravě a připraveno'!B652=data!$B$2,\"Rekonstrukce\",IF('v přípravě a připraveno'!B652=data!$B$3,\"Propustek\",\"-\"))","v":"-"},null,null,null,null,null,null,null,null,null,null,null,null,null,null,null,{"$f":"IF('náměty na projekční přípravu'!B749=data!$S$2,\"Souvislá údržba\",IF('náměty na projekční přípravu'!B749=data!$S$3,\"Most\",\"-\"))","v":"-"},{"$f":"IF('náměty na projekční přípravu'!B749=data!$S$2,\"Rekonstrukce\",IF('náměty na projekční přípravu'!B749=data!$S$3,\"Propustek\",\"-\"))","v":"-"}]
[null,null,null,null,null,null,null,null,null,null,null,{"$f":"IF('v přípravě a připraveno'!B653=data!$B$2,\"Souvislá údržba\",IF('v přípravě a připraveno'!B653=data!$B$3,\"Most\",\"-\"))","v":"-"},{"$f":"IF('v přípravě a připraveno'!B653=data!$B$2,\"Rekonstrukce\",IF('v přípravě a připraveno'!B653=data!$B$3,\"Propustek\",\"-\"))","v":"-"},null,null,null,null,null,null,null,null,null,null,null,null,null,null,null,{"$f":"IF('náměty na projekční přípravu'!B750=data!$S$2,\"Souvislá údržba\",IF('náměty na projekční přípravu'!B750=data!$S$3,\"Most\",\"-\"))","v":"-"},{"$f":"IF('náměty na projekční přípravu'!B750=data!$S$2,\"Rekonstrukce\",IF('náměty na projekční přípravu'!B750=data!$S$3,\"Propustek\",\"-\"))","v":"-"}]
[null,null,null,null,null,null,null,null,null,null,null,{"$f":"IF('v přípravě a připraveno'!B654=data!$B$2,\"Souvislá údržba\",IF('v přípravě a připraveno'!B654=data!$B$3,\"Most\",\"-\"))","v":"-"},{"$f":"IF('v přípravě a připraveno'!B654=data!$B$2,\"Rekonstrukce\",IF('v přípravě a připraveno'!B654=data!$B$3,\"Propustek\",\"-\"))","v":"-"},null,null,null,null,null,null,null,null,null,null,null,null,null,null,null,{"$f":"IF('náměty na projekční přípravu'!B751=data!$S$2,\"Souvislá údržba\",IF('náměty na projekční přípravu'!B751=data!$S$3,\"Most\",\"-\"))","v":"-"},{"$f":"IF('náměty na projekční přípravu'!B751=data!$S$2,\"Rekonstrukce\",IF('náměty na projekční přípravu'!B751=data!$S$3,\"Propustek\",\"-\"))","v":"-"}]
[null,null,null,null,null,null,null,null,null,null,null,{"$f":"IF('v přípravě a připraveno'!B655=data!$B$2,\"Souvislá údržba\",IF('v přípravě a připraveno'!B655=data!$B$3,\"Most\",\"-\"))","v":"-"},{"$f":"IF('v přípravě a připraveno'!B655=data!$B$2,\"Rekonstrukce\",IF('v přípravě a připraveno'!B655=data!$B$3,\"Propustek\",\"-\"))","v":"-"},null,null,null,null,null,null,null,null,null,null,null,null,null,null,null,{"$f":"IF('náměty na projekční přípravu'!B752=data!$S$2,\"Souvislá údržba\",IF('náměty na projekční přípravu'!B752=data!$S$3,\"Most\",\"-\"))","v":"-"},{"$f":"IF('náměty na projekční přípravu'!B752=data!$S$2,\"Rekonstrukce\",IF('náměty na projekční přípravu'!B752=data!$S$3,\"Propustek\",\"-\"))","v":"-"}]
[null,null,null,null,null,null,null,null,null,null,null,{"$f":"IF('v přípravě a připraveno'!B656=data!$B$2,\"Souvislá údržba\",IF('v přípravě a připraveno'!B656=data!$B$3,\"Most\",\"-\"))","v":"-"},{"$f":"IF('v přípravě a připraveno'!B656=data!$B$2,\"Rekonstrukce\",IF('v přípravě a připraveno'!B656=data!$B$3,\"Propustek\",\"-\"))","v":"-"},null,null,null,null,null,null,null,null,null,null,null,null,null,null,null,{"$f":"IF('náměty na projekční přípravu'!B753=data!$S$2,\"Souvislá údržba\",IF('náměty na projekční přípravu'!B753=data!$S$3,\"Most\",\"-\"))","v":"-"},{"$f":"IF('náměty na projekční přípravu'!B753=data!$S$2,\"Rekonstrukce\",IF('náměty na projekční přípravu'!B753=data!$S$3,\"Propustek\",\"-\"))","v":"-"}]
[null,null,null,null,null,null,null,null,null,null,null,{"$f":"IF('v přípravě a připraveno'!B657=data!$B$2,\"Souvislá údržba\",IF('v přípravě a připraveno'!B657=data!$B$3,\"Most\",\"-\"))","v":"-"},{"$f":"IF('v přípravě a připraveno'!B657=data!$B$2,\"Rekonstrukce\",IF('v přípravě a připraveno'!B657=data!$B$3,\"Propustek\",\"-\"))","v":"-"},null,null,null,null,null,null,null,null,null,null,null,null,null,null,null,{"$f":"IF('náměty na projekční přípravu'!B754=data!$S$2,\"Souvislá údržba\",IF('náměty na projekční přípravu'!B754=data!$S$3,\"Most\",\"-\"))","v":"-"},{"$f":"IF('náměty na projekční přípravu'!B754=data!$S$2,\"Rekonstrukce\",IF('náměty na projekční přípravu'!B754=data!$S$3,\"Propustek\",\"-\"))","v":"-"}]
[null,null,null,null,null,null,null,null,null,null,null,{"$f":"IF('v přípravě a připraveno'!B658=data!$B$2,\"Souvislá údržba\",IF('v přípravě a připraveno'!B658=data!$B$3,\"Most\",\"-\"))","v":"-"},{"$f":"IF('v přípravě a připraveno'!B658=data!$B$2,\"Rekonstrukce\",IF('v přípravě a připraveno'!B658=data!$B$3,\"Propustek\",\"-\"))","v":"-"},null,null,null,null,null,null,null,null,null,null,null,null,null,null,null,{"$f":"IF('náměty na projekční přípravu'!B755=data!$S$2,\"Souvislá údržba\",IF('náměty na projekční přípravu'!B755=data!$S$3,\"Most\",\"-\"))","v":"-"},{"$f":"IF('náměty na projekční přípravu'!B755=data!$S$2,\"Rekonstrukce\",IF('náměty na projekční přípravu'!B755=data!$S$3,\"Propustek\",\"-\"))","v":"-"}]
[null,null,null,null,null,null,null,null,null,null,null,{"$f":"IF('v přípravě a připraveno'!B659=data!$B$2,\"Souvislá údržba\",IF('v přípravě a připraveno'!B659=data!$B$3,\"Most\",\"-\"))","v":"-"},{"$f":"IF('v přípravě a připraveno'!B659=data!$B$2,\"Rekonstrukce\",IF('v přípravě a připraveno'!B659=data!$B$3,\"Propustek\",\"-\"))","v":"-"},null,null,null,null,null,null,null,null,null,null,null,null,null,null,null,{"$f":"IF('náměty na projekční přípravu'!B756=data!$S$2,\"Souvislá údržba\",IF('náměty na projekční přípravu'!B756=data!$S$3,\"Most\",\"-\"))","v":"-"},{"$f":"IF('náměty na projekční přípravu'!B756=data!$S$2,\"Rekonstrukce\",IF('náměty na projekční přípravu'!B756=data!$S$3,\"Propustek\",\"-\"))","v":"-"}]
[null,null,null,null,null,null,null,null,null,null,null,{"$f":"IF('v přípravě a připraveno'!B660=data!$B$2,\"Souvislá údržba\",IF('v přípravě a připraveno'!B660=data!$B$3,\"Most\",\"-\"))","v":"-"},{"$f":"IF('v přípravě a připraveno'!B660=data!$B$2,\"Rekonstrukce\",IF('v přípravě a připraveno'!B660=data!$B$3,\"Propustek\",\"-\"))","v":"-"},null,null,null,null,null,null,null,null,null,null,null,null,null,null,null,{"$f":"IF('náměty na projekční přípravu'!B757=data!$S$2,\"Souvislá údržba\",IF('náměty na projekční přípravu'!B757=data!$S$3,\"Most\",\"-\"))","v":"-"},{"$f":"IF('náměty na projekční přípravu'!B757=data!$S$2,\"Rekonstrukce\",IF('náměty na projekční přípravu'!B757=data!$S$3,\"Propustek\",\"-\"))","v":"-"}]
[null,null,null,null,null,null,null,null,null,null,null,{"$f":"IF('v přípravě a připraveno'!B661=data!$B$2,\"Souvislá údržba\",IF('v přípravě a připraveno'!B661=data!$B$3,\"Most\",\"-\"))","v":"-"},{"$f":"IF('v přípravě a připraveno'!B661=data!$B$2,\"Rekonstrukce\",IF('v přípravě a připraveno'!B661=data!$B$3,\"Propustek\",\"-\"))","v":"-"},null,null,null,null,null,null,null,null,null,null,null,null,null,null,null,{"$f":"IF('náměty na projekční přípravu'!B758=data!$S$2,\"Souvislá údržba\",IF('náměty na projekční přípravu'!B758=data!$S$3,\"Most\",\"-\"))","v":"-"},{"$f":"IF('náměty na projekční přípravu'!B758=data!$S$2,\"Rekonstrukce\",IF('náměty na projekční přípravu'!B758=data!$S$3,\"Propustek\",\"-\"))","v":"-"}]
[null,null,null,null,null,null,null,null,null,null,null,{"$f":"IF('v přípravě a připraveno'!B662=data!$B$2,\"Souvislá údržba\",IF('v přípravě a připraveno'!B662=data!$B$3,\"Most\",\"-\"))","v":"-"},{"$f":"IF('v přípravě a připraveno'!B662=data!$B$2,\"Rekonstrukce\",IF('v přípravě a připraveno'!B662=data!$B$3,\"Propustek\",\"-\"))","v":"-"},null,null,null,null,null,null,null,null,null,null,null,null,null,null,null,{"$f":"IF('náměty na projekční přípravu'!B759=data!$S$2,\"Souvislá údržba\",IF('náměty na projekční přípravu'!B759=data!$S$3,\"Most\",\"-\"))","v":"-"},{"$f":"IF('náměty na projekční přípravu'!B759=data!$S$2,\"Rekonstrukce\",IF('náměty na projekční přípravu'!B759=data!$S$3,\"Propustek\",\"-\"))","v":"-"}]
[null,null,null,null,null,null,null,null,null,null,null,{"$f":"IF('v přípravě a připraveno'!B663=data!$B$2,\"Souvislá údržba\",IF('v přípravě a připraveno'!B663=data!$B$3,\"Most\",\"-\"))","v":"-"},{"$f":"IF('v přípravě a připraveno'!B663=data!$B$2,\"Rekonstrukce\",IF('v přípravě a připraveno'!B663=data!$B$3,\"Propustek\",\"-\"))","v":"-"},null,null,null,null,null,null,null,null,null,null,null,null,null,null,null,{"$f":"IF('náměty na projekční přípravu'!B760=data!$S$2,\"Souvislá údržba\",IF('náměty na projekční přípravu'!B760=data!$S$3,\"Most\",\"-\"))","v":"-"},{"$f":"IF('náměty na projekční přípravu'!B760=data!$S$2,\"Rekonstrukce\",IF('náměty na projekční přípravu'!B760=data!$S$3,\"Propustek\",\"-\"))","v":"-"}]
[null,null,null,null,null,null,null,null,null,null,null,{"$f":"IF('v přípravě a připraveno'!B664=data!$B$2,\"Souvislá údržba\",IF('v přípravě a připraveno'!B664=data!$B$3,\"Most\",\"-\"))","v":"-"},{"$f":"IF('v přípravě a připraveno'!B664=data!$B$2,\"Rekonstrukce\",IF('v přípravě a připraveno'!B664=data!$B$3,\"Propustek\",\"-\"))","v":"-"},null,null,null,null,null,null,null,null,null,null,null,null,null,null,null,{"$f":"IF('náměty na projekční přípravu'!B761=data!$S$2,\"Souvislá údržba\",IF('náměty na projekční přípravu'!B761=data!$S$3,\"Most\",\"-\"))","v":"-"},{"$f":"IF('náměty na projekční přípravu'!B761=data!$S$2,\"Rekonstrukce\",IF('náměty na projekční přípravu'!B761=data!$S$3,\"Propustek\",\"-\"))","v":"-"}]
[null,null,null,null,null,null,null,null,null,null,null,{"$f":"IF('v přípravě a připraveno'!B665=data!$B$2,\"Souvislá údržba\",IF('v přípravě a připraveno'!B665=data!$B$3,\"Most\",\"-\"))","v":"-"},{"$f":"IF('v přípravě a připraveno'!B665=data!$B$2,\"Rekonstrukce\",IF('v přípravě a připraveno'!B665=data!$B$3,\"Propustek\",\"-\"))","v":"-"},null,null,null,null,null,null,null,null,null,null,null,null,null,null,null,{"$f":"IF('náměty na projekční přípravu'!B762=data!$S$2,\"Souvislá údržba\",IF('náměty na projekční přípravu'!B762=data!$S$3,\"Most\",\"-\"))","v":"-"},{"$f":"IF('náměty na projekční přípravu'!B762=data!$S$2,\"Rekonstrukce\",IF('náměty na projekční přípravu'!B762=data!$S$3,\"Propustek\",\"-\"))","v":"-"}]
[null,null,null,null,null,null,null,null,null,null,null,{"$f":"IF('v přípravě a připraveno'!B666=data!$B$2,\"Souvislá údržba\",IF('v přípravě a připraveno'!B666=data!$B$3,\"Most\",\"-\"))","v":"-"},{"$f":"IF('v přípravě a připraveno'!B666=data!$B$2,\"Rekonstrukce\",IF('v přípravě a připraveno'!B666=data!$B$3,\"Propustek\",\"-\"))","v":"-"},null,null,null,null,null,null,null,null,null,null,null,null,null,null,null,{"$f":"IF('náměty na projekční přípravu'!B763=data!$S$2,\"Souvislá údržba\",IF('náměty na projekční přípravu'!B763=data!$S$3,\"Most\",\"-\"))","v":"-"},{"$f":"IF('náměty na projekční přípravu'!B763=data!$S$2,\"Rekonstrukce\",IF('náměty na projekční přípravu'!B763=data!$S$3,\"Propustek\",\"-\"))","v":"-"}]
[null,null,null,null,null,null,null,null,null,null,null,{"$f":"IF('v přípravě a připraveno'!B667=data!$B$2,\"Souvislá údržba\",IF('v přípravě a připraveno'!B667=data!$B$3,\"Most\",\"-\"))","v":"-"},{"$f":"IF('v přípravě a připraveno'!B667=data!$B$2,\"Rekonstrukce\",IF('v přípravě a připraveno'!B667=data!$B$3,\"Propustek\",\"-\"))","v":"-"},null,null,null,null,null,null,null,null,null,null,null,null,null,null,null,{"$f":"IF('náměty na projekční přípravu'!B764=data!$S$2,\"Souvislá údržba\",IF('náměty na projekční přípravu'!B764=data!$S$3,\"Most\",\"-\"))","v":"-"},{"$f":"IF('náměty na projekční přípravu'!B764=data!$S$2,\"Rekonstrukce\",IF('náměty na projekční přípravu'!B764=data!$S$3,\"Propustek\",\"-\"))","v":"-"}]
[null,null,null,null,null,null,null,null,null,null,null,{"$f":"IF('v přípravě a připraveno'!B668=data!$B$2,\"Souvislá údržba\",IF('v přípravě a připraveno'!B668=data!$B$3,\"Most\",\"-\"))","v":"-"},{"$f":"IF('v přípravě a připraveno'!B668=data!$B$2,\"Rekonstrukce\",IF('v přípravě a připraveno'!B668=data!$B$3,\"Propustek\",\"-\"))","v":"-"},null,null,null,null,null,null,null,null,null,null,null,null,null,null,null,{"$f":"IF('náměty na projekční přípravu'!B765=data!$S$2,\"Souvislá údržba\",IF('náměty na projekční přípravu'!B765=data!$S$3,\"Most\",\"-\"))","v":"-"},{"$f":"IF('náměty na projekční přípravu'!B765=data!$S$2,\"Rekonstrukce\",IF('náměty na projekční přípravu'!B765=data!$S$3,\"Propustek\",\"-\"))","v":"-"}]
[null,null,null,null,null,null,null,null,null,null,null,{"$f":"IF('v přípravě a připraveno'!B669=data!$B$2,\"Souvislá údržba\",IF('v přípravě a připraveno'!B669=data!$B$3,\"Most\",\"-\"))","v":"-"},{"$f":"IF('v přípravě a připraveno'!B669=data!$B$2,\"Rekonstrukce\",IF('v přípravě a připraveno'!B669=data!$B$3,\"Propustek\",\"-\"))","v":"-"},null,null,null,null,null,null,null,null,null,null,null,null,null,null,null,{"$f":"IF('náměty na projekční přípravu'!B766=data!$S$2,\"Souvislá údržba\",IF('náměty na projekční přípravu'!B766=data!$S$3,\"Most\",\"-\"))","v":"-"},{"$f":"IF('náměty na projekční přípravu'!B766=data!$S$2,\"Rekonstrukce\",IF('náměty na projekční přípravu'!B766=data!$S$3,\"Propustek\",\"-\"))","v":"-"}]
[null,null,null,null,null,null,null,null,null,null,null,{"$f":"IF('v přípravě a připraveno'!B670=data!$B$2,\"Souvislá údržba\",IF('v přípravě a připraveno'!B670=data!$B$3,\"Most\",\"-\"))","v":"-"},{"$f":"IF('v přípravě a připraveno'!B670=data!$B$2,\"Rekonstrukce\",IF('v přípravě a připraveno'!B670=data!$B$3,\"Propustek\",\"-\"))","v":"-"},null,null,null,null,null,null,null,null,null,null,null,null,null,null,null,{"$f":"IF('náměty na projekční přípravu'!B767=data!$S$2,\"Souvislá údržba\",IF('náměty na projekční přípravu'!B767=data!$S$3,\"Most\",\"-\"))","v":"-"},{"$f":"IF('náměty na projekční přípravu'!B767=data!$S$2,\"Rekonstrukce\",IF('náměty na projekční přípravu'!B767=data!$S$3,\"Propustek\",\"-\"))","v":"-"}]
[null,null,null,null,null,null,null,null,null,null,null,{"$f":"IF('v přípravě a připraveno'!B671=data!$B$2,\"Souvislá údržba\",IF('v přípravě a připraveno'!B671=data!$B$3,\"Most\",\"-\"))","v":"-"},{"$f":"IF('v přípravě a připraveno'!B671=data!$B$2,\"Rekonstrukce\",IF('v přípravě a připraveno'!B671=data!$B$3,\"Propustek\",\"-\"))","v":"-"},null,null,null,null,null,null,null,null,null,null,null,null,null,null,null,{"$f":"IF('náměty na projekční přípravu'!B768=data!$S$2,\"Souvislá údržba\",IF('náměty na projekční přípravu'!B768=data!$S$3,\"Most\",\"-\"))","v":"-"},{"$f":"IF('náměty na projekční přípravu'!B768=data!$S$2,\"Rekonstrukce\",IF('náměty na projekční přípravu'!B768=data!$S$3,\"Propustek\",\"-\"))","v":"-"}]
[null,null,null,null,null,null,null,null,null,null,null,{"$f":"IF('v přípravě a připraveno'!B672=data!$B$2,\"Souvislá údržba\",IF('v přípravě a připraveno'!B672=data!$B$3,\"Most\",\"-\"))","v":"-"},{"$f":"IF('v přípravě a připraveno'!B672=data!$B$2,\"Rekonstrukce\",IF('v přípravě a připraveno'!B672=data!$B$3,\"Propustek\",\"-\"))","v":"-"},null,null,null,null,null,null,null,null,null,null,null,null,null,null,null,{"$f":"IF('náměty na projekční přípravu'!B769=data!$S$2,\"Souvislá údržba\",IF('náměty na projekční přípravu'!B769=data!$S$3,\"Most\",\"-\"))","v":"-"},{"$f":"IF('náměty na projekční přípravu'!B769=data!$S$2,\"Rekonstrukce\",IF('náměty na projekční přípravu'!B769=data!$S$3,\"Propustek\",\"-\"))","v":"-"}]
[null,null,null,null,null,null,null,null,null,null,null,{"$f":"IF('v přípravě a připraveno'!B673=data!$B$2,\"Souvislá údržba\",IF('v přípravě a připraveno'!B673=data!$B$3,\"Most\",\"-\"))","v":"-"},{"$f":"IF('v přípravě a připraveno'!B673=data!$B$2,\"Rekonstrukce\",IF('v přípravě a připraveno'!B673=data!$B$3,\"Propustek\",\"-\"))","v":"-"},null,null,null,null,null,null,null,null,null,null,null,null,null,null,null,{"$f":"IF('náměty na projekční přípravu'!B770=data!$S$2,\"Souvislá údržba\",IF('náměty na projekční přípravu'!B770=data!$S$3,\"Most\",\"-\"))","v":"-"},{"$f":"IF('náměty na projekční přípravu'!B770=data!$S$2,\"Rekonstrukce\",IF('náměty na projekční přípravu'!B770=data!$S$3,\"Propustek\",\"-\"))","v":"-"}]
[null,null,null,null,null,null,null,null,null,null,null,{"$f":"IF('v přípravě a připraveno'!B674=data!$B$2,\"Souvislá údržba\",IF('v přípravě a připraveno'!B674=data!$B$3,\"Most\",\"-\"))","v":"-"},{"$f":"IF('v přípravě a připraveno'!B674=data!$B$2,\"Rekonstrukce\",IF('v přípravě a připraveno'!B674=data!$B$3,\"Propustek\",\"-\"))","v":"-"},null,null,null,null,null,null,null,null,null,null,null,null,null,null,null,{"$f":"IF('náměty na projekční přípravu'!B771=data!$S$2,\"Souvislá údržba\",IF('náměty na projekční přípravu'!B771=data!$S$3,\"Most\",\"-\"))","v":"-"},{"$f":"IF('náměty na projekční přípravu'!B771=data!$S$2,\"Rekonstrukce\",IF('náměty na projekční přípravu'!B771=data!$S$3,\"Propustek\",\"-\"))","v":"-"}]
[null,null,null,null,null,null,null,null,null,null,null,{"$f":"IF('v přípravě a připraveno'!B675=data!$B$2,\"Souvislá údržba\",IF('v přípravě a připraveno'!B675=data!$B$3,\"Most\",\"-\"))","v":"-"},{"$f":"IF('v přípravě a připraveno'!B675=data!$B$2,\"Rekonstrukce\",IF('v přípravě a připraveno'!B675=data!$B$3,\"Propustek\",\"-\"))","v":"-"},null,null,null,null,null,null,null,null,null,null,null,null,null,null,null,{"$f":"IF('náměty na projekční přípravu'!B772=data!$S$2,\"Souvislá údržba\",IF('náměty na projekční přípravu'!B772=data!$S$3,\"Most\",\"-\"))","v":"-"},{"$f":"IF('náměty na projekční přípravu'!B772=data!$S$2,\"Rekonstrukce\",IF('náměty na projekční přípravu'!B772=data!$S$3,\"Propustek\",\"-\"))","v":"-"}]
[null,null,null,null,null,null,null,null,null,null,null,{"$f":"IF('v přípravě a připraveno'!B676=data!$B$2,\"Souvislá údržba\",IF('v přípravě a připraveno'!B676=data!$B$3,\"Most\",\"-\"))","v":"-"},{"$f":"IF('v přípravě a připraveno'!B676=data!$B$2,\"Rekonstrukce\",IF('v přípravě a připraveno'!B676=data!$B$3,\"Propustek\",\"-\"))","v":"-"},null,null,null,null,null,null,null,null,null,null,null,null,null,null,null,{"$f":"IF('náměty na projekční přípravu'!B773=data!$S$2,\"Souvislá údržba\",IF('náměty na projekční přípravu'!B773=data!$S$3,\"Most\",\"-\"))","v":"-"},{"$f":"IF('náměty na projekční přípravu'!B773=data!$S$2,\"Rekonstrukce\",IF('náměty na projekční přípravu'!B773=data!$S$3,\"Propustek\",\"-\"))","v":"-"}]
[null,null,null,null,null,null,null,null,null,null,null,{"$f":"IF('v přípravě a připraveno'!B677=data!$B$2,\"Souvislá údržba\",IF('v přípravě a připraveno'!B677=data!$B$3,\"Most\",\"-\"))","v":"-"},{"$f":"IF('v přípravě a připraveno'!B677=data!$B$2,\"Rekonstrukce\",IF('v přípravě a připraveno'!B677=data!$B$3,\"Propustek\",\"-\"))","v":"-"},null,null,null,null,null,null,null,null,null,null,null,null,null,null,null,{"$f":"IF('náměty na projekční přípravu'!B774=data!$S$2,\"Souvislá údržba\",IF('náměty na projekční přípravu'!B774=data!$S$3,\"Most\",\"-\"))","v":"-"},{"$f":"IF('náměty na projekční přípravu'!B774=data!$S$2,\"Rekonstrukce\",IF('náměty na projekční přípravu'!B774=data!$S$3,\"Propustek\",\"-\"))","v":"-"}]
[null,null,null,null,null,null,null,null,null,null,null,{"$f":"IF('v přípravě a připraveno'!B678=data!$B$2,\"Souvislá údržba\",IF('v přípravě a připraveno'!B678=data!$B$3,\"Most\",\"-\"))","v":"-"},{"$f":"IF('v přípravě a připraveno'!B678=data!$B$2,\"Rekonstrukce\",IF('v přípravě a připraveno'!B678=data!$B$3,\"Propustek\",\"-\"))","v":"-"},null,null,null,null,null,null,null,null,null,null,null,null,null,null,null,{"$f":"IF('náměty na projekční přípravu'!B775=data!$S$2,\"Souvislá údržba\",IF('náměty na projekční přípravu'!B775=data!$S$3,\"Most\",\"-\"))","v":"-"},{"$f":"IF('náměty na projekční přípravu'!B775=data!$S$2,\"Rekonstrukce\",IF('náměty na projekční přípravu'!B775=data!$S$3,\"Propustek\",\"-\"))","v":"-"}]
[null,null,null,null,null,null,null,null,null,null,null,{"$f":"IF('v přípravě a připraveno'!B679=data!$B$2,\"Souvislá údržba\",IF('v přípravě a připraveno'!B679=data!$B$3,\"Most\",\"-\"))","v":"-"},{"$f":"IF('v přípravě a připraveno'!B679=data!$B$2,\"Rekonstrukce\",IF('v přípravě a připraveno'!B679=data!$B$3,\"Propustek\",\"-\"))","v":"-"},null,null,null,null,null,null,null,null,null,null,null,null,null,null,null,{"$f":"IF('náměty na projekční přípravu'!B776=data!$S$2,\"Souvislá údržba\",IF('náměty na projekční přípravu'!B776=data!$S$3,\"Most\",\"-\"))","v":"-"},{"$f":"IF('náměty na projekční přípravu'!B776=data!$S$2,\"Rekonstrukce\",IF('náměty na projekční přípravu'!B776=data!$S$3,\"Propustek\",\"-\"))","v":"-"}]
[null,null,null,null,null,null,null,null,null,null,null,{"$f":"IF('v přípravě a připraveno'!B680=data!$B$2,\"Souvislá údržba\",IF('v přípravě a připraveno'!B680=data!$B$3,\"Most\",\"-\"))","v":"-"},{"$f":"IF('v přípravě a připraveno'!B680=data!$B$2,\"Rekonstrukce\",IF('v přípravě a připraveno'!B680=data!$B$3,\"Propustek\",\"-\"))","v":"-"},null,null,null,null,null,null,null,null,null,null,null,null,null,null,null,{"$f":"IF('náměty na projekční přípravu'!B777=data!$S$2,\"Souvislá údržba\",IF('náměty na projekční přípravu'!B777=data!$S$3,\"Most\",\"-\"))","v":"-"},{"$f":"IF('náměty na projekční přípravu'!B777=data!$S$2,\"Rekonstrukce\",IF('náměty na projekční přípravu'!B777=data!$S$3,\"Propustek\",\"-\"))","v":"-"}]
[null,null,null,null,null,null,null,null,null,null,null,{"$f":"IF('v přípravě a připraveno'!B681=data!$B$2,\"Souvislá údržba\",IF('v přípravě a připraveno'!B681=data!$B$3,\"Most\",\"-\"))","v":"-"},{"$f":"IF('v přípravě a připraveno'!B681=data!$B$2,\"Rekonstrukce\",IF('v přípravě a připraveno'!B681=data!$B$3,\"Propustek\",\"-\"))","v":"-"},null,null,null,null,null,null,null,null,null,null,null,null,null,null,null,{"$f":"IF('náměty na projekční přípravu'!B778=data!$S$2,\"Souvislá údržba\",IF('náměty na projekční přípravu'!B778=data!$S$3,\"Most\",\"-\"))","v":"-"},{"$f":"IF('náměty na projekční přípravu'!B778=data!$S$2,\"Rekonstrukce\",IF('náměty na projekční přípravu'!B778=data!$S$3,\"Propustek\",\"-\"))","v":"-"}]
[null,null,null,null,null,null,null,null,null,null,null,{"$f":"IF('v přípravě a připraveno'!B682=data!$B$2,\"Souvislá údržba\",IF('v přípravě a připraveno'!B682=data!$B$3,\"Most\",\"-\"))","v":"-"},{"$f":"IF('v přípravě a připraveno'!B682=data!$B$2,\"Rekonstrukce\",IF('v přípravě a připraveno'!B682=data!$B$3,\"Propustek\",\"-\"))","v":"-"},null,null,null,null,null,null,null,null,null,null,null,null,null,null,null,{"$f":"IF('náměty na projekční přípravu'!B779=data!$S$2,\"Souvislá údržba\",IF('náměty na projekční přípravu'!B779=data!$S$3,\"Most\",\"-\"))","v":"-"},{"$f":"IF('náměty na projekční přípravu'!B779=data!$S$2,\"Rekonstrukce\",IF('náměty na projekční přípravu'!B779=data!$S$3,\"Propustek\",\"-\"))","v":"-"}]
[null,null,null,null,null,null,null,null,null,null,null,{"$f":"IF('v přípravě a připraveno'!B683=data!$B$2,\"Souvislá údržba\",IF('v přípravě a připraveno'!B683=data!$B$3,\"Most\",\"-\"))","v":"-"},{"$f":"IF('v přípravě a připraveno'!B683=data!$B$2,\"Rekonstrukce\",IF('v přípravě a připraveno'!B683=data!$B$3,\"Propustek\",\"-\"))","v":"-"},null,null,null,null,null,null,null,null,null,null,null,null,null,null,null,{"$f":"IF('náměty na projekční přípravu'!B780=data!$S$2,\"Souvislá údržba\",IF('náměty na projekční přípravu'!B780=data!$S$3,\"Most\",\"-\"))","v":"-"},{"$f":"IF('náměty na projekční přípravu'!B780=data!$S$2,\"Rekonstrukce\",IF('náměty na projekční přípravu'!B780=data!$S$3,\"Propustek\",\"-\"))","v":"-"}]
[null,null,null,null,null,null,null,null,null,null,null,{"$f":"IF('v přípravě a připraveno'!B684=data!$B$2,\"Souvislá údržba\",IF('v přípravě a připraveno'!B684=data!$B$3,\"Most\",\"-\"))","v":"-"},{"$f":"IF('v přípravě a připraveno'!B684=data!$B$2,\"Rekonstrukce\",IF('v přípravě a připraveno'!B684=data!$B$3,\"Propustek\",\"-\"))","v":"-"},null,null,null,null,null,null,null,null,null,null,null,null,null,null,null,{"$f":"IF('náměty na projekční přípravu'!B781=data!$S$2,\"Souvislá údržba\",IF('náměty na projekční přípravu'!B781=data!$S$3,\"Most\",\"-\"))","v":"-"},{"$f":"IF('náměty na projekční přípravu'!B781=data!$S$2,\"Rekonstrukce\",IF('náměty na projekční přípravu'!B781=data!$S$3,\"Propustek\",\"-\"))","v":"-"}]
[null,null,null,null,null,null,null,null,null,null,null,{"$f":"IF('v přípravě a připraveno'!B685=data!$B$2,\"Souvislá údržba\",IF('v přípravě a připraveno'!B685=data!$B$3,\"Most\",\"-\"))","v":"-"},{"$f":"IF('v přípravě a připraveno'!B685=data!$B$2,\"Rekonstrukce\",IF('v přípravě a připraveno'!B685=data!$B$3,\"Propustek\",\"-\"))","v":"-"},null,null,null,null,null,null,null,null,null,null,null,null,null,null,null,{"$f":"IF('náměty na projekční přípravu'!B782=data!$S$2,\"Souvislá údržba\",IF('náměty na projekční přípravu'!B782=data!$S$3,\"Most\",\"-\"))","v":"-"},{"$f":"IF('náměty na projekční přípravu'!B782=data!$S$2,\"Rekonstrukce\",IF('náměty na projekční přípravu'!B782=data!$S$3,\"Propustek\",\"-\"))","v":"-"}]
[null,null,null,null,null,null,null,null,null,null,null,{"$f":"IF('v přípravě a připraveno'!B686=data!$B$2,\"Souvislá údržba\",IF('v přípravě a připraveno'!B686=data!$B$3,\"Most\",\"-\"))","v":"-"},{"$f":"IF('v přípravě a připraveno'!B686=data!$B$2,\"Rekonstrukce\",IF('v přípravě a připraveno'!B686=data!$B$3,\"Propustek\",\"-\"))","v":"-"},null,null,null,null,null,null,null,null,null,null,null,null,null,null,null,{"$f":"IF('náměty na projekční přípravu'!B783=data!$S$2,\"Souvislá údržba\",IF('náměty na projekční přípravu'!B783=data!$S$3,\"Most\",\"-\"))","v":"-"},{"$f":"IF('náměty na projekční přípravu'!B783=data!$S$2,\"Rekonstrukce\",IF('náměty na projekční přípravu'!B783=data!$S$3,\"Propustek\",\"-\"))","v":"-"}]
[null,null,null,null,null,null,null,null,null,null,null,{"$f":"IF('v přípravě a připraveno'!B687=data!$B$2,\"Souvislá údržba\",IF('v přípravě a připraveno'!B687=data!$B$3,\"Most\",\"-\"))","v":"-"},{"$f":"IF('v přípravě a připraveno'!B687=data!$B$2,\"Rekonstrukce\",IF('v přípravě a připraveno'!B687=data!$B$3,\"Propustek\",\"-\"))","v":"-"},null,null,null,null,null,null,null,null,null,null,null,null,null,null,null,{"$f":"IF('náměty na projekční přípravu'!B784=data!$S$2,\"Souvislá údržba\",IF('náměty na projekční přípravu'!B784=data!$S$3,\"Most\",\"-\"))","v":"-"},{"$f":"IF('náměty na projekční přípravu'!B784=data!$S$2,\"Rekonstrukce\",IF('náměty na projekční přípravu'!B784=data!$S$3,\"Propustek\",\"-\"))","v":"-"}]
[null,null,null,null,null,null,null,null,null,null,null,{"$f":"IF('v přípravě a připraveno'!B688=data!$B$2,\"Souvislá údržba\",IF('v přípravě a připraveno'!B688=data!$B$3,\"Most\",\"-\"))","v":"-"},{"$f":"IF('v přípravě a připraveno'!B688=data!$B$2,\"Rekonstrukce\",IF('v přípravě a připraveno'!B688=data!$B$3,\"Propustek\",\"-\"))","v":"-"},null,null,null,null,null,null,null,null,null,null,null,null,null,null,null,{"$f":"IF('náměty na projekční přípravu'!B785=data!$S$2,\"Souvislá údržba\",IF('náměty na projekční přípravu'!B785=data!$S$3,\"Most\",\"-\"))","v":"-"},{"$f":"IF('náměty na projekční přípravu'!B785=data!$S$2,\"Rekonstrukce\",IF('náměty na projekční přípravu'!B785=data!$S$3,\"Propustek\",\"-\"))","v":"-"}]
[null,null,null,null,null,null,null,null,null,null,null,{"$f":"IF('v přípravě a připraveno'!B689=data!$B$2,\"Souvislá údržba\",IF('v přípravě a připraveno'!B689=data!$B$3,\"Most\",\"-\"))","v":"-"},{"$f":"IF('v přípravě a připraveno'!B689=data!$B$2,\"Rekonstrukce\",IF('v přípravě a připraveno'!B689=data!$B$3,\"Propustek\",\"-\"))","v":"-"},null,null,null,null,null,null,null,null,null,null,null,null,null,null,null,{"$f":"IF('náměty na projekční přípravu'!B786=data!$S$2,\"Souvislá údržba\",IF('náměty na projekční přípravu'!B786=data!$S$3,\"Most\",\"-\"))","v":"-"},{"$f":"IF('náměty na projekční přípravu'!B786=data!$S$2,\"Rekonstrukce\",IF('náměty na projekční přípravu'!B786=data!$S$3,\"Propustek\",\"-\"))","v":"-"}]
[null,null,null,null,null,null,null,null,null,null,null,{"$f":"IF('v přípravě a připraveno'!B690=data!$B$2,\"Souvislá údržba\",IF('v přípravě a připraveno'!B690=data!$B$3,\"Most\",\"-\"))","v":"-"},{"$f":"IF('v přípravě a připraveno'!B690=data!$B$2,\"Rekonstrukce\",IF('v přípravě a připraveno'!B690=data!$B$3,\"Propustek\",\"-\"))","v":"-"},null,null,null,null,null,null,null,null,null,null,null,null,null,null,null,{"$f":"IF('náměty na projekční přípravu'!B787=data!$S$2,\"Souvislá údržba\",IF('náměty na projekční přípravu'!B787=data!$S$3,\"Most\",\"-\"))","v":"-"},{"$f":"IF('náměty na projekční přípravu'!B787=data!$S$2,\"Rekonstrukce\",IF('náměty na projekční přípravu'!B787=data!$S$3,\"Propustek\",\"-\"))","v":"-"}]
[null,null,null,null,null,null,null,null,null,null,null,{"$f":"IF('v přípravě a připraveno'!B691=data!$B$2,\"Souvislá údržba\",IF('v přípravě a připraveno'!B691=data!$B$3,\"Most\",\"-\"))","v":"-"},{"$f":"IF('v přípravě a připraveno'!B691=data!$B$2,\"Rekonstrukce\",IF('v přípravě a připraveno'!B691=data!$B$3,\"Propustek\",\"-\"))","v":"-"},null,null,null,null,null,null,null,null,null,null,null,null,null,null,null,{"$f":"IF('náměty na projekční přípravu'!B788=data!$S$2,\"Souvislá údržba\",IF('náměty na projekční přípravu'!B788=data!$S$3,\"Most\",\"-\"))","v":"-"},{"$f":"IF('náměty na projekční přípravu'!B788=data!$S$2,\"Rekonstrukce\",IF('náměty na projekční přípravu'!B788=data!$S$3,\"Propustek\",\"-\"))","v":"-"}]
[null,null,null,null,null,null,null,null,null,null,null,{"$f":"IF('v přípravě a připraveno'!B692=data!$B$2,\"Souvislá údržba\",IF('v přípravě a připraveno'!B692=data!$B$3,\"Most\",\"-\"))","v":"-"},{"$f":"IF('v přípravě a připraveno'!B692=data!$B$2,\"Rekonstrukce\",IF('v přípravě a připraveno'!B692=data!$B$3,\"Propustek\",\"-\"))","v":"-"},null,null,null,null,null,null,null,null,null,null,null,null,null,null,null,{"$f":"IF('náměty na projekční přípravu'!B789=data!$S$2,\"Souvislá údržba\",IF('náměty na projekční přípravu'!B789=data!$S$3,\"Most\",\"-\"))","v":"-"},{"$f":"IF('náměty na projekční přípravu'!B789=data!$S$2,\"Rekonstrukce\",IF('náměty na projekční přípravu'!B789=data!$S$3,\"Propustek\",\"-\"))","v":"-"}]
[null,null,null,null,null,null,null,null,null,null,null,{"$f":"IF('v přípravě a připraveno'!B693=data!$B$2,\"Souvislá údržba\",IF('v přípravě a připraveno'!B693=data!$B$3,\"Most\",\"-\"))","v":"-"},{"$f":"IF('v přípravě a připraveno'!B693=data!$B$2,\"Rekonstrukce\",IF('v přípravě a připraveno'!B693=data!$B$3,\"Propustek\",\"-\"))","v":"-"},null,null,null,null,null,null,null,null,null,null,null,null,null,null,null,{"$f":"IF('náměty na projekční přípravu'!B790=data!$S$2,\"Souvislá údržba\",IF('náměty na projekční přípravu'!B790=data!$S$3,\"Most\",\"-\"))","v":"-"},{"$f":"IF('náměty na projekční přípravu'!B790=data!$S$2,\"Rekonstrukce\",IF('náměty na projekční přípravu'!B790=data!$S$3,\"Propustek\",\"-\"))","v":"-"}]
[null,null,null,null,null,null,null,null,null,null,null,{"$f":"IF('v přípravě a připraveno'!B694=data!$B$2,\"Souvislá údržba\",IF('v přípravě a připraveno'!B694=data!$B$3,\"Most\",\"-\"))","v":"-"},{"$f":"IF('v přípravě a připraveno'!B694=data!$B$2,\"Rekonstrukce\",IF('v přípravě a připraveno'!B694=data!$B$3,\"Propustek\",\"-\"))","v":"-"},null,null,null,null,null,null,null,null,null,null,null,null,null,null,null,{"$f":"IF('náměty na projekční přípravu'!B791=data!$S$2,\"Souvislá údržba\",IF('náměty na projekční přípravu'!B791=data!$S$3,\"Most\",\"-\"))","v":"-"},{"$f":"IF('náměty na projekční přípravu'!B791=data!$S$2,\"Rekonstrukce\",IF('náměty na projekční přípravu'!B791=data!$S$3,\"Propustek\",\"-\"))","v":"-"}]
[null,null,null,null,null,null,null,null,null,null,null,{"$f":"IF('v přípravě a připraveno'!B695=data!$B$2,\"Souvislá údržba\",IF('v přípravě a připraveno'!B695=data!$B$3,\"Most\",\"-\"))","v":"-"},{"$f":"IF('v přípravě a připraveno'!B695=data!$B$2,\"Rekonstrukce\",IF('v přípravě a připraveno'!B695=data!$B$3,\"Propustek\",\"-\"))","v":"-"},null,null,null,null,null,null,null,null,null,null,null,null,null,null,null,{"$f":"IF('náměty na projekční přípravu'!B792=data!$S$2,\"Souvislá údržba\",IF('náměty na projekční přípravu'!B792=data!$S$3,\"Most\",\"-\"))","v":"-"},{"$f":"IF('náměty na projekční přípravu'!B792=data!$S$2,\"Rekonstrukce\",IF('náměty na projekční přípravu'!B792=data!$S$3,\"Propustek\",\"-\"))","v":"-"}]
[null,null,null,null,null,null,null,null,null,null,null,{"$f":"IF('v přípravě a připraveno'!B696=data!$B$2,\"Souvislá údržba\",IF('v přípravě a připraveno'!B696=data!$B$3,\"Most\",\"-\"))","v":"-"},{"$f":"IF('v přípravě a připraveno'!B696=data!$B$2,\"Rekonstrukce\",IF('v přípravě a připraveno'!B696=data!$B$3,\"Propustek\",\"-\"))","v":"-"},null,null,null,null,null,null,null,null,null,null,null,null,null,null,null,{"$f":"IF('náměty na projekční přípravu'!B793=data!$S$2,\"Souvislá údržba\",IF('náměty na projekční přípravu'!B793=data!$S$3,\"Most\",\"-\"))","v":"-"},{"$f":"IF('náměty na projekční přípravu'!B793=data!$S$2,\"Rekonstrukce\",IF('náměty na projekční přípravu'!B793=data!$S$3,\"Propustek\",\"-\"))","v":"-"}]
[null,null,null,null,null,null,null,null,null,null,null,{"$f":"IF('v přípravě a připraveno'!B697=data!$B$2,\"Souvislá údržba\",IF('v přípravě a připraveno'!B697=data!$B$3,\"Most\",\"-\"))","v":"-"},{"$f":"IF('v přípravě a připraveno'!B697=data!$B$2,\"Rekonstrukce\",IF('v přípravě a připraveno'!B697=data!$B$3,\"Propustek\",\"-\"))","v":"-"},null,null,null,null,null,null,null,null,null,null,null,null,null,null,null,{"$f":"IF('náměty na projekční přípravu'!B794=data!$S$2,\"Souvislá údržba\",IF('náměty na projekční přípravu'!B794=data!$S$3,\"Most\",\"-\"))","v":"-"},{"$f":"IF('náměty na projekční přípravu'!B794=data!$S$2,\"Rekonstrukce\",IF('náměty na projekční přípravu'!B794=data!$S$3,\"Propustek\",\"-\"))","v":"-"}]
[null,null,null,null,null,null,null,null,null,null,null,{"$f":"IF('v přípravě a připraveno'!B698=data!$B$2,\"Souvislá údržba\",IF('v přípravě a připraveno'!B698=data!$B$3,\"Most\",\"-\"))","v":"-"},{"$f":"IF('v přípravě a připraveno'!B698=data!$B$2,\"Rekonstrukce\",IF('v přípravě a připraveno'!B698=data!$B$3,\"Propustek\",\"-\"))","v":"-"},null,null,null,null,null,null,null,null,null,null,null,null,null,null,null,{"$f":"IF('náměty na projekční přípravu'!B795=data!$S$2,\"Souvislá údržba\",IF('náměty na projekční přípravu'!B795=data!$S$3,\"Most\",\"-\"))","v":"-"},{"$f":"IF('náměty na projekční přípravu'!B795=data!$S$2,\"Rekonstrukce\",IF('náměty na projekční přípravu'!B795=data!$S$3,\"Propustek\",\"-\"))","v":"-"}]
[null,null,null,null,null,null,null,null,null,null,null,{"$f":"IF('v přípravě a připraveno'!B699=data!$B$2,\"Souvislá údržba\",IF('v přípravě a připraveno'!B699=data!$B$3,\"Most\",\"-\"))","v":"-"},{"$f":"IF('v přípravě a připraveno'!B699=data!$B$2,\"Rekonstrukce\",IF('v přípravě a připraveno'!B699=data!$B$3,\"Propustek\",\"-\"))","v":"-"},null,null,null,null,null,null,null,null,null,null,null,null,null,null,null,{"$f":"IF('náměty na projekční přípravu'!B796=data!$S$2,\"Souvislá údržba\",IF('náměty na projekční přípravu'!B796=data!$S$3,\"Most\",\"-\"))","v":"-"},{"$f":"IF('náměty na projekční přípravu'!B796=data!$S$2,\"Rekonstrukce\",IF('náměty na projekční přípravu'!B796=data!$S$3,\"Propustek\",\"-\"))","v":"-"}]
[null,null,null,null,null,null,null,null,null,null,null,{"$f":"IF('v přípravě a připraveno'!B700=data!$B$2,\"Souvislá údržba\",IF('v přípravě a připraveno'!B700=data!$B$3,\"Most\",\"-\"))","v":"-"},{"$f":"IF('v přípravě a připraveno'!B700=data!$B$2,\"Rekonstrukce\",IF('v přípravě a připraveno'!B700=data!$B$3,\"Propustek\",\"-\"))","v":"-"},null,null,null,null,null,null,null,null,null,null,null,null,null,null,null,{"$f":"IF('náměty na projekční přípravu'!B797=data!$S$2,\"Souvislá údržba\",IF('náměty na projekční přípravu'!B797=data!$S$3,\"Most\",\"-\"))","v":"-"},{"$f":"IF('náměty na projekční přípravu'!B797=data!$S$2,\"Rekonstrukce\",IF('náměty na projekční přípravu'!B797=data!$S$3,\"Propustek\",\"-\"))","v":"-"}]
[null,null,null,null,null,null,null,null,null,null,null,{"$f":"IF('v přípravě a připraveno'!B701=data!$B$2,\"Souvislá údržba\",IF('v přípravě a připraveno'!B701=data!$B$3,\"Most\",\"-\"))","v":"-"},{"$f":"IF('v přípravě a připraveno'!B701=data!$B$2,\"Rekonstrukce\",IF('v přípravě a připraveno'!B701=data!$B$3,\"Propustek\",\"-\"))","v":"-"},null,null,null,null,null,null,null,null,null,null,null,null,null,null,null,{"$f":"IF('náměty na projekční přípravu'!B798=data!$S$2,\"Souvislá údržba\",IF('náměty na projekční přípravu'!B798=data!$S$3,\"Most\",\"-\"))","v":"-"},{"$f":"IF('náměty na projekční přípravu'!B798=data!$S$2,\"Rekonstrukce\",IF('náměty na projekční přípravu'!B798=data!$S$3,\"Propustek\",\"-\"))","v":"-"}]
[null,null,null,null,null,null,null,null,null,null,null,{"$f":"IF('v přípravě a připraveno'!B702=data!$B$2,\"Souvislá údržba\",IF('v přípravě a připraveno'!B702=data!$B$3,\"Most\",\"-\"))","v":"-"},{"$f":"IF('v přípravě a připraveno'!B702=data!$B$2,\"Rekonstrukce\",IF('v přípravě a připraveno'!B702=data!$B$3,\"Propustek\",\"-\"))","v":"-"},null,null,null,null,null,null,null,null,null,null,null,null,null,null,null,{"$f":"IF('náměty na projekční přípravu'!B799=data!$S$2,\"Souvislá údržba\",IF('náměty na projekční přípravu'!B799=data!$S$3,\"Most\",\"-\"))","v":"-"},{"$f":"IF('náměty na projekční přípravu'!B799=data!$S$2,\"Rekonstrukce\",IF('náměty na projekční přípravu'!B799=data!$S$3,\"Propustek\",\"-\"))","v":"-"}]
[null,null,null,null,null,null,null,null,null,null,null,{"$f":"IF('v přípravě a připraveno'!B703=data!$B$2,\"Souvislá údržba\",IF('v přípravě a připraveno'!B703=data!$B$3,\"Most\",\"-\"))","v":"-"},{"$f":"IF('v přípravě a připraveno'!B703=data!$B$2,\"Rekonstrukce\",IF('v přípravě a připraveno'!B703=data!$B$3,\"Propustek\",\"-\"))","v":"-"},null,null,null,null,null,null,null,null,null,null,null,null,null,null,null,{"$f":"IF('náměty na projekční přípravu'!B800=data!$S$2,\"Souvislá údržba\",IF('náměty na projekční přípravu'!B800=data!$S$3,\"Most\",\"-\"))","v":"-"},{"$f":"IF('náměty na projekční přípravu'!B800=data!$S$2,\"Rekonstrukce\",IF('náměty na projekční přípravu'!B800=data!$S$3,\"Propustek\",\"-\"))","v":"-"}]
[null,null,null,null,null,null,null,null,null,null,null,{"$f":"IF('v přípravě a připraveno'!B704=data!$B$2,\"Souvislá údržba\",IF('v přípravě a připraveno'!B704=data!$B$3,\"Most\",\"-\"))","v":"-"},{"$f":"IF('v přípravě a připraveno'!B704=data!$B$2,\"Rekonstrukce\",IF('v přípravě a připraveno'!B704=data!$B$3,\"Propustek\",\"-\"))","v":"-"},null,null,null,null,null,null,null,null,null,null,null,null,null,null,null,{"$f":"IF('náměty na projekční přípravu'!B801=data!$S$2,\"Souvislá údržba\",IF('náměty na projekční přípravu'!B801=data!$S$3,\"Most\",\"-\"))","v":"-"},{"$f":"IF('náměty na projekční přípravu'!B801=data!$S$2,\"Rekonstrukce\",IF('náměty na projekční přípravu'!B801=data!$S$3,\"Propustek\",\"-\"))","v":"-"}]
[null,null,null,null,null,null,null,null,null,null,null,{"$f":"IF('v přípravě a připraveno'!B705=data!$B$2,\"Souvislá údržba\",IF('v přípravě a připraveno'!B705=data!$B$3,\"Most\",\"-\"))","v":"-"},{"$f":"IF('v přípravě a připraveno'!B705=data!$B$2,\"Rekonstrukce\",IF('v přípravě a připraveno'!B705=data!$B$3,\"Propustek\",\"-\"))","v":"-"},null,null,null,null,null,null,null,null,null,null,null,null,null,null,null,{"$f":"IF('náměty na projekční přípravu'!B802=data!$S$2,\"Souvislá údržba\",IF('náměty na projekční přípravu'!B802=data!$S$3,\"Most\",\"-\"))","v":"-"},{"$f":"IF('náměty na projekční přípravu'!B802=data!$S$2,\"Rekonstrukce\",IF('náměty na projekční přípravu'!B802=data!$S$3,\"Propustek\",\"-\"))","v":"-"}]
[null,null,null,null,null,null,null,null,null,null,null,{"$f":"IF('v přípravě a připraveno'!B706=data!$B$2,\"Souvislá údržba\",IF('v přípravě a připraveno'!B706=data!$B$3,\"Most\",\"-\"))","v":"-"},{"$f":"IF('v přípravě a připraveno'!B706=data!$B$2,\"Rekonstrukce\",IF('v přípravě a připraveno'!B706=data!$B$3,\"Propustek\",\"-\"))","v":"-"},null,null,null,null,null,null,null,null,null,null,null,null,null,null,null,{"$f":"IF('náměty na projekční přípravu'!B803=data!$S$2,\"Souvislá údržba\",IF('náměty na projekční přípravu'!B803=data!$S$3,\"Most\",\"-\"))","v":"-"},{"$f":"IF('náměty na projekční přípravu'!B803=data!$S$2,\"Rekonstrukce\",IF('náměty na projekční přípravu'!B803=data!$S$3,\"Propustek\",\"-\"))","v":"-"}]
[null,null,null,null,null,null,null,null,null,null,null,{"$f":"IF('v přípravě a připraveno'!B707=data!$B$2,\"Souvislá údržba\",IF('v přípravě a připraveno'!B707=data!$B$3,\"Most\",\"-\"))","v":"-"},{"$f":"IF('v přípravě a připraveno'!B707=data!$B$2,\"Rekonstrukce\",IF('v přípravě a připraveno'!B707=data!$B$3,\"Propustek\",\"-\"))","v":"-"},null,null,null,null,null,null,null,null,null,null,null,null,null,null,null,{"$f":"IF('náměty na projekční přípravu'!B804=data!$S$2,\"Souvislá údržba\",IF('náměty na projekční přípravu'!B804=data!$S$3,\"Most\",\"-\"))","v":"-"},{"$f":"IF('náměty na projekční přípravu'!B804=data!$S$2,\"Rekonstrukce\",IF('náměty na projekční přípravu'!B804=data!$S$3,\"Propustek\",\"-\"))","v":"-"}]
[null,null,null,null,null,null,null,null,null,null,null,{"$f":"IF('v přípravě a připraveno'!B708=data!$B$2,\"Souvislá údržba\",IF('v přípravě a připraveno'!B708=data!$B$3,\"Most\",\"-\"))","v":"-"},{"$f":"IF('v přípravě a připraveno'!B708=data!$B$2,\"Rekonstrukce\",IF('v přípravě a připraveno'!B708=data!$B$3,\"Propustek\",\"-\"))","v":"-"},null,null,null,null,null,null,null,null,null,null,null,null,null,null,null,{"$f":"IF('náměty na projekční přípravu'!B805=data!$S$2,\"Souvislá údržba\",IF('náměty na projekční přípravu'!B805=data!$S$3,\"Most\",\"-\"))","v":"-"},{"$f":"IF('náměty na projekční přípravu'!B805=data!$S$2,\"Rekonstrukce\",IF('náměty na projekční přípravu'!B805=data!$S$3,\"Propustek\",\"-\"))","v":"-"}]
[null,null,null,null,null,null,null,null,null,null,null,{"$f":"IF('v přípravě a připraveno'!B709=data!$B$2,\"Souvislá údržba\",IF('v přípravě a připraveno'!B709=data!$B$3,\"Most\",\"-\"))","v":"-"},{"$f":"IF('v přípravě a připraveno'!B709=data!$B$2,\"Rekonstrukce\",IF('v přípravě a připraveno'!B709=data!$B$3,\"Propustek\",\"-\"))","v":"-"},null,null,null,null,null,null,null,null,null,null,null,null,null,null,null,{"$f":"IF('náměty na projekční přípravu'!B806=data!$S$2,\"Souvislá údržba\",IF('náměty na projekční přípravu'!B806=data!$S$3,\"Most\",\"-\"))","v":"-"},{"$f":"IF('náměty na projekční přípravu'!B806=data!$S$2,\"Rekonstrukce\",IF('náměty na projekční přípravu'!B806=data!$S$3,\"Propustek\",\"-\"))","v":"-"}]
[null,null,null,null,null,null,null,null,null,null,null,{"$f":"IF('v přípravě a připraveno'!B710=data!$B$2,\"Souvislá údržba\",IF('v přípravě a připraveno'!B710=data!$B$3,\"Most\",\"-\"))","v":"-"},{"$f":"IF('v přípravě a připraveno'!B710=data!$B$2,\"Rekonstrukce\",IF('v přípravě a připraveno'!B710=data!$B$3,\"Propustek\",\"-\"))","v":"-"},null,null,null,null,null,null,null,null,null,null,null,null,null,null,null,{"$f":"IF('náměty na projekční přípravu'!B807=data!$S$2,\"Souvislá údržba\",IF('náměty na projekční přípravu'!B807=data!$S$3,\"Most\",\"-\"))","v":"-"},{"$f":"IF('náměty na projekční přípravu'!B807=data!$S$2,\"Rekonstrukce\",IF('náměty na projekční přípravu'!B807=data!$S$3,\"Propustek\",\"-\"))","v":"-"}]
[null,null,null,null,null,null,null,null,null,null,null,null,null,null,null,null,null,null,null,null,null,null,null,null,null,null,null,null,{"$f":"IF('náměty na projekční přípravu'!B808=data!$S$2,\"Souvislá údržba\",IF('náměty na projekční přípravu'!B808=data!$S$3,\"Most\",\"-\"))","v":"-"},{"$f":"IF('náměty na projekční přípravu'!B808=data!$S$2,\"Rekonstrukce\",IF('náměty na projekční přípravu'!B808=data!$S$3,\"Propustek\",\"-\"))","v":"-"}]
[null,null,null,null,null,null,null,null,null,null,null,null,null,null,null,null,null,null,null,null,null,null,null,null,null,null,null,null,{"$f":"IF('náměty na projekční přípravu'!B809=data!$S$2,\"Souvislá údržba\",IF('náměty na projekční přípravu'!B809=data!$S$3,\"Most\",\"-\"))","v":"-"},{"$f":"IF('náměty na projekční přípravu'!B809=data!$S$2,\"Rekonstrukce\",IF('náměty na projekční přípravu'!B809=data!$S$3,\"Propustek\",\"-\"))","v":"-"}]
[null,null,null,null,null,null,null,null,null,null,null,null,null,null,null,null,null,null,null,null,null,null,null,null,null,null,null,null,{"$f":"IF('náměty na projekční přípravu'!B810=data!$S$2,\"Souvislá údržba\",IF('náměty na projekční přípravu'!B810=data!$S$3,\"Most\",\"-\"))","v":"-"},{"$f":"IF('náměty na projekční přípravu'!B810=data!$S$2,\"Rekonstrukce\",IF('náměty na projekční přípravu'!B810=data!$S$3,\"Propustek\",\"-\"))","v":"-"}]